{"text_format":"1","workbook":"xlsx","n_sheets":3,"sheets":["Poäng & instruktioner","Resultat & Tabell","Mitt tips"],"not_rendered":{"charts":0,"images":30,"macros":1,"external_links":0,"defined_names":1,"comments":0,"pivot_tables":0},"unopened":[],"bounds":{"document_bytes":16777216,"sheet_cells":100000,"rows_first":2000,"rows_last":500,"rows_between":2000,"halvings":0,"cell_chars":16384,"cell_head_chars":4096},"cells_cut":0,"cells_raw":0,"read":"whole","date_system":"1900"}

{"sheet":"Poäng & instruktioner","index":0,"n_rows":43,"n_cols":21,"rows_kept":43,"cut":false,"hidden":false,"merged":[]}
[]
["Poängräkning",null,null,"Instruktioner",null,null,null,null,null,null,null,null,null,null,null,"Frequently Asked Questions (FAQ)"]
["Samtliga matcher"]
["Rätt antal mål per lag","2 poäng",null,"Addera tips",null,null,null,null,null,null,null,null,null,null,null,"1. När jag klickar på START för att lägga till ett tips får jag felmeddelande"]
["Rätt tecken (1X2)","3 poäng",null,null,null,null,null,null,null,null,null,null,null,null,null,"Svar: Behåll alltid originalfliken \"Mitt tips\" och döp inte om den. Döps fliken om eller"]
["7 poäng kan delas ut i samtliga matcher",null,null,"Högerklicka på den nya fliken, välj \"rename\"och skriv in tipparens namn",null,null,null,null,null,null,null,null,null,null,null,"tas bort fungerar inte makrot/kopieringen ordentligt. Fliken måste heta \"Mitt tips\""]
[null,null,null,"Du kan lägga till så många spelare du önskar"]
["Prediction",null,null,null,null,null,null,null,null,null,null,null,null,null,null,"2. Kan jag få lösenordet till filen?"]
["Rätt lag i åttondelsfinal","2 poäng per lag",null,"Addera tippare i tabellen",null,null,null,null,null,null,null,null,null,null,null,"Svar: Vi ger inte ut lösenordet. Vårt bidrag är att vi publicerar tipset för er gratis"]
["Rätt lag i kvartsfinal","4 poäng per lag",null,"1. Välj fliken \"Resultat & tabell\" och skriv in tipparens namn i kolumnen \"Namn\" i tabellen"]
["Rätt lag i semifinal","6 poäng per lag",null,"2. Tryck sedan i motsvarande cell i kolumn \"Poäng\" (exempelvis cell GK4) och skriv =",null,null,null,null,null,null,null,null,null,null,null,"3. Finns tipset på engelska?"]
["Rätt lag i final","8 poäng per lag",null,"Välj den flik med spelarens namn, klicka en gång i cell AA19 och tryck Enter",null,null,null,null,null,null,null,null,null,null,null,"Svar: Ja"]
[null,null,null,"Siffran 0 dyker nu upp i cellen bredvid spelarens namn"]
["Bonusfrågor",null,null,"3. Upprepa sedan proceduren för alla tippare som ska delta",null,null,null,null,null,null,null,null,null,null,null,"4. När jag får tillbaka tipsen från mina kompisar, kan jag kopiera eller flytta fliken \"Mitt tips\" från"]
["Skyttekung","20 poäng",null,null,null,null,null,null,null,null,null,null,null,null,null,"min kompisars fil till min? "]
["Europamästare","20 poäng",null,"Tips för enklare kopiering av tips!",null,null,null,null,null,null,null,null,null,null,null,"Svar: Nej, det kan du inte, då fungerar inte länkningen till \"Resultat & Tabell\""]
["Lag som gör flest mål i gruppspelet","10 poäng",null,"I fliken med tipparens namn, markera kolumnerna G, H, I, med alla resultat i tipparens fil. ",null,null,null,null,null,null,null,null,null,null,null,"Du måste skriva in deras tips manuellt, se tips för enklare kopiering"]
["Lag som släpper in flest mål i gruppspelet","10 poäng",null,"Välj kopiera och klistra sedan in i motsvarande celler i tipparens flik din huvudfil"]
["Egen bonusfråga 1","15 poäng",null,null,null,null,null,null,null,null,null,null,null,null,null,"5. Jag och mina kompisar vill först tippa gruppspelet, sen åttondelsfinaler, kvartsfinaler, semifinaler och final"]
["Egen bonusfråga 2","15 poäng",null,"Rättning",null,null,null,null,null,null,null,null,null,null,null,"separat, efterhand som matcherna spelats i respektive del, går det?"]
[null,null,null,"Fyll i de gula cellerna i fliken \"Resultat & Tabell\", så uppdateras respektive spelares flik med poäng",null,null,null,null,null,null,null,null,null,null,null,"Svar: Ja, det går utmärkt att göra det. Det finns ingen begränsning för hur ni vill lägga upp tipset"]
[null,null,null,"Sortera sedan tabellen i fallande ordning i cellen \"Poäng\" under \"Resultat & tabell\" och voila!",null,null,null,null,null,null,null,null,null,null,null,"Dock följer bonuspoängen för rätt lag vidare med i poängräkningen"]
[]
[null,null,null,"Bonuspoäng",null,null,null,null,null,null,null,null,null,null,null,"6. Kan man ändra poängräkningen?"]
[null,null,null,"Bonuspoäng delas ut när ALLA gruppspelsmatcher är spelade. Samma gäller åttondelsfinal, kvartsfinal etc. ",null,null,null,null,null,null,null,null,null,null,null,"Svar: Nej, detta är den poängräkning som erbjuds. Givetvis kan man önska annan poängräkning men vi kan inte"]
[null,null,null,"Notera att namn på bonusfrågorna måste vara stavat/skrivet likadant i Resultat & tabell som hos tipsaren för att ge poäng.",null,null,null,null,null,null,null,null,null,null,null,"garantera att det kommer erbjudas/uppdateras. Vårt bidrag är att vi publicerar tipset för er gratis"]
[null,null,null,"Du har även möjlighet att lägga till 2 egna bonusfrågor, om du vill! "]
[null,null,null,"Tex snabbast utvisning, vem som dömer finalen. Bara fantasin sätter gränser",null,null,null,null,null,null,null,null,null,null,null,"7. Hur ser jag matcherna bäst?"]
[null,null,null,"Skriv bara din bonusfråga där det står antingen \"Egen bonusfråga 1\" eller \"Egen bonusfråga 2\".",null,null,null,null,null,null,null,null,null,null,null,"Svar: SVT och TV4 delar på sändningsrättigheterna. "]
[null,null,null,null,null,null,null,null,null,null,null,null,null,null,null,"Klicka på bannern högst upp för att ta del av vårt exklusiva erbjudande från TV4 Play+ Sport"]
[null,null,null,"Det finstilta"]
[null,null,null,"Du måste fylla i varje deltagares tips under en separat flik i denna filen. ",null,null,null,null,null,null,null,null,null,null,null,"8. Behöver du support eller hjälp, maila er fråga till",null,null,null,null,"info@fotbollsvmem.se"]
[null,null,null,"Detta eftersom det finns formler kopplade i alla flikar, vilka styrs från \"Resultat & tabell\". "]
[null,null,null,"Tyvärr lite manuellt arbete, men det går relativt snabbt och behövs enbart göras i"]
[null,null,null,"innan tipstävlingen drar igång"]
[]
[null,null,null,"Bra att veta!"]
[null,null,null,"I åttondelsfinalerna och framåt  är det möjligt att tippa ett annat lag vidare än vad resultatet visar. "]
[null,null,null,"Tex om Sverige möter Brasilien och du tippar resultatet 1-2 kan du ändå ange Sverige som vinnare. "]
[null,null,null,"Gör man så visas \"EJ OK\" vid den matchen som indikerar att resultat och vinnare inte stämmer. "]
[null,null,null,"Det är helt upp till Dig som tipsgeneral att välja om Du vill godkänna detta eller inte. "]
[]
[null,null,null,"Tänk även på att bestämma i förväg om slutresultatet är efter 90 minuter, ev förlängning eller straffar "]

{"sheet":"Resultat & Tabell","index":1,"n_rows":103,"n_cols":193,"rows_kept":103,"cut":false,"hidden":false,"merged":[[58,67,58,69],[58,70,58,72],[29,29,29,31],[47,3,47,5],[47,6,47,8],[47,29,47,31],[47,32,47,34],[38,32,38,34],[7,22,7,25],[8,22,8,25],[79,3,79,5],[79,6,79,8],[79,29,79,31],[38,3,38,5],[38,6,38,8],[38,29,38,31],[27,2,27,3],[57,14,64,19],[79,32,79,34],[56,3,56,5],[56,6,56,8],[56,29,56,31],[56,32,56,34],[67,3,67,5],[67,6,67,8],[67,29,67,31],[67,32,67,34],[74,3,74,5],[74,6,74,8],[74,29,74,31],[74,32,74,34],[2,29,2,31],[2,32,2,34],[29,32,29,34],[4,22,4,25],[11,3,11,5],[11,6,11,8],[11,29,11,31],[11,32,11,34],[20,3,20,5],[20,6,20,8],[20,29,20,31],[20,32,20,34],[27,28,27,29],[29,3,29,5],[29,6,29,8],[5,22,5,25],[6,22,6,25],[3,22,3,25],[2,3,2,5],[2,6,2,8],[2,22,2,25]]}
[]
[null,null,"Grupp A",null,null,null,null,null,null,null,null,null,null,null,null,null,null,null,null,null,null,"Bonusfrågor",null,null,null,null,null,null,"Grupp A",null,null,null,null,null,null,null,null,"Rank 0",null,null,null,null,null,"Rank 1",null,null,null,null,null,"Rank 3",null,null,null,null,null,"Rank 3",null,null,null,null,null,"Rank 4",null,null,null,null,null,null,null,"Rank 0",null,null,null,null,null,null,null,null,null,null,null,"Rank 1",{"$f":"COUNTIF(CA4:CA7,1)","v":4},null,null,null,null,null,null,null,null,null,null,null,null,null,null,null,null,null,null,"Rank 2",{"$f":"COUNTIF(CA4:CA7,2)","v":0},null,null,null,null,null,null,null,null,null,null,null,null,null,null,null,null,null,null,"Rank 3",{"$f":"COUNTIF(CA4:CA7,3)","v":0},null,null,null,null,null,null,null,null,null,null,null,null,null,null,null,null,null,null,"Rank 4",{"$f":"COUNTIF(CA4:CA7,4)","v":0},null,null,null,null,null,null,null,null,null,null,null,null,null,null,null,null,null,null,null,null,null,null,"3rd places",null,null,null,null,null,null,null,null,null,null,null,null,"Check row:",{"$f":"MAX(GG3:GG18)","v":2},"Combo",null,null,null,"B","C","E","F","Valid"]
[null,null,"Datum","Match",null,null,"Resultat",null,null,"Tecken",null,null,"Lag","V","O","F","GM","IM","+/-","P",null,"Kategori","Svar",null,null,null,null,null,"Datum","Match",null,null,"Resultat",null,null,"Tecken","Poäng","V1","V2","O1","O2","F1","F2","V1","V2","O1","O2","F1","F2","V1","V2","O1","O2","F1","F2","V1","V2","O1","O2","F1","F2","V1","V2","O1","O2","F1","F2",null,null,"Lag","V","O","F","GM","IM","+/-","P","Grupp","Rank P","Rank +/-",null,"Lag","V","O","F","P","Grupp","Rank P","+/-","+/- rank","GM","GM rank","Rank internal","+/- all","+/- rank all","GM all","GM rank all","V all","V rank all","Rank all",null,"Lag","V","O","F","P","Grupp","Rank P","+/-","+/- rank","GM","GM rank","Rank internal","+/- all","+/- rank all","GM all","GM rank all","V all","V rank all","Rank all",null,"Lag","V","O","F","P","Grupp","Rank P","+/-","+/- rank","GM","GM rank","Rank internal","+/- all","+/- rank all","GM all","GM rank all","V all","V rank all","Rank all",null,"Lag","V","O","F","P","Grupp","Rank P","+/-","+/- rank","GM","GM rank","Rank internal","+/- all","+/- rank all","GM all","GM rank all","V all","V rank all","Rank all",null,"Rank","Rank Ties",null,null,"Grupp","Lag","Rank ties","Rank total","Rank mål","Rank +/-","Rank poäng","Poäng","+/-","GM","Grupp","Team through",null,2,"ABCD","A","B","C","D",{"$f":"VLOOKUP(\"A\",$FJ$3:$FK$9,2,FALSE)","v":"Ungern"},{"$f":"VLOOKUP(\"D\",$FJ$3:$FK$9,2,FALSE)","v":"Polen"},{"$f":"VLOOKUP(\"B\",$FJ$3:$FK$9,2,FALSE)","v":"Italien"},{"$f":"VLOOKUP(\"C\",$FJ$3:$FK$9,2,FALSE)","v":"Serbien"},{"$f":"IFERROR(IF(AND(VLOOKUP(FY3,$FU$4:$FU$9,1,FALSE)=FY3,VLOOKUP(FZ3,$FU$4:$FU$9,1,FALSE)=FZ3,VLOOKUP(GA3,$FU$4:$FU$9,1,FALSE)=GA3,VLOOKUP(GB3,$FU$4:$FU$9,1,FALSE)=GB3),FW3,\"\"),\"\")","v":2},"Placering",null,"Namn","Poäng"]
[null,null,"2024-06-14","Tyskland","-","Skottland",null,"-",null,{"$f":"IF(OR(ISBLANK(G4),ISBLANK(I4)),\"\",IF(G4>I4,1,IF(G4<I4,2,\"X\")))","v":""},{"$f":"IF(VLOOKUP(D4,BR3:CA7,10,FALSE)=VLOOKUP(F4,BR3:CA7,10,FALSE),VLOOKUP(D4,BR3:CA7,10,FALSE),\"-\")","v":1},1,{"$f":"VLOOKUP(L4,FG4:FH7,2,FALSE)","v":"Tyskland"},{"$f":"VLOOKUP($M$4,$BR$4:$BY$7,2,FALSE)","v":0},{"$f":"VLOOKUP($M$4,$BR$4:$BY$7,3,FALSE)","v":0},{"$f":"VLOOKUP($M$4,$BR$4:$BY$7,4,FALSE)","v":0},{"$f":"VLOOKUP($M$4,$BR$4:$BY$7,5,FALSE)","v":0},{"$f":"VLOOKUP($M$4,$BR$4:$BY$7,6,FALSE)","v":0},{"$f":"VLOOKUP($M$4,$BR$4:$BY$7,7,FALSE)","v":0},{"$f":"VLOOKUP($M$4,$BR$4:$BY$7,8,FALSE)","v":0},null,"Europamästare",null,null,null,null,null,null,{"$f":"C4","v":"2024-06-14"},"Tyskland","-","Skottland",{"$f":"IF(G4=\"\",\"\",G4)","v":""},"-",{"$f":"IF(I4=\"\",\"\",I4)","v":""},{"$f":"J4","v":""},null,{"$f":"IF(AG4>AI4,1,0)","v":0},{"$f":"IF(AI4>AG4,1,0)","v":0},{"$f":"IF(AND(AG4=AI4,AG4<>\"\"),1,0)","v":0},{"$f":"IF(AND(AG4=AI4,AG4<>\"\"),1,0)","v":0},{"$f":"IF(AG4<AI4,1,0)","v":0},{"$f":"IF(AI4<AG4,1,)","v":0},{"$f":"IF(ISERROR(VLOOKUP(AD4,CD:CD,1,FALSE)),0,1)*IF(ISERROR(VLOOKUP(AF4,CD:CD,1,FALSE)),0,1)*AL4","v":0},{"$f":"IF(ISERROR(VLOOKUP(AD4,CD:CD,1,FALSE)),0,1)*IF(ISERROR(VLOOKUP(AF4,CD:CD,1,FALSE)),0,1)*AM4","v":0},{"$f":"IF(ISERROR(VLOOKUP(AD4,CD:CD,1,FALSE)),0,1)*IF(ISERROR(VLOOKUP(AF4,CD:CD,1,FALSE)),0,1)*AN4","v":0},{"$f":"IF(ISERROR(VLOOKUP(AD4,CD:CD,1,FALSE)),0,1)*IF(ISERROR(VLOOKUP(AF4,CD:CD,1,FALSE)),0,1)*AO4","v":0},{"$f":"IF(ISERROR(VLOOKUP(AD4,CD:CD,1,FALSE)),0,1)*IF(ISERROR(VLOOKUP(AF4,CD:CD,1,FALSE)),0,1)*AP4","v":0},{"$f":"IF(ISERROR(VLOOKUP(AD4,CD:CD,1,FALSE)),0,1)*IF(ISERROR(VLOOKUP(AF4,CD:CD,1,FALSE)),0,1)*AQ4","v":0},{"$f":"IF(ISERROR(VLOOKUP(AD4,CX:CX,1,FALSE)),0,1)*IF(ISERROR(VLOOKUP(AF4,CX:CX,1,FALSE)),0,1)*AL4","v":0},{"$f":"IF(ISERROR(VLOOKUP(AD4,CX:CX,1,FALSE)),0,1)*IF(ISERROR(VLOOKUP(AF4,CX:CX,1,FALSE)),0,1)*AM4","v":0},{"$f":"IF(ISERROR(VLOOKUP(AD4,CX:CX,1,FALSE)),0,1)*IF(ISERROR(VLOOKUP(AF4,CX:CX,1,FALSE)),0,1)*AN4","v":0},{"$f":"IF(ISERROR(VLOOKUP(AD4,CX:CX,1,FALSE)),0,1)*IF(ISERROR(VLOOKUP(AF4,CX:CX,1,FALSE)),0,1)*AO4","v":0},{"$f":"IF(ISERROR(VLOOKUP(AD4,CX:CX,1,FALSE)),0,1)*IF(ISERROR(VLOOKUP(AF4,CX:CX,1,FALSE)),0,1)*AP4","v":0},{"$f":"IF(ISERROR(VLOOKUP(AD4,CX:CX,1,FALSE)),0,1)*IF(ISERROR(VLOOKUP(AF4,CX:CX,1,FALSE)),0,1)*AQ4","v":0},{"$f":"IF(ISERROR(VLOOKUP(AD4,DR:DR,1,FALSE)),0,1)*IF(ISERROR(VLOOKUP(AF4,DR:DR,1,FALSE)),0,1)*AL4","v":0},{"$f":"IF(ISERROR(VLOOKUP(AD4,DR:DR,1,FALSE)),0,1)*IF(ISERROR(VLOOKUP(AF4,DR:DR,1,FALSE)),0,1)*AM4","v":0},{"$f":"IF(ISERROR(VLOOKUP(AD4,DR:DR,1,FALSE)),0,1)*IF(ISERROR(VLOOKUP(AF4,DR:DR,1,FALSE)),0,1)*AN4","v":0},{"$f":"IF(ISERROR(VLOOKUP(AD4,DR:DR,1,FALSE)),0,1)*IF(ISERROR(VLOOKUP(AF4,DR:DR,1,FALSE)),0,1)*AO4","v":0},{"$f":"IF(ISERROR(VLOOKUP(AD4,DR:DR,1,FALSE)),0,1)*IF(ISERROR(VLOOKUP(AF4,DR:DR,1,FALSE)),0,1)*AP4","v":0},{"$f":"IF(ISERROR(VLOOKUP(AD4,DR:DR,1,FALSE)),0,1)*IF(ISERROR(VLOOKUP(AF4,DR:DR,1,FALSE)),0,1)*AQ4","v":0},{"$f":"IF(ISERROR(VLOOKUP(AD4,EL:EL,1,FALSE)),0,1)*IF(ISERROR(VLOOKUP(AF4,EL:EL,1,FALSE)),0,1)*AL4","v":0},{"$f":"IF(ISERROR(VLOOKUP(AD4,EL:EL,1,FALSE)),0,1)*IF(ISERROR(VLOOKUP(AF4,EL:EL,1,FALSE)),0,1)*AM4","v":0},{"$f":"IF(ISERROR(VLOOKUP(AD4,EL:EL,1,FALSE)),0,1)*IF(ISERROR(VLOOKUP(AF4,EL:EL,1,FALSE)),0,1)*AN4","v":0},{"$f":"IF(ISERROR(VLOOKUP(AD4,EL:EL,1,FALSE)),0,1)*IF(ISERROR(VLOOKUP(AF4,EL:EL,1,FALSE)),0,1)*AO4","v":0},{"$f":"IF(ISERROR(VLOOKUP(AD4,EL:EL,1,FALSE)),0,1)*IF(ISERROR(VLOOKUP(AF4,EL:EL,1,FALSE)),0,1)*AP4","v":0},{"$f":"IF(ISERROR(VLOOKUP(AD4,EL:EL,1,FALSE)),0,1)*IF(ISERROR(VLOOKUP(AF4,EL:EL,1,FALSE)),0,1)*AQ4","v":0},null,null,"Tyskland",{"$f":"(SUMIF(AD$4:AD$54,BR4,AL$4:AL$54)+SUMIF(AF$4:AF$54,BR4,AM$4:AM$54))","v":0},{"$f":"(SUMIF(AD$4:AD$54,BR4,AN$4:AN$54)+SUMIF(AF$4:AF$54,BR4,AO$4:AO$54))","v":0},{"$f":"(SUMIF(AD$4:AD$54,BR4,AP$4:AP$54)+SUMIF(AF$4:AF$54,BR4,AQ$4:AQ$54))","v":0},{"$f":"SUMIF($AD$4:$AD$54,BR4,$AG$4:$AG$54)+SUMIF($AF$4:$AF$54,BR4,$AI$4:$AI$54)","v":0},{"$f":"SUMIF($AD$4:$AD$54,BR4,$AI$4:$AI$54)+SUMIF($AF$4:$AF$54,BR4,$AG$4:$AG$54)","v":0},{"$f":"BV4-BW4","v":0},{"$f":"IFERROR(BS4*3+BT4*1,0)","v":0},"A",{"$f":"RANK(BY4,BY4:BY7)","v":1},{"$f":"SUMPRODUCT((BY4:BY7=BY4)*(BX4:BX7>BX4))","v":0},null,{"$f":"IF(CA4=1,BR4,)","v":"Tyskland"},{"$f":"(SUMIF($AD$4:$AD$54,$BR4,$AR$4:$AR$54)+SUMIF($AF$4:$AF$54,$BR4,$AS$4:$AS$54))","v":0},{"$f":"(SUMIF($AD$4:$AD$54,$BR4,$AT$4:$AT$54)+SUMIF($AF$4:$AF$54,$BR4,$AU$4:$AU$54))","v":0},{"$f":"(SUMIF($AD$4:$AD$54,$BR4,$AV$4:$AV$54)+SUMIF($AF$4:$AF$54,$BR4,$AW$4:$AW$54))","v":0},{"$f":"IFERROR(CE4*3+CF4*1,0)","v":0},{"$f":"BZ4","v":"A"},{"$f":"IF(CD4>0,RANK(CH4,CH4:CH7),)","v":1},{"$f":"IF(AND(CD4>0,COUNTIF(CJ4:CJ7,CJ4)>1),SUMIFS($AG$4:$AG$54,$AD$4:$AD$54,$BR4,$K$4:$K$54,1)+SUMIFS($AI$4:$AI$54,$AF$4:$AF$54,$BR4,$K$4:$K$54,1)-SUMIFS($AI$4:$AI$54,$AD$4:$AD$54,$BR4,$K$4:$K$54,1)-SUMIFS($AG$4:$AG$54,$AF$4:$AF$54,$BR4,$K$4:$K$54,1),)","v":0},{"$f":"IF(AND(CD4>0,COUNTIF(CJ4:CJ7,CJ4)>1),CJ4+RANK(CK4,CK4:CK7)-1,CJ4)","v":1},{"$f":"IF(AND(CD4>0,COUNTIF(CL4:CL7,CL4)>1),SUMIFS($AG$4:$AG$54,$AD$4:$AD$54,$BR4,$K$4:$K$54,1)+SUMIFS($AI$4:$AI$54,$AF$4:$AF$54,$BR4,$K$4:$K$54,1),)","v":0},{"$f":"IF(AND(CD4>0,COUNTIF(CL4:CL7,CL4)>1),CL4+RANK(CM4,CM4:CM7)-1,CL4)","v":1},{"$f":"IF(CN4=0,\"\",CN4)","v":1},{"$f":"IF(OR(CO4=\"\",COUNTIF(CO4:CO7,CO4)=1),\"\",$BX4)","v":0},{"$f":"IF(CO4=\"\",\"\",IF(COUNTIF(CO4:CO7,CO4)=1,CO4,CO4+RANK(CP4,CP4:CP7,0)-1))","v":1},{"$f":"IF(OR(CQ4=\"\",COUNTIF(CQ4:CQ7,CQ4)=1),\"\",$BV4)","v":0},{"$f":"IF(CO4=\"\",\"\",IF(COUNTIF(CQ4:CQ7,CQ4)=1,CQ4,CQ4+RANK(CR4,CR4:CR7,0)-1))","v":1},{"$f":"IF(OR(CS4=\"\",COUNTIF(CS4:CS7,CS4)=1),\"\",$BS4)","v":0},{"$f":"IF(CO4=\"\",\"\",IF(COUNTIF(CS4:CS7,CS4)=1,CS4,CS4+RANK(CT4,CT4:CT7,0)-1))","v":1},{"$f":"IF(CD4>0,BK2+RANK(CU4,CU4:CU7,1),)","v":1},null,{"$f":"IF(CA4=2,BR4,)","v":0},{"$f":"(SUMIF($AD$4:$AD$54,$BR4,$AX$4:$AX$54)+SUMIF($AF$4:$AF$54,$BR4,$AY$4:$AY$54))","v":0},{"$f":"(SUMIF($AD$4:$AD$54,$BR4,$AZ$4:$AZ$54)+SUMIF($AF$4:$AF$54,$BR4,$BA$4:$BA$54))","v":0},{"$f":"(SUMIF($AD$4:$AD$54,$BR4,$BB$4:$BB$54)+SUMIF($AF$4:$AF$54,$BR4,$BC$4:$BC$54))","v":0},{"$f":"IFERROR(CY4*3+CZ4*1,0)","v":0},{"$f":"$BZ4","v":"A"},{"$f":"IF(CX4>0,RANK(DB4,DB4:DB7)+CE2,)","v":0},{"$f":"IF(AND(CX4>0,COUNTIF(DD4:DD7,DD4)>1),SUMIFS($AG$4:$AG$54,$AD$4:$AD$54,$BR4,$K$4:$K$54,2)+SUMIFS($AI$4:$AI$54,$AF$4:$AF$54,$BR4,$K$4:$K$54,2)-SUMIFS($AI$4:$AI$54,$AD$4:$AD$54,$BR4,$K$4:$K$54,2)-SUMIFS($AG$4:$AG$54,$AF$4:$AF$54,$BR4,$K$4:$K$54,2),)","v":0},{"$f":"IF(AND(CX4>0,COUNTIF(DD4:DD7,DD4)>1),DD4+RANK(DE4,DE4:DE7)-1,DD4)","v":0},{"$f":"IF(AND(CX4>0,COUNTIF(DF4:DF7,DF4)>1),SUMIFS($AG$4:$AG$54,$AD$4:$AD$54,$BR4,$K$4:$K$54,2)+SUMIFS($AI$4:$AI$54,$AF$4:$AF$54,$BR4,$K$4:$K$54,2),)","v":0},{"$f":"IF(AND(CX4>0,COUNTIF(DF4:DF7,DF4)>1),DF4+RANK(DG4,DG4:DG7)-1,DF4)","v":0},{"$f":"IF(DH4=0,\"\",DH4)","v":""},{"$f":"IF(OR(DI4=\"\",COUNTIF(DI4:DI7,DI4)=1),\"\",$BX4)","v":""},{"$f":"IF(DI4=\"\",\"\",IF(COUNTIF(DI4:DI7,DI4)=1,DI4,DI4+RANK(DJ4,DJ4:DJ7,0)-1))","v":""},{"$f":"IF(OR(DK4=\"\",COUNTIF(DK4:DK7,DK4)=1),\"\",$BV4)","v":""},{"$f":"IF(DI4=\"\",\"\",IF(COUNTIF(DK4:DK7,DK4)=1,DK4,DK4+RANK(DL4,DL4:DL7,0)-1))","v":""},{"$f":"IF(OR(DM4=\"\",COUNTIF(DM4:DM7,DM4)=1),\"\",$BS4)","v":""},{"$f":"IF(DI4=\"\",\"\",IF(COUNTIF(DM4:DM7,DM4)=1,DM4,DM4+RANK(DN4,DN4:DN7,0)-1))","v":""},{"$f":"IF(CX4>0,CE2+RANK(DO4,DO4:DO7,1),)","v":0},null,{"$f":"IF(CA4=3,BR4,)","v":0},{"$f":"(SUMIF($AD$4:$AD$54,BR4,$BD$4:$BD$54)+SUMIF($AF$4:$AF$54,BR4,$BE$4:$BE$54))","v":0},{"$f":"(SUMIF($AD$4:$AD$54,BR4,$BF$4:$BF$54)+SUMIF($AF$4:$AF$54,BR4,$BG$4:$BG$54))","v":0},{"$f":"(SUMIF($AD$4:$AD$54,BR4,$BH$4:$BH$54)+SUMIF($AF$4:$AF$54,BR4,$BI$4:$BI$54))","v":0},{"$f":"IFERROR(DS4*3+DT4*1,0)","v":0},{"$f":"BZ4","v":"A"},{"$f":"IF(DR4>0,RANK(DV4,DV4:DV7)+CE2+CY2,)","v":0},{"$f":"IF(AND(DR4>0,COUNTIF(DX4:DX7,DX4)>1),SUMIFS($AG$4:$AG$54,$AD$4:$AD$54,$BR4,$K$4:$K$54,3)+SUMIFS($AI$4:$AI$54,$AF$4:$AF$54,$BR4,$K$4:$K$54,3)-SUMIFS($AI$4:$AI$54,$AD$4:$AD$54,$BR4,$K$4:$K$54,3)-SUMIFS($AG$4:$AG$54,$AF$4:$AF$54,$BR4,$K$4:$K$54,3),)","v":0},{"$f":"IF(AND(DR4>0,COUNTIF(DX4:DX7,DX4)>1),DX4+RANK(DY4,DY4:DY7)-1,DX4)","v":0},{"$f":"IF(AND(DR4>0,COUNTIF(DZ4:DZ7,DZ4)>1),SUMIFS($AG$4:$AG$54,$AD$4:$AD$54,$BR4,$K$4:$K$54,3)+SUMIFS($AI$4:$AI$54,$AF$4:$AF$54,$BR4,$K$4:$K$54,3),)","v":0},{"$f":"IF(AND(DR4>0,COUNTIF(DZ4:DZ7,DZ4)>1),DZ4+RANK(EA4,EA4:EA7)-1,DZ4)","v":0},{"$f":"IF(EB4=0,\"\",EB4)","v":""},{"$f":"IF(OR(EC4=\"\",COUNTIF(EC4:EC7,EC4)=1),\"\",$BX4)","v":""},{"$f":"IF(EC4=\"\",\"\",IF(COUNTIF(EC4:EC7,EC4)=1,EC4,EC4+RANK(ED4,ED4:ED7,0)-1))","v":""},{"$f":"IF(OR(EE4=\"\",COUNTIF(EE4:EE7,EE4)=1),\"\",$BV4)","v":""},{"$f":"IF(EC4=\"\",\"\",IF(COUNTIF(EE4:EE7,EE4)=1,EE4,EE4+RANK(EF4,EF4:EF7,0)-1))","v":""},{"$f":"IF(OR(EG4=\"\",COUNTIF(EG4:EG7,EG4)=1),\"\",$BS4)","v":""},{"$f":"IF(EC4=\"\",\"\",IF(COUNTIF(EG4:EG7,EG4)=1,EG4,EG4+RANK(EH4,EH4:EH7,0)-1))","v":""},{"$f":"IF(DR4>0,CE2+CY2+RANK(EI4,EI4:EI7,1),)","v":0},null,{"$f":"IF(CA4=4,BR4,)","v":0},{"$f":"(SUMIF($AD$4:$AD$54,$BR4,$BJ$4:$BJ$54)+SUMIF($AF$4:$AF$54,$BR4,$BK$4:$BK$54))","v":0},{"$f":"(SUMIF($AD$4:$AD$54,$BR4,$BL$4:$BL$54)+SUMIF($AF$4:$AF$54,$BR4,$BM$4:$BM$54))","v":0},{"$f":"(SUMIF($AD$4:$AD$54,$BR4,$BN$4:$BN$54)+SUMIF($AF$4:$AF$54,$BR4,$BO$4:$BO$54))","v":0},{"$f":"IFERROR(EM4*3+EN4*1,0)","v":0},{"$f":"$BZ4","v":"A"},{"$f":"IF(EL4>0,RANK(EP4,EP4:EP7)+CE2+CY2+DS2,)","v":0},{"$f":"IF(AND(EL4>0,COUNTIF(ER4:ER7,ER4)>1),SUMIFS($AG$4:$AG$54,$AD$4:$AD$54,$BR4,$K$4:$K$54,4)+SUMIFS($AI$4:$AI$54,$AF$4:$AF$54,$BR4,$K$4:$K$54,4)-SUMIFS($AI$4:$AI$54,$AD$4:$AD$54,$BR4,$K$4:$K$54,4)-SUMIFS($AG$4:$AG$54,$AF$4:$AF$54,$BR4,$K$4:$K$54,4),)","v":0},{"$f":"IF(AND(EL4>0,COUNTIF($ER$4:$ER$7,ER4)>1),ER4+RANK(ES4,$ES$4:$ES$7)-1,ER4)","v":0},{"$f":"IF(AND(EL4>0,COUNTIF(ET4:ET7,ET4)>1),SUMIFS($AG$4:$AG$54,$AD$4:$AD$54,$BR4,$K$4:$K$54,4)+SUMIFS($AI$4:$AI$54,$AF$4:$AF$54,$BR4,$K$4:$K$54,4),)","v":0},{"$f":"IF(AND(EL4>0,COUNTIF(ET4:ET7,ET4)>1),ET4+RANK(EU4,EU4:EU7)-1,ET4)","v":0},{"$f":"IF(EV4=0,\"\",EV4)","v":""},{"$f":"IF(OR(EW4=\"\",COUNTIF(EW4:EW7,EW4)=1),\"\",$BX4)","v":""},{"$f":"IF(EW4=\"\",\"\",IF(COUNTIF(EW4:EW7,EW4)=1,EW4,EW4+RANK(EX4,EX4:EX7,0)-1))","v":""},{"$f":"IF(OR(EY4=\"\",COUNTIF(EY4:EY7,EY4)=1),\"\",$BV4)","v":""},{"$f":"IF(EW4=\"\",\"\",IF(COUNTIF(EY4:EY7,EY4)=1,EY4,EY4+RANK(EZ4,EZ4:EZ7,0)-1))","v":""},{"$f":"IF(OR(FA4=\"\",COUNTIF(FA4:FA7,FA4)=1),\"\",$BS4)","v":""},{"$f":"IF(EW4=\"\",\"\",IF(COUNTIF(FA4:FA7,FA4)=1,FA4,FA4+RANK(FB4,FB4:FB7,0)-1))","v":""},{"$f":"IF(EL4>0,CE2+CY2+DS2+RANK(FC4,FC4:FC7,1),)","v":0},null,{"$f":"IFERROR(VLOOKUP(FH4,CD3:CV7,19,FALSE),IFERROR(VLOOKUP(FH4,CX3:DP7,19,FALSE),IFERROR(VLOOKUP(FH4,DR3:EJ7,19,FALSE),VLOOKUP(FH4,EL3:FD7,19,FALSE))))","v":1},{"$f":"RANK(FF4,FF4:FF7,1)+COUNTIF(FF4:FF4,FF4)-1","v":1},{"$f":"BR4","v":"Tyskland"},null,"A",{"$f":"M6","v":"Ungern"},{"$f":"RANK($FM4,$FM$4:$FM$9,1)+COUNTIF($FM$4:$FM4,$FM4)-1","v":1},{"$f":"FP4+FO4+FN4","v":1},{"$f":"SUMPRODUCT(($FQ$4:$FQ$9=FQ4)*($FR$4:$FR$9=FR4)*($FS$4:$FS$9>FS4))","v":0},{"$f":"SUMPRODUCT(($FQ$4:$FQ$9=FQ4)*($FR$4:$FR$9>FR4))","v":0},{"$f":"RANK(FQ4,$FQ$4:$FQ$9)","v":1},{"$f":"T6","v":0},{"$f":"S6","v":0},{"$f":"Q6","v":0},"A",{"$f":"IF(FL4<5,FT4,)","v":"A"},null,3,"ABCE","A","B","C","E",{"$f":"VLOOKUP(\"A\",$FJ$3:$FK$9,2,FALSE)","v":"Ungern"},{"$f":"VLOOKUP(\"E\",$FJ$3:$FK$9,2,FALSE)","v":"Belgien"},{"$f":"VLOOKUP(\"B\",$FJ$3:$FK$9,2,FALSE)","v":"Italien"},{"$f":"VLOOKUP(\"C\",$FJ$3:$FK$9,2,FALSE)","v":"Serbien"},{"$f":"IFERROR(IF(AND(VLOOKUP(FY4,$FU$4:$FU$9,1,FALSE)=FY4,VLOOKUP(FZ4,$FU$4:$FU$9,1,FALSE)=FZ4,VLOOKUP(GA4,$FU$4:$FU$9,1,FALSE)=GA4,VLOOKUP(GB4,$FU$4:$FU$9,1,FALSE)=GB4),FW4,\"\"),\"\")","v":""},1,null,"Mitt tips",{"$f":"'Mitt tips'!AA19","v":0}]
[null,null,"2024-06-15","Ungern","-","Schweiz",null,"-",null,{"$f":"IF(OR(ISBLANK(G5),ISBLANK(I5)),\"\",IF(G5>I5,1,IF(G5<I5,2,\"X\")))","v":""},{"$f":"IF(VLOOKUP(D5,BR3:CA7,10,FALSE)=VLOOKUP(F5,BR3:CA7,10,FALSE),VLOOKUP(D5,BR3:CA7,10,FALSE),\"-\")","v":1},2,{"$f":"VLOOKUP(L5,FG4:FH7,2,FALSE)","v":"Skottland"},{"$f":"VLOOKUP(M5,$BR$4:$BY$7,2,FALSE)","v":0},{"$f":"VLOOKUP($M$5,$BR$4:$BY$7,3,FALSE)","v":0},{"$f":"VLOOKUP($M$5,$BR$4:$BY$7,4,FALSE)","v":0},{"$f":"VLOOKUP($M$5,$BR$4:$BY$7,5,FALSE)","v":0},{"$f":"VLOOKUP($M$5,$BR$4:$BY$7,6,FALSE)","v":0},{"$f":"VLOOKUP($M$5,$BR$4:$BY$7,7,FALSE)","v":0},{"$f":"VLOOKUP($M$5,$BR$4:$BY$7,8,FALSE)","v":0},null,"Skyttekung",null,null,null,null,null,null,"2024-06-15","Ungern","-","Schweiz","","-","","",null,{"$f":"IF(AG5>AI5,1,0)","v":0},{"$f":"IF(AI5>AG5,1,0)","v":0},{"$f":"IF(AND(AG5=AI5,AG5<>\"\"),1,0)","v":0},{"$f":"IF(AND(AG5=AI5,AG5<>\"\"),1,0)","v":0},{"$f":"IF(AG5<AI5,1,0)","v":0},{"$f":"IF(AI5<AG5,1,)","v":0},0,0,0,0,0,0,0,0,0,0,0,0,0,0,0,0,0,0,0,0,0,0,0,0,null,null,"Skottland",{"$f":"(SUMIF(AD$4:AD$54,BR5,AL$4:AL$54)+SUMIF(AF$4:AF$54,BR5,AM$4:AM$54))","v":0},{"$f":"(SUMIF(AD$4:AD$54,BR5,AN$4:AN$54)+SUMIF(AF$4:AF$54,BR5,AO$4:AO$54))","v":0},{"$f":"(SUMIF(AD$4:AD$54,BR5,AP$4:AP$54)+SUMIF(AF$4:AF$54,BR5,AQ$4:AQ$54))","v":0},{"$f":"SUMIF($AD$4:$AD$54,BR5,$AG$4:$AG$54)+SUMIF($AF$4:$AF$54,BR5,$AI$4:$AI$54)","v":0},{"$f":"SUMIF($AD$4:$AD$54,BR5,$AI$4:$AI$54)+SUMIF($AF$4:$AF$54,BR5,$AG$4:$AG$54)","v":0},{"$f":"BV5-BW5","v":0},{"$f":"IFERROR(BS5*3+BT5*1,0)","v":0},"A",{"$f":"RANK(BY5,BY4:BY7)","v":1},{"$f":"SUMPRODUCT((BY4:BY7=BY5)*(BX4:BX7>BX5))","v":0},null,{"$f":"IF(CA5=1,BR5,)","v":"Skottland"},{"$f":"(SUMIF($AD$4:$AD$54,$BR5,$AR$4:$AR$54)+SUMIF($AF$4:$AF$54,$BR5,$AS$4:$AS$54))","v":0},{"$f":"(SUMIF($AD$4:$AD$54,$BR5,$AT$4:$AT$54)+SUMIF($AF$4:$AF$54,$BR5,$AU$4:$AU$54))","v":0},{"$f":"(SUMIF($AD$4:$AD$54,$BR5,$AV$4:$AV$54)+SUMIF($AF$4:$AF$54,$BR5,$AW$4:$AW$54))","v":0},{"$f":"IFERROR(CE5*3+CF5*1,0)","v":0},{"$f":"BZ5","v":"A"},{"$f":"IF(CD5>0,RANK(CH5,CH4:CH7),)","v":1},{"$f":"IF(AND(CD5>0,COUNTIF(CJ4:CJ7,CJ5)>1),SUMIFS($AG$4:$AG$54,$AD$4:$AD$54,BR5,$K$4:$K$54,1)+SUMIFS($AI$4:$AI$54,$AF$4:$AF$54,BR5,$K$4:$K$54,1)-SUMIFS($AI$4:$AI$54,$AD$4:$AD$54,BR5,$K$4:$K$54,1)-SUMIFS($AG$4:$AG$54,$AF$4:$AF$54,BR5,$K$4:$K$54,1),)","v":0},{"$f":"IF(AND(CD5>0,COUNTIF(CJ4:CJ7,CJ5)>1),CJ5+RANK(CK5,CK4:CK7)-1,CJ5)","v":1},{"$f":"IF(AND(CD5>0,COUNTIF(CL4:CL7,CL5)>1),SUMIFS($AG$4:$AG$54,$AD$4:$AD$54,BR5,$K$4:$K$54,1)+SUMIFS($AI$4:$AI$54,$AF$4:$AF$54,BR5,$K$4:$K$54,1),)","v":0},{"$f":"IF(AND(CD5>0,COUNTIF(CL4:CL7,CL5)>1),CL5+RANK(CM5,CM4:CM7)-1,CL5)","v":1},{"$f":"IF(CN5=0,\"\",CN5)","v":1},{"$f":"IF(OR(CO5=\"\",COUNTIF(CO4:CO7,CO5)=1),\"\",$BX5)","v":0},{"$f":"IF(CO5=\"\",\"\",IF(COUNTIF(CO4:CO7,CO5)=1,CO5,CO5+RANK(CP5,CP4:CP7,0)-1))","v":1},{"$f":"IF(OR(CQ5=\"\",COUNTIF(CQ4:CQ7,CQ5)=1),\"\",$BV5)","v":0},{"$f":"IF(CO5=\"\",\"\",IF(COUNTIF(CQ4:CQ7,CQ5)=1,CQ5,CQ5+RANK(CR5,CR4:CR7,0)-1))","v":1},{"$f":"IF(OR(CS5=\"\",COUNTIF(CS4:CS7,CS5)=1),\"\",$BS5)","v":0},{"$f":"IF(CO5=\"\",\"\",IF(COUNTIF(CS4:CS7,CS5)=1,CS5,CS5+RANK(CT5,CT4:CT7,0)-1))","v":1},{"$f":"IF(CD5>0,BK2+RANK(CU5,CU4:CU7,1),)","v":1},null,{"$f":"IF(CA5=2,BR5,)","v":0},{"$f":"(SUMIF($AD$4:$AD$54,$BR5,$AX$4:$AX$54)+SUMIF($AF$4:$AF$54,$BR5,$AY$4:$AY$54))","v":0},{"$f":"(SUMIF($AD$4:$AD$54,$BR5,$AZ$4:$AZ$54)+SUMIF($AF$4:$AF$54,$BR5,$BA$4:$BA$54))","v":0},{"$f":"(SUMIF($AD$4:$AD$54,$BR5,$BB$4:$BB$54)+SUMIF($AF$4:$AF$54,$BR5,$BC$4:$BC$54))","v":0},{"$f":"IFERROR(CY5*3+CZ5*1,0)","v":0},{"$f":"$BZ5","v":"A"},{"$f":"IF(CX5>0,RANK(DB5,DB4:DB7)+CE2,)","v":0},{"$f":"IF(AND(CX5>0,COUNTIF(DD4:DD7,DD5)>1),SUMIFS($AG$4:$AG$54,$AD$4:$AD$54,BR5,$K$4:$K$54,2)+SUMIFS($AI$4:$AI$54,$AF$4:$AF$54,BR5,$K$4:$K$54,2)-SUMIFS($AI$4:$AI$54,$AD$4:$AD$54,BR5,$K$4:$K$54,2)-SUMIFS($AG$4:$AG$54,$AF$4:$AF$54,BR5,$K$4:$K$54,2),)","v":0},{"$f":"IF(AND(CX5>0,COUNTIF(DD4:DD7,DD5)>1),DD5+RANK(DE5,DE4:DE7)-1,DD5)","v":0},{"$f":"IF(AND(CX5>0,COUNTIF(DF4:DF7,DF5)>1),SUMIFS($AG$4:$AG$54,$AD$4:$AD$54,BR5,$K$4:$K$54,2)+SUMIFS($AI$4:$AI$54,$AF$4:$AF$54,BR5,$K$4:$K$54,2),)","v":0},{"$f":"IF(AND(CX5>0,COUNTIF(DF4:DF7,DF5)>1),DF5+RANK(DG5,DG4:DG7)-1,DF5)","v":0},{"$f":"IF(DH5=0,\"\",DH5)","v":""},{"$f":"IF(OR(DI5=\"\",COUNTIF(DI4:DI7,DI5)=1),\"\",$BX5)","v":""},{"$f":"IF(DI5=\"\",\"\",IF(COUNTIF(DI4:DI7,DI5)=1,DI5,DI5+RANK(DJ5,DJ4:DJ7,0)-1))","v":""},{"$f":"IF(OR(DK5=\"\",COUNTIF(DK4:DK7,DK5)=1),\"\",$BV5)","v":""},{"$f":"IF(DI5=\"\",\"\",IF(COUNTIF(DK4:DK7,DK5)=1,DK5,DK5+RANK(DL5,DL4:DL7,0)-1))","v":""},{"$f":"IF(OR(DM5=\"\",COUNTIF(DM4:DM7,DM5)=1),\"\",$BS5)","v":""},{"$f":"IF(DI5=\"\",\"\",IF(COUNTIF(DM4:DM7,DM5)=1,DM5,DM5+RANK(DN5,DN4:DN7,0)-1))","v":""},{"$f":"IF(CX5>0,CE2+RANK(DO5,DO4:DO7,1),)","v":0},null,{"$f":"IF(CA5=3,BR5,)","v":0},{"$f":"(SUMIF(AD$4:AD$54,BR5,BD$4:BD$54)+SUMIF(AF$4:AF$54,BR5,BE$4:BE$54))","v":0},{"$f":"(SUMIF(AD$4:AD$54,BR5,BF$4:BF$54)+SUMIF(AF$4:AF$54,BR5,BG$4:BG$54))","v":0},{"$f":"(SUMIF(AD$4:AD$54,BR5,BH$4:BH$54)+SUMIF(AF$4:AF$54,BR5,BI$4:BI$54))","v":0},{"$f":"IFERROR(DS5*3+DT5*1,0)","v":0},{"$f":"BZ5","v":"A"},{"$f":"IF(DR5>0,RANK(DV5,DV4:DV7)+CE2+CY2,)","v":0},{"$f":"IF(AND(DR5>0,COUNTIF(DX4:DX7,DX5)>1),SUMIFS($AG$4:$AG$54,$AD$4:$AD$54,BR5,$K$4:$K$54,3)+SUMIFS($AI$4:$AI$54,$AF$4:$AF$54,BR5,$K$4:$K$54,3)-SUMIFS($AI$4:$AI$54,$AD$4:$AD$54,BR5,$K$4:$K$54,3)-SUMIFS($AG$4:$AG$54,$AF$4:$AF$54,BR5,$K$4:$K$54,3),)","v":0},{"$f":"IF(AND(DR5>0,COUNTIF(DX4:DX7,DX5)>1),DX5+RANK(DY5,DY4:DY7)-1,DX5)","v":0},{"$f":"IF(AND(DR5>0,COUNTIF(DZ4:DZ7,DZ5)>1),SUMIFS($AG$4:$AG$54,$AD$4:$AD$54,BR5,$K$4:$K$54,3)+SUMIFS($AI$4:$AI$54,$AF$4:$AF$54,BR5,$K$4:$K$54,3),)","v":0},{"$f":"IF(AND(DR5>0,COUNTIF(DZ4:DZ7,DZ5)>1),DZ5+RANK(EA5,EA4:EA7)-1,DZ5)","v":0},{"$f":"IF(EB5=0,\"\",EB5)","v":""},{"$f":"IF(OR(EC5=\"\",COUNTIF(EC4:EC7,EC5)=1),\"\",$BX5)","v":""},{"$f":"IF(EC5=\"\",\"\",IF(COUNTIF(EC4:EC7,EC5)=1,EC5,EC5+RANK(ED5,ED4:ED7,0)-1))","v":""},{"$f":"IF(OR(EE5=\"\",COUNTIF(EE4:EE7,EE5)=1),\"\",$BV5)","v":""},{"$f":"IF(EC5=\"\",\"\",IF(COUNTIF(EE4:EE7,EE5)=1,EE5,EE5+RANK(EF5,EF4:EF7,0)-1))","v":""},{"$f":"IF(OR(EG5=\"\",COUNTIF(EG4:EG7,EG5)=1),\"\",$BS5)","v":""},{"$f":"IF(EC5=\"\",\"\",IF(COUNTIF(EG4:EG7,EG5)=1,EG5,EG5+RANK(EH5,EH4:EH7,0)-1))","v":""},{"$f":"IF(DR5>0,CE2+CY2+RANK(EI5,EI4:EI7,1),)","v":0},null,{"$f":"IF(CA5=4,BR5,)","v":0},{"$f":"(SUMIF($AD$4:$AD$54,$BR5,$BJ$4:$BJ$54)+SUMIF($AF$4:$AF$54,$BR5,$BK$4:$BK$54))","v":0},{"$f":"(SUMIF($AD$4:$AD$54,$BR5,$BL$4:$BL$54)+SUMIF($AF$4:$AF$54,$BR5,$BM$4:$BM$54))","v":0},{"$f":"(SUMIF($AD$4:$AD$54,$BR5,$BN$4:$BN$54)+SUMIF($AF$4:$AF$54,$BR5,$BO$4:$BO$54))","v":0},{"$f":"IFERROR(EM5*3+EN5*1,0)","v":0},{"$f":"$BZ5","v":"A"},{"$f":"IF(EL5>0,RANK(EP5,EP4:EP7)+CE2+CY2+DS2,)","v":0},{"$f":"IF(AND(EL5>0,COUNTIF(ER4:ER7,ER5)>1),SUMIFS($AG$4:$AG$54,$AD$4:$AD$54,BR5,$K$4:$K$54,4)+SUMIFS($AI$4:$AI$54,$AF$4:$AF$54,BR5,$K$4:$K$54,4)-SUMIFS($AI$4:$AI$54,$AD$4:$AD$54,BR5,$K$4:$K$54,4)-SUMIFS($AG$4:$AG$54,$AF$4:$AF$54,BR5,$K$4:$K$54,4),)","v":0},{"$f":"IF(AND(EL5>0,COUNTIF($ER$4:$ER$7,ER5)>1),ER5+RANK(ES5,$ES$4:$ES$7)-1,ER5)","v":0},{"$f":"IF(AND(EL5>0,COUNTIF(ET4:ET7,ET5)>1),SUMIFS($AG$4:$AG$54,$AD$4:$AD$54,BR5,$K$4:$K$54,4)+SUMIFS($AI$4:$AI$54,$AF$4:$AF$54,BR5,$K$4:$K$54,4),)","v":0},{"$f":"IF(AND(EL5>0,COUNTIF(ET4:ET7,ET5)>1),ET5+RANK(EU5,EU4:EU7)-1,ET5)","v":0},{"$f":"IF(EV5=0,\"\",EV5)","v":""},{"$f":"IF(OR(EW5=\"\",COUNTIF(EW4:EW7,EW5)=1),\"\",$BX5)","v":""},{"$f":"IF(EW5=\"\",\"\",IF(COUNTIF(EW4:EW7,EW5)=1,EW5,EW5+RANK(EX5,EX4:EX7,0)-1))","v":""},{"$f":"IF(OR(EY5=\"\",COUNTIF(EY4:EY7,EY5)=1),\"\",$BV5)","v":""},{"$f":"IF(EW5=\"\",\"\",IF(COUNTIF(EY4:EY7,EY5)=1,EY5,EY5+RANK(EZ5,EZ4:EZ7,0)-1))","v":""},{"$f":"IF(OR(FA5=\"\",COUNTIF(FA4:FA7,FA5)=1),\"\",$BS5)","v":""},{"$f":"IF(EW5=\"\",\"\",IF(COUNTIF(FA4:FA7,FA5)=1,FA5,FA5+RANK(FB5,FB4:FB7,0)-1))","v":""},{"$f":"IF(EL5>0,CE2+CY2+DS2+RANK(FC5,FC4:FC7,1),)","v":0},null,{"$f":"IFERROR(VLOOKUP(FH5,CD3:CV7,19,FALSE),IFERROR(VLOOKUP(FH5,CX3:DP7,19,FALSE),IFERROR(VLOOKUP(FH5,DR3:EJ7,19,FALSE),VLOOKUP(FH5,EL3:FD7,19,FALSE))))","v":1},{"$f":"RANK(FF5,FF4:FF7,1)+COUNTIF(FF4:FF5,FF5)-1","v":2},{"$f":"BR5","v":"Skottland"},null,"B",{"$f":"M15","v":"Italien"},{"$f":"RANK($FM5,$FM$4:$FM$9,1)+COUNTIF($FM$4:$FM5,$FM5)-1","v":2},{"$f":"FP5+FO5+FN5","v":1},{"$f":"SUMPRODUCT(($FQ$4:$FQ$9=FQ5)*($FR$4:$FR$9=FR5)*($FS$4:$FS$9>FS5))","v":0},{"$f":"SUMPRODUCT(($FQ$4:$FQ$9=FQ5)*($FR$4:$FR$9>FR5))","v":0},{"$f":"RANK(FQ5,$FQ$4:$FQ$9)","v":1},{"$f":"T15","v":0},{"$f":"S15","v":0},{"$f":"Q15","v":0},"B",{"$f":"IF(FL5<5,FT5,)","v":"B"},null,4,"ABCF","A","B","C","F",{"$f":"VLOOKUP(\"A\",$FJ$3:$FK$9,2,FALSE)","v":"Ungern"},{"$f":"VLOOKUP(\"F\",$FJ$3:$FK$9,2,FALSE)","v":"Georgien"},{"$f":"VLOOKUP(\"B\",$FJ$3:$FK$9,2,FALSE)","v":"Italien"},{"$f":"VLOOKUP(\"C\",$FJ$3:$FK$9,2,FALSE)","v":"Serbien"},"",2]
[null,null,"2024-06-19","Tyskland","-","Ungern",null,"-",null,"",{"$f":"IF(VLOOKUP(D6,BR3:CA7,10,FALSE)=VLOOKUP(F6,BR3:CA7,10,FALSE),VLOOKUP(D6,BR3:CA7,10,FALSE),\"-\")","v":1},3,{"$f":"VLOOKUP(L6,FG4:FH7,2,FALSE)","v":"Ungern"},{"$f":"VLOOKUP(M6,$BR$4:$BY$7,2,FALSE)","v":0},{"$f":"VLOOKUP($M$6,$BR$4:$BY$7,3,FALSE)","v":0},{"$f":"VLOOKUP($M$6,$BR$4:$BY$7,4,FALSE)","v":0},{"$f":"VLOOKUP($M$6,$BR$4:$BY$7,5,FALSE)","v":0},{"$f":"VLOOKUP($M$6,$BR$4:$BY$7,6,FALSE)","v":0},{"$f":"VLOOKUP($M$6,$BR$4:$BY$7,7,FALSE)","v":0},{"$f":"VLOOKUP($M$6,$BR$4:$BY$7,8,FALSE)","v":0},null,"Lag som gör flest mål i gruppspelet",null,null,null,null,null,null,"2024-06-19","Tyskland","-","Ungern","","-","","",null,0,0,0,0,0,0,0,0,0,0,0,0,0,0,0,0,0,0,0,0,0,0,0,0,0,0,0,0,0,0,null,null,"Ungern",{"$f":"(SUMIF(AD$4:AD$54,BR6,AL$4:AL$54)+SUMIF(AF$4:AF$54,BR6,AM$4:AM$54))","v":0},{"$f":"(SUMIF(AD$4:AD$54,BR6,AN$4:AN$54)+SUMIF(AF$4:AF$54,BR6,AO$4:AO$54))","v":0},{"$f":"(SUMIF(AD$4:AD$54,BR6,AP$4:AP$54)+SUMIF(AF$4:AF$54,BR6,AQ$4:AQ$54))","v":0},0,0,0,0,"A",{"$f":"RANK(BY6,BY4:BY7)","v":1},{"$f":"SUMPRODUCT((BY4:BY7=BY6)*(BX4:BX7>BX6))","v":0},null,{"$f":"IF(CA6=1,BR6,)","v":"Ungern"},0,0,0,0,"A",{"$f":"IF(CD6>0,RANK(CH6,CH4:CH7),)","v":1},{"$f":"IF(AND(CD6>0,COUNTIF(CJ4:CJ7,CJ6)>1),SUMIFS($AG$4:$AG$54,$AD$4:$AD$54,BR6,$K$4:$K$54,1)+SUMIFS($AI$4:$AI$54,$AF$4:$AF$54,BR6,$K$4:$K$54,1)-SUMIFS($AI$4:$AI$54,$AD$4:$AD$54,BR6,$K$4:$K$54,1)-SUMIFS($AG$4:$AG$54,$AF$4:$AF$54,BR6,$K$4:$K$54,1),)","v":0},{"$f":"IF(AND(CD6>0,COUNTIF(CJ4:CJ7,CJ6)>1),CJ6+RANK(CK6,CK4:CK7)-1,CJ6)","v":1},{"$f":"IF(AND(CD6>0,COUNTIF(CL4:CL7,CL6)>1),SUMIFS($AG$4:$AG$54,$AD$4:$AD$54,BR6,$K$4:$K$54,1)+SUMIFS($AI$4:$AI$54,$AF$4:$AF$54,BR6,$K$4:$K$54,1),)","v":0},{"$f":"IF(AND(CD6>0,COUNTIF(CL4:CL7,CL6)>1),CL6+RANK(CM6,CM4:CM7)-1,CL6)","v":1},1,{"$f":"IF(OR(CO6=\"\",COUNTIF(CO4:CO7,CO6)=1),\"\",$BX6)","v":0},{"$f":"IF(CO6=\"\",\"\",IF(COUNTIF(CO4:CO7,CO6)=1,CO6,CO6+RANK(CP6,CP4:CP7,0)-1))","v":1},{"$f":"IF(OR(CQ6=\"\",COUNTIF(CQ4:CQ7,CQ6)=1),\"\",$BV6)","v":0},{"$f":"IF(CO6=\"\",\"\",IF(COUNTIF(CQ4:CQ7,CQ6)=1,CQ6,CQ6+RANK(CR6,CR4:CR7,0)-1))","v":1},{"$f":"IF(OR(CS6=\"\",COUNTIF(CS4:CS7,CS6)=1),\"\",$BS6)","v":0},{"$f":"IF(CO6=\"\",\"\",IF(COUNTIF(CS4:CS7,CS6)=1,CS6,CS6+RANK(CT6,CT4:CT7,0)-1))","v":1},{"$f":"IF(CD6>0,BK2+RANK(CU6,CU4:CU7,1),)","v":1},null,{"$f":"IF(CA6=2,BR6,)","v":0},0,0,0,0,"A",{"$f":"IF(CX6>0,RANK(DB6,DB4:DB7)+CE2,)","v":0},{"$f":"IF(AND(CX6>0,COUNTIF(DD4:DD7,DD6)>1),SUMIFS($AG$4:$AG$54,$AD$4:$AD$54,BR6,$K$4:$K$54,2)+SUMIFS($AI$4:$AI$54,$AF$4:$AF$54,BR6,$K$4:$K$54,2)-SUMIFS($AI$4:$AI$54,$AD$4:$AD$54,BR6,$K$4:$K$54,2)-SUMIFS($AG$4:$AG$54,$AF$4:$AF$54,BR6,$K$4:$K$54,2),)","v":0},{"$f":"IF(AND(CX6>0,COUNTIF(DD4:DD7,DD6)>1),DD6+RANK(DE6,DE4:DE7)-1,DD6)","v":0},{"$f":"IF(AND(CX6>0,COUNTIF(DF4:DF7,DF6)>1),SUMIFS($AG$4:$AG$54,$AD$4:$AD$54,BR6,$K$4:$K$54,2)+SUMIFS($AI$4:$AI$54,$AF$4:$AF$54,BR6,$K$4:$K$54,2),)","v":0},{"$f":"IF(AND(CX6>0,COUNTIF(DF4:DF7,DF6)>1),DF6+RANK(DG6,DG4:DG7)-1,DF6)","v":0},"",{"$f":"IF(OR(DI6=\"\",COUNTIF(DI4:DI7,DI6)=1),\"\",$BX6)","v":""},{"$f":"IF(DI6=\"\",\"\",IF(COUNTIF(DI4:DI7,DI6)=1,DI6,DI6+RANK(DJ6,DJ4:DJ7,0)-1))","v":""},{"$f":"IF(OR(DK6=\"\",COUNTIF(DK4:DK7,DK6)=1),\"\",$BV6)","v":""},{"$f":"IF(DI6=\"\",\"\",IF(COUNTIF(DK4:DK7,DK6)=1,DK6,DK6+RANK(DL6,DL4:DL7,0)-1))","v":""},{"$f":"IF(OR(DM6=\"\",COUNTIF(DM4:DM7,DM6)=1),\"\",$BS6)","v":""},{"$f":"IF(DI6=\"\",\"\",IF(COUNTIF(DM4:DM7,DM6)=1,DM6,DM6+RANK(DN6,DN4:DN7,0)-1))","v":""},{"$f":"IF(CX6>0,CE2+RANK(DO6,DO4:DO7,1),)","v":0},null,{"$f":"IF(CA6=3,BR6,)","v":0},{"$f":"(SUMIF(AD$4:AD$54,BR6,BD$4:BD$54)+SUMIF(AF$4:AF$54,BR6,BE$4:BE$54))","v":0},{"$f":"(SUMIF(AD$4:AD$54,BR6,BF$4:BF$54)+SUMIF(AF$4:AF$54,BR6,BG$4:BG$54))","v":0},{"$f":"(SUMIF(AD$4:AD$54,BR6,BH$4:BH$54)+SUMIF(AF$4:AF$54,BR6,BI$4:BI$54))","v":0},0,{"$f":"BZ6","v":"A"},{"$f":"IF(DR6>0,RANK(DV6,DV4:DV7)+CE2+CY2,)","v":0},{"$f":"IF(AND(DR6>0,COUNTIF(DX4:DX7,DX6)>1),SUMIFS($AG$4:$AG$54,$AD$4:$AD$54,BR6,$K$4:$K$54,3)+SUMIFS($AI$4:$AI$54,$AF$4:$AF$54,BR6,$K$4:$K$54,3)-SUMIFS($AI$4:$AI$54,$AD$4:$AD$54,BR6,$K$4:$K$54,3)-SUMIFS($AG$4:$AG$54,$AF$4:$AF$54,BR6,$K$4:$K$54,3),)","v":0},{"$f":"IF(AND(DR6>0,COUNTIF(DX4:DX7,DX6)>1),DX6+RANK(DY6,DY4:DY7)-1,DX6)","v":0},{"$f":"IF(AND(DR6>0,COUNTIF(DZ4:DZ7,DZ6)>1),SUMIFS($AG$4:$AG$54,$AD$4:$AD$54,BR6,$K$4:$K$54,3)+SUMIFS($AI$4:$AI$54,$AF$4:$AF$54,BR6,$K$4:$K$54,3),)","v":0},{"$f":"IF(AND(DR6>0,COUNTIF(DZ4:DZ7,DZ6)>1),DZ6+RANK(EA6,EA4:EA7)-1,DZ6)","v":0},"",{"$f":"IF(OR(EC6=\"\",COUNTIF(EC4:EC7,EC6)=1),\"\",$BX6)","v":""},{"$f":"IF(EC6=\"\",\"\",IF(COUNTIF(EC4:EC7,EC6)=1,EC6,EC6+RANK(ED6,ED4:ED7,0)-1))","v":""},{"$f":"IF(OR(EE6=\"\",COUNTIF(EE4:EE7,EE6)=1),\"\",$BV6)","v":""},{"$f":"IF(EC6=\"\",\"\",IF(COUNTIF(EE4:EE7,EE6)=1,EE6,EE6+RANK(EF6,EF4:EF7,0)-1))","v":""},{"$f":"IF(OR(EG6=\"\",COUNTIF(EG4:EG7,EG6)=1),\"\",$BS6)","v":""},{"$f":"IF(EC6=\"\",\"\",IF(COUNTIF(EG4:EG7,EG6)=1,EG6,EG6+RANK(EH6,EH4:EH7,0)-1))","v":""},{"$f":"IF(DR6>0,CE2+CY2+RANK(EI6,EI4:EI7,1),)","v":0},null,{"$f":"IF(CA6=4,BR6,)","v":0},0,0,0,0,"A",{"$f":"IF(EL6>0,RANK(EP6,EP4:EP7)+CE2+CY2+DS2,)","v":0},{"$f":"IF(AND(EL6>0,COUNTIF(ER4:ER7,ER6)>1),SUMIFS($AG$4:$AG$54,$AD$4:$AD$54,BR6,$K$4:$K$54,4)+SUMIFS($AI$4:$AI$54,$AF$4:$AF$54,BR6,$K$4:$K$54,4)-SUMIFS($AI$4:$AI$54,$AD$4:$AD$54,BR6,$K$4:$K$54,4)-SUMIFS($AG$4:$AG$54,$AF$4:$AF$54,BR6,$K$4:$K$54,4),)","v":0},0,{"$f":"IF(AND(EL6>0,COUNTIF(ET4:ET7,ET6)>1),SUMIFS($AG$4:$AG$54,$AD$4:$AD$54,BR6,$K$4:$K$54,4)+SUMIFS($AI$4:$AI$54,$AF$4:$AF$54,BR6,$K$4:$K$54,4),)","v":0},{"$f":"IF(AND(EL6>0,COUNTIF(ET4:ET7,ET6)>1),ET6+RANK(EU6,EU4:EU7)-1,ET6)","v":0},"",{"$f":"IF(OR(EW6=\"\",COUNTIF(EW4:EW7,EW6)=1),\"\",$BX6)","v":""},{"$f":"IF(EW6=\"\",\"\",IF(COUNTIF(EW4:EW7,EW6)=1,EW6,EW6+RANK(EX6,EX4:EX7,0)-1))","v":""},{"$f":"IF(OR(EY6=\"\",COUNTIF(EY4:EY7,EY6)=1),\"\",$BV6)","v":""},{"$f":"IF(EW6=\"\",\"\",IF(COUNTIF(EY4:EY7,EY6)=1,EY6,EY6+RANK(EZ6,EZ4:EZ7,0)-1))","v":""},{"$f":"IF(OR(FA6=\"\",COUNTIF(FA4:FA7,FA6)=1),\"\",$BS6)","v":""},{"$f":"IF(EW6=\"\",\"\",IF(COUNTIF(FA4:FA7,FA6)=1,FA6,FA6+RANK(FB6,FB4:FB7,0)-1))","v":""},{"$f":"IF(EL6>0,CE2+CY2+DS2+RANK(FC6,FC4:FC7,1),)","v":0},null,{"$f":"IFERROR(VLOOKUP(FH6,CD3:CV7,19,FALSE),IFERROR(VLOOKUP(FH6,CX3:DP7,19,FALSE),IFERROR(VLOOKUP(FH6,DR3:EJ7,19,FALSE),VLOOKUP(FH6,EL3:FD7,19,FALSE))))","v":1},{"$f":"RANK(FF6,FF4:FF7,1)+COUNTIF(FF4:FF6,FF6)-1","v":3},{"$f":"BR6","v":"Ungern"},null,"C",{"$f":"M24","v":"Serbien"},{"$f":"RANK($FM6,$FM$4:$FM$9,1)+COUNTIF($FM$4:$FM6,$FM6)-1","v":3},1,0,0,1,{"$f":"T24","v":0},{"$f":"S24","v":0},{"$f":"Q24","v":0},"C","C",null,5,"ABDE","A","B","D","E",{"$f":"VLOOKUP(\"D\",$FJ$3:$FK$9,2,FALSE)","v":"Polen"},{"$f":"VLOOKUP(\"E\",$FJ$3:$FK$9,2,FALSE)","v":"Belgien"},{"$f":"VLOOKUP(\"A\",$FJ$3:$FK$9,2,FALSE)","v":"Ungern"},{"$f":"VLOOKUP(\"B\",$FJ$3:$FK$9,2,FALSE)","v":"Italien"},"",3]
[null,null,"2024-06-19","Skottland","-","Schweiz",null,"-",null,"",{"$f":"IF(VLOOKUP(D7,BR3:CA7,10,FALSE)=VLOOKUP(F7,BR3:CA7,10,FALSE),VLOOKUP(D7,BR3:CA7,10,FALSE),\"-\")","v":1},4,{"$f":"VLOOKUP(L7,FG4:FH7,2,FALSE)","v":"Schweiz"},{"$f":"VLOOKUP(M7,$BR$4:$BY$7,2,FALSE)","v":0},{"$f":"VLOOKUP($M$7,$BR$4:$BY$7,3,FALSE)","v":0},{"$f":"VLOOKUP($M$7,$BR$4:$BY$7,4,FALSE)","v":0},{"$f":"VLOOKUP($M$7,$BR$4:$BY$7,5,FALSE)","v":0},{"$f":"VLOOKUP($M$7,$BR$4:$BY$7,6,FALSE)","v":0},{"$f":"VLOOKUP($M$7,$BR$4:$BY$7,7,FALSE)","v":0},{"$f":"VLOOKUP($M$7,$BR$4:$BY$7,8,FALSE)","v":0},null,"Lag som släpper in flest mål i gruppspelet",null,null,null,null,null,null,"2024-06-19","Skottland","-","Schweiz","","-","","",null,0,0,0,0,0,0,0,0,0,0,0,0,0,0,0,0,0,0,0,0,0,0,0,0,0,0,0,0,0,0,null,null,"Schweiz",{"$f":"(SUMIF(AD$4:AD$54,BR7,AL$4:AL$54)+SUMIF(AF$4:AF$54,BR7,AM$4:AM$54))","v":0},{"$f":"(SUMIF(AD$4:AD$54,BR7,AN$4:AN$54)+SUMIF(AF$4:AF$54,BR7,AO$4:AO$54))","v":0},{"$f":"(SUMIF(AD$4:AD$54,BR7,AP$4:AP$54)+SUMIF(AF$4:AF$54,BR7,AQ$4:AQ$54))","v":0},0,0,0,0,"A",{"$f":"RANK(BY7,BY4:BY7)","v":1},{"$f":"SUMPRODUCT((BY4:BY7=BY7)*(BX4:BX7>BX7))","v":0},null,{"$f":"IF(CA7=1,BR7,)","v":"Schweiz"},0,0,0,0,"A",{"$f":"IF(CD7>0,RANK(CH7,CH4:CH7),)","v":1},{"$f":"IF(AND(CD7>0,COUNTIF(CJ4:CJ7,CJ7)>1),SUMIFS($AG$4:$AG$54,$AD$4:$AD$54,BR7,$K$4:$K$54,1)+SUMIFS($AI$4:$AI$54,$AF$4:$AF$54,BR7,$K$4:$K$54,1)-SUMIFS($AI$4:$AI$54,$AD$4:$AD$54,BR7,$K$4:$K$54,1)-SUMIFS($AG$4:$AG$54,$AF$4:$AF$54,BR7,$K$4:$K$54,1),)","v":0},{"$f":"IF(AND(CD7>0,COUNTIF(CJ4:CJ7,CJ7)>1),CJ7+RANK(CK7,CK4:CK7)-1,CJ7)","v":1},{"$f":"IF(AND(CD7>0,COUNTIF(CL4:CL7,CL7)>1),SUMIFS($AG$4:$AG$54,$AD$4:$AD$54,BR7,$K$4:$K$54,1)+SUMIFS($AI$4:$AI$54,$AF$4:$AF$54,BR7,$K$4:$K$54,1),)","v":0},{"$f":"IF(AND(CD7>0,COUNTIF(CL4:CL7,CL7)>1),CL7+RANK(CM7,CM4:CM7)-1,CL7)","v":1},1,{"$f":"IF(OR(CO7=\"\",COUNTIF(CO4:CO7,CO7)=1),\"\",$BX7)","v":0},{"$f":"IF(CO7=\"\",\"\",IF(COUNTIF(CO4:CO7,CO7)=1,CO7,CO7+RANK(CP7,CP4:CP7,0)-1))","v":1},{"$f":"IF(OR(CQ7=\"\",COUNTIF(CQ4:CQ7,CQ7)=1),\"\",$BV7)","v":0},{"$f":"IF(CO7=\"\",\"\",IF(COUNTIF(CQ4:CQ7,CQ7)=1,CQ7,CQ7+RANK(CR7,CR4:CR7,0)-1))","v":1},{"$f":"IF(OR(CS7=\"\",COUNTIF(CS4:CS7,CS7)=1),\"\",$BS7)","v":0},{"$f":"IF(CO7=\"\",\"\",IF(COUNTIF(CS4:CS7,CS7)=1,CS7,CS7+RANK(CT7,CT4:CT7,0)-1))","v":1},{"$f":"IF(CD7>0,BK2+RANK(CU7,CU4:CU7,1),)","v":1},null,{"$f":"IF(CA7=2,BR7,)","v":0},0,0,0,0,"A",{"$f":"IF(CX7>0,RANK(DB7,DB4:DB7)+CE2,)","v":0},{"$f":"IF(AND(CX7>0,COUNTIF(DD4:DD7,DD7)>1),SUMIFS($AG$4:$AG$54,$AD$4:$AD$54,BR7,$K$4:$K$54,2)+SUMIFS($AI$4:$AI$54,$AF$4:$AF$54,BR7,$K$4:$K$54,2)-SUMIFS($AI$4:$AI$54,$AD$4:$AD$54,BR7,$K$4:$K$54,2)-SUMIFS($AG$4:$AG$54,$AF$4:$AF$54,BR7,$K$4:$K$54,2),)","v":0},{"$f":"IF(AND(CX7>0,COUNTIF(DD4:DD7,DD7)>1),DD7+RANK(DE7,DE4:DE7)-1,DD7)","v":0},{"$f":"IF(AND(CX7>0,COUNTIF(DF4:DF7,DF7)>1),SUMIFS($AG$4:$AG$54,$AD$4:$AD$54,BR7,$K$4:$K$54,2)+SUMIFS($AI$4:$AI$54,$AF$4:$AF$54,BR7,$K$4:$K$54,2),)","v":0},{"$f":"IF(AND(CX7>0,COUNTIF(DF4:DF7,DF7)>1),DF7+RANK(DG7,DG4:DG7)-1,DF7)","v":0},"",{"$f":"IF(OR(DI7=\"\",COUNTIF(DI4:DI7,DI7)=1),\"\",$BX7)","v":""},{"$f":"IF(DI7=\"\",\"\",IF(COUNTIF(DI4:DI7,DI7)=1,DI7,DI7+RANK(DJ7,DJ4:DJ7,0)-1))","v":""},{"$f":"IF(OR(DK7=\"\",COUNTIF(DK4:DK7,DK7)=1),\"\",$BV7)","v":""},{"$f":"IF(DI7=\"\",\"\",IF(COUNTIF(DK4:DK7,DK7)=1,DK7,DK7+RANK(DL7,DL4:DL7,0)-1))","v":""},{"$f":"IF(OR(DM7=\"\",COUNTIF(DM4:DM7,DM7)=1),\"\",$BS7)","v":""},{"$f":"IF(DI7=\"\",\"\",IF(COUNTIF(DM4:DM7,DM7)=1,DM7,DM7+RANK(DN7,DN4:DN7,0)-1))","v":""},{"$f":"IF(CX7>0,CE2+RANK(DO7,DO4:DO7,1),)","v":0},null,{"$f":"IF(CA7=3,BR7,)","v":0},{"$f":"(SUMIF(AD$4:AD$54,BR7,BD$4:BD$54)+SUMIF(AF$4:AF$54,BR7,BE$4:BE$54))","v":0},{"$f":"(SUMIF(AD$4:AD$54,BR7,BF$4:BF$54)+SUMIF(AF$4:AF$54,BR7,BG$4:BG$54))","v":0},{"$f":"(SUMIF(AD$4:AD$54,BR7,BH$4:BH$54)+SUMIF(AF$4:AF$54,BR7,BI$4:BI$54))","v":0},0,{"$f":"BZ7","v":"A"},{"$f":"IF(DR7>0,RANK(DV7,DV4:DV7)+CE2+CY2,)","v":0},{"$f":"IF(AND(DR7>0,COUNTIF(DX4:DX7,DX7)>1),SUMIFS($AG$4:$AG$54,$AD$4:$AD$54,BR7,$K$4:$K$54,3)+SUMIFS($AI$4:$AI$54,$AF$4:$AF$54,BR7,$K$4:$K$54,3)-SUMIFS($AI$4:$AI$54,$AD$4:$AD$54,BR7,$K$4:$K$54,3)-SUMIFS($AG$4:$AG$54,$AF$4:$AF$54,BR7,$K$4:$K$54,3),)","v":0},{"$f":"IF(AND(DR7>0,COUNTIF(DX4:DX7,DX7)>1),DX7+RANK(DY7,DY4:DY7)-1,DX7)","v":0},{"$f":"IF(AND(DR7>0,COUNTIF(DZ4:DZ7,DZ7)>1),SUMIFS($AG$4:$AG$54,$AD$4:$AD$54,BR7,$K$4:$K$54,3)+SUMIFS($AI$4:$AI$54,$AF$4:$AF$54,BR7,$K$4:$K$54,3),)","v":0},{"$f":"IF(AND(DR7>0,COUNTIF(DZ4:DZ7,DZ7)>1),DZ7+RANK(EA7,EA4:EA7)-1,DZ7)","v":0},"",{"$f":"IF(OR(EC7=\"\",COUNTIF(EC4:EC7,EC7)=1),\"\",$BX7)","v":""},{"$f":"IF(EC7=\"\",\"\",IF(COUNTIF(EC4:EC7,EC7)=1,EC7,EC7+RANK(ED7,ED4:ED7,0)-1))","v":""},{"$f":"IF(OR(EE7=\"\",COUNTIF(EE4:EE7,EE7)=1),\"\",$BV7)","v":""},{"$f":"IF(EC7=\"\",\"\",IF(COUNTIF(EE4:EE7,EE7)=1,EE7,EE7+RANK(EF7,EF4:EF7,0)-1))","v":""},{"$f":"IF(OR(EG7=\"\",COUNTIF(EG4:EG7,EG7)=1),\"\",$BS7)","v":""},{"$f":"IF(EC7=\"\",\"\",IF(COUNTIF(EG4:EG7,EG7)=1,EG7,EG7+RANK(EH7,EH4:EH7,0)-1))","v":""},{"$f":"IF(DR7>0,CE2+CY2+RANK(EI7,EI4:EI7,1),)","v":0},null,{"$f":"IF(CA7=4,BR7,)","v":0},0,0,0,0,"A",{"$f":"IF(EL7>0,RANK(EP7,EP4:EP7)+CE2+CY2+DS2,)","v":0},{"$f":"IF(AND(EL7>0,COUNTIF(ER4:ER7,ER7)>1),SUMIFS($AG$4:$AG$54,$AD$4:$AD$54,BR7,$K$4:$K$54,4)+SUMIFS($AI$4:$AI$54,$AF$4:$AF$54,BR7,$K$4:$K$54,4)-SUMIFS($AI$4:$AI$54,$AD$4:$AD$54,BR7,$K$4:$K$54,4)-SUMIFS($AG$4:$AG$54,$AF$4:$AF$54,BR7,$K$4:$K$54,4),)","v":0},0,{"$f":"IF(AND(EL7>0,COUNTIF(ET4:ET7,ET7)>1),SUMIFS($AG$4:$AG$54,$AD$4:$AD$54,BR7,$K$4:$K$54,4)+SUMIFS($AI$4:$AI$54,$AF$4:$AF$54,BR7,$K$4:$K$54,4),)","v":0},{"$f":"IF(AND(EL7>0,COUNTIF(ET4:ET7,ET7)>1),ET7+RANK(EU7,EU4:EU7)-1,ET7)","v":0},"",{"$f":"IF(OR(EW7=\"\",COUNTIF(EW4:EW7,EW7)=1),\"\",$BX7)","v":""},{"$f":"IF(EW7=\"\",\"\",IF(COUNTIF(EW4:EW7,EW7)=1,EW7,EW7+RANK(EX7,EX4:EX7,0)-1))","v":""},{"$f":"IF(OR(EY7=\"\",COUNTIF(EY4:EY7,EY7)=1),\"\",$BV7)","v":""},{"$f":"IF(EW7=\"\",\"\",IF(COUNTIF(EY4:EY7,EY7)=1,EY7,EY7+RANK(EZ7,EZ4:EZ7,0)-1))","v":""},{"$f":"IF(OR(FA7=\"\",COUNTIF(FA4:FA7,FA7)=1),\"\",$BS7)","v":""},{"$f":"IF(EW7=\"\",\"\",IF(COUNTIF(FA4:FA7,FA7)=1,FA7,FA7+RANK(FB7,FB4:FB7,0)-1))","v":""},{"$f":"IF(EL7>0,CE2+CY2+DS2+RANK(FC7,FC4:FC7,1),)","v":0},null,{"$f":"IFERROR(VLOOKUP(FH7,CD3:CV7,19,FALSE),IFERROR(VLOOKUP(FH7,CX3:DP7,19,FALSE),IFERROR(VLOOKUP(FH7,DR3:EJ7,19,FALSE),VLOOKUP(FH7,EL3:FD7,19,FALSE))))","v":1},{"$f":"RANK(FF7,FF4:FF7,1)+COUNTIF(FF4:FF7,FF7)-1","v":4},{"$f":"BR7","v":"Schweiz"},null,"D",{"$f":"M33","v":"Polen"},{"$f":"RANK($FM7,$FM$4:$FM$9,1)+COUNTIF($FM$4:$FM7,$FM7)-1","v":4},1,0,0,1,{"$f":"T33","v":0},{"$f":"S33","v":0},{"$f":"Q33","v":0},"D","D",null,6,"ABDF","A","B","D","F",{"$f":"VLOOKUP(\"D\",$FJ$3:$FK$9,2,FALSE)","v":"Polen"},{"$f":"VLOOKUP(\"F\",$FJ$3:$FK$9,2,FALSE)","v":"Georgien"},{"$f":"VLOOKUP(\"A\",$FJ$3:$FK$9,2,FALSE)","v":"Ungern"},{"$f":"VLOOKUP(\"B\",$FJ$3:$FK$9,2,FALSE)","v":"Italien"},"",4]
[null,null,"2024-06-23","Schweiz","-","Tyskland",null,"-",null,"",{"$f":"IF(VLOOKUP(D8,BR3:CA7,10,FALSE)=VLOOKUP(F8,BR3:CA7,10,FALSE),VLOOKUP(D8,BR3:CA7,10,FALSE),\"-\")","v":1},null,{"$f":"IF(COUNTBLANK(G4:G9)+COUNTBLANK(I4:I9)=0,\"Resultat OK\",\"Fyll i resultat\")","v":"Fyll i resultat"},null,null,null,null,null,null,null,null,"Egen bonusfråga 1",null,null,null,null,null,null,"2024-06-23","Schweiz","-","Tyskland","","-","","",null,0,0,0,0,0,0,0,0,0,0,0,0,0,0,0,0,0,0,0,0,0,0,0,0,0,0,0,0,0,0,null,null,null,null,null,null,null,null,null,null,null,null,null,null,null,null,null,null,null,null,null,null,null,null,null,null,null,null,null,null,null,null,null,null,null,null,null,null,null,null,null,null,null,null,null,null,null,null,null,null,null,null,null,null,null,null,null,null,null,null,null,null,null,null,null,null,null,null,null,null,null,null,null,null,null,null,null,null,null,null,null,null,null,null,null,null,null,null,null,null,null,null,null,null,null,null,null,null,"E",{"$f":"M42","v":"Belgien"},{"$f":"RANK($FM8,$FM$4:$FM$9,1)+COUNTIF($FM$4:$FM8,$FM8)-1","v":5},1,0,0,1,{"$f":"T42","v":0},{"$f":"S42","v":0},{"$f":"Q42","v":0},"E",0,null,7,"ABEF","A","B","E","F",{"$f":"VLOOKUP(\"E\",$FJ$3:$FK$9,2,FALSE)","v":"Belgien"},{"$f":"VLOOKUP(\"F\",$FJ$3:$FK$9,2,FALSE)","v":"Georgien"},{"$f":"VLOOKUP(\"B\",$FJ$3:$FK$9,2,FALSE)","v":"Italien"},{"$f":"VLOOKUP(\"A\",$FJ$3:$FK$9,2,FALSE)","v":"Ungern"},"",5]
[null,null,"2024-06-23","Skottland","-","Ungern",null,"-",null,"",{"$f":"IF(VLOOKUP(D9,BR3:CA7,10,FALSE)=VLOOKUP(F9,BR3:CA7,10,FALSE),VLOOKUP(D9,BR3:CA7,10,FALSE),\"-\")","v":1},null,null,null,null,null,null,null,null,null,null,"Egen bonusfråga 2",null,null,null,null,null,null,"2024-06-23","Skottland","-","Ungern","","-","","",null,0,0,0,0,0,0,0,0,0,0,0,0,0,0,0,0,0,0,0,0,0,0,0,0,0,0,0,0,0,0,null,null,null,null,null,null,null,null,null,null,null,null,null,null,null,null,null,null,null,null,null,null,null,null,null,null,null,null,null,null,null,null,null,null,null,null,null,null,null,null,null,null,null,null,null,null,null,null,null,null,null,null,null,null,null,null,null,null,null,null,null,null,null,null,null,null,null,null,null,null,null,null,null,null,null,null,null,null,null,null,null,null,null,null,null,null,null,null,null,null,null,null,null,null,null,null,null,null,"F",{"$f":"M51","v":"Georgien"},{"$f":"RANK($FM9,$FM$4:$FM$9,1)+COUNTIF($FM$4:$FM9,$FM9)-1","v":6},1,0,0,1,{"$f":"T51","v":0},{"$f":"S51","v":0},{"$f":"Q51","v":0},"F",0,null,8,"ACDE","A","C","D","E",{"$f":"VLOOKUP(\"E\",$FJ$3:$FK$9,2,FALSE)","v":"Belgien"},{"$f":"VLOOKUP(\"D\",$FJ$3:$FK$9,2,FALSE)","v":"Polen"},{"$f":"VLOOKUP(\"C\",$FJ$3:$FK$9,2,FALSE)","v":"Serbien"},{"$f":"VLOOKUP(\"A\",$FJ$3:$FK$9,2,FALSE)","v":"Ungern"},"",6]
[null,null,null,null,null,null,null,null,null,"",null,null,null,null,null,null,null,null,null,null,null,null,null,null,null,null,null,null,null,null,null,null,"",null,null,"",null,null,null,null,null,null,null,null,null,null,null,null,null,null,null,null,null,null,null,null,null,null,null,null,null,null,null,null,null,null,null,null,null,null,null,null,null,null,null,null,null,null,null,null,null,null,null,null,null,null,null,null,null,null,null,null,null,null,null,null,null,null,null,null,null,null,null,null,null,null,null,null,null,null,null,null,null,null,null,null,null,null,null,null,null,null,null,null,null,null,null,null,null,null,null,null,null,null,null,null,null,null,null,null,null,null,null,null,null,null,null,null,null,null,null,null,null,null,null,null,null,null,null,null,null,null,null,null,null,null,null,null,null,null,null,null,null,null,null,null,null,null,9,"ACDF","A","C","D","F",{"$f":"VLOOKUP(\"F\",$FJ$3:$FK$9,2,FALSE)","v":"Georgien"},{"$f":"VLOOKUP(\"D\",$FJ$3:$FK$9,2,FALSE)","v":"Polen"},{"$f":"VLOOKUP(\"C\",$FJ$3:$FK$9,2,FALSE)","v":"Serbien"},{"$f":"VLOOKUP(\"A\",$FJ$3:$FK$9,2,FALSE)","v":"Ungern"},"",7]
[null,null,"Grupp B",null,null,null,null,null,null,null,null,null,null,null,null,null,null,null,null,null,null,null,null,null,null,null,null,null,"Grupp B",null,null,null,null,null,null,null,null,null,null,null,null,null,null,null,null,null,null,null,null,null,null,null,null,null,null,null,null,null,null,null,null,null,null,null,null,null,null,null,null,"Rank 0",null,null,null,null,null,null,null,null,null,null,null,"Rank 1",{"$f":"COUNTIF(CA13:CA16,1)","v":4},null,null,null,null,null,null,null,null,null,null,null,null,null,null,null,null,null,null,"Rank 2",{"$f":"COUNTIF(CA13:CA16,2)","v":0},null,null,null,null,null,null,null,null,null,null,null,null,null,null,null,null,null,null,"Rank 3",{"$f":"COUNTIF(CA13:CA16,3)","v":0},null,null,null,null,null,null,null,null,null,null,null,null,null,null,null,null,null,null,"Rank 4",{"$f":"COUNTIF(CA13:CA16,4)","v":0},null,null,null,null,null,null,null,null,null,null,null,null,null,null,null,null,null,null,null,null,null,null,null,null,null,null,null,null,null,null,null,null,null,null,null,10,"ACEF","A","C","E","F",{"$f":"VLOOKUP(\"E\",$FJ$3:$FK$9,2,FALSE)","v":"Belgien"},{"$f":"VLOOKUP(\"F\",$FJ$3:$FK$9,2,FALSE)","v":"Georgien"},{"$f":"VLOOKUP(\"C\",$FJ$3:$FK$9,2,FALSE)","v":"Serbien"},{"$f":"VLOOKUP(\"A\",$FJ$3:$FK$9,2,FALSE)","v":"Ungern"},"",8]
[null,null,"Datum","Match",null,null,"Resultat",null,null,"Tecken",null,null,"Lag","V","O","F","GM","IM","+/-","P",null,null,null,null,null,null,null,null,"Datum","Match",null,null,"Resultat",null,null,"Tecken","Poäng","V1","V2","O1","O2","F1","F2","V1","V2","O1","O2","F1","F2","V1","V2","O1","O2","F1","F2","V1","V2","O1","O2","F1","F2","V1","V2","O1","O2","F1","F2",null,null,"Lag","V","O","F","GM","IM","+/-","P","Grupp","Rank P","Rank +/-",null,"Lag","V","O","F","P","Grupp","Rank P","+/-","+/- rank","GM","GM rank","Rank internal","+/- all","+/- rank all","GM all","GM rank all","V all","V rank all","Rank all",null,"Lag","V","O","F","P","Grupp","Rank P","+/-","+/- rank","GM","GM rank","Rank internal","+/- all","+/- rank all","GM all","GM rank all","V all","V rank all","Rank all",null,"Lag","V","O","F","P","Grupp","Rank P","+/-","+/- rank","GM","GM rank","Rank internal","+/- all","+/- rank all","GM all","GM rank all","V all","V rank all","Rank all",null,"Lag","V","O","F","P","Grupp","Rank P","+/-","+/- rank","GM","GM rank","Rank internal","+/- all","+/- rank all","GM all","GM rank all","V all","V rank all","Rank all",null,"Rank","Rank Ties",null,null,null,{"$f":"IF(COUNTBLANK(G4:G9)+COUNTBLANK(I4:I9)+COUNTBLANK(G22:G27)+COUNTBLANK(I22:I27)+COUNTBLANK(G31:G36)+COUNTBLANK(I31:I36)+COUNTBLANK(G40:G45)+COUNTBLANK(I40:I45)+COUNTBLANK(G49:G54)+COUNTBLANK(I49:I54)++COUNTBLANK(G13:G18)+COUNTBLANK(I13:I18)=0,\"Resultat OK\",\"Fyll i resultat\")","v":"Fyll i resultat"},null,null,null,null,null,null,null,null,null,null,null,11,"ADEF","A","D","E","F",{"$f":"VLOOKUP(\"E\",$FJ$3:$FK$9,2,FALSE)","v":"Belgien"},{"$f":"VLOOKUP(\"F\",$FJ$3:$FK$9,2,FALSE)","v":"Georgien"},{"$f":"VLOOKUP(\"D\",$FJ$3:$FK$9,2,FALSE)","v":"Polen"},{"$f":"VLOOKUP(\"A\",$FJ$3:$FK$9,2,FALSE)","v":"Ungern"},"",9]
[null,null,"2024-06-15","Spanien","-","Kroatien",null,"-",null,{"$f":"IF(OR(ISBLANK(G13),ISBLANK(I13)),\"\",IF(G13>I13,1,IF(G13<I13,2,\"X\")))","v":""},{"$f":"IF(VLOOKUP(D13,BR12:CA16,10,FALSE)=VLOOKUP(F13,BR12:CA16,10,FALSE),VLOOKUP(D13,BR12:CA16,10,FALSE),\"-\")","v":1},1,{"$f":"VLOOKUP(L13,FG13:FH16,2,FALSE)","v":"Spanien"},{"$f":"VLOOKUP($M13,$BR$13:$BY$16,2,FALSE)","v":0},{"$f":"VLOOKUP($M13,$BR$13:$BY$16,3,FALSE)","v":0},{"$f":"VLOOKUP($M13,$BR$13:$BY$16,4,FALSE)","v":0},{"$f":"VLOOKUP($M13,$BR$13:$BY$16,5,FALSE)","v":0},{"$f":"VLOOKUP($M13,$BR$13:$BY$16,6,FALSE)","v":0},{"$f":"VLOOKUP($M13,$BR$13:$BY$16,7,FALSE)","v":0},{"$f":"VLOOKUP($M13,$BR$13:$BY$16,8,FALSE)","v":0},null,null,null,null,null,null,null,null,{"$f":"C13","v":"2024-06-15"},"Spanien","-","Kroatien",{"$f":"IF(G13=\"\",\"\",G13)","v":""},"-",{"$f":"IF(I13=\"\",\"\",I13)","v":""},{"$f":"J13","v":""},null,{"$f":"IF(AG13>AI13,1,0)","v":0},{"$f":"IF(AI13>AG13,1,0)","v":0},{"$f":"IF(AND(AG13=AI13,AG13<>\"\"),1,0)","v":0},{"$f":"IF(AND(AG13=AI13,AG13<>\"\"),1,0)","v":0},{"$f":"IF(AG13<AI13,1,0)","v":0},{"$f":"IF(AI13<AG13,1,)","v":0},{"$f":"IF(ISERROR(VLOOKUP(AD13,CD:CD,1,FALSE)),0,1)*IF(ISERROR(VLOOKUP(AF13,CD:CD,1,FALSE)),0,1)*AL13","v":0},{"$f":"IF(ISERROR(VLOOKUP(AD13,CD:CD,1,FALSE)),0,1)*IF(ISERROR(VLOOKUP(AF13,CD:CD,1,FALSE)),0,1)*AM13","v":0},{"$f":"IF(ISERROR(VLOOKUP(AD13,CD:CD,1,FALSE)),0,1)*IF(ISERROR(VLOOKUP(AF13,CD:CD,1,FALSE)),0,1)*AN13","v":0},{"$f":"IF(ISERROR(VLOOKUP(AD13,CD:CD,1,FALSE)),0,1)*IF(ISERROR(VLOOKUP(AF13,CD:CD,1,FALSE)),0,1)*AO13","v":0},{"$f":"IF(ISERROR(VLOOKUP(AD13,CD:CD,1,FALSE)),0,1)*IF(ISERROR(VLOOKUP(AF13,CD:CD,1,FALSE)),0,1)*AP13","v":0},{"$f":"IF(ISERROR(VLOOKUP(AD13,CD:CD,1,FALSE)),0,1)*IF(ISERROR(VLOOKUP(AF13,CD:CD,1,FALSE)),0,1)*AQ13","v":0},{"$f":"IF(ISERROR(VLOOKUP(AD13,CX:CX,1,FALSE)),0,1)*IF(ISERROR(VLOOKUP(AF13,CX:CX,1,FALSE)),0,1)*AL13","v":0},{"$f":"IF(ISERROR(VLOOKUP(AD13,CX:CX,1,FALSE)),0,1)*IF(ISERROR(VLOOKUP(AF13,CX:CX,1,FALSE)),0,1)*AM13","v":0},{"$f":"IF(ISERROR(VLOOKUP(AD13,CX:CX,1,FALSE)),0,1)*IF(ISERROR(VLOOKUP(AF13,CX:CX,1,FALSE)),0,1)*AN13","v":0},{"$f":"IF(ISERROR(VLOOKUP(AD13,CX:CX,1,FALSE)),0,1)*IF(ISERROR(VLOOKUP(AF13,CX:CX,1,FALSE)),0,1)*AO13","v":0},{"$f":"IF(ISERROR(VLOOKUP(AD13,CX:CX,1,FALSE)),0,1)*IF(ISERROR(VLOOKUP(AF13,CX:CX,1,FALSE)),0,1)*AP13","v":0},{"$f":"IF(ISERROR(VLOOKUP(AD13,CX:CX,1,FALSE)),0,1)*IF(ISERROR(VLOOKUP(AF13,CX:CX,1,FALSE)),0,1)*AQ13","v":0},{"$f":"IF(ISERROR(VLOOKUP(AD13,DR:DR,1,FALSE)),0,1)*IF(ISERROR(VLOOKUP(AF13,DR:DR,1,FALSE)),0,1)*AL13","v":0},{"$f":"IF(ISERROR(VLOOKUP(AD13,DR:DR,1,FALSE)),0,1)*IF(ISERROR(VLOOKUP(AF13,DR:DR,1,FALSE)),0,1)*AM13","v":0},{"$f":"IF(ISERROR(VLOOKUP(AD13,DR:DR,1,FALSE)),0,1)*IF(ISERROR(VLOOKUP(AF13,DR:DR,1,FALSE)),0,1)*AN13","v":0},{"$f":"IF(ISERROR(VLOOKUP(AD13,DR:DR,1,FALSE)),0,1)*IF(ISERROR(VLOOKUP(AF13,DR:DR,1,FALSE)),0,1)*AO13","v":0},{"$f":"IF(ISERROR(VLOOKUP(AD13,DR:DR,1,FALSE)),0,1)*IF(ISERROR(VLOOKUP(AF13,DR:DR,1,FALSE)),0,1)*AP13","v":0},{"$f":"IF(ISERROR(VLOOKUP(AD13,DR:DR,1,FALSE)),0,1)*IF(ISERROR(VLOOKUP(AF13,DR:DR,1,FALSE)),0,1)*AQ13","v":0},{"$f":"IF(ISERROR(VLOOKUP(AD13,EL:EL,1,FALSE)),0,1)*IF(ISERROR(VLOOKUP(AF13,EL:EL,1,FALSE)),0,1)*AL13","v":0},{"$f":"IF(ISERROR(VLOOKUP(AD13,EL:EL,1,FALSE)),0,1)*IF(ISERROR(VLOOKUP(AF13,EL:EL,1,FALSE)),0,1)*AM13","v":0},{"$f":"IF(ISERROR(VLOOKUP(AD13,EL:EL,1,FALSE)),0,1)*IF(ISERROR(VLOOKUP(AF13,EL:EL,1,FALSE)),0,1)*AN13","v":0},{"$f":"IF(ISERROR(VLOOKUP(AD13,EL:EL,1,FALSE)),0,1)*IF(ISERROR(VLOOKUP(AF13,EL:EL,1,FALSE)),0,1)*AO13","v":0},{"$f":"IF(ISERROR(VLOOKUP(AD13,EL:EL,1,FALSE)),0,1)*IF(ISERROR(VLOOKUP(AF13,EL:EL,1,FALSE)),0,1)*AP13","v":0},{"$f":"IF(ISERROR(VLOOKUP(AD13,EL:EL,1,FALSE)),0,1)*IF(ISERROR(VLOOKUP(AF13,EL:EL,1,FALSE)),0,1)*AQ13","v":0},null,null,"Spanien",{"$f":"(SUMIF(AD$4:AD$54,BR13,AL$4:AL$54)+SUMIF(AF$4:AF$54,BR13,AM$4:AM$54))","v":0},{"$f":"(SUMIF(AD$4:AD$54,BR13,AN$4:AN$54)+SUMIF(AF$4:AF$54,BR13,AO$4:AO$54))","v":0},{"$f":"(SUMIF(AD$4:AD$54,BR13,AP$4:AP$54)+SUMIF(AF$4:AF$54,BR13,AQ$4:AQ$54))","v":0},{"$f":"SUMIF($AD$4:$AD$54,BR13,$AG$4:$AG$54)+SUMIF($AF$4:$AF$54,BR13,$AI$4:$AI$54)","v":0},{"$f":"SUMIF($AD$4:$AD$54,BR13,$AI$4:$AI$54)+SUMIF($AF$4:$AF$54,BR13,$AG$4:$AG$54)","v":0},{"$f":"BV13-BW13","v":0},{"$f":"IFERROR(BS13*3+BT13*1,0)","v":0},"B",{"$f":"RANK(BY13,BY13:BY16)","v":1},{"$f":"SUMPRODUCT((BY13:BY16=BY13)*(BX13:BX16>BX13))","v":0},null,{"$f":"IF(CA13=1,BR13,)","v":"Spanien"},{"$f":"(SUMIF($AD$4:$AD$54,$BR13,$AR$4:$AR$54)+SUMIF($AF$4:$AF$54,$BR13,$AS$4:$AS$54))","v":0},{"$f":"(SUMIF($AD$4:$AD$54,$BR13,$AT$4:$AT$54)+SUMIF($AF$4:$AF$54,$BR13,$AU$4:$AU$54))","v":0},{"$f":"(SUMIF($AD$4:$AD$54,$BR13,$AV$4:$AV$54)+SUMIF($AF$4:$AF$54,$BR13,$AW$4:$AW$54))","v":0},{"$f":"IFERROR(CE13*3+CF13*1,0)","v":0},{"$f":"BZ13","v":"B"},{"$f":"IF(CD13>0,RANK(CH13,CH13:CH16),)","v":1},{"$f":"IF(AND(CD13>0,COUNTIF(CJ13:CJ16,CJ13)>1),SUMIFS($AG$4:$AG$54,$AD$4:$AD$54,$BR13,$K$4:$K$54,1)+SUMIFS($AI$4:$AI$54,$AF$4:$AF$54,$BR13,$K$4:$K$54,1)-SUMIFS($AI$4:$AI$54,$AD$4:$AD$54,$BR13,$K$4:$K$54,1)-SUMIFS($AG$4:$AG$54,$AF$4:$AF$54,$BR13,$K$4:$K$54,1),)","v":0},{"$f":"IF(AND(CD13>0,COUNTIF(CJ13:CJ16,CJ13)>1),CJ13+RANK(CK13,CK13:CK16)-1,CJ13)","v":1},{"$f":"IF(AND(CD13>0,COUNTIF(CL13:CL16,CL13)>1),SUMIFS($AG$4:$AG$54,$AD$4:$AD$54,$BR13,$K$4:$K$54,1)+SUMIFS($AI$4:$AI$54,$AF$4:$AF$54,$BR13,$K$4:$K$54,1),)","v":0},{"$f":"IF(AND(CD13>0,COUNTIF(CL13:CL16,CL13)>1),CL13+RANK(CM13,CM13:CM16)-1,CL13)","v":1},{"$f":"IF(CN13=0,\"\",CN13)","v":1},{"$f":"IF(OR(CO13=\"\",COUNTIF(CO13:CO16,CO13)=1),\"\",$BX13)","v":0},{"$f":"IF(CO13=\"\",\"\",IF(COUNTIF(CO13:CO16,CO13)=1,CO13,CO13+RANK(CP13,CP13:CP16,0)-1))","v":1},{"$f":"IF(OR(CQ13=\"\",COUNTIF(CQ13:CQ16,CQ13)=1),\"\",$BV13)","v":0},{"$f":"IF(CO13=\"\",\"\",IF(COUNTIF(CQ13:CQ16,CQ13)=1,CQ13,CQ13+RANK(CR13,CR13:CR16,0)-1))","v":1},{"$f":"IF(OR(CS13=\"\",COUNTIF(CS13:CS16,CS13)=1),\"\",$BS13)","v":0},{"$f":"IF(CO13=\"\",\"\",IF(COUNTIF(CS13:CS16,CS13)=1,CS13,CS13+RANK(CT13,CT13:CT16,0)-1))","v":1},{"$f":"IF(CD13>0,BK11+RANK(CU13,CU13:CU16,1),)","v":1},null,{"$f":"IF(CA13=2,BR13,)","v":0},{"$f":"(SUMIF($AD$4:$AD$54,$BR13,$AX$4:$AX$54)+SUMIF($AF$4:$AF$54,$BR13,$AY$4:$AY$54))","v":0},{"$f":"(SUMIF($AD$4:$AD$54,$BR13,$AZ$4:$AZ$54)+SUMIF($AF$4:$AF$54,$BR13,$BA$4:$BA$54))","v":0},{"$f":"(SUMIF($AD$4:$AD$54,$BR13,$BB$4:$BB$54)+SUMIF($AF$4:$AF$54,$BR13,$BC$4:$BC$54))","v":0},{"$f":"IFERROR(CY13*3+CZ13*1,0)","v":0},{"$f":"$BZ13","v":"B"},{"$f":"IF(CX13>0,RANK(DB13,DB13:DB16)+CE11,)","v":0},{"$f":"IF(AND(CX13>0,COUNTIF(DD13:DD16,DD13)>1),SUMIFS($AG$4:$AG$54,$AD$4:$AD$54,$BR13,$K$4:$K$54,2)+SUMIFS($AI$4:$AI$54,$AF$4:$AF$54,$BR13,$K$4:$K$54,2)-SUMIFS($AI$4:$AI$54,$AD$4:$AD$54,$BR13,$K$4:$K$54,2)-SUMIFS($AG$4:$AG$54,$AF$4:$AF$54,$BR13,$K$4:$K$54,2),)","v":0},{"$f":"IF(AND(CX13>0,COUNTIF(DD13:DD16,DD13)>1),DD13+RANK(DE13,DE13:DE16)-1,DD13)","v":0},{"$f":"IF(AND(CX13>0,COUNTIF(DF13:DF16,DF13)>1),SUMIFS($AG$4:$AG$54,$AD$4:$AD$54,$BR13,$K$4:$K$54,2)+SUMIFS($AI$4:$AI$54,$AF$4:$AF$54,$BR13,$K$4:$K$54,2),)","v":0},{"$f":"IF(AND(CX13>0,COUNTIF(DF13:DF16,DF13)>1),DF13+RANK(DG13,DG13:DG16)-1,DF13)","v":0},{"$f":"IF(DH13=0,\"\",DH13)","v":""},{"$f":"IF(OR(DI13=\"\",COUNTIF(DI13:DI16,DI13)=1),\"\",$BX13)","v":""},{"$f":"IF(DI13=\"\",\"\",IF(COUNTIF(DI13:DI16,DI13)=1,DI13,DI13+RANK(DJ13,DJ13:DJ16,0)-1))","v":""},{"$f":"IF(OR(DK13=\"\",COUNTIF(DK13:DK16,DK13)=1),\"\",$BV13)","v":""},{"$f":"IF(DI13=\"\",\"\",IF(COUNTIF(DK13:DK16,DK13)=1,DK13,DK13+RANK(DL13,DL13:DL16,0)-1))","v":""},{"$f":"IF(OR(DM13=\"\",COUNTIF(DM13:DM16,DM13)=1),\"\",$BS13)","v":""},{"$f":"IF(DI13=\"\",\"\",IF(COUNTIF(DM13:DM16,DM13)=1,DM13,DM13+RANK(DN13,DN13:DN16,0)-1))","v":""},{"$f":"IF(CX13>0,CE11+RANK(DO13,DO13:DO16,1),)","v":0},null,{"$f":"IF(CA13=3,BR13,)","v":0},{"$f":"(SUMIF($AD$4:$AD$54,BR13,$BD$4:$BD$54)+SUMIF($AF$4:$AF$54,BR13,$BE$4:$BE$54))","v":0},{"$f":"(SUMIF($AD$4:$AD$54,BR13,$BF$4:$BF$54)+SUMIF($AF$4:$AF$54,BR13,$BG$4:$BG$54))","v":0},{"$f":"(SUMIF($AD$4:$AD$54,BR13,$BH$4:$BH$54)+SUMIF($AF$4:$AF$54,BR13,$BI$4:$BI$54))","v":0},{"$f":"IFERROR(DS13*3+DT13*1,0)","v":0},{"$f":"BZ13","v":"B"},{"$f":"IF(DR13>0,RANK(DV13,DV13:DV16)+CE11+CY11,)","v":0},{"$f":"IF(AND(DR13>0,COUNTIF(DX13:DX16,DX13)>1),SUMIFS($AG$4:$AG$54,$AD$4:$AD$54,$BR13,$K$4:$K$54,3)+SUMIFS($AI$4:$AI$54,$AF$4:$AF$54,$BR13,$K$4:$K$54,3)-SUMIFS($AI$4:$AI$54,$AD$4:$AD$54,$BR13,$K$4:$K$54,3)-SUMIFS($AG$4:$AG$54,$AF$4:$AF$54,$BR13,$K$4:$K$54,3),)","v":0},{"$f":"IF(AND(DR13>0,COUNTIF(DX13:DX16,DX13)>1),DX13+RANK(DY13,DY13:DY16)-1,DX13)","v":0},{"$f":"IF(AND(DR13>0,COUNTIF(DZ13:DZ16,DZ13)>1),SUMIFS($AG$4:$AG$54,$AD$4:$AD$54,$BR13,$K$4:$K$54,3)+SUMIFS($AI$4:$AI$54,$AF$4:$AF$54,$BR13,$K$4:$K$54,3),)","v":0},{"$f":"IF(AND(DR13>0,COUNTIF(DZ13:DZ16,DZ13)>1),DZ13+RANK(EA13,EA13:EA16)-1,DZ13)","v":0},{"$f":"IF(EB13=0,\"\",EB13)","v":""},{"$f":"IF(OR(EC13=\"\",COUNTIF(EC13:EC16,EC13)=1),\"\",$BX13)","v":""},{"$f":"IF(EC13=\"\",\"\",IF(COUNTIF(EC13:EC16,EC13)=1,EC13,EC13+RANK(ED13,ED13:ED16,0)-1))","v":""},{"$f":"IF(OR(EE13=\"\",COUNTIF(EE13:EE16,EE13)=1),\"\",$BV13)","v":""},{"$f":"IF(EC13=\"\",\"\",IF(COUNTIF(EE13:EE16,EE13)=1,EE13,EE13+RANK(EF13,EF13:EF16,0)-1))","v":""},{"$f":"IF(OR(EG13=\"\",COUNTIF(EG13:EG16,EG13)=1),\"\",$BS13)","v":""},{"$f":"IF(EC13=\"\",\"\",IF(COUNTIF(EG13:EG16,EG13)=1,EG13,EG13+RANK(EH13,EH13:EH16,0)-1))","v":""},{"$f":"IF(DR13>0,CE11+CY11+RANK(EI13,EI13:EI16,1),)","v":0},null,{"$f":"IF(CA13=4,BR13,)","v":0},{"$f":"(SUMIF($AD$4:$AD$54,$BR13,$BJ$4:$BJ$54)+SUMIF($AF$4:$AF$54,$BR13,$BK$4:$BK$54))","v":0},{"$f":"(SUMIF($AD$4:$AD$54,$BR13,$BL$4:$BL$54)+SUMIF($AF$4:$AF$54,$BR13,$BM$4:$BM$54))","v":0},{"$f":"(SUMIF($AD$4:$AD$54,$BR13,$BN$4:$BN$54)+SUMIF($AF$4:$AF$54,$BR13,$BO$4:$BO$54))","v":0},{"$f":"IFERROR(EM13*3+EN13*1,0)","v":0},{"$f":"$BZ13","v":"B"},{"$f":"IF(EL13>0,RANK(EP13,EP13:EP16)+CE11+CY11+DS11,)","v":0},{"$f":"IF(AND(EL13>0,COUNTIF(ER13:ER16,ER13)>1),SUMIFS($AG$4:$AG$54,$AD$4:$AD$54,$BR13,$K$4:$K$54,4)+SUMIFS($AI$4:$AI$54,$AF$4:$AF$54,$BR13,$K$4:$K$54,4)-SUMIFS($AI$4:$AI$54,$AD$4:$AD$54,$BR13,$K$4:$K$54,4)-SUMIFS($AG$4:$AG$54,$AF$4:$AF$54,$BR13,$K$4:$K$54,4),)","v":0},{"$f":"IF(AND(EL13>0,COUNTIF($ER$4:$ER$7,ER13)>1),ER13+RANK(ES13,$ES$4:$ES$7)-1,ER13)","v":0},{"$f":"IF(AND(EL13>0,COUNTIF(ET13:ET16,ET13)>1),SUMIFS($AG$4:$AG$54,$AD$4:$AD$54,$BR13,$K$4:$K$54,4)+SUMIFS($AI$4:$AI$54,$AF$4:$AF$54,$BR13,$K$4:$K$54,4),)","v":0},{"$f":"IF(AND(EL13>0,COUNTIF(ET13:ET16,ET13)>1),ET13+RANK(EU13,EU13:EU16)-1,ET13)","v":0},{"$f":"IF(EV13=0,\"\",EV13)","v":""},{"$f":"IF(OR(EW13=\"\",COUNTIF(EW13:EW16,EW13)=1),\"\",$BX13)","v":""},{"$f":"IF(EW13=\"\",\"\",IF(COUNTIF(EW13:EW16,EW13)=1,EW13,EW13+RANK(EX13,EX13:EX16,0)-1))","v":""},{"$f":"IF(OR(EY13=\"\",COUNTIF(EY13:EY16,EY13)=1),\"\",$BV13)","v":""},{"$f":"IF(EW13=\"\",\"\",IF(COUNTIF(EY13:EY16,EY13)=1,EY13,EY13+RANK(EZ13,EZ13:EZ16,0)-1))","v":""},{"$f":"IF(OR(FA13=\"\",COUNTIF(FA13:FA16,FA13)=1),\"\",$BS13)","v":""},{"$f":"IF(EW13=\"\",\"\",IF(COUNTIF(FA13:FA16,FA13)=1,FA13,FA13+RANK(FB13,FB13:FB16,0)-1))","v":""},{"$f":"IF(EL13>0,CE11+CY11+DS11+RANK(FC13,FC13:FC16,1),)","v":0},null,{"$f":"IFERROR(VLOOKUP(FH13,CD12:CV16,19,FALSE),IFERROR(VLOOKUP(FH13,CX12:DP16,19,FALSE),IFERROR(VLOOKUP(FH13,DR12:EJ16,19,FALSE),VLOOKUP(FH13,EL12:FD16,19,FALSE))))","v":1},{"$f":"RANK(FF13,FF13:FF16,1)+COUNTIF(FF13:FF13,FF13)-1","v":1},{"$f":"BR13","v":"Spanien"},null,null,null,null,null,null,null,null,null,null,null,null,null,null,12,"BCDE","B","C","D","E",{"$f":"VLOOKUP(\"E\",$FJ$3:$FK$9,2,FALSE)","v":"Belgien"},{"$f":"VLOOKUP(\"D\",$FJ$3:$FK$9,2,FALSE)","v":"Polen"},{"$f":"VLOOKUP(\"B\",$FJ$3:$FK$9,2,FALSE)","v":"Italien"},{"$f":"VLOOKUP(\"C\",$FJ$3:$FK$9,2,FALSE)","v":"Serbien"},"",10]
[null,null,"2024-06-15","Italien","-","Albanien",null,"-",null,{"$f":"IF(OR(ISBLANK(G14),ISBLANK(I14)),\"\",IF(G14>I14,1,IF(G14<I14,2,\"X\")))","v":""},{"$f":"IF(VLOOKUP(D14,BR12:CA16,10,FALSE)=VLOOKUP(F14,BR12:CA16,10,FALSE),VLOOKUP(D14,BR12:CA16,10,FALSE),\"-\")","v":1},2,{"$f":"VLOOKUP(L14,FG13:FH16,2,FALSE)","v":"Kroatien"},{"$f":"VLOOKUP($M14,$BR$13:$BY$16,2,FALSE)","v":0},{"$f":"VLOOKUP($M14,$BR$13:$BY$16,3,FALSE)","v":0},{"$f":"VLOOKUP($M14,$BR$13:$BY$16,4,FALSE)","v":0},{"$f":"VLOOKUP($M14,$BR$13:$BY$16,5,FALSE)","v":0},{"$f":"VLOOKUP($M14,$BR$13:$BY$16,6,FALSE)","v":0},{"$f":"VLOOKUP($M14,$BR$13:$BY$16,7,FALSE)","v":0},{"$f":"VLOOKUP($M14,$BR$13:$BY$16,8,FALSE)","v":0},null,null,null,null,null,null,null,null,"2024-06-15","Italien","-","Albanien","","-","","",null,0,0,0,0,0,0,0,0,0,0,0,0,0,0,0,0,0,0,0,0,0,0,0,0,0,0,0,0,0,0,null,null,"Kroatien",{"$f":"(SUMIF(AD$4:AD$54,BR14,AL$4:AL$54)+SUMIF(AF$4:AF$54,BR14,AM$4:AM$54))","v":0},{"$f":"(SUMIF(AD$4:AD$54,BR14,AN$4:AN$54)+SUMIF(AF$4:AF$54,BR14,AO$4:AO$54))","v":0},{"$f":"(SUMIF(AD$4:AD$54,BR14,AP$4:AP$54)+SUMIF(AF$4:AF$54,BR14,AQ$4:AQ$54))","v":0},{"$f":"SUMIF($AD$4:$AD$54,BR14,$AG$4:$AG$54)+SUMIF($AF$4:$AF$54,BR14,$AI$4:$AI$54)","v":0},{"$f":"SUMIF($AD$4:$AD$54,BR14,$AI$4:$AI$54)+SUMIF($AF$4:$AF$54,BR14,$AG$4:$AG$54)","v":0},{"$f":"BV14-BW14","v":0},{"$f":"IFERROR(BS14*3+BT14*1,0)","v":0},"B",{"$f":"RANK(BY14,BY13:BY16)","v":1},{"$f":"SUMPRODUCT((BY13:BY16=BY14)*(BX13:BX16>BX14))","v":0},null,{"$f":"IF(CA14=1,BR14,)","v":"Kroatien"},{"$f":"(SUMIF($AD$4:$AD$54,$BR14,$AR$4:$AR$54)+SUMIF($AF$4:$AF$54,$BR14,$AS$4:$AS$54))","v":0},{"$f":"(SUMIF($AD$4:$AD$54,$BR14,$AT$4:$AT$54)+SUMIF($AF$4:$AF$54,$BR14,$AU$4:$AU$54))","v":0},{"$f":"(SUMIF($AD$4:$AD$54,$BR14,$AV$4:$AV$54)+SUMIF($AF$4:$AF$54,$BR14,$AW$4:$AW$54))","v":0},{"$f":"IFERROR(CE14*3+CF14*1,0)","v":0},{"$f":"BZ14","v":"B"},{"$f":"IF(CD14>0,RANK(CH14,CH13:CH16),)","v":1},{"$f":"IF(AND(CD14>0,COUNTIF(CJ13:CJ16,CJ14)>1),SUMIFS($AG$4:$AG$54,$AD$4:$AD$54,BR14,$K$4:$K$54,1)+SUMIFS($AI$4:$AI$54,$AF$4:$AF$54,BR14,$K$4:$K$54,1)-SUMIFS($AI$4:$AI$54,$AD$4:$AD$54,BR14,$K$4:$K$54,1)-SUMIFS($AG$4:$AG$54,$AF$4:$AF$54,BR14,$K$4:$K$54,1),)","v":0},{"$f":"IF(AND(CD14>0,COUNTIF(CJ13:CJ16,CJ14)>1),CJ14+RANK(CK14,CK13:CK16)-1,CJ14)","v":1},{"$f":"IF(AND(CD14>0,COUNTIF(CL13:CL16,CL14)>1),SUMIFS($AG$4:$AG$54,$AD$4:$AD$54,BR14,$K$4:$K$54,1)+SUMIFS($AI$4:$AI$54,$AF$4:$AF$54,BR14,$K$4:$K$54,1),)","v":0},{"$f":"IF(AND(CD14>0,COUNTIF(CL13:CL16,CL14)>1),CL14+RANK(CM14,CM13:CM16)-1,CL14)","v":1},{"$f":"IF(CN14=0,\"\",CN14)","v":1},{"$f":"IF(OR(CO14=\"\",COUNTIF(CO13:CO16,CO14)=1),\"\",$BX14)","v":0},{"$f":"IF(CO14=\"\",\"\",IF(COUNTIF(CO13:CO16,CO14)=1,CO14,CO14+RANK(CP14,CP13:CP16,0)-1))","v":1},{"$f":"IF(OR(CQ14=\"\",COUNTIF(CQ13:CQ16,CQ14)=1),\"\",$BV14)","v":0},{"$f":"IF(CO14=\"\",\"\",IF(COUNTIF(CQ13:CQ16,CQ14)=1,CQ14,CQ14+RANK(CR14,CR13:CR16,0)-1))","v":1},{"$f":"IF(OR(CS14=\"\",COUNTIF(CS13:CS16,CS14)=1),\"\",$BS14)","v":0},{"$f":"IF(CO14=\"\",\"\",IF(COUNTIF(CS13:CS16,CS14)=1,CS14,CS14+RANK(CT14,CT13:CT16,0)-1))","v":1},{"$f":"IF(CD14>0,BK11+RANK(CU14,CU13:CU16,1),)","v":1},null,{"$f":"IF(CA14=2,BR14,)","v":0},{"$f":"(SUMIF($AD$4:$AD$54,$BR14,$AX$4:$AX$54)+SUMIF($AF$4:$AF$54,$BR14,$AY$4:$AY$54))","v":0},{"$f":"(SUMIF($AD$4:$AD$54,$BR14,$AZ$4:$AZ$54)+SUMIF($AF$4:$AF$54,$BR14,$BA$4:$BA$54))","v":0},{"$f":"(SUMIF($AD$4:$AD$54,$BR14,$BB$4:$BB$54)+SUMIF($AF$4:$AF$54,$BR14,$BC$4:$BC$54))","v":0},{"$f":"IFERROR(CY14*3+CZ14*1,0)","v":0},{"$f":"$BZ14","v":"B"},{"$f":"IF(CX14>0,RANK(DB14,DB13:DB16)+CE11,)","v":0},{"$f":"IF(AND(CX14>0,COUNTIF(DD13:DD16,DD14)>1),SUMIFS($AG$4:$AG$54,$AD$4:$AD$54,BR14,$K$4:$K$54,2)+SUMIFS($AI$4:$AI$54,$AF$4:$AF$54,BR14,$K$4:$K$54,2)-SUMIFS($AI$4:$AI$54,$AD$4:$AD$54,BR14,$K$4:$K$54,2)-SUMIFS($AG$4:$AG$54,$AF$4:$AF$54,BR14,$K$4:$K$54,2),)","v":0},{"$f":"IF(AND(CX14>0,COUNTIF(DD13:DD16,DD14)>1),DD14+RANK(DE14,DE13:DE16)-1,DD14)","v":0},{"$f":"IF(AND(CX14>0,COUNTIF(DF13:DF16,DF14)>1),SUMIFS($AG$4:$AG$54,$AD$4:$AD$54,BR14,$K$4:$K$54,2)+SUMIFS($AI$4:$AI$54,$AF$4:$AF$54,BR14,$K$4:$K$54,2),)","v":0},{"$f":"IF(AND(CX14>0,COUNTIF(DF13:DF16,DF14)>1),DF14+RANK(DG14,DG13:DG16)-1,DF14)","v":0},{"$f":"IF(DH14=0,\"\",DH14)","v":""},{"$f":"IF(OR(DI14=\"\",COUNTIF(DI13:DI16,DI14)=1),\"\",$BX14)","v":""},{"$f":"IF(DI14=\"\",\"\",IF(COUNTIF(DI13:DI16,DI14)=1,DI14,DI14+RANK(DJ14,DJ13:DJ16,0)-1))","v":""},{"$f":"IF(OR(DK14=\"\",COUNTIF(DK13:DK16,DK14)=1),\"\",$BV14)","v":""},{"$f":"IF(DI14=\"\",\"\",IF(COUNTIF(DK13:DK16,DK14)=1,DK14,DK14+RANK(DL14,DL13:DL16,0)-1))","v":""},{"$f":"IF(OR(DM14=\"\",COUNTIF(DM13:DM16,DM14)=1),\"\",$BS14)","v":""},{"$f":"IF(DI14=\"\",\"\",IF(COUNTIF(DM13:DM16,DM14)=1,DM14,DM14+RANK(DN14,DN13:DN16,0)-1))","v":""},{"$f":"IF(CX14>0,CE11+RANK(DO14,DO13:DO16,1),)","v":0},null,{"$f":"IF(CA14=3,BR14,)","v":0},{"$f":"(SUMIF(AD$4:AD$54,BR14,BD$4:BD$54)+SUMIF(AF$4:AF$54,BR14,BE$4:BE$54))","v":0},{"$f":"(SUMIF(AD$4:AD$54,BR14,BF$4:BF$54)+SUMIF(AF$4:AF$54,BR14,BG$4:BG$54))","v":0},{"$f":"(SUMIF(AD$4:AD$54,BR14,BH$4:BH$54)+SUMIF(AF$4:AF$54,BR14,BI$4:BI$54))","v":0},{"$f":"IFERROR(DS14*3+DT14*1,0)","v":0},{"$f":"BZ14","v":"B"},{"$f":"IF(DR14>0,RANK(DV14,DV13:DV16)+CE11+CY11,)","v":0},{"$f":"IF(AND(DR14>0,COUNTIF(DX13:DX16,DX14)>1),SUMIFS($AG$4:$AG$54,$AD$4:$AD$54,BR14,$K$4:$K$54,3)+SUMIFS($AI$4:$AI$54,$AF$4:$AF$54,BR14,$K$4:$K$54,3)-SUMIFS($AI$4:$AI$54,$AD$4:$AD$54,BR14,$K$4:$K$54,3)-SUMIFS($AG$4:$AG$54,$AF$4:$AF$54,BR14,$K$4:$K$54,3),)","v":0},{"$f":"IF(AND(DR14>0,COUNTIF(DX13:DX16,DX14)>1),DX14+RANK(DY14,DY13:DY16)-1,DX14)","v":0},{"$f":"IF(AND(DR14>0,COUNTIF(DZ13:DZ16,DZ14)>1),SUMIFS($AG$4:$AG$54,$AD$4:$AD$54,BR14,$K$4:$K$54,3)+SUMIFS($AI$4:$AI$54,$AF$4:$AF$54,BR14,$K$4:$K$54,3),)","v":0},{"$f":"IF(AND(DR14>0,COUNTIF(DZ13:DZ16,DZ14)>1),DZ14+RANK(EA14,EA13:EA16)-1,DZ14)","v":0},{"$f":"IF(EB14=0,\"\",EB14)","v":""},{"$f":"IF(OR(EC14=\"\",COUNTIF(EC13:EC16,EC14)=1),\"\",$BX14)","v":""},{"$f":"IF(EC14=\"\",\"\",IF(COUNTIF(EC13:EC16,EC14)=1,EC14,EC14+RANK(ED14,ED13:ED16,0)-1))","v":""},{"$f":"IF(OR(EE14=\"\",COUNTIF(EE13:EE16,EE14)=1),\"\",$BV14)","v":""},{"$f":"IF(EC14=\"\",\"\",IF(COUNTIF(EE13:EE16,EE14)=1,EE14,EE14+RANK(EF14,EF13:EF16,0)-1))","v":""},{"$f":"IF(OR(EG14=\"\",COUNTIF(EG13:EG16,EG14)=1),\"\",$BS14)","v":""},{"$f":"IF(EC14=\"\",\"\",IF(COUNTIF(EG13:EG16,EG14)=1,EG14,EG14+RANK(EH14,EH13:EH16,0)-1))","v":""},{"$f":"IF(DR14>0,CE11+CY11+RANK(EI14,EI13:EI16,1),)","v":0},null,{"$f":"IF(CA14=4,BR14,)","v":0},{"$f":"(SUMIF($AD$4:$AD$54,$BR14,$BJ$4:$BJ$54)+SUMIF($AF$4:$AF$54,$BR14,$BK$4:$BK$54))","v":0},{"$f":"(SUMIF($AD$4:$AD$54,$BR14,$BL$4:$BL$54)+SUMIF($AF$4:$AF$54,$BR14,$BM$4:$BM$54))","v":0},{"$f":"(SUMIF($AD$4:$AD$54,$BR14,$BN$4:$BN$54)+SUMIF($AF$4:$AF$54,$BR14,$BO$4:$BO$54))","v":0},{"$f":"IFERROR(EM14*3+EN14*1,0)","v":0},{"$f":"$BZ14","v":"B"},{"$f":"IF(EL14>0,RANK(EP14,EP13:EP16)+CE11+CY11+DS11,)","v":0},{"$f":"IF(AND(EL14>0,COUNTIF(ER13:ER16,ER14)>1),SUMIFS($AG$4:$AG$54,$AD$4:$AD$54,BR14,$K$4:$K$54,4)+SUMIFS($AI$4:$AI$54,$AF$4:$AF$54,BR14,$K$4:$K$54,4)-SUMIFS($AI$4:$AI$54,$AD$4:$AD$54,BR14,$K$4:$K$54,4)-SUMIFS($AG$4:$AG$54,$AF$4:$AF$54,BR14,$K$4:$K$54,4),)","v":0},{"$f":"IF(AND(EL14>0,COUNTIF($ER$4:$ER$7,ER14)>1),ER14+RANK(ES14,$ES$4:$ES$7)-1,ER14)","v":0},{"$f":"IF(AND(EL14>0,COUNTIF(ET13:ET16,ET14)>1),SUMIFS($AG$4:$AG$54,$AD$4:$AD$54,BR14,$K$4:$K$54,4)+SUMIFS($AI$4:$AI$54,$AF$4:$AF$54,BR14,$K$4:$K$54,4),)","v":0},{"$f":"IF(AND(EL14>0,COUNTIF(ET13:ET16,ET14)>1),ET14+RANK(EU14,EU13:EU16)-1,ET14)","v":0},{"$f":"IF(EV14=0,\"\",EV14)","v":""},{"$f":"IF(OR(EW14=\"\",COUNTIF(EW13:EW16,EW14)=1),\"\",$BX14)","v":""},{"$f":"IF(EW14=\"\",\"\",IF(COUNTIF(EW13:EW16,EW14)=1,EW14,EW14+RANK(EX14,EX13:EX16,0)-1))","v":""},{"$f":"IF(OR(EY14=\"\",COUNTIF(EY13:EY16,EY14)=1),\"\",$BV14)","v":""},{"$f":"IF(EW14=\"\",\"\",IF(COUNTIF(EY13:EY16,EY14)=1,EY14,EY14+RANK(EZ14,EZ13:EZ16,0)-1))","v":""},{"$f":"IF(OR(FA14=\"\",COUNTIF(FA13:FA16,FA14)=1),\"\",$BS14)","v":""},{"$f":"IF(EW14=\"\",\"\",IF(COUNTIF(FA13:FA16,FA14)=1,FA14,FA14+RANK(FB14,FB13:FB16,0)-1))","v":""},{"$f":"IF(EL14>0,CE11+CY11+DS11+RANK(FC14,FC13:FC16,1),)","v":0},null,{"$f":"IFERROR(VLOOKUP(FH14,CD12:CV16,19,FALSE),IFERROR(VLOOKUP(FH14,CX12:DP16,19,FALSE),IFERROR(VLOOKUP(FH14,DR12:EJ16,19,FALSE),VLOOKUP(FH14,EL12:FD16,19,FALSE))))","v":1},{"$f":"RANK(FF14,FF13:FF16,1)+COUNTIF(FF13:FF14,FF14)-1","v":2},{"$f":"BR14","v":"Kroatien"},null,null,null,null,null,null,null,null,null,null,null,null,null,null,13,"BCDF","B","C","D","F",{"$f":"VLOOKUP(\"F\",$FJ$3:$FK$9,2,FALSE)","v":"Georgien"},{"$f":"VLOOKUP(\"D\",$FJ$3:$FK$9,2,FALSE)","v":"Polen"},{"$f":"VLOOKUP(\"C\",$FJ$3:$FK$9,2,FALSE)","v":"Serbien"},{"$f":"VLOOKUP(\"B\",$FJ$3:$FK$9,2,FALSE)","v":"Italien"},"",11]
[null,null,"2024-06-19","Kroatien","-","Albanien",null,"-",null,"",{"$f":"IF(VLOOKUP(D15,BR12:CA16,10,FALSE)=VLOOKUP(F15,BR12:CA16,10,FALSE),VLOOKUP(D15,BR12:CA16,10,FALSE),\"-\")","v":1},3,{"$f":"VLOOKUP(L15,FG13:FH16,2,FALSE)","v":"Italien"},{"$f":"VLOOKUP($M15,$BR$13:$BY$16,2,FALSE)","v":0},{"$f":"VLOOKUP($M15,$BR$13:$BY$16,3,FALSE)","v":0},{"$f":"VLOOKUP($M15,$BR$13:$BY$16,4,FALSE)","v":0},{"$f":"VLOOKUP($M15,$BR$13:$BY$16,5,FALSE)","v":0},{"$f":"VLOOKUP($M15,$BR$13:$BY$16,6,FALSE)","v":0},{"$f":"VLOOKUP($M15,$BR$13:$BY$16,7,FALSE)","v":0},{"$f":"VLOOKUP($M15,$BR$13:$BY$16,8,FALSE)","v":0},null,null,null,null,null,null,null,null,"2024-06-19","Kroatien","-","Albanien","","-","","",null,0,0,0,0,0,0,0,0,0,0,0,0,0,0,0,0,0,0,0,0,0,0,0,0,0,0,0,0,0,0,null,null,"Italien",{"$f":"(SUMIF(AD$4:AD$54,BR15,AL$4:AL$54)+SUMIF(AF$4:AF$54,BR15,AM$4:AM$54))","v":0},{"$f":"(SUMIF(AD$4:AD$54,BR15,AN$4:AN$54)+SUMIF(AF$4:AF$54,BR15,AO$4:AO$54))","v":0},{"$f":"(SUMIF(AD$4:AD$54,BR15,AP$4:AP$54)+SUMIF(AF$4:AF$54,BR15,AQ$4:AQ$54))","v":0},{"$f":"SUMIF($AD$4:$AD$54,BR15,$AG$4:$AG$54)+SUMIF($AF$4:$AF$54,BR15,$AI$4:$AI$54)","v":0},{"$f":"SUMIF($AD$4:$AD$54,BR15,$AI$4:$AI$54)+SUMIF($AF$4:$AF$54,BR15,$AG$4:$AG$54)","v":0},{"$f":"BV15-BW15","v":0},{"$f":"IFERROR(BS15*3+BT15*1,0)","v":0},"B",{"$f":"RANK(BY15,BY13:BY16)","v":1},{"$f":"SUMPRODUCT((BY13:BY16=BY15)*(BX13:BX16>BX15))","v":0},null,{"$f":"IF(CA15=1,BR15,)","v":"Italien"},0,0,0,0,"B",{"$f":"IF(CD15>0,RANK(CH15,CH13:CH16),)","v":1},{"$f":"IF(AND(CD15>0,COUNTIF(CJ13:CJ16,CJ15)>1),SUMIFS($AG$4:$AG$54,$AD$4:$AD$54,BR15,$K$4:$K$54,1)+SUMIFS($AI$4:$AI$54,$AF$4:$AF$54,BR15,$K$4:$K$54,1)-SUMIFS($AI$4:$AI$54,$AD$4:$AD$54,BR15,$K$4:$K$54,1)-SUMIFS($AG$4:$AG$54,$AF$4:$AF$54,BR15,$K$4:$K$54,1),)","v":0},{"$f":"IF(AND(CD15>0,COUNTIF(CJ13:CJ16,CJ15)>1),CJ15+RANK(CK15,CK13:CK16)-1,CJ15)","v":1},{"$f":"IF(AND(CD15>0,COUNTIF(CL13:CL16,CL15)>1),SUMIFS($AG$4:$AG$54,$AD$4:$AD$54,BR15,$K$4:$K$54,1)+SUMIFS($AI$4:$AI$54,$AF$4:$AF$54,BR15,$K$4:$K$54,1),)","v":0},{"$f":"IF(AND(CD15>0,COUNTIF(CL13:CL16,CL15)>1),CL15+RANK(CM15,CM13:CM16)-1,CL15)","v":1},1,{"$f":"IF(OR(CO15=\"\",COUNTIF(CO13:CO16,CO15)=1),\"\",$BX15)","v":0},{"$f":"IF(CO15=\"\",\"\",IF(COUNTIF(CO13:CO16,CO15)=1,CO15,CO15+RANK(CP15,CP13:CP16,0)-1))","v":1},{"$f":"IF(OR(CQ15=\"\",COUNTIF(CQ13:CQ16,CQ15)=1),\"\",$BV15)","v":0},{"$f":"IF(CO15=\"\",\"\",IF(COUNTIF(CQ13:CQ16,CQ15)=1,CQ15,CQ15+RANK(CR15,CR13:CR16,0)-1))","v":1},{"$f":"IF(OR(CS15=\"\",COUNTIF(CS13:CS16,CS15)=1),\"\",$BS15)","v":0},{"$f":"IF(CO15=\"\",\"\",IF(COUNTIF(CS13:CS16,CS15)=1,CS15,CS15+RANK(CT15,CT13:CT16,0)-1))","v":1},{"$f":"IF(CD15>0,BK11+RANK(CU15,CU13:CU16,1),)","v":1},null,{"$f":"IF(CA15=2,BR15,)","v":0},0,0,0,0,"B",{"$f":"IF(CX15>0,RANK(DB15,DB13:DB16)+CE11,)","v":0},{"$f":"IF(AND(CX15>0,COUNTIF(DD13:DD16,DD15)>1),SUMIFS($AG$4:$AG$54,$AD$4:$AD$54,BR15,$K$4:$K$54,2)+SUMIFS($AI$4:$AI$54,$AF$4:$AF$54,BR15,$K$4:$K$54,2)-SUMIFS($AI$4:$AI$54,$AD$4:$AD$54,BR15,$K$4:$K$54,2)-SUMIFS($AG$4:$AG$54,$AF$4:$AF$54,BR15,$K$4:$K$54,2),)","v":0},{"$f":"IF(AND(CX15>0,COUNTIF(DD13:DD16,DD15)>1),DD15+RANK(DE15,DE13:DE16)-1,DD15)","v":0},{"$f":"IF(AND(CX15>0,COUNTIF(DF13:DF16,DF15)>1),SUMIFS($AG$4:$AG$54,$AD$4:$AD$54,BR15,$K$4:$K$54,2)+SUMIFS($AI$4:$AI$54,$AF$4:$AF$54,BR15,$K$4:$K$54,2),)","v":0},{"$f":"IF(AND(CX15>0,COUNTIF(DF13:DF16,DF15)>1),DF15+RANK(DG15,DG13:DG16)-1,DF15)","v":0},"",{"$f":"IF(OR(DI15=\"\",COUNTIF(DI13:DI16,DI15)=1),\"\",$BX15)","v":""},{"$f":"IF(DI15=\"\",\"\",IF(COUNTIF(DI13:DI16,DI15)=1,DI15,DI15+RANK(DJ15,DJ13:DJ16,0)-1))","v":""},{"$f":"IF(OR(DK15=\"\",COUNTIF(DK13:DK16,DK15)=1),\"\",$BV15)","v":""},{"$f":"IF(DI15=\"\",\"\",IF(COUNTIF(DK13:DK16,DK15)=1,DK15,DK15+RANK(DL15,DL13:DL16,0)-1))","v":""},{"$f":"IF(OR(DM15=\"\",COUNTIF(DM13:DM16,DM15)=1),\"\",$BS15)","v":""},{"$f":"IF(DI15=\"\",\"\",IF(COUNTIF(DM13:DM16,DM15)=1,DM15,DM15+RANK(DN15,DN13:DN16,0)-1))","v":""},{"$f":"IF(CX15>0,CE11+RANK(DO15,DO13:DO16,1),)","v":0},null,{"$f":"IF(CA15=3,BR15,)","v":0},{"$f":"(SUMIF(AD$4:AD$54,BR15,BD$4:BD$54)+SUMIF(AF$4:AF$54,BR15,BE$4:BE$54))","v":0},{"$f":"(SUMIF(AD$4:AD$54,BR15,BF$4:BF$54)+SUMIF(AF$4:AF$54,BR15,BG$4:BG$54))","v":0},{"$f":"(SUMIF(AD$4:AD$54,BR15,BH$4:BH$54)+SUMIF(AF$4:AF$54,BR15,BI$4:BI$54))","v":0},0,{"$f":"BZ15","v":"B"},{"$f":"IF(DR15>0,RANK(DV15,DV13:DV16)+CE11+CY11,)","v":0},{"$f":"IF(AND(DR15>0,COUNTIF(DX13:DX16,DX15)>1),SUMIFS($AG$4:$AG$54,$AD$4:$AD$54,BR15,$K$4:$K$54,3)+SUMIFS($AI$4:$AI$54,$AF$4:$AF$54,BR15,$K$4:$K$54,3)-SUMIFS($AI$4:$AI$54,$AD$4:$AD$54,BR15,$K$4:$K$54,3)-SUMIFS($AG$4:$AG$54,$AF$4:$AF$54,BR15,$K$4:$K$54,3),)","v":0},{"$f":"IF(AND(DR15>0,COUNTIF(DX13:DX16,DX15)>1),DX15+RANK(DY15,DY13:DY16)-1,DX15)","v":0},{"$f":"IF(AND(DR15>0,COUNTIF(DZ13:DZ16,DZ15)>1),SUMIFS($AG$4:$AG$54,$AD$4:$AD$54,BR15,$K$4:$K$54,3)+SUMIFS($AI$4:$AI$54,$AF$4:$AF$54,BR15,$K$4:$K$54,3),)","v":0},{"$f":"IF(AND(DR15>0,COUNTIF(DZ13:DZ16,DZ15)>1),DZ15+RANK(EA15,EA13:EA16)-1,DZ15)","v":0},"",{"$f":"IF(OR(EC15=\"\",COUNTIF(EC13:EC16,EC15)=1),\"\",$BX15)","v":""},{"$f":"IF(EC15=\"\",\"\",IF(COUNTIF(EC13:EC16,EC15)=1,EC15,EC15+RANK(ED15,ED13:ED16,0)-1))","v":""},{"$f":"IF(OR(EE15=\"\",COUNTIF(EE13:EE16,EE15)=1),\"\",$BV15)","v":""},{"$f":"IF(EC15=\"\",\"\",IF(COUNTIF(EE13:EE16,EE15)=1,EE15,EE15+RANK(EF15,EF13:EF16,0)-1))","v":""},{"$f":"IF(OR(EG15=\"\",COUNTIF(EG13:EG16,EG15)=1),\"\",$BS15)","v":""},{"$f":"IF(EC15=\"\",\"\",IF(COUNTIF(EG13:EG16,EG15)=1,EG15,EG15+RANK(EH15,EH13:EH16,0)-1))","v":""},{"$f":"IF(DR15>0,CE11+CY11+RANK(EI15,EI13:EI16,1),)","v":0},null,{"$f":"IF(CA15=4,BR15,)","v":0},0,0,0,0,"B",{"$f":"IF(EL15>0,RANK(EP15,EP13:EP16)+CE11+CY11+DS11,)","v":0},{"$f":"IF(AND(EL15>0,COUNTIF(ER13:ER16,ER15)>1),SUMIFS($AG$4:$AG$54,$AD$4:$AD$54,BR15,$K$4:$K$54,4)+SUMIFS($AI$4:$AI$54,$AF$4:$AF$54,BR15,$K$4:$K$54,4)-SUMIFS($AI$4:$AI$54,$AD$4:$AD$54,BR15,$K$4:$K$54,4)-SUMIFS($AG$4:$AG$54,$AF$4:$AF$54,BR15,$K$4:$K$54,4),)","v":0},0,{"$f":"IF(AND(EL15>0,COUNTIF(ET13:ET16,ET15)>1),SUMIFS($AG$4:$AG$54,$AD$4:$AD$54,BR15,$K$4:$K$54,4)+SUMIFS($AI$4:$AI$54,$AF$4:$AF$54,BR15,$K$4:$K$54,4),)","v":0},{"$f":"IF(AND(EL15>0,COUNTIF(ET13:ET16,ET15)>1),ET15+RANK(EU15,EU13:EU16)-1,ET15)","v":0},"",{"$f":"IF(OR(EW15=\"\",COUNTIF(EW13:EW16,EW15)=1),\"\",$BX15)","v":""},{"$f":"IF(EW15=\"\",\"\",IF(COUNTIF(EW13:EW16,EW15)=1,EW15,EW15+RANK(EX15,EX13:EX16,0)-1))","v":""},{"$f":"IF(OR(EY15=\"\",COUNTIF(EY13:EY16,EY15)=1),\"\",$BV15)","v":""},{"$f":"IF(EW15=\"\",\"\",IF(COUNTIF(EY13:EY16,EY15)=1,EY15,EY15+RANK(EZ15,EZ13:EZ16,0)-1))","v":""},{"$f":"IF(OR(FA15=\"\",COUNTIF(FA13:FA16,FA15)=1),\"\",$BS15)","v":""},{"$f":"IF(EW15=\"\",\"\",IF(COUNTIF(FA13:FA16,FA15)=1,FA15,FA15+RANK(FB15,FB13:FB16,0)-1))","v":""},{"$f":"IF(EL15>0,CE11+CY11+DS11+RANK(FC15,FC13:FC16,1),)","v":0},null,{"$f":"IFERROR(VLOOKUP(FH15,CD12:CV16,19,FALSE),IFERROR(VLOOKUP(FH15,CX12:DP16,19,FALSE),IFERROR(VLOOKUP(FH15,DR12:EJ16,19,FALSE),VLOOKUP(FH15,EL12:FD16,19,FALSE))))","v":1},{"$f":"RANK(FF15,FF13:FF16,1)+COUNTIF(FF13:FF15,FF15)-1","v":3},{"$f":"BR15","v":"Italien"},null,null,null,null,null,null,null,null,null,null,null,null,null,null,14,"BCEF","B","C","E","F",{"$f":"VLOOKUP(\"F\",$FJ$3:$FK$9,2,FALSE)","v":"Georgien"},{"$f":"VLOOKUP(\"E\",$FJ$3:$FK$9,2,FALSE)","v":"Belgien"},{"$f":"VLOOKUP(\"C\",$FJ$3:$FK$9,2,FALSE)","v":"Serbien"},{"$f":"VLOOKUP(\"B\",$FJ$3:$FK$9,2,FALSE)","v":"Italien"},"",12]
[null,null,"2024-06-20","Spanien","-","Italien",null,"-",null,"",{"$f":"IF(VLOOKUP(D16,BR12:CA16,10,FALSE)=VLOOKUP(F16,BR12:CA16,10,FALSE),VLOOKUP(D16,BR12:CA16,10,FALSE),\"-\")","v":1},4,{"$f":"VLOOKUP(L16,FG13:FH16,2,FALSE)","v":"Albanien"},{"$f":"VLOOKUP($M16,$BR$13:$BY$16,2,FALSE)","v":0},{"$f":"VLOOKUP($M16,$BR$13:$BY$16,3,FALSE)","v":0},{"$f":"VLOOKUP($M16,$BR$13:$BY$16,4,FALSE)","v":0},{"$f":"VLOOKUP($M16,$BR$13:$BY$16,5,FALSE)","v":0},{"$f":"VLOOKUP($M16,$BR$13:$BY$16,6,FALSE)","v":0},{"$f":"VLOOKUP($M16,$BR$13:$BY$16,7,FALSE)","v":0},{"$f":"VLOOKUP($M16,$BR$13:$BY$16,8,FALSE)","v":0},null,null,null,null,null,null,null,null,"2024-06-20","Spanien","-","Italien","","-","","",null,0,0,0,0,0,0,0,0,0,0,0,0,0,0,0,0,0,0,0,0,0,0,0,0,0,0,0,0,0,0,null,null,"Albanien",{"$f":"(SUMIF(AD$4:AD$54,BR16,AL$4:AL$54)+SUMIF(AF$4:AF$54,BR16,AM$4:AM$54))","v":0},{"$f":"(SUMIF(AD$4:AD$54,BR16,AN$4:AN$54)+SUMIF(AF$4:AF$54,BR16,AO$4:AO$54))","v":0},{"$f":"(SUMIF(AD$4:AD$54,BR16,AP$4:AP$54)+SUMIF(AF$4:AF$54,BR16,AQ$4:AQ$54))","v":0},{"$f":"SUMIF($AD$4:$AD$54,BR16,$AG$4:$AG$54)+SUMIF($AF$4:$AF$54,BR16,$AI$4:$AI$54)","v":0},{"$f":"SUMIF($AD$4:$AD$54,BR16,$AI$4:$AI$54)+SUMIF($AF$4:$AF$54,BR16,$AG$4:$AG$54)","v":0},{"$f":"BV16-BW16","v":0},{"$f":"IFERROR(BS16*3+BT16*1,0)","v":0},"B",{"$f":"RANK(BY16,BY13:BY16)","v":1},{"$f":"SUMPRODUCT((BY13:BY16=BY16)*(BX13:BX16>BX16))","v":0},null,{"$f":"IF(CA16=1,BR16,)","v":"Albanien"},0,0,0,0,"B",{"$f":"IF(CD16>0,RANK(CH16,CH13:CH16),)","v":1},{"$f":"IF(AND(CD16>0,COUNTIF(CJ13:CJ16,CJ16)>1),SUMIFS($AG$4:$AG$54,$AD$4:$AD$54,BR16,$K$4:$K$54,1)+SUMIFS($AI$4:$AI$54,$AF$4:$AF$54,BR16,$K$4:$K$54,1)-SUMIFS($AI$4:$AI$54,$AD$4:$AD$54,BR16,$K$4:$K$54,1)-SUMIFS($AG$4:$AG$54,$AF$4:$AF$54,BR16,$K$4:$K$54,1),)","v":0},{"$f":"IF(AND(CD16>0,COUNTIF(CJ13:CJ16,CJ16)>1),CJ16+RANK(CK16,CK13:CK16)-1,CJ16)","v":1},{"$f":"IF(AND(CD16>0,COUNTIF(CL13:CL16,CL16)>1),SUMIFS($AG$4:$AG$54,$AD$4:$AD$54,BR16,$K$4:$K$54,1)+SUMIFS($AI$4:$AI$54,$AF$4:$AF$54,BR16,$K$4:$K$54,1),)","v":0},{"$f":"IF(AND(CD16>0,COUNTIF(CL13:CL16,CL16)>1),CL16+RANK(CM16,CM13:CM16)-1,CL16)","v":1},1,{"$f":"IF(OR(CO16=\"\",COUNTIF(CO13:CO16,CO16)=1),\"\",$BX16)","v":0},{"$f":"IF(CO16=\"\",\"\",IF(COUNTIF(CO13:CO16,CO16)=1,CO16,CO16+RANK(CP16,CP13:CP16,0)-1))","v":1},{"$f":"IF(OR(CQ16=\"\",COUNTIF(CQ13:CQ16,CQ16)=1),\"\",$BV16)","v":0},{"$f":"IF(CO16=\"\",\"\",IF(COUNTIF(CQ13:CQ16,CQ16)=1,CQ16,CQ16+RANK(CR16,CR13:CR16,0)-1))","v":1},{"$f":"IF(OR(CS16=\"\",COUNTIF(CS13:CS16,CS16)=1),\"\",$BS16)","v":0},{"$f":"IF(CO16=\"\",\"\",IF(COUNTIF(CS13:CS16,CS16)=1,CS16,CS16+RANK(CT16,CT13:CT16,0)-1))","v":1},{"$f":"IF(CD16>0,BK11+RANK(CU16,CU13:CU16,1),)","v":1},null,{"$f":"IF(CA16=2,BR16,)","v":0},0,0,0,0,"B",{"$f":"IF(CX16>0,RANK(DB16,DB13:DB16)+CE11,)","v":0},{"$f":"IF(AND(CX16>0,COUNTIF(DD13:DD16,DD16)>1),SUMIFS($AG$4:$AG$54,$AD$4:$AD$54,BR16,$K$4:$K$54,2)+SUMIFS($AI$4:$AI$54,$AF$4:$AF$54,BR16,$K$4:$K$54,2)-SUMIFS($AI$4:$AI$54,$AD$4:$AD$54,BR16,$K$4:$K$54,2)-SUMIFS($AG$4:$AG$54,$AF$4:$AF$54,BR16,$K$4:$K$54,2),)","v":0},{"$f":"IF(AND(CX16>0,COUNTIF(DD13:DD16,DD16)>1),DD16+RANK(DE16,DE13:DE16)-1,DD16)","v":0},{"$f":"IF(AND(CX16>0,COUNTIF(DF13:DF16,DF16)>1),SUMIFS($AG$4:$AG$54,$AD$4:$AD$54,BR16,$K$4:$K$54,2)+SUMIFS($AI$4:$AI$54,$AF$4:$AF$54,BR16,$K$4:$K$54,2),)","v":0},{"$f":"IF(AND(CX16>0,COUNTIF(DF13:DF16,DF16)>1),DF16+RANK(DG16,DG13:DG16)-1,DF16)","v":0},"",{"$f":"IF(OR(DI16=\"\",COUNTIF(DI13:DI16,DI16)=1),\"\",$BX16)","v":""},{"$f":"IF(DI16=\"\",\"\",IF(COUNTIF(DI13:DI16,DI16)=1,DI16,DI16+RANK(DJ16,DJ13:DJ16,0)-1))","v":""},{"$f":"IF(OR(DK16=\"\",COUNTIF(DK13:DK16,DK16)=1),\"\",$BV16)","v":""},{"$f":"IF(DI16=\"\",\"\",IF(COUNTIF(DK14:DK17,DK16)=1,DK16,DK16+RANK(DL16,DL14:DL17,0)-1))","v":""},{"$f":"IF(OR(DM16=\"\",COUNTIF(DM13:DM16,DM16)=1),\"\",$BS16)","v":""},{"$f":"IF(DI16=\"\",\"\",IF(COUNTIF(DM13:DM16,DM16)=1,DM16,DM16+RANK(DN16,DN13:DN16,0)-1))","v":""},{"$f":"IF(CX16>0,CE11+RANK(DO16,DO13:DO16,1),)","v":0},null,{"$f":"IF(CA16=3,BR16,)","v":0},{"$f":"(SUMIF(AD$4:AD$54,BR16,BD$4:BD$54)+SUMIF(AF$4:AF$54,BR16,BE$4:BE$54))","v":0},{"$f":"(SUMIF(AD$4:AD$54,BR16,BF$4:BF$54)+SUMIF(AF$4:AF$54,BR16,BG$4:BG$54))","v":0},{"$f":"(SUMIF(AD$4:AD$54,BR16,BH$4:BH$54)+SUMIF(AF$4:AF$54,BR16,BI$4:BI$54))","v":0},0,{"$f":"BZ16","v":"B"},{"$f":"IF(DR16>0,RANK(DV16,DV13:DV16)+CE11+CY11,)","v":0},{"$f":"IF(AND(DR16>0,COUNTIF(DX13:DX16,DX16)>1),SUMIFS($AG$4:$AG$54,$AD$4:$AD$54,BR16,$K$4:$K$54,3)+SUMIFS($AI$4:$AI$54,$AF$4:$AF$54,BR16,$K$4:$K$54,3)-SUMIFS($AI$4:$AI$54,$AD$4:$AD$54,BR16,$K$4:$K$54,3)-SUMIFS($AG$4:$AG$54,$AF$4:$AF$54,BR16,$K$4:$K$54,3),)","v":0},{"$f":"IF(AND(DR16>0,COUNTIF(DX13:DX16,DX16)>1),DX16+RANK(DY16,DY13:DY16)-1,DX16)","v":0},{"$f":"IF(AND(DR16>0,COUNTIF(DZ13:DZ16,DZ16)>1),SUMIFS($AG$4:$AG$54,$AD$4:$AD$54,BR16,$K$4:$K$54,3)+SUMIFS($AI$4:$AI$54,$AF$4:$AF$54,BR16,$K$4:$K$54,3),)","v":0},{"$f":"IF(AND(DR16>0,COUNTIF(DZ13:DZ16,DZ16)>1),DZ16+RANK(EA16,EA13:EA16)-1,DZ16)","v":0},"",{"$f":"IF(OR(EC16=\"\",COUNTIF(EC13:EC16,EC16)=1),\"\",$BX16)","v":""},{"$f":"IF(EC16=\"\",\"\",IF(COUNTIF(EC13:EC16,EC16)=1,EC16,EC16+RANK(ED16,ED13:ED16,0)-1))","v":""},{"$f":"IF(OR(EE16=\"\",COUNTIF(EE13:EE16,EE16)=1),\"\",$BV16)","v":""},{"$f":"IF(EC16=\"\",\"\",IF(COUNTIF(EE13:EE16,EE16)=1,EE16,EE16+RANK(EF16,EF13:EF16,0)-1))","v":""},{"$f":"IF(OR(EG16=\"\",COUNTIF(EG13:EG16,EG16)=1),\"\",$BS16)","v":""},{"$f":"IF(EC16=\"\",\"\",IF(COUNTIF(EG13:EG16,EG16)=1,EG16,EG16+RANK(EH16,EH13:EH16,0)-1))","v":""},{"$f":"IF(DR16>0,CE11+CY11+RANK(EI16,EI13:EI16,1),)","v":0},null,{"$f":"IF(CA16=4,BR16,)","v":0},0,0,0,0,"B",{"$f":"IF(EL16>0,RANK(EP16,EP13:EP16)+CE11+CY11+DS11,)","v":0},{"$f":"IF(AND(EL16>0,COUNTIF(ER13:ER16,ER16)>1),SUMIFS($AG$4:$AG$54,$AD$4:$AD$54,BR16,$K$4:$K$54,4)+SUMIFS($AI$4:$AI$54,$AF$4:$AF$54,BR16,$K$4:$K$54,4)-SUMIFS($AI$4:$AI$54,$AD$4:$AD$54,BR16,$K$4:$K$54,4)-SUMIFS($AG$4:$AG$54,$AF$4:$AF$54,BR16,$K$4:$K$54,4),)","v":0},0,{"$f":"IF(AND(EL16>0,COUNTIF(ET13:ET16,ET16)>1),SUMIFS($AG$4:$AG$54,$AD$4:$AD$54,BR16,$K$4:$K$54,4)+SUMIFS($AI$4:$AI$54,$AF$4:$AF$54,BR16,$K$4:$K$54,4),)","v":0},{"$f":"IF(AND(EL16>0,COUNTIF(ET13:ET16,ET16)>1),ET16+RANK(EU16,EU13:EU16)-1,ET16)","v":0},"",{"$f":"IF(OR(EW16=\"\",COUNTIF(EW13:EW16,EW16)=1),\"\",$BX16)","v":""},{"$f":"IF(EW16=\"\",\"\",IF(COUNTIF(EW13:EW16,EW16)=1,EW16,EW16+RANK(EX16,EX13:EX16,0)-1))","v":""},{"$f":"IF(OR(EY16=\"\",COUNTIF(EY13:EY16,EY16)=1),\"\",$BV16)","v":""},{"$f":"IF(EW16=\"\",\"\",IF(COUNTIF(EY13:EY16,EY16)=1,EY16,EY16+RANK(EZ16,EZ13:EZ16,0)-1))","v":""},{"$f":"IF(OR(FA16=\"\",COUNTIF(FA13:FA16,FA16)=1),\"\",$BS16)","v":""},{"$f":"IF(EW16=\"\",\"\",IF(COUNTIF(FA13:FA16,FA16)=1,FA16,FA16+RANK(FB16,FB13:FB16,0)-1))","v":""},{"$f":"IF(EL16>0,CE11+CY11+DS11+RANK(FC16,FC13:FC16,1),)","v":0},null,{"$f":"IFERROR(VLOOKUP(FH16,CD12:CV16,19,FALSE),IFERROR(VLOOKUP(FH16,CX12:DP16,19,FALSE),IFERROR(VLOOKUP(FH16,DR12:EJ16,19,FALSE),VLOOKUP(FH16,EL12:FD16,19,FALSE))))","v":1},{"$f":"RANK(FF16,FF13:FF16,1)+COUNTIF(FF13:FF16,FF16)-1","v":4},{"$f":"BR16","v":"Albanien"},null,null,null,null,null,null,null,null,null,null,null,null,null,null,15,"BDEF","B","D","E","F",{"$f":"VLOOKUP(\"F\",$FJ$3:$FK$9,2,FALSE)","v":"Georgien"},{"$f":"VLOOKUP(\"E\",$FJ$3:$FK$9,2,FALSE)","v":"Belgien"},{"$f":"VLOOKUP(\"D\",$FJ$3:$FK$9,2,FALSE)","v":"Polen"},{"$f":"VLOOKUP(\"B\",$FJ$3:$FK$9,2,FALSE)","v":"Italien"},"",13]
[null,null,"2024-06-24","Albanien","-","Spanien",null,"-",null,"",{"$f":"IF(VLOOKUP(D17,BR12:CA16,10,FALSE)=VLOOKUP(F17,BR12:CA16,10,FALSE),VLOOKUP(D17,BR12:CA16,10,FALSE),\"-\")","v":1},null,{"$f":"IF(COUNTBLANK(G13:G18)+COUNTBLANK(I13:I18)=0,\"Resultat OK\",\"Fyll i resultat\")","v":"Fyll i resultat"},null,null,null,null,null,null,null,null,null,null,null,null,null,null,null,"2024-06-24","Albanien","-","Spanien","","-","","",null,0,0,0,0,0,0,0,0,0,0,0,0,0,0,0,0,0,0,0,0,0,0,0,0,0,0,0,0,0,0,null,null,null,null,null,null,null,null,null,null,null,null,null,null,null,null,null,null,null,null,null,null,null,null,null,null,null,null,null,null,null,null,null,null,null,null,null,null,null,null,null,null,null,null,null,null,null,null,null,null,null,null,null,null,null,null,null,null,null,null,null,null,null,null,null,null,null,null,null,null,null,null,null,null,null,null,null,null,null,null,null,null,null,null,null,null,null,null,null,null,null,null,null,null,null,null,null,null,null,null,null,null,null,null,null,null,null,null,null,null,null,16,"CDEF","C","D","E","F",{"$f":"VLOOKUP(\"F\",$FJ$3:$FK$9,2,FALSE)","v":"Georgien"},{"$f":"VLOOKUP(\"E\",$FJ$3:$FK$9,2,FALSE)","v":"Belgien"},{"$f":"VLOOKUP(\"D\",$FJ$3:$FK$9,2,FALSE)","v":"Polen"},{"$f":"VLOOKUP(\"C\",$FJ$3:$FK$9,2,FALSE)","v":"Serbien"},"",14]
[null,null,"2024-06-24","Kroatien","-","Italien",null,"-",null,"",{"$f":"IF(VLOOKUP(D18,BR12:CA16,10,FALSE)=VLOOKUP(F18,BR12:CA16,10,FALSE),VLOOKUP(D18,BR12:CA16,10,FALSE),\"-\")","v":1},null,null,null,null,null,null,null,null,null,null,null,null,null,null,null,null,null,"2024-06-24","Kroatien","-","Italien","","-","","",null,0,0,0,0,0,0,0,0,0,0,0,0,0,0,0,0,0,0,0,0,0,0,0,0,0,0,0,0,0,0,null,null,null,null,null,null,null,null,null,null,null,null,null,null,null,null,null,null,null,null,null,null,null,null,null,null,null,null,null,null,null,null,null,null,null,null,null,null,null,null,null,null,null,null,null,null,null,null,null,null,null,null,null,null,null,null,null,null,null,null,null,null,null,null,null,null,null,null,null,null,null,null,null,null,null,null,null,null,null,null,null,null,null,null,null,null,null,null,null,null,null,null,null,null,null,null,null,null,null,null,null,null,null,null,null,null,null,null,null,null,null,null,null,null,null,null,null,null,null,null,null,null,15]
[null,null,null,null,null,null,null,null,null,null,null,null,null,null,null,null,null,null,null,null,null,null,null,null,null,null,null,null,null,null,null,null,null,null,null,null,null,null,null,null,null,null,null,null,null,null,null,null,null,null,null,null,null,null,null,null,null,null,null,null,null,null,null,null,null,null,null,null,null,null,null,null,null,null,null,null,null,null,null,null,null,null,null,null,null,null,null,null,null,null,null,null,null,null,null,null,null,null,null,null,null,null,null,null,null,null,null,null,null,null,null,null,null,null,null,null,null,null,null,null,null,null,null,null,null,null,null,null,null,null,null,null,null,null,null,null,null,null,null,null,null,null,null,null,null,null,null,null,null,null,null,null,null,null,null,null,null,null,null,null,null,null,null,null,null,null,null,null,null,null,null,null,null,null,null,null,null,null,null,null,null,null,null,null,null,null,null,null,null,16]
[null,null,"Grupp C",null,null,null,null,null,null,null,null,null,null,null,null,null,null,null,null,null,null,null,null,null,null,null,null,null,"Grupp C",null,null,null,null,null,null,null,null,null,null,null,null,null,null,null,null,null,null,null,null,null,null,null,null,null,null,null,null,null,null,null,null,null,null,null,null,null,null,null,null,"Rank 0",null,null,null,null,null,null,null,null,null,null,null,"Rank 1",{"$f":"COUNTIF(CA22:CA25,1)","v":4},null,null,null,null,null,null,null,null,null,null,null,null,null,null,null,null,null,null,"Rank 2",{"$f":"COUNTIF(CA22:CA25,2)","v":0},null,null,null,null,null,null,null,null,null,null,null,null,null,null,null,null,null,null,"Rank 3",{"$f":"COUNTIF(CA22:CA25,3)","v":0},null,null,null,null,null,null,null,null,null,null,null,null,null,null,null,null,null,null,"Rank 4",{"$f":"COUNTIF(CA22:CA25,4)","v":0},null,null,null,null,null,null,null,null,null,null,null,null,null,null,null,null,null,null,null,null,null,null,null,null,null,null,null,null,null,null,null,null,null,null,null,null,null,null,null,null,null,null,null,null,null,null,17]
[null,null,"Datum","Match",null,null,"Resultat",null,null,"Tecken",null,null,"Lag","V","O","F","GM","IM","+/-","P",null,null,null,null,null,null,null,null,"Datum","Match",null,null,"Resultat",null,null,"Tecken","Poäng","V1","V2","O1","O2","F1","F2","V1","V2","O1","O2","F1","F2","V1","V2","O1","O2","F1","F2","V1","V2","O1","O2","F1","F2","V1","V2","O1","O2","F1","F2",null,null,"Lag","V","O","F","GM","IM","+/-","P","Grupp","Rank P","Rank +/-",null,"Lag","V","O","F","P","Grupp","Rank P","+/-","+/- rank","GM","GM rank","Rank internal","+/- all","+/- rank all","GM all","GM rank all","V all","V rank all","Rank all",null,"Lag","V","O","F","P","Grupp","Rank P","+/-","+/- rank","GM","GM rank","Rank internal","+/- all","+/- rank all","GM all","GM rank all","V all","V rank all","Rank all",null,"Lag","V","O","F","P","Grupp","Rank P","+/-","+/- rank","GM","GM rank","Rank internal","+/- all","+/- rank all","GM all","GM rank all","V all","V rank all","Rank all",null,"Lag","V","O","F","P","Grupp","Rank P","+/-","+/- rank","GM","GM rank","Rank internal","+/- all","+/- rank all","GM all","GM rank all","V all","V rank all","Rank all",null,"Rank","Rank Ties",null,null,null,null,null,null,null,null,null,null,null,null,null,null,null,null,null,null,null,null,null,null,null,null,null,null,18]
[null,null,"2024-06-16","Slovenien","-","Danmark",null,"-",null,{"$f":"IF(OR(ISBLANK(G22),ISBLANK(I22)),\"\",IF(G22>I22,1,IF(G22<I22,2,\"X\")))","v":""},{"$f":"IF(VLOOKUP(D22,BR21:CA25,10,FALSE)=VLOOKUP(F22,BR21:CA25,10,FALSE),VLOOKUP(D22,BR21:CA25,10,FALSE),\"-\")","v":1},1,{"$f":"VLOOKUP(L22,FG22:FH25,2,FALSE)","v":"Slovenien"},{"$f":"VLOOKUP($M22,$BR$22:$BY$25,2,FALSE)","v":0},{"$f":"VLOOKUP($M22,$BR$22:$BY$25,3,FALSE)","v":0},{"$f":"VLOOKUP($M22,$BR$22:$BY$25,4,FALSE)","v":0},{"$f":"VLOOKUP($M22,$BR$22:$BY$25,5,FALSE)","v":0},{"$f":"VLOOKUP($M22,$BR$22:$BY$25,6,FALSE)","v":0},{"$f":"VLOOKUP($M22,$BR$22:$BY$25,7,FALSE)","v":0},{"$f":"VLOOKUP($M22,$BR$22:$BY$25,8,FALSE)","v":0},null,null,null,null,null,null,null,null,{"$f":"C22","v":"2024-06-16"},"Slovenien","-","Danmark",{"$f":"IF(G22=\"\",\"\",G22)","v":""},"-",{"$f":"IF(I22=\"\",\"\",I22)","v":""},{"$f":"J22","v":""},null,{"$f":"IF(AG22>AI22,1,0)","v":0},{"$f":"IF(AI22>AG22,1,0)","v":0},{"$f":"IF(AND(AG22=AI22,AG22<>\"\"),1,0)","v":0},{"$f":"IF(AND(AG22=AI22,AG22<>\"\"),1,0)","v":0},{"$f":"IF(AG22<AI22,1,0)","v":0},{"$f":"IF(AI22<AG22,1,)","v":0},{"$f":"IF(ISERROR(VLOOKUP(AD22,CD:CD,1,FALSE)),0,1)*IF(ISERROR(VLOOKUP(AF22,CD:CD,1,FALSE)),0,1)*AL22","v":0},{"$f":"IF(ISERROR(VLOOKUP(AD22,CD:CD,1,FALSE)),0,1)*IF(ISERROR(VLOOKUP(AF22,CD:CD,1,FALSE)),0,1)*AM22","v":0},{"$f":"IF(ISERROR(VLOOKUP(AD22,CD:CD,1,FALSE)),0,1)*IF(ISERROR(VLOOKUP(AF22,CD:CD,1,FALSE)),0,1)*AN22","v":0},{"$f":"IF(ISERROR(VLOOKUP(AD22,CD:CD,1,FALSE)),0,1)*IF(ISERROR(VLOOKUP(AF22,CD:CD,1,FALSE)),0,1)*AO22","v":0},{"$f":"IF(ISERROR(VLOOKUP(AD22,CD:CD,1,FALSE)),0,1)*IF(ISERROR(VLOOKUP(AF22,CD:CD,1,FALSE)),0,1)*AP22","v":0},{"$f":"IF(ISERROR(VLOOKUP(AD22,CD:CD,1,FALSE)),0,1)*IF(ISERROR(VLOOKUP(AF22,CD:CD,1,FALSE)),0,1)*AQ22","v":0},{"$f":"IF(ISERROR(VLOOKUP(AD22,CX:CX,1,FALSE)),0,1)*IF(ISERROR(VLOOKUP(AF22,CX:CX,1,FALSE)),0,1)*AL22","v":0},{"$f":"IF(ISERROR(VLOOKUP(AD22,CX:CX,1,FALSE)),0,1)*IF(ISERROR(VLOOKUP(AF22,CX:CX,1,FALSE)),0,1)*AM22","v":0},{"$f":"IF(ISERROR(VLOOKUP(AD22,CX:CX,1,FALSE)),0,1)*IF(ISERROR(VLOOKUP(AF22,CX:CX,1,FALSE)),0,1)*AN22","v":0},{"$f":"IF(ISERROR(VLOOKUP(AD22,CX:CX,1,FALSE)),0,1)*IF(ISERROR(VLOOKUP(AF22,CX:CX,1,FALSE)),0,1)*AO22","v":0},{"$f":"IF(ISERROR(VLOOKUP(AD22,CX:CX,1,FALSE)),0,1)*IF(ISERROR(VLOOKUP(AF22,CX:CX,1,FALSE)),0,1)*AP22","v":0},{"$f":"IF(ISERROR(VLOOKUP(AD22,CX:CX,1,FALSE)),0,1)*IF(ISERROR(VLOOKUP(AF22,CX:CX,1,FALSE)),0,1)*AQ22","v":0},{"$f":"IF(ISERROR(VLOOKUP(AD22,DR:DR,1,FALSE)),0,1)*IF(ISERROR(VLOOKUP(AF22,DR:DR,1,FALSE)),0,1)*AL22","v":0},{"$f":"IF(ISERROR(VLOOKUP(AD22,DR:DR,1,FALSE)),0,1)*IF(ISERROR(VLOOKUP(AF22,DR:DR,1,FALSE)),0,1)*AM22","v":0},{"$f":"IF(ISERROR(VLOOKUP(AD22,DR:DR,1,FALSE)),0,1)*IF(ISERROR(VLOOKUP(AF22,DR:DR,1,FALSE)),0,1)*AN22","v":0},{"$f":"IF(ISERROR(VLOOKUP(AD22,DR:DR,1,FALSE)),0,1)*IF(ISERROR(VLOOKUP(AF22,DR:DR,1,FALSE)),0,1)*AO22","v":0},{"$f":"IF(ISERROR(VLOOKUP(AD22,DR:DR,1,FALSE)),0,1)*IF(ISERROR(VLOOKUP(AF22,DR:DR,1,FALSE)),0,1)*AP22","v":0},{"$f":"IF(ISERROR(VLOOKUP(AD22,DR:DR,1,FALSE)),0,1)*IF(ISERROR(VLOOKUP(AF22,DR:DR,1,FALSE)),0,1)*AQ22","v":0},{"$f":"IF(ISERROR(VLOOKUP(AD22,EL:EL,1,FALSE)),0,1)*IF(ISERROR(VLOOKUP(AF22,EL:EL,1,FALSE)),0,1)*AL22","v":0},{"$f":"IF(ISERROR(VLOOKUP(AD22,EL:EL,1,FALSE)),0,1)*IF(ISERROR(VLOOKUP(AF22,EL:EL,1,FALSE)),0,1)*AM22","v":0},{"$f":"IF(ISERROR(VLOOKUP(AD22,EL:EL,1,FALSE)),0,1)*IF(ISERROR(VLOOKUP(AF22,EL:EL,1,FALSE)),0,1)*AN22","v":0},{"$f":"IF(ISERROR(VLOOKUP(AD22,EL:EL,1,FALSE)),0,1)*IF(ISERROR(VLOOKUP(AF22,EL:EL,1,FALSE)),0,1)*AO22","v":0},{"$f":"IF(ISERROR(VLOOKUP(AD22,EL:EL,1,FALSE)),0,1)*IF(ISERROR(VLOOKUP(AF22,EL:EL,1,FALSE)),0,1)*AP22","v":0},{"$f":"IF(ISERROR(VLOOKUP(AD22,EL:EL,1,FALSE)),0,1)*IF(ISERROR(VLOOKUP(AF22,EL:EL,1,FALSE)),0,1)*AQ22","v":0},null,null,"Slovenien",{"$f":"(SUMIF(AD$4:AD$54,BR22,AL$4:AL$54)+SUMIF(AF$4:AF$54,BR22,AM$4:AM$54))","v":0},{"$f":"(SUMIF(AD$4:AD$54,BR22,AN$4:AN$54)+SUMIF(AF$4:AF$54,BR22,AO$4:AO$54))","v":0},{"$f":"(SUMIF(AD$4:AD$54,BR22,AP$4:AP$54)+SUMIF(AF$4:AF$54,BR22,AQ$4:AQ$54))","v":0},{"$f":"SUMIF($AD$4:$AD$54,BR22,$AG$4:$AG$54)+SUMIF($AF$4:$AF$54,BR22,$AI$4:$AI$54)","v":0},{"$f":"SUMIF($AD$4:$AD$54,BR22,$AI$4:$AI$54)+SUMIF($AF$4:$AF$54,BR22,$AG$4:$AG$54)","v":0},{"$f":"BV22-BW22","v":0},{"$f":"IFERROR(BS22*3+BT22*1,0)","v":0},"C",{"$f":"RANK(BY22,BY22:BY25)","v":1},{"$f":"SUMPRODUCT((BY22:BY25=BY22)*(BX22:BX25>BX22))","v":0},null,{"$f":"IF(CA22=1,BR22,)","v":"Slovenien"},{"$f":"(SUMIF($AD$4:$AD$54,$BR22,$AR$4:$AR$54)+SUMIF($AF$4:$AF$54,$BR22,$AS$4:$AS$54))","v":0},{"$f":"(SUMIF($AD$4:$AD$54,$BR22,$AT$4:$AT$54)+SUMIF($AF$4:$AF$54,$BR22,$AU$4:$AU$54))","v":0},{"$f":"(SUMIF($AD$4:$AD$54,$BR22,$AV$4:$AV$54)+SUMIF($AF$4:$AF$54,$BR22,$AW$4:$AW$54))","v":0},{"$f":"IFERROR(CE22*3+CF22*1,0)","v":0},{"$f":"BZ22","v":"C"},{"$f":"IF(CD22>0,RANK(CH22,CH22:CH25),)","v":1},{"$f":"IF(AND(CD22>0,COUNTIF(CJ22:CJ25,CJ22)>1),SUMIFS($AG$4:$AG$54,$AD$4:$AD$54,$BR22,$K$4:$K$54,1)+SUMIFS($AI$4:$AI$54,$AF$4:$AF$54,$BR22,$K$4:$K$54,1)-SUMIFS($AI$4:$AI$54,$AD$4:$AD$54,$BR22,$K$4:$K$54,1)-SUMIFS($AG$4:$AG$54,$AF$4:$AF$54,$BR22,$K$4:$K$54,1),)","v":0},{"$f":"IF(AND(CD22>0,COUNTIF(CJ22:CJ25,CJ22)>1),CJ22+RANK(CK22,CK22:CK25)-1,CJ22)","v":1},{"$f":"IF(AND(CD22>0,COUNTIF(CL22:CL25,CL22)>1),SUMIFS($AG$4:$AG$54,$AD$4:$AD$54,$BR22,$K$4:$K$54,1)+SUMIFS($AI$4:$AI$54,$AF$4:$AF$54,$BR22,$K$4:$K$54,1),)","v":0},{"$f":"IF(AND(CD22>0,COUNTIF(CL22:CL25,CL22)>1),CL22+RANK(CM22,CM22:CM25)-1,CL22)","v":1},{"$f":"IF(CN22=0,\"\",CN22)","v":1},{"$f":"IF(OR(CO22=\"\",COUNTIF(CO22:CO25,CO22)=1),\"\",$BX22)","v":0},{"$f":"IF(CO22=\"\",\"\",IF(COUNTIF(CO22:CO25,CO22)=1,CO22,CO22+RANK(CP22,CP22:CP25,0)-1))","v":1},{"$f":"IF(OR(CQ22=\"\",COUNTIF(CQ22:CQ25,CQ22)=1),\"\",$BV22)","v":0},{"$f":"IF(CO22=\"\",\"\",IF(COUNTIF(CQ22:CQ25,CQ22)=1,CQ22,CQ22+RANK(CR22,CR22:CR25,0)-1))","v":1},{"$f":"IF(OR(CS22=\"\",COUNTIF(CS22:CS25,CS22)=1),\"\",$BS22)","v":0},{"$f":"IF(CO22=\"\",\"\",IF(COUNTIF(CS22:CS25,CS22)=1,CS22,CS22+RANK(CT22,CT22:CT25,0)-1))","v":1},{"$f":"IF(CD22>0,BK20+RANK(CU22,CU22:CU25,1),)","v":1},null,{"$f":"IF(CA22=2,BR22,)","v":0},{"$f":"(SUMIF($AD$4:$AD$54,$BR22,$AX$4:$AX$54)+SUMIF($AF$4:$AF$54,$BR22,$AY$4:$AY$54))","v":0},{"$f":"(SUMIF($AD$4:$AD$54,$BR22,$AZ$4:$AZ$54)+SUMIF($AF$4:$AF$54,$BR22,$BA$4:$BA$54))","v":0},{"$f":"(SUMIF($AD$4:$AD$54,$BR22,$BB$4:$BB$54)+SUMIF($AF$4:$AF$54,$BR22,$BC$4:$BC$54))","v":0},{"$f":"IFERROR(CY22*3+CZ22*1,0)","v":0},{"$f":"$BZ22","v":"C"},{"$f":"IF(CX22>0,RANK(DB22,DB22:DB25)+CE20,)","v":0},{"$f":"IF(AND(CX22>0,COUNTIF(DD22:DD25,DD22)>1),SUMIFS($AG$4:$AG$54,$AD$4:$AD$54,$BR22,$K$4:$K$54,2)+SUMIFS($AI$4:$AI$54,$AF$4:$AF$54,$BR22,$K$4:$K$54,2)-SUMIFS($AI$4:$AI$54,$AD$4:$AD$54,$BR22,$K$4:$K$54,2)-SUMIFS($AG$4:$AG$54,$AF$4:$AF$54,$BR22,$K$4:$K$54,2),)","v":0},{"$f":"IF(AND(CX22>0,COUNTIF(DD22:DD25,DD22)>1),DD22+RANK(DE22,DE22:DE25)-1,DD22)","v":0},{"$f":"IF(AND(CX22>0,COUNTIF(DF22:DF25,DF22)>1),SUMIFS($AG$4:$AG$54,$AD$4:$AD$54,$BR22,$K$4:$K$54,2)+SUMIFS($AI$4:$AI$54,$AF$4:$AF$54,$BR22,$K$4:$K$54,2),)","v":0},{"$f":"IF(AND(CX22>0,COUNTIF(DF22:DF25,DF22)>1),DF22+RANK(DG22,DG22:DG25)-1,DF22)","v":0},{"$f":"IF(DH22=0,\"\",DH22)","v":""},{"$f":"IF(OR(DI22=\"\",COUNTIF(DI22:DI25,DI22)=1),\"\",$BX22)","v":""},{"$f":"IF(DI22=\"\",\"\",IF(COUNTIF(DI22:DI25,DI22)=1,DI22,DI22+RANK(DJ22,DJ22:DJ25,0)-1))","v":""},{"$f":"IF(OR(DK22=\"\",COUNTIF(DK22:DK25,DK22)=1),\"\",$BV22)","v":""},{"$f":"IF(DI22=\"\",\"\",IF(COUNTIF(DK22:DK25,DK22)=1,DK22,DK22+RANK(DL22,DL22:DL25,0)-1))","v":""},{"$f":"IF(OR(DM22=\"\",COUNTIF(DM22:DM25,DM22)=1),\"\",$BS22)","v":""},{"$f":"IF(DI22=\"\",\"\",IF(COUNTIF(DM22:DM25,DM22)=1,DM22,DM22+RANK(DN22,DN22:DN25,0)-1))","v":""},{"$f":"IF(CX22>0,CE20+RANK(DO22,DO22:DO25,1),)","v":0},null,{"$f":"IF(CA22=3,BR22,)","v":0},{"$f":"(SUMIF($AD$4:$AD$54,BR22,$BD$4:$BD$54)+SUMIF($AF$4:$AF$54,BR22,$BE$4:$BE$54))","v":0},{"$f":"(SUMIF($AD$4:$AD$54,BR22,$BF$4:$BF$54)+SUMIF($AF$4:$AF$54,BR22,$BG$4:$BG$54))","v":0},{"$f":"(SUMIF($AD$4:$AD$54,BR22,$BH$4:$BH$54)+SUMIF($AF$4:$AF$54,BR22,$BI$4:$BI$54))","v":0},{"$f":"IFERROR(DS22*3+DT22*1,0)","v":0},{"$f":"BZ22","v":"C"},{"$f":"IF(DR22>0,RANK(DV22,DV22:DV25)+CE20+CY20,)","v":0},{"$f":"IF(AND(DR22>0,COUNTIF(DX22:DX25,DX22)>1),SUMIFS($AG$4:$AG$54,$AD$4:$AD$54,$BR22,$K$4:$K$54,3)+SUMIFS($AI$4:$AI$54,$AF$4:$AF$54,$BR22,$K$4:$K$54,3)-SUMIFS($AI$4:$AI$54,$AD$4:$AD$54,$BR22,$K$4:$K$54,3)-SUMIFS($AG$4:$AG$54,$AF$4:$AF$54,$BR22,$K$4:$K$54,3),)","v":0},{"$f":"IF(AND(DR22>0,COUNTIF(DX22:DX25,DX22)>1),DX22+RANK(DY22,DY22:DY25)-1,DX22)","v":0},{"$f":"IF(AND(DR22>0,COUNTIF(DZ22:DZ25,DZ22)>1),SUMIFS($AG$4:$AG$54,$AD$4:$AD$54,$BR22,$K$4:$K$54,3)+SUMIFS($AI$4:$AI$54,$AF$4:$AF$54,$BR22,$K$4:$K$54,3),)","v":0},{"$f":"IF(AND(DR22>0,COUNTIF(DZ22:DZ25,DZ22)>1),DZ22+RANK(EA22,EA22:EA25)-1,DZ22)","v":0},{"$f":"IF(EB22=0,\"\",EB22)","v":""},{"$f":"IF(OR(EC22=\"\",COUNTIF(EC22:EC25,EC22)=1),\"\",$BX22)","v":""},{"$f":"IF(EC22=\"\",\"\",IF(COUNTIF(EC22:EC25,EC22)=1,EC22,EC22+RANK(ED22,ED22:ED25,0)-1))","v":""},{"$f":"IF(OR(EE22=\"\",COUNTIF(EE22:EE25,EE22)=1),\"\",$BV22)","v":""},{"$f":"IF(EC22=\"\",\"\",IF(COUNTIF(EE22:EE25,EE22)=1,EE22,EE22+RANK(EF22,EF22:EF25,0)-1))","v":""},{"$f":"IF(OR(EG22=\"\",COUNTIF(EG22:EG25,EG22)=1),\"\",$BS22)","v":""},{"$f":"IF(EC22=\"\",\"\",IF(COUNTIF(EG22:EG25,EG22)=1,EG22,EG22+RANK(EH22,EH22:EH25,0)-1))","v":""},{"$f":"IF(DR22>0,CE20+CY20+RANK(EI22,EI22:EI25,1),)","v":0},null,{"$f":"IF(CA22=4,BR22,)","v":0},{"$f":"(SUMIF($AD$4:$AD$54,$BR22,$BJ$4:$BJ$54)+SUMIF($AF$4:$AF$54,$BR22,$BK$4:$BK$54))","v":0},{"$f":"(SUMIF($AD$4:$AD$54,$BR22,$BL$4:$BL$54)+SUMIF($AF$4:$AF$54,$BR22,$BM$4:$BM$54))","v":0},{"$f":"(SUMIF($AD$4:$AD$54,$BR22,$BN$4:$BN$54)+SUMIF($AF$4:$AF$54,$BR22,$BO$4:$BO$54))","v":0},{"$f":"IFERROR(EM22*3+EN22*1,0)","v":0},{"$f":"$BZ22","v":"C"},{"$f":"IF(EL22>0,RANK(EP22,EP22:EP25)+CE20+CY20+DS20,)","v":0},{"$f":"IF(AND(EL22>0,COUNTIF(ER22:ER25,ER22)>1),SUMIFS($AG$4:$AG$54,$AD$4:$AD$54,$BR22,$K$4:$K$54,4)+SUMIFS($AI$4:$AI$54,$AF$4:$AF$54,$BR22,$K$4:$K$54,4)-SUMIFS($AI$4:$AI$54,$AD$4:$AD$54,$BR22,$K$4:$K$54,4)-SUMIFS($AG$4:$AG$54,$AF$4:$AF$54,$BR22,$K$4:$K$54,4),)","v":0},{"$f":"IF(AND(EL22>0,COUNTIF($ER$4:$ER$7,ER22)>1),ER22+RANK(ES22,$ES$4:$ES$7)-1,ER22)","v":0},{"$f":"IF(AND(EL22>0,COUNTIF(ET22:ET25,ET22)>1),SUMIFS($AG$4:$AG$54,$AD$4:$AD$54,$BR22,$K$4:$K$54,4)+SUMIFS($AI$4:$AI$54,$AF$4:$AF$54,$BR22,$K$4:$K$54,4),)","v":0},{"$f":"IF(AND(EL22>0,COUNTIF(ET22:ET25,ET22)>1),ET22+RANK(EU22,EU22:EU25)-1,ET22)","v":0},{"$f":"IF(EV22=0,\"\",EV22)","v":""},{"$f":"IF(OR(EW22=\"\",COUNTIF(EW22:EW25,EW22)=1),\"\",$BX22)","v":""},{"$f":"IF(EW22=\"\",\"\",IF(COUNTIF(EW22:EW25,EW22)=1,EW22,EW22+RANK(EX22,EX22:EX25,0)-1))","v":""},{"$f":"IF(OR(EY22=\"\",COUNTIF(EY22:EY25,EY22)=1),\"\",$BV22)","v":""},{"$f":"IF(EW22=\"\",\"\",IF(COUNTIF(EY22:EY25,EY22)=1,EY22,EY22+RANK(EZ22,EZ22:EZ25,0)-1))","v":""},{"$f":"IF(OR(FA22=\"\",COUNTIF(FA22:FA25,FA22)=1),\"\",$BS22)","v":""},{"$f":"IF(EW22=\"\",\"\",IF(COUNTIF(FA22:FA25,FA22)=1,FA22,FA22+RANK(FB22,FB22:FB25,0)-1))","v":""},{"$f":"IF(EL22>0,CE20+CY20+DS20+RANK(FC22,FC22:FC25,1),)","v":0},null,{"$f":"IFERROR(VLOOKUP(FH22,CD21:CV25,19,FALSE),IFERROR(VLOOKUP(FH22,CX21:DP25,19,FALSE),IFERROR(VLOOKUP(FH22,DR21:EJ25,19,FALSE),VLOOKUP(FH22,EL21:FD25,19,FALSE))))","v":1},{"$f":"RANK(FF22,FF22:FF25,1)+COUNTIF(FF22:FF22,FF22)-1","v":1},{"$f":"BR22","v":"Slovenien"},null,null,null,null,null,null,null,null,null,null,null,null,null,null,null,null,null,null,null,null,null,null,null,null,null,19]
[null,null,"2024-06-16","Serbien","-","England",null,"-",null,{"$f":"IF(OR(ISBLANK(G23),ISBLANK(I23)),\"\",IF(G23>I23,1,IF(G23<I23,2,\"X\")))","v":""},{"$f":"IF(VLOOKUP(D23,BR21:CA25,10,FALSE)=VLOOKUP(F23,BR21:CA25,10,FALSE),VLOOKUP(D23,BR21:CA25,10,FALSE),\"-\")","v":1},2,{"$f":"VLOOKUP(L23,FG22:FH25,2,FALSE)","v":"Danmark"},{"$f":"VLOOKUP($M23,$BR$22:$BY$25,2,FALSE)","v":0},{"$f":"VLOOKUP($M23,$BR$22:$BY$25,3,FALSE)","v":0},{"$f":"VLOOKUP($M23,$BR$22:$BY$25,4,FALSE)","v":0},{"$f":"VLOOKUP($M23,$BR$22:$BY$25,5,FALSE)","v":0},{"$f":"VLOOKUP($M23,$BR$22:$BY$25,6,FALSE)","v":0},{"$f":"VLOOKUP($M23,$BR$22:$BY$25,7,FALSE)","v":0},{"$f":"VLOOKUP($M23,$BR$22:$BY$25,8,FALSE)","v":0},null,null,null,null,null,null,null,null,"2024-06-16","Serbien","-","England","","-","","",null,0,0,0,0,0,0,0,0,0,0,0,0,0,0,0,0,0,0,0,0,0,0,0,0,0,0,0,0,0,0,null,null,"Danmark",{"$f":"(SUMIF(AD$4:AD$54,BR23,AL$4:AL$54)+SUMIF(AF$4:AF$54,BR23,AM$4:AM$54))","v":0},{"$f":"(SUMIF(AD$4:AD$54,BR23,AN$4:AN$54)+SUMIF(AF$4:AF$54,BR23,AO$4:AO$54))","v":0},{"$f":"(SUMIF(AD$4:AD$54,BR23,AP$4:AP$54)+SUMIF(AF$4:AF$54,BR23,AQ$4:AQ$54))","v":0},{"$f":"SUMIF($AD$4:$AD$54,BR23,$AG$4:$AG$54)+SUMIF($AF$4:$AF$54,BR23,$AI$4:$AI$54)","v":0},{"$f":"SUMIF($AD$4:$AD$54,BR23,$AI$4:$AI$54)+SUMIF($AF$4:$AF$54,BR23,$AG$4:$AG$54)","v":0},{"$f":"BV23-BW23","v":0},{"$f":"IFERROR(BS23*3+BT23*1,0)","v":0},"C",{"$f":"RANK(BY23,BY22:BY25)","v":1},{"$f":"SUMPRODUCT((BY22:BY25=BY23)*(BX22:BX25>BX23))","v":0},null,{"$f":"IF(CA23=1,BR23,)","v":"Danmark"},{"$f":"(SUMIF($AD$4:$AD$54,$BR23,$AR$4:$AR$54)+SUMIF($AF$4:$AF$54,$BR23,$AS$4:$AS$54))","v":0},{"$f":"(SUMIF($AD$4:$AD$54,$BR23,$AT$4:$AT$54)+SUMIF($AF$4:$AF$54,$BR23,$AU$4:$AU$54))","v":0},{"$f":"(SUMIF($AD$4:$AD$54,$BR23,$AV$4:$AV$54)+SUMIF($AF$4:$AF$54,$BR23,$AW$4:$AW$54))","v":0},{"$f":"IFERROR(CE23*3+CF23*1,0)","v":0},{"$f":"BZ23","v":"C"},{"$f":"IF(CD23>0,RANK(CH23,CH22:CH25),)","v":1},{"$f":"IF(AND(CD23>0,COUNTIF(CJ22:CJ25,CJ23)>1),SUMIFS($AG$4:$AG$54,$AD$4:$AD$54,BR23,$K$4:$K$54,1)+SUMIFS($AI$4:$AI$54,$AF$4:$AF$54,BR23,$K$4:$K$54,1)-SUMIFS($AI$4:$AI$54,$AD$4:$AD$54,BR23,$K$4:$K$54,1)-SUMIFS($AG$4:$AG$54,$AF$4:$AF$54,BR23,$K$4:$K$54,1),)","v":0},{"$f":"IF(AND(CD23>0,COUNTIF(CJ22:CJ25,CJ23)>1),CJ23+RANK(CK23,CK22:CK25)-1,CJ23)","v":1},{"$f":"IF(AND(CD23>0,COUNTIF(CL22:CL25,CL23)>1),SUMIFS($AG$4:$AG$54,$AD$4:$AD$54,BR23,$K$4:$K$54,1)+SUMIFS($AI$4:$AI$54,$AF$4:$AF$54,BR23,$K$4:$K$54,1),)","v":0},{"$f":"IF(AND(CD23>0,COUNTIF(CL22:CL25,CL23)>1),CL23+RANK(CM23,CM22:CM25)-1,CL23)","v":1},{"$f":"IF(CN23=0,\"\",CN23)","v":1},{"$f":"IF(OR(CO23=\"\",COUNTIF(CO22:CO25,CO23)=1),\"\",$BX23)","v":0},{"$f":"IF(CO23=\"\",\"\",IF(COUNTIF(CO22:CO25,CO23)=1,CO23,CO23+RANK(CP23,CP22:CP25,0)-1))","v":1},{"$f":"IF(OR(CQ23=\"\",COUNTIF(CQ22:CQ25,CQ23)=1),\"\",$BV23)","v":0},{"$f":"IF(CO23=\"\",\"\",IF(COUNTIF(CQ22:CQ25,CQ23)=1,CQ23,CQ23+RANK(CR23,CR22:CR25,0)-1))","v":1},{"$f":"IF(OR(CS23=\"\",COUNTIF(CS22:CS25,CS23)=1),\"\",$BS23)","v":0},{"$f":"IF(CO23=\"\",\"\",IF(COUNTIF(CS22:CS25,CS23)=1,CS23,CS23+RANK(CT23,CT22:CT25,0)-1))","v":1},{"$f":"IF(CD23>0,BK20+RANK(CU23,CU22:CU25,1),)","v":1},null,{"$f":"IF(CA23=2,BR23,)","v":0},{"$f":"(SUMIF($AD$4:$AD$54,$BR23,$AX$4:$AX$54)+SUMIF($AF$4:$AF$54,$BR23,$AY$4:$AY$54))","v":0},{"$f":"(SUMIF($AD$4:$AD$54,$BR23,$AZ$4:$AZ$54)+SUMIF($AF$4:$AF$54,$BR23,$BA$4:$BA$54))","v":0},{"$f":"(SUMIF($AD$4:$AD$54,$BR23,$BB$4:$BB$54)+SUMIF($AF$4:$AF$54,$BR23,$BC$4:$BC$54))","v":0},{"$f":"IFERROR(CY23*3+CZ23*1,0)","v":0},{"$f":"$BZ23","v":"C"},{"$f":"IF(CX23>0,RANK(DB23,DB22:DB25)+CE20,)","v":0},{"$f":"IF(AND(CX23>0,COUNTIF(DD22:DD25,DD23)>1),SUMIFS($AG$4:$AG$54,$AD$4:$AD$54,BR23,$K$4:$K$54,2)+SUMIFS($AI$4:$AI$54,$AF$4:$AF$54,BR23,$K$4:$K$54,2)-SUMIFS($AI$4:$AI$54,$AD$4:$AD$54,BR23,$K$4:$K$54,2)-SUMIFS($AG$4:$AG$54,$AF$4:$AF$54,BR23,$K$4:$K$54,2),)","v":0},{"$f":"IF(AND(CX23>0,COUNTIF(DD22:DD25,DD23)>1),DD23+RANK(DE23,DE22:DE25)-1,DD23)","v":0},{"$f":"IF(AND(CX23>0,COUNTIF(DF22:DF25,DF23)>1),SUMIFS($AG$4:$AG$54,$AD$4:$AD$54,BR23,$K$4:$K$54,2)+SUMIFS($AI$4:$AI$54,$AF$4:$AF$54,BR23,$K$4:$K$54,2),)","v":0},{"$f":"IF(AND(CX23>0,COUNTIF(DF22:DF25,DF23)>1),DF23+RANK(DG23,DG22:DG25)-1,DF23)","v":0},{"$f":"IF(DH23=0,\"\",DH23)","v":""},{"$f":"IF(OR(DI23=\"\",COUNTIF(DI22:DI25,DI23)=1),\"\",$BX23)","v":""},{"$f":"IF(DI23=\"\",\"\",IF(COUNTIF(DI22:DI25,DI23)=1,DI23,DI23+RANK(DJ23,DJ22:DJ25,0)-1))","v":""},{"$f":"IF(OR(DK23=\"\",COUNTIF(DK22:DK25,DK23)=1),\"\",$BV23)","v":""},{"$f":"IF(DI23=\"\",\"\",IF(COUNTIF(DK22:DK25,DK23)=1,DK23,DK23+RANK(DL23,DL22:DL25,0)-1))","v":""},{"$f":"IF(OR(DM23=\"\",COUNTIF(DM22:DM25,DM23)=1),\"\",$BS23)","v":""},{"$f":"IF(DI23=\"\",\"\",IF(COUNTIF(DM22:DM25,DM23)=1,DM23,DM23+RANK(DN23,DN22:DN25,0)-1))","v":""},{"$f":"IF(CX23>0,CE20+RANK(DO23,DO22:DO25,1),)","v":0},null,{"$f":"IF(CA23=3,BR23,)","v":0},{"$f":"(SUMIF(AD$4:AD$54,BR23,BD$4:BD$54)+SUMIF(AF$4:AF$54,BR23,BE$4:BE$54))","v":0},{"$f":"(SUMIF(AD$4:AD$54,BR23,BF$4:BF$54)+SUMIF(AF$4:AF$54,BR23,BG$4:BG$54))","v":0},{"$f":"(SUMIF(AD$4:AD$54,BR23,BH$4:BH$54)+SUMIF(AF$4:AF$54,BR23,BI$4:BI$54))","v":0},{"$f":"IFERROR(DS23*3+DT23*1,0)","v":0},{"$f":"BZ23","v":"C"},{"$f":"IF(DR23>0,RANK(DV23,DV22:DV25)+CE20+CY20,)","v":0},{"$f":"IF(AND(DR23>0,COUNTIF(DX22:DX25,DX23)>1),SUMIFS($AG$4:$AG$54,$AD$4:$AD$54,BR23,$K$4:$K$54,3)+SUMIFS($AI$4:$AI$54,$AF$4:$AF$54,BR23,$K$4:$K$54,3)-SUMIFS($AI$4:$AI$54,$AD$4:$AD$54,BR23,$K$4:$K$54,3)-SUMIFS($AG$4:$AG$54,$AF$4:$AF$54,BR23,$K$4:$K$54,3),)","v":0},{"$f":"IF(AND(DR23>0,COUNTIF(DX22:DX25,DX23)>1),DX23+RANK(DY23,DY22:DY25)-1,DX23)","v":0},{"$f":"IF(AND(DR23>0,COUNTIF(DZ22:DZ25,DZ23)>1),SUMIFS($AG$4:$AG$54,$AD$4:$AD$54,BR23,$K$4:$K$54,3)+SUMIFS($AI$4:$AI$54,$AF$4:$AF$54,BR23,$K$4:$K$54,3),)","v":0},{"$f":"IF(AND(DR23>0,COUNTIF(DZ22:DZ25,DZ23)>1),DZ23+RANK(EA23,EA22:EA25)-1,DZ23)","v":0},{"$f":"IF(EB23=0,\"\",EB23)","v":""},{"$f":"IF(OR(EC23=\"\",COUNTIF(EC22:EC25,EC23)=1),\"\",$BX23)","v":""},{"$f":"IF(EC23=\"\",\"\",IF(COUNTIF(EC22:EC25,EC23)=1,EC23,EC23+RANK(ED23,ED22:ED25,0)-1))","v":""},{"$f":"IF(OR(EE23=\"\",COUNTIF(EE22:EE25,EE23)=1),\"\",$BV23)","v":""},{"$f":"IF(EC23=\"\",\"\",IF(COUNTIF(EE22:EE25,EE23)=1,EE23,EE23+RANK(EF23,EF22:EF25,0)-1))","v":""},{"$f":"IF(OR(EG23=\"\",COUNTIF(EG22:EG25,EG23)=1),\"\",$BS23)","v":""},{"$f":"IF(EC23=\"\",\"\",IF(COUNTIF(EG22:EG25,EG23)=1,EG23,EG23+RANK(EH23,EH22:EH25,0)-1))","v":""},{"$f":"IF(DR23>0,CE20+CY20+RANK(EI23,EI22:EI25,1),)","v":0},null,{"$f":"IF(CA23=4,BR23,)","v":0},{"$f":"(SUMIF($AD$4:$AD$54,$BR23,$BJ$4:$BJ$54)+SUMIF($AF$4:$AF$54,$BR23,$BK$4:$BK$54))","v":0},{"$f":"(SUMIF($AD$4:$AD$54,$BR23,$BL$4:$BL$54)+SUMIF($AF$4:$AF$54,$BR23,$BM$4:$BM$54))","v":0},{"$f":"(SUMIF($AD$4:$AD$54,$BR23,$BN$4:$BN$54)+SUMIF($AF$4:$AF$54,$BR23,$BO$4:$BO$54))","v":0},{"$f":"IFERROR(EM23*3+EN23*1,0)","v":0},{"$f":"$BZ23","v":"C"},{"$f":"IF(EL23>0,RANK(EP23,EP22:EP25)+CE20+CY20+DS20,)","v":0},{"$f":"IF(AND(EL23>0,COUNTIF(ER22:ER25,ER23)>1),SUMIFS($AG$4:$AG$54,$AD$4:$AD$54,BR23,$K$4:$K$54,4)+SUMIFS($AI$4:$AI$54,$AF$4:$AF$54,BR23,$K$4:$K$54,4)-SUMIFS($AI$4:$AI$54,$AD$4:$AD$54,BR23,$K$4:$K$54,4)-SUMIFS($AG$4:$AG$54,$AF$4:$AF$54,BR23,$K$4:$K$54,4),)","v":0},{"$f":"IF(AND(EL23>0,COUNTIF($ER$4:$ER$7,ER23)>1),ER23+RANK(ES23,$ES$4:$ES$7)-1,ER23)","v":0},{"$f":"IF(AND(EL23>0,COUNTIF(ET22:ET25,ET23)>1),SUMIFS($AG$4:$AG$54,$AD$4:$AD$54,BR23,$K$4:$K$54,4)+SUMIFS($AI$4:$AI$54,$AF$4:$AF$54,BR23,$K$4:$K$54,4),)","v":0},{"$f":"IF(AND(EL23>0,COUNTIF(ET22:ET25,ET23)>1),ET23+RANK(EU23,EU22:EU25)-1,ET23)","v":0},{"$f":"IF(EV23=0,\"\",EV23)","v":""},{"$f":"IF(OR(EW23=\"\",COUNTIF(EW22:EW25,EW23)=1),\"\",$BX23)","v":""},{"$f":"IF(EW23=\"\",\"\",IF(COUNTIF(EW22:EW25,EW23)=1,EW23,EW23+RANK(EX23,EX22:EX25,0)-1))","v":""},{"$f":"IF(OR(EY23=\"\",COUNTIF(EY22:EY25,EY23)=1),\"\",$BV23)","v":""},{"$f":"IF(EW23=\"\",\"\",IF(COUNTIF(EY22:EY25,EY23)=1,EY23,EY23+RANK(EZ23,EZ22:EZ25,0)-1))","v":""},{"$f":"IF(OR(FA23=\"\",COUNTIF(FA22:FA25,FA23)=1),\"\",$BS23)","v":""},{"$f":"IF(EW23=\"\",\"\",IF(COUNTIF(FA22:FA25,FA23)=1,FA23,FA23+RANK(FB23,FB22:FB25,0)-1))","v":""},{"$f":"IF(EL23>0,CE20+CY20+DS20+RANK(FC23,FC22:FC25,1),)","v":0},null,{"$f":"IFERROR(VLOOKUP(FH23,CD21:CV25,19,FALSE),IFERROR(VLOOKUP(FH23,CX21:DP25,19,FALSE),IFERROR(VLOOKUP(FH23,DR21:EJ25,19,FALSE),VLOOKUP(FH23,EL21:FD25,19,FALSE))))","v":1},{"$f":"RANK(FF23,FF22:FF25,1)+COUNTIF(FF22:FF23,FF23)-1","v":2},{"$f":"BR23","v":"Danmark"},null,null,null,null,null,null,null,null,null,null,null,null,null,null,null,null,null,null,null,null,null,null,null,null,null,20]
[null,null,"2024-06-20","Slovenien","-","Serbien",null,"-",null,"",{"$f":"IF(VLOOKUP(D24,BR21:CA25,10,FALSE)=VLOOKUP(F24,BR21:CA25,10,FALSE),VLOOKUP(D24,BR21:CA25,10,FALSE),\"-\")","v":1},3,{"$f":"VLOOKUP(L24,FG22:FH25,2,FALSE)","v":"Serbien"},{"$f":"VLOOKUP($M24,$BR$22:$BY$25,2,FALSE)","v":0},{"$f":"VLOOKUP($M24,$BR$22:$BY$25,3,FALSE)","v":0},{"$f":"VLOOKUP($M24,$BR$22:$BY$25,4,FALSE)","v":0},{"$f":"VLOOKUP($M24,$BR$22:$BY$25,5,FALSE)","v":0},{"$f":"VLOOKUP($M24,$BR$22:$BY$25,6,FALSE)","v":0},{"$f":"VLOOKUP($M24,$BR$22:$BY$25,7,FALSE)","v":0},{"$f":"VLOOKUP($M24,$BR$22:$BY$25,8,FALSE)","v":0},null,null,null,null,null,null,null,null,"2024-06-20","Slovenien","-","Serbien","","-","","",null,0,0,0,0,0,0,0,0,0,0,0,0,0,0,0,0,0,0,0,0,0,0,0,0,0,0,0,0,0,0,null,null,"Serbien",{"$f":"(SUMIF(AD$4:AD$54,BR24,AL$4:AL$54)+SUMIF(AF$4:AF$54,BR24,AM$4:AM$54))","v":0},{"$f":"(SUMIF(AD$4:AD$54,BR24,AN$4:AN$54)+SUMIF(AF$4:AF$54,BR24,AO$4:AO$54))","v":0},{"$f":"(SUMIF(AD$4:AD$54,BR24,AP$4:AP$54)+SUMIF(AF$4:AF$54,BR24,AQ$4:AQ$54))","v":0},{"$f":"SUMIF($AD$4:$AD$54,BR24,$AG$4:$AG$54)+SUMIF($AF$4:$AF$54,BR24,$AI$4:$AI$54)","v":0},{"$f":"SUMIF($AD$4:$AD$54,BR24,$AI$4:$AI$54)+SUMIF($AF$4:$AF$54,BR24,$AG$4:$AG$54)","v":0},{"$f":"BV24-BW24","v":0},{"$f":"IFERROR(BS24*3+BT24*1,0)","v":0},"C",{"$f":"RANK(BY24,BY22:BY25)","v":1},{"$f":"SUMPRODUCT((BY22:BY25=BY24)*(BX22:BX25>BX24))","v":0},null,{"$f":"IF(CA24=1,BR24,)","v":"Serbien"},0,0,0,0,"C",{"$f":"IF(CD24>0,RANK(CH24,CH22:CH25),)","v":1},{"$f":"IF(AND(CD24>0,COUNTIF(CJ22:CJ25,CJ24)>1),SUMIFS($AG$4:$AG$54,$AD$4:$AD$54,BR24,$K$4:$K$54,1)+SUMIFS($AI$4:$AI$54,$AF$4:$AF$54,BR24,$K$4:$K$54,1)-SUMIFS($AI$4:$AI$54,$AD$4:$AD$54,BR24,$K$4:$K$54,1)-SUMIFS($AG$4:$AG$54,$AF$4:$AF$54,BR24,$K$4:$K$54,1),)","v":0},{"$f":"IF(AND(CD24>0,COUNTIF(CJ22:CJ25,CJ24)>1),CJ24+RANK(CK24,CK22:CK25)-1,CJ24)","v":1},{"$f":"IF(AND(CD24>0,COUNTIF(CL22:CL25,CL24)>1),SUMIFS($AG$4:$AG$54,$AD$4:$AD$54,BR24,$K$4:$K$54,1)+SUMIFS($AI$4:$AI$54,$AF$4:$AF$54,BR24,$K$4:$K$54,1),)","v":0},{"$f":"IF(AND(CD24>0,COUNTIF(CL22:CL25,CL24)>1),CL24+RANK(CM24,CM22:CM25)-1,CL24)","v":1},1,{"$f":"IF(OR(CO24=\"\",COUNTIF(CO22:CO25,CO24)=1),\"\",$BX24)","v":0},{"$f":"IF(CO24=\"\",\"\",IF(COUNTIF(CO22:CO25,CO24)=1,CO24,CO24+RANK(CP24,CP22:CP25,0)-1))","v":1},{"$f":"IF(OR(CQ24=\"\",COUNTIF(CQ22:CQ25,CQ24)=1),\"\",$BV24)","v":0},{"$f":"IF(CO24=\"\",\"\",IF(COUNTIF(CQ22:CQ25,CQ24)=1,CQ24,CQ24+RANK(CR24,CR22:CR25,0)-1))","v":1},{"$f":"IF(OR(CS24=\"\",COUNTIF(CS22:CS25,CS24)=1),\"\",$BS24)","v":0},{"$f":"IF(CO24=\"\",\"\",IF(COUNTIF(CS22:CS25,CS24)=1,CS24,CS24+RANK(CT24,CT22:CT25,0)-1))","v":1},{"$f":"IF(CD24>0,BK20+RANK(CU24,CU22:CU25,1),)","v":1},null,{"$f":"IF(CA24=2,BR24,)","v":0},0,0,0,0,"C",{"$f":"IF(CX24>0,RANK(DB24,DB22:DB25)+CE20,)","v":0},{"$f":"IF(AND(CX24>0,COUNTIF(DD22:DD25,DD24)>1),SUMIFS($AG$4:$AG$54,$AD$4:$AD$54,BR24,$K$4:$K$54,2)+SUMIFS($AI$4:$AI$54,$AF$4:$AF$54,BR24,$K$4:$K$54,2)-SUMIFS($AI$4:$AI$54,$AD$4:$AD$54,BR24,$K$4:$K$54,2)-SUMIFS($AG$4:$AG$54,$AF$4:$AF$54,BR24,$K$4:$K$54,2),)","v":0},{"$f":"IF(AND(CX24>0,COUNTIF(DD22:DD25,DD24)>1),DD24+RANK(DE24,DE22:DE25)-1,DD24)","v":0},{"$f":"IF(AND(CX24>0,COUNTIF(DF22:DF25,DF24)>1),SUMIFS($AG$4:$AG$54,$AD$4:$AD$54,BR24,$K$4:$K$54,2)+SUMIFS($AI$4:$AI$54,$AF$4:$AF$54,BR24,$K$4:$K$54,2),)","v":0},{"$f":"IF(AND(CX24>0,COUNTIF(DF22:DF25,DF24)>1),DF24+RANK(DG24,DG22:DG25)-1,DF24)","v":0},"",{"$f":"IF(OR(DI24=\"\",COUNTIF(DI22:DI25,DI24)=1),\"\",$BX24)","v":""},{"$f":"IF(DI24=\"\",\"\",IF(COUNTIF(DI22:DI25,DI24)=1,DI24,DI24+RANK(DJ24,DJ22:DJ25,0)-1))","v":""},{"$f":"IF(OR(DK24=\"\",COUNTIF(DK22:DK25,DK24)=1),\"\",$BV24)","v":""},{"$f":"IF(DI24=\"\",\"\",IF(COUNTIF(DK22:DK25,DK24)=1,DK24,DK24+RANK(DL24,DL22:DL25,0)-1))","v":""},{"$f":"IF(OR(DM24=\"\",COUNTIF(DM22:DM25,DM24)=1),\"\",$BS24)","v":""},{"$f":"IF(DI24=\"\",\"\",IF(COUNTIF(DM22:DM25,DM24)=1,DM24,DM24+RANK(DN24,DN22:DN25,0)-1))","v":""},{"$f":"IF(CX24>0,CE20+RANK(DO24,DO22:DO25,1),)","v":0},null,{"$f":"IF(CA24=3,BR24,)","v":0},{"$f":"(SUMIF(AD$4:AD$54,BR24,BD$4:BD$54)+SUMIF(AF$4:AF$54,BR24,BE$4:BE$54))","v":0},{"$f":"(SUMIF(AD$4:AD$54,BR24,BF$4:BF$54)+SUMIF(AF$4:AF$54,BR24,BG$4:BG$54))","v":0},{"$f":"(SUMIF(AD$4:AD$54,BR24,BH$4:BH$54)+SUMIF(AF$4:AF$54,BR24,BI$4:BI$54))","v":0},0,{"$f":"BZ24","v":"C"},{"$f":"IF(DR24>0,RANK(DV24,DV22:DV25)+CE20+CY20,)","v":0},{"$f":"IF(AND(DR24>0,COUNTIF(DX22:DX25,DX24)>1),SUMIFS($AG$4:$AG$54,$AD$4:$AD$54,BR24,$K$4:$K$54,3)+SUMIFS($AI$4:$AI$54,$AF$4:$AF$54,BR24,$K$4:$K$54,3)-SUMIFS($AI$4:$AI$54,$AD$4:$AD$54,BR24,$K$4:$K$54,3)-SUMIFS($AG$4:$AG$54,$AF$4:$AF$54,BR24,$K$4:$K$54,3),)","v":0},{"$f":"IF(AND(DR24>0,COUNTIF(DX22:DX25,DX24)>1),DX24+RANK(DY24,DY22:DY25)-1,DX24)","v":0},{"$f":"IF(AND(DR24>0,COUNTIF(DZ22:DZ25,DZ24)>1),SUMIFS($AG$4:$AG$54,$AD$4:$AD$54,BR24,$K$4:$K$54,3)+SUMIFS($AI$4:$AI$54,$AF$4:$AF$54,BR24,$K$4:$K$54,3),)","v":0},{"$f":"IF(AND(DR24>0,COUNTIF(DZ22:DZ25,DZ24)>1),DZ24+RANK(EA24,EA22:EA25)-1,DZ24)","v":0},"",{"$f":"IF(OR(EC24=\"\",COUNTIF(EC22:EC25,EC24)=1),\"\",$BX24)","v":""},{"$f":"IF(EC24=\"\",\"\",IF(COUNTIF(EC22:EC25,EC24)=1,EC24,EC24+RANK(ED24,ED22:ED25,0)-1))","v":""},{"$f":"IF(OR(EE24=\"\",COUNTIF(EE22:EE25,EE24)=1),\"\",$BV24)","v":""},{"$f":"IF(EC24=\"\",\"\",IF(COUNTIF(EE22:EE25,EE24)=1,EE24,EE24+RANK(EF24,EF22:EF25,0)-1))","v":""},{"$f":"IF(OR(EG24=\"\",COUNTIF(EG22:EG25,EG24)=1),\"\",$BS24)","v":""},{"$f":"IF(EC24=\"\",\"\",IF(COUNTIF(EG22:EG25,EG24)=1,EG24,EG24+RANK(EH24,EH22:EH25,0)-1))","v":""},{"$f":"IF(DR24>0,CE20+CY20+RANK(EI24,EI22:EI25,1),)","v":0},null,{"$f":"IF(CA24=4,BR24,)","v":0},0,0,0,0,"C",{"$f":"IF(EL24>0,RANK(EP24,EP22:EP25)+CE20+CY20+DS20,)","v":0},{"$f":"IF(AND(EL24>0,COUNTIF(ER22:ER25,ER24)>1),SUMIFS($AG$4:$AG$54,$AD$4:$AD$54,BR24,$K$4:$K$54,4)+SUMIFS($AI$4:$AI$54,$AF$4:$AF$54,BR24,$K$4:$K$54,4)-SUMIFS($AI$4:$AI$54,$AD$4:$AD$54,BR24,$K$4:$K$54,4)-SUMIFS($AG$4:$AG$54,$AF$4:$AF$54,BR24,$K$4:$K$54,4),)","v":0},0,{"$f":"IF(AND(EL24>0,COUNTIF(ET22:ET25,ET24)>1),SUMIFS($AG$4:$AG$54,$AD$4:$AD$54,BR24,$K$4:$K$54,4)+SUMIFS($AI$4:$AI$54,$AF$4:$AF$54,BR24,$K$4:$K$54,4),)","v":0},{"$f":"IF(AND(EL24>0,COUNTIF(ET22:ET25,ET24)>1),ET24+RANK(EU24,EU22:EU25)-1,ET24)","v":0},"",{"$f":"IF(OR(EW24=\"\",COUNTIF(EW22:EW25,EW24)=1),\"\",$BX24)","v":""},{"$f":"IF(EW24=\"\",\"\",IF(COUNTIF(EW22:EW25,EW24)=1,EW24,EW24+RANK(EX24,EX22:EX25,0)-1))","v":""},{"$f":"IF(OR(EY24=\"\",COUNTIF(EY22:EY25,EY24)=1),\"\",$BV24)","v":""},{"$f":"IF(EW24=\"\",\"\",IF(COUNTIF(EY22:EY25,EY24)=1,EY24,EY24+RANK(EZ24,EZ22:EZ25,0)-1))","v":""},{"$f":"IF(OR(FA24=\"\",COUNTIF(FA22:FA25,FA24)=1),\"\",$BS24)","v":""},{"$f":"IF(EW24=\"\",\"\",IF(COUNTIF(FA22:FA25,FA24)=1,FA24,FA24+RANK(FB24,FB22:FB25,0)-1))","v":""},{"$f":"IF(EL24>0,CE20+CY20+DS20+RANK(FC24,FC22:FC25,1),)","v":0},null,{"$f":"IFERROR(VLOOKUP(FH24,CD21:CV25,19,FALSE),IFERROR(VLOOKUP(FH24,CX21:DP25,19,FALSE),IFERROR(VLOOKUP(FH24,DR21:EJ25,19,FALSE),VLOOKUP(FH24,EL21:FD25,19,FALSE))))","v":1},{"$f":"RANK(FF24,FF22:FF25,1)+COUNTIF(FF22:FF24,FF24)-1","v":3},{"$f":"BR24","v":"Serbien"},null,null,null,null,null,null,null,null,null,null,null,null,null,null,null,null,null,null,null,null,null,null,null,null,null,21]
[null,null,"2024-06-20","Danmark","-","England",null,"-",null,"",{"$f":"IF(VLOOKUP(D25,BR21:CA25,10,FALSE)=VLOOKUP(F25,BR21:CA25,10,FALSE),VLOOKUP(D25,BR21:CA25,10,FALSE),\"-\")","v":1},4,{"$f":"VLOOKUP(L25,FG22:FH25,2,FALSE)","v":"England"},{"$f":"VLOOKUP($M25,$BR$22:$BY$25,2,FALSE)","v":0},{"$f":"VLOOKUP($M25,$BR$22:$BY$25,3,FALSE)","v":0},{"$f":"VLOOKUP($M25,$BR$22:$BY$25,4,FALSE)","v":0},{"$f":"VLOOKUP($M25,$BR$22:$BY$25,5,FALSE)","v":0},{"$f":"VLOOKUP($M25,$BR$22:$BY$25,6,FALSE)","v":0},{"$f":"VLOOKUP($M25,$BR$22:$BY$25,7,FALSE)","v":0},{"$f":"VLOOKUP($M25,$BR$22:$BY$25,8,FALSE)","v":0},null,null,null,null,null,null,null,null,"2024-06-20","Danmark","-","England","","-","","",null,0,0,0,0,0,0,0,0,0,0,0,0,0,0,0,0,0,0,0,0,0,0,0,0,0,0,0,0,0,0,null,null,"England",{"$f":"(SUMIF(AD$4:AD$54,BR25,AL$4:AL$54)+SUMIF(AF$4:AF$54,BR25,AM$4:AM$54))","v":0},{"$f":"(SUMIF(AD$4:AD$54,BR25,AN$4:AN$54)+SUMIF(AF$4:AF$54,BR25,AO$4:AO$54))","v":0},{"$f":"(SUMIF(AD$4:AD$54,BR25,AP$4:AP$54)+SUMIF(AF$4:AF$54,BR25,AQ$4:AQ$54))","v":0},{"$f":"SUMIF($AD$4:$AD$54,BR25,$AG$4:$AG$54)+SUMIF($AF$4:$AF$54,BR25,$AI$4:$AI$54)","v":0},{"$f":"SUMIF($AD$4:$AD$54,BR25,$AI$4:$AI$54)+SUMIF($AF$4:$AF$54,BR25,$AG$4:$AG$54)","v":0},{"$f":"BV25-BW25","v":0},{"$f":"IFERROR(BS25*3+BT25*1,0)","v":0},"C",{"$f":"RANK(BY25,BY22:BY25)","v":1},{"$f":"SUMPRODUCT((BY22:BY25=BY25)*(BX22:BX25>BX25))","v":0},null,{"$f":"IF(CA25=1,BR25,)","v":"England"},0,0,0,0,"C",{"$f":"IF(CD25>0,RANK(CH25,CH22:CH25),)","v":1},{"$f":"IF(AND(CD25>0,COUNTIF(CJ22:CJ25,CJ25)>1),SUMIFS($AG$4:$AG$54,$AD$4:$AD$54,BR25,$K$4:$K$54,1)+SUMIFS($AI$4:$AI$54,$AF$4:$AF$54,BR25,$K$4:$K$54,1)-SUMIFS($AI$4:$AI$54,$AD$4:$AD$54,BR25,$K$4:$K$54,1)-SUMIFS($AG$4:$AG$54,$AF$4:$AF$54,BR25,$K$4:$K$54,1),)","v":0},{"$f":"IF(AND(CD25>0,COUNTIF(CJ22:CJ25,CJ25)>1),CJ25+RANK(CK25,CK22:CK25)-1,CJ25)","v":1},{"$f":"IF(AND(CD25>0,COUNTIF(CL22:CL25,CL25)>1),SUMIFS($AG$4:$AG$54,$AD$4:$AD$54,BR25,$K$4:$K$54,1)+SUMIFS($AI$4:$AI$54,$AF$4:$AF$54,BR25,$K$4:$K$54,1),)","v":0},{"$f":"IF(AND(CD25>0,COUNTIF(CL22:CL25,CL25)>1),CL25+RANK(CM25,CM22:CM25)-1,CL25)","v":1},1,{"$f":"IF(OR(CO25=\"\",COUNTIF(CO22:CO25,CO25)=1),\"\",$BX25)","v":0},{"$f":"IF(CO25=\"\",\"\",IF(COUNTIF(CO22:CO25,CO25)=1,CO25,CO25+RANK(CP25,CP22:CP25,0)-1))","v":1},{"$f":"IF(OR(CQ25=\"\",COUNTIF(CQ22:CQ25,CQ25)=1),\"\",$BV25)","v":0},{"$f":"IF(CO25=\"\",\"\",IF(COUNTIF(CQ22:CQ25,CQ25)=1,CQ25,CQ25+RANK(CR25,CR22:CR25,0)-1))","v":1},{"$f":"IF(OR(CS25=\"\",COUNTIF(CS22:CS25,CS25)=1),\"\",$BS25)","v":0},{"$f":"IF(CO25=\"\",\"\",IF(COUNTIF(CS22:CS25,CS25)=1,CS25,CS25+RANK(CT25,CT22:CT25,0)-1))","v":1},{"$f":"IF(CD25>0,BK20+RANK(CU25,CU22:CU25,1),)","v":1},null,{"$f":"IF(CA25=2,BR25,)","v":0},0,0,0,0,"C",{"$f":"IF(CX25>0,RANK(DB25,DB22:DB25)+CE20,)","v":0},{"$f":"IF(AND(CX25>0,COUNTIF(DD22:DD25,DD25)>1),SUMIFS($AG$4:$AG$54,$AD$4:$AD$54,BR25,$K$4:$K$54,2)+SUMIFS($AI$4:$AI$54,$AF$4:$AF$54,BR25,$K$4:$K$54,2)-SUMIFS($AI$4:$AI$54,$AD$4:$AD$54,BR25,$K$4:$K$54,2)-SUMIFS($AG$4:$AG$54,$AF$4:$AF$54,BR25,$K$4:$K$54,2),)","v":0},{"$f":"IF(AND(CX25>0,COUNTIF(DD22:DD25,DD25)>1),DD25+RANK(DE25,DE22:DE25)-1,DD25)","v":0},{"$f":"IF(AND(CX25>0,COUNTIF(DF22:DF25,DF25)>1),SUMIFS($AG$4:$AG$54,$AD$4:$AD$54,BR25,$K$4:$K$54,2)+SUMIFS($AI$4:$AI$54,$AF$4:$AF$54,BR25,$K$4:$K$54,2),)","v":0},{"$f":"IF(AND(CX25>0,COUNTIF(DF22:DF25,DF25)>1),DF25+RANK(DG25,DG22:DG25)-1,DF25)","v":0},"",{"$f":"IF(OR(DI25=\"\",COUNTIF(DI22:DI25,DI25)=1),\"\",$BX25)","v":""},{"$f":"IF(DI25=\"\",\"\",IF(COUNTIF(DI22:DI25,DI25)=1,DI25,DI25+RANK(DJ25,DJ22:DJ25,0)-1))","v":""},{"$f":"IF(OR(DK25=\"\",COUNTIF(DK22:DK25,DK25)=1),\"\",$BV25)","v":""},{"$f":"IF(DI25=\"\",\"\",IF(COUNTIF(DK22:DK25,DK25)=1,DK25,DK25+RANK(DL25,DL22:DL25,0)-1))","v":""},{"$f":"IF(OR(DM25=\"\",COUNTIF(DM22:DM25,DM25)=1),\"\",$BS25)","v":""},{"$f":"IF(DI25=\"\",\"\",IF(COUNTIF(DM22:DM25,DM25)=1,DM25,DM25+RANK(DN25,DN22:DN25,0)-1))","v":""},{"$f":"IF(CX25>0,CE20+RANK(DO25,DO22:DO25,1),)","v":0},null,{"$f":"IF(CA25=3,BR25,)","v":0},{"$f":"(SUMIF(AD$4:AD$54,BR25,BD$4:BD$54)+SUMIF(AF$4:AF$54,BR25,BE$4:BE$54))","v":0},{"$f":"(SUMIF(AD$4:AD$54,BR25,BF$4:BF$54)+SUMIF(AF$4:AF$54,BR25,BG$4:BG$54))","v":0},{"$f":"(SUMIF(AD$4:AD$54,BR25,BH$4:BH$54)+SUMIF(AF$4:AF$54,BR25,BI$4:BI$54))","v":0},0,{"$f":"BZ25","v":"C"},{"$f":"IF(DR25>0,RANK(DV25,DV22:DV25)+CE20+CY20,)","v":0},{"$f":"IF(AND(DR25>0,COUNTIF(DX22:DX25,DX25)>1),SUMIFS($AG$4:$AG$54,$AD$4:$AD$54,BR25,$K$4:$K$54,3)+SUMIFS($AI$4:$AI$54,$AF$4:$AF$54,BR25,$K$4:$K$54,3)-SUMIFS($AI$4:$AI$54,$AD$4:$AD$54,BR25,$K$4:$K$54,3)-SUMIFS($AG$4:$AG$54,$AF$4:$AF$54,BR25,$K$4:$K$54,3),)","v":0},{"$f":"IF(AND(DR25>0,COUNTIF(DX22:DX25,DX25)>1),DX25+RANK(DY25,DY22:DY25)-1,DX25)","v":0},{"$f":"IF(AND(DR25>0,COUNTIF(DZ22:DZ25,DZ25)>1),SUMIFS($AG$4:$AG$54,$AD$4:$AD$54,BR25,$K$4:$K$54,3)+SUMIFS($AI$4:$AI$54,$AF$4:$AF$54,BR25,$K$4:$K$54,3),)","v":0},{"$f":"IF(AND(DR25>0,COUNTIF(DZ22:DZ25,DZ25)>1),DZ25+RANK(EA25,EA22:EA25)-1,DZ25)","v":0},"",{"$f":"IF(OR(EC25=\"\",COUNTIF(EC22:EC25,EC25)=1),\"\",$BX25)","v":""},{"$f":"IF(EC25=\"\",\"\",IF(COUNTIF(EC22:EC25,EC25)=1,EC25,EC25+RANK(ED25,ED22:ED25,0)-1))","v":""},{"$f":"IF(OR(EE25=\"\",COUNTIF(EE22:EE25,EE25)=1),\"\",$BV25)","v":""},{"$f":"IF(EC25=\"\",\"\",IF(COUNTIF(EE22:EE25,EE25)=1,EE25,EE25+RANK(EF25,EF22:EF25,0)-1))","v":""},{"$f":"IF(OR(EG25=\"\",COUNTIF(EG22:EG25,EG25)=1),\"\",$BS25)","v":""},{"$f":"IF(EC25=\"\",\"\",IF(COUNTIF(EG22:EG25,EG25)=1,EG25,EG25+RANK(EH25,EH22:EH25,0)-1))","v":""},{"$f":"IF(DR25>0,CE20+CY20+RANK(EI25,EI22:EI25,1),)","v":0},null,{"$f":"IF(CA25=4,BR25,)","v":0},0,0,0,0,"C",{"$f":"IF(EL25>0,RANK(EP25,EP22:EP25)+CE20+CY20+DS20,)","v":0},{"$f":"IF(AND(EL25>0,COUNTIF(ER22:ER25,ER25)>1),SUMIFS($AG$4:$AG$54,$AD$4:$AD$54,BR25,$K$4:$K$54,4)+SUMIFS($AI$4:$AI$54,$AF$4:$AF$54,BR25,$K$4:$K$54,4)-SUMIFS($AI$4:$AI$54,$AD$4:$AD$54,BR25,$K$4:$K$54,4)-SUMIFS($AG$4:$AG$54,$AF$4:$AF$54,BR25,$K$4:$K$54,4),)","v":0},0,{"$f":"IF(AND(EL25>0,COUNTIF(ET22:ET25,ET25)>1),SUMIFS($AG$4:$AG$54,$AD$4:$AD$54,BR25,$K$4:$K$54,4)+SUMIFS($AI$4:$AI$54,$AF$4:$AF$54,BR25,$K$4:$K$54,4),)","v":0},{"$f":"IF(AND(EL25>0,COUNTIF(ET22:ET25,ET25)>1),ET25+RANK(EU25,EU22:EU25)-1,ET25)","v":0},"",{"$f":"IF(OR(EW25=\"\",COUNTIF(EW22:EW25,EW25)=1),\"\",$BX25)","v":""},{"$f":"IF(EW25=\"\",\"\",IF(COUNTIF(EW22:EW25,EW25)=1,EW25,EW25+RANK(EX25,EX22:EX25,0)-1))","v":""},{"$f":"IF(OR(EY25=\"\",COUNTIF(EY22:EY25,EY25)=1),\"\",$BV25)","v":""},{"$f":"IF(EW25=\"\",\"\",IF(COUNTIF(EY22:EY25,EY25)=1,EY25,EY25+RANK(EZ25,EZ22:EZ25,0)-1))","v":""},{"$f":"IF(OR(FA25=\"\",COUNTIF(FA22:FA25,FA25)=1),\"\",$BS25)","v":""},{"$f":"IF(EW25=\"\",\"\",IF(COUNTIF(FA22:FA25,FA25)=1,FA25,FA25+RANK(FB25,FB22:FB25,0)-1))","v":""},{"$f":"IF(EL25>0,CE20+CY20+DS20+RANK(FC25,FC22:FC25,1),)","v":0},null,{"$f":"IFERROR(VLOOKUP(FH25,CD21:CV25,19,FALSE),IFERROR(VLOOKUP(FH25,CX21:DP25,19,FALSE),IFERROR(VLOOKUP(FH25,DR21:EJ25,19,FALSE),VLOOKUP(FH25,EL21:FD25,19,FALSE))))","v":1},{"$f":"RANK(FF25,FF22:FF25,1)+COUNTIF(FF22:FF25,FF25)-1","v":4},{"$f":"BR25","v":"England"},null,null,null,null,null,null,null,null,null,null,null,null,null,null,null,null,null,null,null,null,null,null,null,null,null,22]
[null,null,"2024-06-25","England","-","Slovenien",null,"-",null,"",{"$f":"IF(VLOOKUP(D26,BR21:CA25,10,FALSE)=VLOOKUP(F26,BR21:CA25,10,FALSE),VLOOKUP(D26,BR21:CA25,10,FALSE),\"-\")","v":1},null,{"$f":"IF(COUNTBLANK(G22:G27)+COUNTBLANK(I22:I27)=0,\"Resultat OK\",\"Fyll i resultat\")","v":"Fyll i resultat"},null,null,null,null,null,null,null,null,null,null,null,null,null,null,null,"2024-06-25","England","-","Slovenien","","-","","",null,0,0,0,0,0,0,0,0,0,0,0,0,0,0,0,0,0,0,0,0,0,0,0,0,0,0,0,0,0,0,null,null,null,null,null,null,null,null,null,null,null,null,null,null,null,null,null,null,null,null,null,null,null,null,null,null,null,null,null,null,null,null,null,null,null,null,null,null,null,null,null,null,null,null,null,null,null,null,null,null,null,null,null,null,null,null,null,null,null,null,null,null,null,null,null,null,null,null,null,null,null,null,null,null,null,null,null,null,null,null,null,null,null,null,null,null,null,null,null,null,null,null,null,null,null,null,null,null,null,null,null,null,null,null,null,null,null,null,null,null,null,null,null,null,null,null,null,null,null,null,null,null,23]
[null,null,"2024-06-25","Danmark","-","Serbien",null,"-",null,"",{"$f":"IF(VLOOKUP(D27,BR21:CA25,10,FALSE)=VLOOKUP(F27,BR21:CA25,10,FALSE),VLOOKUP(D27,BR21:CA25,10,FALSE),\"-\")","v":1},null,null,null,null,null,null,null,null,null,null,null,null,null,null,null,null,null,"2024-06-25","Danmark","-","Serbien","","-","","",null,0,0,0,0,0,0,0,0,0,0,0,0,0,0,0,0,0,0,0,0,0,0,0,0,0,0,0,0,0,0,null,null,null,null,null,null,null,null,null,null,null,null,null,null,null,null,null,null,null,null,null,null,null,null,null,null,null,null,null,null,null,null,null,null,null,null,null,null,null,null,null,null,null,null,null,null,null,null,null,null,null,null,null,null,null,null,null,null,null,null,null,null,null,null,null,null,null,null,null,null,null,null,null,null,null,null,null,null,null,null,null,null,null,null,null,null,null,null,null,null,null,null,null,null,null,null,null,null,null,null,null,null,null,null,null,null,null,null,null,null,null,null,null,null,null,null,null,null,null,null,null,null,24]
[null,null,null,null,null,null,null,null,null,"",null,null,null,null,null,null,null,null,null,null,null,null,null,null,null,null,null,null,null,null,null,null,"",null,null,"",null,null,null,null,null,null,null,null,null,null,null,null,null,null,null,null,null,null,null,null,null,null,null,null,null,null,null,null,null,null,null,null,null,null,null,null,null,null,null,null,null,null,null,null,null,null,null,null,null,null,null,null,null,null,null,null,null,null,null,null,null,null,null,null,null,null,null,null,null,null,null,null,null,null,null,null,null,null,null,null,null,null,null,null,null,null,null,null,null,null,null,null,null,null,null,null,null,null,null,null,null,null,null,null,null,null,null,null,null,null,null,null,null,null,null,null,null,null,null,null,null,null,null,null,null,null,null,null,null,null,null,null,null,null,null,null,null,null,null,null,null,null,null,null,null,null,null,null,null,null,null,null,null,25]
[null,null,"Grupp D",null,null,null,null,null,null,null,null,null,null,null,null,null,null,null,null,null,null,null,null,null,null,null,null,null,"Grupp D",null,null,null,null,null,null,null,null,null,null,null,null,null,null,null,null,null,null,null,null,null,null,null,null,null,null,null,null,null,null,null,null,null,null,null,null,null,null,null,null,"Rank 0",null,null,null,null,null,null,null,null,null,null,null,"Rank 1",{"$f":"COUNTIF(CA31:CA34,1)","v":4},null,null,null,null,null,null,null,null,null,null,null,null,null,null,null,null,null,null,"Rank 2",{"$f":"COUNTIF(CA31:CA34,2)","v":0},null,null,null,null,null,null,null,null,null,null,null,null,null,null,null,null,null,null,"Rank 3",{"$f":"COUNTIF(CA31:CA34,3)","v":0},null,null,null,null,null,null,null,null,null,null,null,null,null,null,null,null,null,null,"Rank 4",{"$f":"COUNTIF(CA31:CA34,4)","v":0},null,null,null,null,null,null,null,null,null,null,null,null,null,null,null,null,null,null,null,null,null,null,null,null,null,null,null,null,null,null,null,null,null,null,null,null,null,null,null,null,null,null,null,null,null,null,26]
[null,null,"Datum","Match",null,null,"Resultat",null,null,"Tecken",null,null,"Lag","V","O","F","GM","IM","+/-","P",null,null,null,null,null,null,null,null,"Datum","Match",null,null,"Resultat",null,null,"Tecken","Poäng","V1","V2","O1","O2","F1","F2","V1","V2","O1","O2","F1","F2","V1","V2","O1","O2","F1","F2","V1","V2","O1","O2","F1","F2","V1","V2","O1","O2","F1","F2",null,null,"Lag","V","O","F","GM","IM","+/-","P","Grupp","Rank P","Rank +/-",null,"Lag","V","O","F","P","Grupp","Rank P","+/-","+/- rank","GM","GM rank","Rank internal","+/- all","+/- rank all","GM all","GM rank all","V all","V rank all","Rank all",null,"Lag","V","O","F","P","Grupp","Rank P","+/-","+/- rank","GM","GM rank","Rank internal","+/- all","+/- rank all","GM all","GM rank all","V all","V rank all","Rank all",null,"Lag","V","O","F","P","Grupp","Rank P","+/-","+/- rank","GM","GM rank","Rank internal","+/- all","+/- rank all","GM all","GM rank all","V all","V rank all","Rank all",null,"Lag","V","O","F","P","Grupp","Rank P","+/-","+/- rank","GM","GM rank","Rank internal","+/- all","+/- rank all","GM all","GM rank all","V all","V rank all","Rank all",null,"Rank","Rank Ties",null,null,null,null,null,null,null,null,null,null,null,null,null,null,null,null,null,null,null,null,null,null,null,null,null,null,27]
[null,null,"2024-06-16","Polen","-","Nederländerna",null,"-",null,{"$f":"IF(OR(ISBLANK(G31),ISBLANK(I31)),\"\",IF(G31>I31,1,IF(G31<I31,2,\"X\")))","v":""},{"$f":"IF(VLOOKUP(D31,BR30:CA34,10,FALSE)=VLOOKUP(F31,BR30:CA34,10,FALSE),VLOOKUP(D31,BR30:CA34,10,FALSE),\"-\")","v":1},1,{"$f":"VLOOKUP(L31,FG31:FH34,2,FALSE)","v":"Nederländerna"},{"$f":"VLOOKUP($M31,$BR$31:$BY$34,2,FALSE)","v":0},{"$f":"VLOOKUP($M31,$BR$31:$BY$34,3,FALSE)","v":0},{"$f":"VLOOKUP($M31,$BR$31:$BY$34,4,FALSE)","v":0},{"$f":"VLOOKUP($M31,$BR$31:$BY$34,5,FALSE)","v":0},{"$f":"VLOOKUP($M31,$BR$31:$BY$34,6,FALSE)","v":0},{"$f":"VLOOKUP($M31,$BR$31:$BY$34,7,FALSE)","v":0},{"$f":"VLOOKUP($M31,$BR$31:$BY$34,8,FALSE)","v":0},null,null,null,null,null,null,null,null,{"$f":"C31","v":"2024-06-16"},"Polen","-","Nederländerna",{"$f":"IF(G31=\"\",\"\",G31)","v":""},"-",{"$f":"IF(I31=\"\",\"\",I31)","v":""},{"$f":"J31","v":""},null,{"$f":"IF(AG31>AI31,1,0)","v":0},{"$f":"IF(AI31>AG31,1,0)","v":0},{"$f":"IF(AND(AG31=AI31,AG31<>\"\"),1,0)","v":0},{"$f":"IF(AND(AG31=AI31,AG31<>\"\"),1,0)","v":0},{"$f":"IF(AG31<AI31,1,0)","v":0},{"$f":"IF(AI31<AG31,1,)","v":0},{"$f":"IF(ISERROR(VLOOKUP(AD31,CD:CD,1,FALSE)),0,1)*IF(ISERROR(VLOOKUP(AF31,CD:CD,1,FALSE)),0,1)*AL31","v":0},{"$f":"IF(ISERROR(VLOOKUP(AD31,CD:CD,1,FALSE)),0,1)*IF(ISERROR(VLOOKUP(AF31,CD:CD,1,FALSE)),0,1)*AM31","v":0},{"$f":"IF(ISERROR(VLOOKUP(AD31,CD:CD,1,FALSE)),0,1)*IF(ISERROR(VLOOKUP(AF31,CD:CD,1,FALSE)),0,1)*AN31","v":0},{"$f":"IF(ISERROR(VLOOKUP(AD31,CD:CD,1,FALSE)),0,1)*IF(ISERROR(VLOOKUP(AF31,CD:CD,1,FALSE)),0,1)*AO31","v":0},{"$f":"IF(ISERROR(VLOOKUP(AD31,CD:CD,1,FALSE)),0,1)*IF(ISERROR(VLOOKUP(AF31,CD:CD,1,FALSE)),0,1)*AP31","v":0},{"$f":"IF(ISERROR(VLOOKUP(AD31,CD:CD,1,FALSE)),0,1)*IF(ISERROR(VLOOKUP(AF31,CD:CD,1,FALSE)),0,1)*AQ31","v":0},{"$f":"IF(ISERROR(VLOOKUP(AD31,CX:CX,1,FALSE)),0,1)*IF(ISERROR(VLOOKUP(AF31,CX:CX,1,FALSE)),0,1)*AL31","v":0},{"$f":"IF(ISERROR(VLOOKUP(AD31,CX:CX,1,FALSE)),0,1)*IF(ISERROR(VLOOKUP(AF31,CX:CX,1,FALSE)),0,1)*AM31","v":0},{"$f":"IF(ISERROR(VLOOKUP(AD31,CX:CX,1,FALSE)),0,1)*IF(ISERROR(VLOOKUP(AF31,CX:CX,1,FALSE)),0,1)*AN31","v":0},{"$f":"IF(ISERROR(VLOOKUP(AD31,CX:CX,1,FALSE)),0,1)*IF(ISERROR(VLOOKUP(AF31,CX:CX,1,FALSE)),0,1)*AO31","v":0},{"$f":"IF(ISERROR(VLOOKUP(AD31,CX:CX,1,FALSE)),0,1)*IF(ISERROR(VLOOKUP(AF31,CX:CX,1,FALSE)),0,1)*AP31","v":0},{"$f":"IF(ISERROR(VLOOKUP(AD31,CX:CX,1,FALSE)),0,1)*IF(ISERROR(VLOOKUP(AF31,CX:CX,1,FALSE)),0,1)*AQ31","v":0},{"$f":"IF(ISERROR(VLOOKUP(AD31,DR:DR,1,FALSE)),0,1)*IF(ISERROR(VLOOKUP(AF31,DR:DR,1,FALSE)),0,1)*AL31","v":0},{"$f":"IF(ISERROR(VLOOKUP(AD31,DR:DR,1,FALSE)),0,1)*IF(ISERROR(VLOOKUP(AF31,DR:DR,1,FALSE)),0,1)*AM31","v":0},{"$f":"IF(ISERROR(VLOOKUP(AD31,DR:DR,1,FALSE)),0,1)*IF(ISERROR(VLOOKUP(AF31,DR:DR,1,FALSE)),0,1)*AN31","v":0},{"$f":"IF(ISERROR(VLOOKUP(AD31,DR:DR,1,FALSE)),0,1)*IF(ISERROR(VLOOKUP(AF31,DR:DR,1,FALSE)),0,1)*AO31","v":0},{"$f":"IF(ISERROR(VLOOKUP(AD31,DR:DR,1,FALSE)),0,1)*IF(ISERROR(VLOOKUP(AF31,DR:DR,1,FALSE)),0,1)*AP31","v":0},{"$f":"IF(ISERROR(VLOOKUP(AD31,DR:DR,1,FALSE)),0,1)*IF(ISERROR(VLOOKUP(AF31,DR:DR,1,FALSE)),0,1)*AQ31","v":0},{"$f":"IF(ISERROR(VLOOKUP(AD31,EL:EL,1,FALSE)),0,1)*IF(ISERROR(VLOOKUP(AF31,EL:EL,1,FALSE)),0,1)*AL31","v":0},{"$f":"IF(ISERROR(VLOOKUP(AD31,EL:EL,1,FALSE)),0,1)*IF(ISERROR(VLOOKUP(AF31,EL:EL,1,FALSE)),0,1)*AM31","v":0},{"$f":"IF(ISERROR(VLOOKUP(AD31,EL:EL,1,FALSE)),0,1)*IF(ISERROR(VLOOKUP(AF31,EL:EL,1,FALSE)),0,1)*AN31","v":0},{"$f":"IF(ISERROR(VLOOKUP(AD31,EL:EL,1,FALSE)),0,1)*IF(ISERROR(VLOOKUP(AF31,EL:EL,1,FALSE)),0,1)*AO31","v":0},{"$f":"IF(ISERROR(VLOOKUP(AD31,EL:EL,1,FALSE)),0,1)*IF(ISERROR(VLOOKUP(AF31,EL:EL,1,FALSE)),0,1)*AP31","v":0},{"$f":"IF(ISERROR(VLOOKUP(AD31,EL:EL,1,FALSE)),0,1)*IF(ISERROR(VLOOKUP(AF31,EL:EL,1,FALSE)),0,1)*AQ31","v":0},null,null,"Nederländerna",{"$f":"(SUMIF(AD$4:AD$54,BR31,AL$4:AL$54)+SUMIF(AF$4:AF$54,BR31,AM$4:AM$54))","v":0},{"$f":"(SUMIF(AD$4:AD$54,BR31,AN$4:AN$54)+SUMIF(AF$4:AF$54,BR31,AO$4:AO$54))","v":0},{"$f":"(SUMIF(AD$4:AD$54,BR31,AP$4:AP$54)+SUMIF(AF$4:AF$54,BR31,AQ$4:AQ$54))","v":0},{"$f":"SUMIF($AD$4:$AD$54,BR31,$AG$4:$AG$54)+SUMIF($AF$4:$AF$54,BR31,$AI$4:$AI$54)","v":0},{"$f":"SUMIF($AD$4:$AD$54,BR31,$AI$4:$AI$54)+SUMIF($AF$4:$AF$54,BR31,$AG$4:$AG$54)","v":0},{"$f":"BV31-BW31","v":0},{"$f":"IFERROR(BS31*3+BT31*1,0)","v":0},"D",{"$f":"RANK(BY31,BY31:BY34)","v":1},{"$f":"SUMPRODUCT((BY31:BY34=BY31)*(BX31:BX34>BX31))","v":0},null,{"$f":"IF(CA31=1,BR31,)","v":"Nederländerna"},{"$f":"(SUMIF($AD$4:$AD$54,$BR31,$AR$4:$AR$54)+SUMIF($AF$4:$AF$54,$BR31,$AS$4:$AS$54))","v":0},{"$f":"(SUMIF($AD$4:$AD$54,$BR31,$AT$4:$AT$54)+SUMIF($AF$4:$AF$54,$BR31,$AU$4:$AU$54))","v":0},{"$f":"(SUMIF($AD$4:$AD$54,$BR31,$AV$4:$AV$54)+SUMIF($AF$4:$AF$54,$BR31,$AW$4:$AW$54))","v":0},{"$f":"IFERROR(CE31*3+CF31*1,0)","v":0},{"$f":"BZ31","v":"D"},{"$f":"IF(CD31>0,RANK(CH31,CH31:CH34),)","v":1},{"$f":"IF(AND(CD31>0,COUNTIF(CJ31:CJ34,CJ31)>1),SUMIFS($AG$4:$AG$54,$AD$4:$AD$54,$BR31,$K$4:$K$54,1)+SUMIFS($AI$4:$AI$54,$AF$4:$AF$54,$BR31,$K$4:$K$54,1)-SUMIFS($AI$4:$AI$54,$AD$4:$AD$54,$BR31,$K$4:$K$54,1)-SUMIFS($AG$4:$AG$54,$AF$4:$AF$54,$BR31,$K$4:$K$54,1),)","v":0},{"$f":"IF(AND(CD31>0,COUNTIF(CJ31:CJ34,CJ31)>1),CJ31+RANK(CK31,CK31:CK34)-1,CJ31)","v":1},{"$f":"IF(AND(CD31>0,COUNTIF(CL31:CL34,CL31)>1),SUMIFS($AG$4:$AG$54,$AD$4:$AD$54,$BR31,$K$4:$K$54,1)+SUMIFS($AI$4:$AI$54,$AF$4:$AF$54,$BR31,$K$4:$K$54,1),)","v":0},{"$f":"IF(AND(CD31>0,COUNTIF(CL31:CL34,CL31)>1),CL31+RANK(CM31,CM31:CM34)-1,CL31)","v":1},{"$f":"IF(CN31=0,\"\",CN31)","v":1},{"$f":"IF(OR(CO31=\"\",COUNTIF(CO31:CO34,CO31)=1),\"\",$BX31)","v":0},{"$f":"IF(CO31=\"\",\"\",IF(COUNTIF(CO31:CO34,CO31)=1,CO31,CO31+RANK(CP31,CP31:CP34,0)-1))","v":1},{"$f":"IF(OR(CQ31=\"\",COUNTIF(CQ31:CQ34,CQ31)=1),\"\",$BV31)","v":0},{"$f":"IF(CO31=\"\",\"\",IF(COUNTIF(CQ31:CQ34,CQ31)=1,CQ31,CQ31+RANK(CR31,CR31:CR34,0)-1))","v":1},{"$f":"IF(OR(CS31=\"\",COUNTIF(CS31:CS34,CS31)=1),\"\",$BS31)","v":0},{"$f":"IF(CO31=\"\",\"\",IF(COUNTIF(CS31:CS34,CS31)=1,CS31,CS31+RANK(CT31,CT31:CT34,0)-1))","v":1},{"$f":"IF(CD31>0,BK29+RANK(CU31,CU31:CU34,1),)","v":1},null,{"$f":"IF(CA31=2,BR31,)","v":0},{"$f":"(SUMIF($AD$4:$AD$54,$BR31,$AX$4:$AX$54)+SUMIF($AF$4:$AF$54,$BR31,$AY$4:$AY$54))","v":0},{"$f":"(SUMIF($AD$4:$AD$54,$BR31,$AZ$4:$AZ$54)+SUMIF($AF$4:$AF$54,$BR31,$BA$4:$BA$54))","v":0},{"$f":"(SUMIF($AD$4:$AD$54,$BR31,$BB$4:$BB$54)+SUMIF($AF$4:$AF$54,$BR31,$BC$4:$BC$54))","v":0},{"$f":"IFERROR(CY31*3+CZ31*1,0)","v":0},{"$f":"$BZ31","v":"D"},{"$f":"IF(CX31>0,RANK(DB31,DB31:DB34)+CE29,)","v":0},{"$f":"IF(AND(CX31>0,COUNTIF(DD31:DD34,DD31)>1),SUMIFS($AG$4:$AG$54,$AD$4:$AD$54,$BR31,$K$4:$K$54,2)+SUMIFS($AI$4:$AI$54,$AF$4:$AF$54,$BR31,$K$4:$K$54,2)-SUMIFS($AI$4:$AI$54,$AD$4:$AD$54,$BR31,$K$4:$K$54,2)-SUMIFS($AG$4:$AG$54,$AF$4:$AF$54,$BR31,$K$4:$K$54,2),)","v":0},{"$f":"IF(AND(CX31>0,COUNTIF(DD31:DD34,DD31)>1),DD31+RANK(DE31,DE31:DE34)-1,DD31)","v":0},{"$f":"IF(AND(CX31>0,COUNTIF(DF31:DF34,DF31)>1),SUMIFS($AG$4:$AG$54,$AD$4:$AD$54,$BR31,$K$4:$K$54,2)+SUMIFS($AI$4:$AI$54,$AF$4:$AF$54,$BR31,$K$4:$K$54,2),)","v":0},{"$f":"IF(AND(CX31>0,COUNTIF(DF31:DF34,DF31)>1),DF31+RANK(DG31,DG31:DG34)-1,DF31)","v":0},{"$f":"IF(DH31=0,\"\",DH31)","v":""},{"$f":"IF(OR(DI31=\"\",COUNTIF(DI31:DI34,DI31)=1),\"\",$BX31)","v":""},{"$f":"IF(DI31=\"\",\"\",IF(COUNTIF(DI31:DI34,DI31)=1,DI31,DI31+RANK(DJ31,DJ31:DJ34,0)-1))","v":""},{"$f":"IF(OR(DK31=\"\",COUNTIF(DK31:DK34,DK31)=1),\"\",$BV31)","v":""},{"$f":"IF(DI31=\"\",\"\",IF(COUNTIF(DK31:DK34,DK31)=1,DK31,DK31+RANK(DL31,DL31:DL34,0)-1))","v":""},{"$f":"IF(OR(DM31=\"\",COUNTIF(DM31:DM34,DM31)=1),\"\",$BS31)","v":""},{"$f":"IF(DI31=\"\",\"\",IF(COUNTIF(DM31:DM34,DM31)=1,DM31,DM31+RANK(DN31,DN31:DN34,0)-1))","v":""},{"$f":"IF(CX31>0,CE29+RANK(DO31,DO31:DO34,1),)","v":0},null,{"$f":"IF(CA31=3,BR31,)","v":0},{"$f":"(SUMIF($AD$4:$AD$54,BR31,$BD$4:$BD$54)+SUMIF($AF$4:$AF$54,BR31,$BE$4:$BE$54))","v":0},{"$f":"(SUMIF($AD$4:$AD$54,BR31,$BF$4:$BF$54)+SUMIF($AF$4:$AF$54,BR31,$BG$4:$BG$54))","v":0},{"$f":"(SUMIF($AD$4:$AD$54,BR31,$BH$4:$BH$54)+SUMIF($AF$4:$AF$54,BR31,$BI$4:$BI$54))","v":0},{"$f":"IFERROR(DS31*3+DT31*1,0)","v":0},{"$f":"BZ31","v":"D"},{"$f":"IF(DR31>0,RANK(DV31,DV31:DV34)+CE29+CY29,)","v":0},{"$f":"IF(AND(DR31>0,COUNTIF(DX31:DX34,DX31)>1),SUMIFS($AG$4:$AG$54,$AD$4:$AD$54,$BR31,$K$4:$K$54,3)+SUMIFS($AI$4:$AI$54,$AF$4:$AF$54,$BR31,$K$4:$K$54,3)-SUMIFS($AI$4:$AI$54,$AD$4:$AD$54,$BR31,$K$4:$K$54,3)-SUMIFS($AG$4:$AG$54,$AF$4:$AF$54,$BR31,$K$4:$K$54,3),)","v":0},{"$f":"IF(AND(DR31>0,COUNTIF(DX31:DX34,DX31)>1),DX31+RANK(DY31,DY31:DY34)-1,DX31)","v":0},{"$f":"IF(AND(DR31>0,COUNTIF(DZ31:DZ34,DZ31)>1),SUMIFS($AG$4:$AG$54,$AD$4:$AD$54,$BR31,$K$4:$K$54,3)+SUMIFS($AI$4:$AI$54,$AF$4:$AF$54,$BR31,$K$4:$K$54,3),)","v":0},{"$f":"IF(AND(DR31>0,COUNTIF(DZ31:DZ34,DZ31)>1),DZ31+RANK(EA31,EA31:EA34)-1,DZ31)","v":0},{"$f":"IF(EB31=0,\"\",EB31)","v":""},{"$f":"IF(OR(EC31=\"\",COUNTIF(EC31:EC34,EC31)=1),\"\",$BX31)","v":""},{"$f":"IF(EC31=\"\",\"\",IF(COUNTIF(EC31:EC34,EC31)=1,EC31,EC31+RANK(ED31,ED31:ED34,0)-1))","v":""},{"$f":"IF(OR(EE31=\"\",COUNTIF(EE31:EE34,EE31)=1),\"\",$BV31)","v":""},{"$f":"IF(EC31=\"\",\"\",IF(COUNTIF(EE31:EE34,EE31)=1,EE31,EE31+RANK(EF31,EF31:EF34,0)-1))","v":""},{"$f":"IF(OR(EG31=\"\",COUNTIF(EG31:EG34,EG31)=1),\"\",$BS31)","v":""},{"$f":"IF(EC31=\"\",\"\",IF(COUNTIF(EG31:EG34,EG31)=1,EG31,EG31+RANK(EH31,EH31:EH34,0)-1))","v":""},{"$f":"IF(DR31>0,CE29+CY29+RANK(EI31,EI31:EI34,1),)","v":0},null,{"$f":"IF(CA31=4,BR31,)","v":0},{"$f":"(SUMIF($AD$4:$AD$54,$BR31,$BJ$4:$BJ$54)+SUMIF($AF$4:$AF$54,$BR31,$BK$4:$BK$54))","v":0},{"$f":"(SUMIF($AD$4:$AD$54,$BR31,$BL$4:$BL$54)+SUMIF($AF$4:$AF$54,$BR31,$BM$4:$BM$54))","v":0},{"$f":"(SUMIF($AD$4:$AD$54,$BR31,$BN$4:$BN$54)+SUMIF($AF$4:$AF$54,$BR31,$BO$4:$BO$54))","v":0},{"$f":"IFERROR(EM31*3+EN31*1,0)","v":0},{"$f":"$BZ31","v":"D"},{"$f":"IF(EL31>0,RANK(EP31,EP31:EP34)+CE29+CY29+DS29,)","v":0},{"$f":"IF(AND(EL31>0,COUNTIF(ER31:ER34,ER31)>1),SUMIFS($AG$4:$AG$54,$AD$4:$AD$54,$BR31,$K$4:$K$54,4)+SUMIFS($AI$4:$AI$54,$AF$4:$AF$54,$BR31,$K$4:$K$54,4)-SUMIFS($AI$4:$AI$54,$AD$4:$AD$54,$BR31,$K$4:$K$54,4)-SUMIFS($AG$4:$AG$54,$AF$4:$AF$54,$BR31,$K$4:$K$54,4),)","v":0},{"$f":"IF(AND(EL31>0,COUNTIF($ER$4:$ER$7,ER31)>1),ER31+RANK(ES31,$ES$4:$ES$7)-1,ER31)","v":0},{"$f":"IF(AND(EL31>0,COUNTIF(ET31:ET34,ET31)>1),SUMIFS($AG$4:$AG$54,$AD$4:$AD$54,$BR31,$K$4:$K$54,4)+SUMIFS($AI$4:$AI$54,$AF$4:$AF$54,$BR31,$K$4:$K$54,4),)","v":0},{"$f":"IF(AND(EL31>0,COUNTIF(ET31:ET34,ET31)>1),ET31+RANK(EU31,EU31:EU34)-1,ET31)","v":0},{"$f":"IF(EV31=0,\"\",EV31)","v":""},{"$f":"IF(OR(EW31=\"\",COUNTIF(EW31:EW34,EW31)=1),\"\",$BX31)","v":""},{"$f":"IF(EW31=\"\",\"\",IF(COUNTIF(EW31:EW34,EW31)=1,EW31,EW31+RANK(EX31,EX31:EX34,0)-1))","v":""},{"$f":"IF(OR(EY31=\"\",COUNTIF(EY31:EY34,EY31)=1),\"\",$BV31)","v":""},{"$f":"IF(EW31=\"\",\"\",IF(COUNTIF(EY31:EY34,EY31)=1,EY31,EY31+RANK(EZ31,EZ31:EZ34,0)-1))","v":""},{"$f":"IF(OR(FA31=\"\",COUNTIF(FA31:FA34,FA31)=1),\"\",$BS31)","v":""},{"$f":"IF(EW31=\"\",\"\",IF(COUNTIF(FA31:FA34,FA31)=1,FA31,FA31+RANK(FB31,FB31:FB34,0)-1))","v":""},{"$f":"IF(EL31>0,CE29+CY29+DS29+RANK(FC31,FC31:FC34,1),)","v":0},null,{"$f":"IFERROR(VLOOKUP(FH31,CD30:CV34,19,FALSE),IFERROR(VLOOKUP(FH31,CX30:DP34,19,FALSE),IFERROR(VLOOKUP(FH31,DR30:EJ34,19,FALSE),VLOOKUP(FH31,EL30:FD34,19,FALSE))))","v":1},{"$f":"RANK(FF31,FF31:FF34,1)+COUNTIF(FF31:FF31,FF31)-1","v":1},{"$f":"BR31","v":"Nederländerna"},null,null,null,null,null,null,null,null,null,null,null,null,null,null,null,null,null,null,null,null,null,null,null,null,null,28]
[null,null,"2024-06-17","Österrike","-","Frankrike",null,"-",null,{"$f":"IF(OR(ISBLANK(G32),ISBLANK(I32)),\"\",IF(G32>I32,1,IF(G32<I32,2,\"X\")))","v":""},{"$f":"IF(VLOOKUP(D32,BR30:CA34,10,FALSE)=VLOOKUP(F32,BR30:CA34,10,FALSE),VLOOKUP(D32,BR30:CA34,10,FALSE),\"-\")","v":1},2,{"$f":"VLOOKUP(L32,FG31:FH34,2,FALSE)","v":"Frankrike"},{"$f":"VLOOKUP($M32,$BR$31:$BY$34,2,FALSE)","v":0},{"$f":"VLOOKUP($M32,$BR$31:$BY$34,3,FALSE)","v":0},{"$f":"VLOOKUP($M32,$BR$31:$BY$34,4,FALSE)","v":0},{"$f":"VLOOKUP($M32,$BR$31:$BY$34,5,FALSE)","v":0},{"$f":"VLOOKUP($M32,$BR$31:$BY$34,6,FALSE)","v":0},{"$f":"VLOOKUP($M32,$BR$31:$BY$34,7,FALSE)","v":0},{"$f":"VLOOKUP($M32,$BR$31:$BY$34,8,FALSE)","v":0},null,null,null,null,null,null,null,null,"2024-06-17","Österrike","-","Frankrike","","-","","",null,0,0,0,0,0,0,0,0,0,0,0,0,0,0,0,0,0,0,0,0,0,0,0,0,0,0,0,0,0,0,null,null,"Frankrike",{"$f":"(SUMIF(AD$4:AD$54,BR32,AL$4:AL$54)+SUMIF(AF$4:AF$54,BR32,AM$4:AM$54))","v":0},{"$f":"(SUMIF(AD$4:AD$54,BR32,AN$4:AN$54)+SUMIF(AF$4:AF$54,BR32,AO$4:AO$54))","v":0},{"$f":"(SUMIF(AD$4:AD$54,BR32,AP$4:AP$54)+SUMIF(AF$4:AF$54,BR32,AQ$4:AQ$54))","v":0},{"$f":"SUMIF($AD$4:$AD$54,BR32,$AG$4:$AG$54)+SUMIF($AF$4:$AF$54,BR32,$AI$4:$AI$54)","v":0},{"$f":"SUMIF($AD$4:$AD$54,BR32,$AI$4:$AI$54)+SUMIF($AF$4:$AF$54,BR32,$AG$4:$AG$54)","v":0},{"$f":"BV32-BW32","v":0},{"$f":"IFERROR(BS32*3+BT32*1,0)","v":0},"D",{"$f":"RANK(BY32,BY31:BY34)","v":1},{"$f":"SUMPRODUCT((BY31:BY34=BY32)*(BX31:BX34>BX32))","v":0},null,{"$f":"IF(CA32=1,BR32,)","v":"Frankrike"},{"$f":"(SUMIF($AD$4:$AD$54,$BR32,$AR$4:$AR$54)+SUMIF($AF$4:$AF$54,$BR32,$AS$4:$AS$54))","v":0},{"$f":"(SUMIF($AD$4:$AD$54,$BR32,$AT$4:$AT$54)+SUMIF($AF$4:$AF$54,$BR32,$AU$4:$AU$54))","v":0},{"$f":"(SUMIF($AD$4:$AD$54,$BR32,$AV$4:$AV$54)+SUMIF($AF$4:$AF$54,$BR32,$AW$4:$AW$54))","v":0},{"$f":"IFERROR(CE32*3+CF32*1,0)","v":0},{"$f":"BZ32","v":"D"},{"$f":"IF(CD32>0,RANK(CH32,CH31:CH34),)","v":1},{"$f":"IF(AND(CD32>0,COUNTIF(CJ31:CJ34,CJ32)>1),SUMIFS($AG$4:$AG$54,$AD$4:$AD$54,BR32,$K$4:$K$54,1)+SUMIFS($AI$4:$AI$54,$AF$4:$AF$54,BR32,$K$4:$K$54,1)-SUMIFS($AI$4:$AI$54,$AD$4:$AD$54,BR32,$K$4:$K$54,1)-SUMIFS($AG$4:$AG$54,$AF$4:$AF$54,BR32,$K$4:$K$54,1),)","v":0},{"$f":"IF(AND(CD32>0,COUNTIF(CJ31:CJ34,CJ32)>1),CJ32+RANK(CK32,CK31:CK34)-1,CJ32)","v":1},{"$f":"IF(AND(CD32>0,COUNTIF(CL31:CL34,CL32)>1),SUMIFS($AG$4:$AG$54,$AD$4:$AD$54,BR32,$K$4:$K$54,1)+SUMIFS($AI$4:$AI$54,$AF$4:$AF$54,BR32,$K$4:$K$54,1),)","v":0},{"$f":"IF(AND(CD32>0,COUNTIF(CL31:CL34,CL32)>1),CL32+RANK(CM32,CM31:CM34)-1,CL32)","v":1},{"$f":"IF(CN32=0,\"\",CN32)","v":1},{"$f":"IF(OR(CO32=\"\",COUNTIF(CO31:CO34,CO32)=1),\"\",$BX32)","v":0},{"$f":"IF(CO32=\"\",\"\",IF(COUNTIF(CO31:CO34,CO32)=1,CO32,CO32+RANK(CP32,CP31:CP34,0)-1))","v":1},{"$f":"IF(OR(CQ32=\"\",COUNTIF(CQ31:CQ34,CQ32)=1),\"\",$BV32)","v":0},{"$f":"IF(CO32=\"\",\"\",IF(COUNTIF(CQ31:CQ34,CQ32)=1,CQ32,CQ32+RANK(CR32,CR31:CR34,0)-1))","v":1},{"$f":"IF(OR(CS32=\"\",COUNTIF(CS31:CS34,CS32)=1),\"\",$BS32)","v":0},{"$f":"IF(CO32=\"\",\"\",IF(COUNTIF(CS31:CS34,CS32)=1,CS32,CS32+RANK(CT32,CT31:CT34,0)-1))","v":1},{"$f":"IF(CD32>0,BK29+RANK(CU32,CU31:CU34,1),)","v":1},null,{"$f":"IF(CA32=2,BR32,)","v":0},{"$f":"(SUMIF($AD$4:$AD$54,$BR32,$AX$4:$AX$54)+SUMIF($AF$4:$AF$54,$BR32,$AY$4:$AY$54))","v":0},{"$f":"(SUMIF($AD$4:$AD$54,$BR32,$AZ$4:$AZ$54)+SUMIF($AF$4:$AF$54,$BR32,$BA$4:$BA$54))","v":0},{"$f":"(SUMIF($AD$4:$AD$54,$BR32,$BB$4:$BB$54)+SUMIF($AF$4:$AF$54,$BR32,$BC$4:$BC$54))","v":0},{"$f":"IFERROR(CY32*3+CZ32*1,0)","v":0},{"$f":"$BZ32","v":"D"},{"$f":"IF(CX32>0,RANK(DB32,DB31:DB34)+CE29,)","v":0},{"$f":"IF(AND(CX32>0,COUNTIF(DD31:DD34,DD32)>1),SUMIFS($AG$4:$AG$54,$AD$4:$AD$54,BR32,$K$4:$K$54,2)+SUMIFS($AI$4:$AI$54,$AF$4:$AF$54,BR32,$K$4:$K$54,2)-SUMIFS($AI$4:$AI$54,$AD$4:$AD$54,BR32,$K$4:$K$54,2)-SUMIFS($AG$4:$AG$54,$AF$4:$AF$54,BR32,$K$4:$K$54,2),)","v":0},{"$f":"IF(AND(CX32>0,COUNTIF(DD31:DD34,DD32)>1),DD32+RANK(DE32,DE31:DE34)-1,DD32)","v":0},{"$f":"IF(AND(CX32>0,COUNTIF(DF31:DF34,DF32)>1),SUMIFS($AG$4:$AG$54,$AD$4:$AD$54,BR32,$K$4:$K$54,2)+SUMIFS($AI$4:$AI$54,$AF$4:$AF$54,BR32,$K$4:$K$54,2),)","v":0},{"$f":"IF(AND(CX32>0,COUNTIF(DF31:DF34,DF32)>1),DF32+RANK(DG32,DG31:DG34)-1,DF32)","v":0},{"$f":"IF(DH32=0,\"\",DH32)","v":""},{"$f":"IF(OR(DI32=\"\",COUNTIF(DI31:DI34,DI32)=1),\"\",$BX32)","v":""},{"$f":"IF(DI32=\"\",\"\",IF(COUNTIF(DI31:DI34,DI32)=1,DI32,DI32+RANK(DJ32,DJ31:DJ34,0)-1))","v":""},{"$f":"IF(OR(DK32=\"\",COUNTIF(DK31:DK34,DK32)=1),\"\",$BV32)","v":""},{"$f":"IF(DI32=\"\",\"\",IF(COUNTIF(DK31:DK34,DK32)=1,DK32,DK32+RANK(DL32,DL31:DL34,0)-1))","v":""},{"$f":"IF(OR(DM32=\"\",COUNTIF(DM31:DM34,DM32)=1),\"\",$BS32)","v":""},{"$f":"IF(DI32=\"\",\"\",IF(COUNTIF(DM31:DM34,DM32)=1,DM32,DM32+RANK(DN32,DN31:DN34,0)-1))","v":""},{"$f":"IF(CX32>0,CE29+RANK(DO32,DO31:DO34,1),)","v":0},null,{"$f":"IF(CA32=3,BR32,)","v":0},{"$f":"(SUMIF(AD$4:AD$54,BR32,BD$4:BD$54)+SUMIF(AF$4:AF$54,BR32,BE$4:BE$54))","v":0},{"$f":"(SUMIF(AD$4:AD$54,BR32,BF$4:BF$54)+SUMIF(AF$4:AF$54,BR32,BG$4:BG$54))","v":0},{"$f":"(SUMIF(AD$4:AD$54,BR32,BH$4:BH$54)+SUMIF(AF$4:AF$54,BR32,BI$4:BI$54))","v":0},{"$f":"IFERROR(DS32*3+DT32*1,0)","v":0},{"$f":"BZ32","v":"D"},{"$f":"IF(DR32>0,RANK(DV32,DV31:DV34)+CE29+CY29,)","v":0},{"$f":"IF(AND(DR32>0,COUNTIF(DX31:DX34,DX32)>1),SUMIFS($AG$4:$AG$54,$AD$4:$AD$54,BR32,$K$4:$K$54,3)+SUMIFS($AI$4:$AI$54,$AF$4:$AF$54,BR32,$K$4:$K$54,3)-SUMIFS($AI$4:$AI$54,$AD$4:$AD$54,BR32,$K$4:$K$54,3)-SUMIFS($AG$4:$AG$54,$AF$4:$AF$54,BR32,$K$4:$K$54,3),)","v":0},{"$f":"IF(AND(DR32>0,COUNTIF(DX31:DX34,DX32)>1),DX32+RANK(DY32,DY31:DY34)-1,DX32)","v":0},{"$f":"IF(AND(DR32>0,COUNTIF(DZ31:DZ34,DZ32)>1),SUMIFS($AG$4:$AG$54,$AD$4:$AD$54,BR32,$K$4:$K$54,3)+SUMIFS($AI$4:$AI$54,$AF$4:$AF$54,BR32,$K$4:$K$54,3),)","v":0},{"$f":"IF(AND(DR32>0,COUNTIF(DZ31:DZ34,DZ32)>1),DZ32+RANK(EA32,EA31:EA34)-1,DZ32)","v":0},{"$f":"IF(EB32=0,\"\",EB32)","v":""},{"$f":"IF(OR(EC32=\"\",COUNTIF(EC31:EC34,EC32)=1),\"\",$BX32)","v":""},{"$f":"IF(EC32=\"\",\"\",IF(COUNTIF(EC31:EC34,EC32)=1,EC32,EC32+RANK(ED32,ED31:ED34,0)-1))","v":""},{"$f":"IF(OR(EE32=\"\",COUNTIF(EE31:EE34,EE32)=1),\"\",$BV32)","v":""},{"$f":"IF(EC32=\"\",\"\",IF(COUNTIF(EE31:EE34,EE32)=1,EE32,EE32+RANK(EF32,EF31:EF34,0)-1))","v":""},{"$f":"IF(OR(EG32=\"\",COUNTIF(EG31:EG34,EG32)=1),\"\",$BS32)","v":""},{"$f":"IF(EC32=\"\",\"\",IF(COUNTIF(EG31:EG34,EG32)=1,EG32,EG32+RANK(EH32,EH31:EH34,0)-1))","v":""},{"$f":"IF(DR32>0,CE29+CY29+RANK(EI32,EI31:EI34,1),)","v":0},null,{"$f":"IF(CA32=4,BR32,)","v":0},{"$f":"(SUMIF($AD$4:$AD$54,$BR32,$BJ$4:$BJ$54)+SUMIF($AF$4:$AF$54,$BR32,$BK$4:$BK$54))","v":0},{"$f":"(SUMIF($AD$4:$AD$54,$BR32,$BL$4:$BL$54)+SUMIF($AF$4:$AF$54,$BR32,$BM$4:$BM$54))","v":0},{"$f":"(SUMIF($AD$4:$AD$54,$BR32,$BN$4:$BN$54)+SUMIF($AF$4:$AF$54,$BR32,$BO$4:$BO$54))","v":0},{"$f":"IFERROR(EM32*3+EN32*1,0)","v":0},{"$f":"$BZ32","v":"D"},{"$f":"IF(EL32>0,RANK(EP32,EP31:EP34)+CE29+CY29+DS29,)","v":0},{"$f":"IF(AND(EL32>0,COUNTIF(ER31:ER34,ER32)>1),SUMIFS($AG$4:$AG$54,$AD$4:$AD$54,BR32,$K$4:$K$54,4)+SUMIFS($AI$4:$AI$54,$AF$4:$AF$54,BR32,$K$4:$K$54,4)-SUMIFS($AI$4:$AI$54,$AD$4:$AD$54,BR32,$K$4:$K$54,4)-SUMIFS($AG$4:$AG$54,$AF$4:$AF$54,BR32,$K$4:$K$54,4),)","v":0},{"$f":"IF(AND(EL32>0,COUNTIF($ER$4:$ER$7,ER32)>1),ER32+RANK(ES32,$ES$4:$ES$7)-1,ER32)","v":0},{"$f":"IF(AND(EL32>0,COUNTIF(ET31:ET34,ET32)>1),SUMIFS($AG$4:$AG$54,$AD$4:$AD$54,BR32,$K$4:$K$54,4)+SUMIFS($AI$4:$AI$54,$AF$4:$AF$54,BR32,$K$4:$K$54,4),)","v":0},{"$f":"IF(AND(EL32>0,COUNTIF(ET31:ET34,ET32)>1),ET32+RANK(EU32,EU31:EU34)-1,ET32)","v":0},{"$f":"IF(EV32=0,\"\",EV32)","v":""},{"$f":"IF(OR(EW32=\"\",COUNTIF(EW31:EW34,EW32)=1),\"\",$BX32)","v":""},{"$f":"IF(EW32=\"\",\"\",IF(COUNTIF(EW31:EW34,EW32)=1,EW32,EW32+RANK(EX32,EX31:EX34,0)-1))","v":""},{"$f":"IF(OR(EY32=\"\",COUNTIF(EY31:EY34,EY32)=1),\"\",$BV32)","v":""},{"$f":"IF(EW32=\"\",\"\",IF(COUNTIF(EY31:EY34,EY32)=1,EY32,EY32+RANK(EZ32,EZ31:EZ34,0)-1))","v":""},{"$f":"IF(OR(FA32=\"\",COUNTIF(FA31:FA34,FA32)=1),\"\",$BS32)","v":""},{"$f":"IF(EW32=\"\",\"\",IF(COUNTIF(FA31:FA34,FA32)=1,FA32,FA32+RANK(FB32,FB31:FB34,0)-1))","v":""},{"$f":"IF(EL32>0,CE29+CY29+DS29+RANK(FC32,FC31:FC34,1),)","v":0},null,{"$f":"IFERROR(VLOOKUP(FH32,CD30:CV34,19,FALSE),IFERROR(VLOOKUP(FH32,CX30:DP34,19,FALSE),IFERROR(VLOOKUP(FH32,DR30:EJ34,19,FALSE),VLOOKUP(FH32,EL30:FD34,19,FALSE))))","v":1},{"$f":"RANK(FF32,FF31:FF34,1)+COUNTIF(FF31:FF32,FF32)-1","v":2},{"$f":"BR32","v":"Frankrike"},null,null,null,null,null,null,null,null,null,null,null,null,null,null,null,null,null,null,null,null,null,null,null,null,null,29]
[null,null,"2024-06-21","Polen","-","Österrike",null,"-",null,"",{"$f":"IF(VLOOKUP(D33,BR30:CA34,10,FALSE)=VLOOKUP(F33,BR30:CA34,10,FALSE),VLOOKUP(D33,BR30:CA34,10,FALSE),\"-\")","v":1},3,{"$f":"VLOOKUP(L33,FG31:FH34,2,FALSE)","v":"Polen"},{"$f":"VLOOKUP($M33,$BR$31:$BY$34,2,FALSE)","v":0},{"$f":"VLOOKUP($M33,$BR$31:$BY$34,3,FALSE)","v":0},{"$f":"VLOOKUP($M33,$BR$31:$BY$34,4,FALSE)","v":0},{"$f":"VLOOKUP($M33,$BR$31:$BY$34,5,FALSE)","v":0},{"$f":"VLOOKUP($M33,$BR$31:$BY$34,6,FALSE)","v":0},{"$f":"VLOOKUP($M33,$BR$31:$BY$34,7,FALSE)","v":0},{"$f":"VLOOKUP($M33,$BR$31:$BY$34,8,FALSE)","v":0},null,null,null,null,null,null,null,null,"2024-06-21","Polen","-","Österrike","","-","","",null,0,0,0,0,0,0,0,0,0,0,0,0,0,0,0,0,0,0,0,0,0,0,0,0,0,0,0,0,0,0,null,null,"Polen",{"$f":"(SUMIF(AD$4:AD$54,BR33,AL$4:AL$54)+SUMIF(AF$4:AF$54,BR33,AM$4:AM$54))","v":0},{"$f":"(SUMIF(AD$4:AD$54,BR33,AN$4:AN$54)+SUMIF(AF$4:AF$54,BR33,AO$4:AO$54))","v":0},{"$f":"(SUMIF(AD$4:AD$54,BR33,AP$4:AP$54)+SUMIF(AF$4:AF$54,BR33,AQ$4:AQ$54))","v":0},{"$f":"SUMIF($AD$4:$AD$54,BR33,$AG$4:$AG$54)+SUMIF($AF$4:$AF$54,BR33,$AI$4:$AI$54)","v":0},{"$f":"SUMIF($AD$4:$AD$54,BR33,$AI$4:$AI$54)+SUMIF($AF$4:$AF$54,BR33,$AG$4:$AG$54)","v":0},{"$f":"BV33-BW33","v":0},{"$f":"IFERROR(BS33*3+BT33*1,0)","v":0},"D",{"$f":"RANK(BY33,BY31:BY34)","v":1},{"$f":"SUMPRODUCT((BY31:BY34=BY33)*(BX31:BX34>BX33))","v":0},null,{"$f":"IF(CA33=1,BR33,)","v":"Polen"},0,0,0,0,"D",{"$f":"IF(CD33>0,RANK(CH33,CH31:CH34),)","v":1},{"$f":"IF(AND(CD33>0,COUNTIF(CJ31:CJ34,CJ33)>1),SUMIFS($AG$4:$AG$54,$AD$4:$AD$54,BR33,$K$4:$K$54,1)+SUMIFS($AI$4:$AI$54,$AF$4:$AF$54,BR33,$K$4:$K$54,1)-SUMIFS($AI$4:$AI$54,$AD$4:$AD$54,BR33,$K$4:$K$54,1)-SUMIFS($AG$4:$AG$54,$AF$4:$AF$54,BR33,$K$4:$K$54,1),)","v":0},{"$f":"IF(AND(CD33>0,COUNTIF(CJ31:CJ34,CJ33)>1),CJ33+RANK(CK33,CK31:CK34)-1,CJ33)","v":1},{"$f":"IF(AND(CD33>0,COUNTIF(CL31:CL34,CL33)>1),SUMIFS($AG$4:$AG$54,$AD$4:$AD$54,BR33,$K$4:$K$54,1)+SUMIFS($AI$4:$AI$54,$AF$4:$AF$54,BR33,$K$4:$K$54,1),)","v":0},{"$f":"IF(AND(CD33>0,COUNTIF(CL31:CL34,CL33)>1),CL33+RANK(CM33,CM31:CM34)-1,CL33)","v":1},1,{"$f":"IF(OR(CO33=\"\",COUNTIF(CO31:CO34,CO33)=1),\"\",$BX33)","v":0},{"$f":"IF(CO33=\"\",\"\",IF(COUNTIF(CO31:CO34,CO33)=1,CO33,CO33+RANK(CP33,CP31:CP34,0)-1))","v":1},{"$f":"IF(OR(CQ33=\"\",COUNTIF(CQ31:CQ34,CQ33)=1),\"\",$BV33)","v":0},{"$f":"IF(CO33=\"\",\"\",IF(COUNTIF(CQ31:CQ34,CQ33)=1,CQ33,CQ33+RANK(CR33,CR31:CR34,0)-1))","v":1},{"$f":"IF(OR(CS33=\"\",COUNTIF(CS31:CS34,CS33)=1),\"\",$BS33)","v":0},{"$f":"IF(CO33=\"\",\"\",IF(COUNTIF(CS31:CS34,CS33)=1,CS33,CS33+RANK(CT33,CT31:CT34,0)-1))","v":1},{"$f":"IF(CD33>0,BK29+RANK(CU33,CU31:CU34,1),)","v":1},null,{"$f":"IF(CA33=2,BR33,)","v":0},0,0,0,0,"D",{"$f":"IF(CX33>0,RANK(DB33,DB31:DB34)+CE29,)","v":0},{"$f":"IF(AND(CX33>0,COUNTIF(DD31:DD34,DD33)>1),SUMIFS($AG$4:$AG$54,$AD$4:$AD$54,BR33,$K$4:$K$54,2)+SUMIFS($AI$4:$AI$54,$AF$4:$AF$54,BR33,$K$4:$K$54,2)-SUMIFS($AI$4:$AI$54,$AD$4:$AD$54,BR33,$K$4:$K$54,2)-SUMIFS($AG$4:$AG$54,$AF$4:$AF$54,BR33,$K$4:$K$54,2),)","v":0},{"$f":"IF(AND(CX33>0,COUNTIF(DD31:DD34,DD33)>1),DD33+RANK(DE33,DE31:DE34)-1,DD33)","v":0},{"$f":"IF(AND(CX33>0,COUNTIF(DF31:DF34,DF33)>1),SUMIFS($AG$4:$AG$54,$AD$4:$AD$54,BR33,$K$4:$K$54,2)+SUMIFS($AI$4:$AI$54,$AF$4:$AF$54,BR33,$K$4:$K$54,2),)","v":0},{"$f":"IF(AND(CX33>0,COUNTIF(DF31:DF34,DF33)>1),DF33+RANK(DG33,DG31:DG34)-1,DF33)","v":0},"",{"$f":"IF(OR(DI33=\"\",COUNTIF(DI31:DI34,DI33)=1),\"\",$BX33)","v":""},{"$f":"IF(DI33=\"\",\"\",IF(COUNTIF(DI31:DI34,DI33)=1,DI33,DI33+RANK(DJ33,DJ31:DJ34,0)-1))","v":""},{"$f":"IF(OR(DK33=\"\",COUNTIF(DK31:DK34,DK33)=1),\"\",$BV33)","v":""},{"$f":"IF(DI33=\"\",\"\",IF(COUNTIF(DK31:DK34,DK33)=1,DK33,DK33+RANK(DL33,DL31:DL34,0)-1))","v":""},{"$f":"IF(OR(DM33=\"\",COUNTIF(DM31:DM34,DM33)=1),\"\",$BS33)","v":""},{"$f":"IF(DI33=\"\",\"\",IF(COUNTIF(DM31:DM34,DM33)=1,DM33,DM33+RANK(DN33,DN31:DN34,0)-1))","v":""},{"$f":"IF(CX33>0,CE29+RANK(DO33,DO31:DO34,1),)","v":0},null,{"$f":"IF(CA33=3,BR33,)","v":0},{"$f":"(SUMIF(AD$4:AD$54,BR33,BD$4:BD$54)+SUMIF(AF$4:AF$54,BR33,BE$4:BE$54))","v":0},{"$f":"(SUMIF(AD$4:AD$54,BR33,BF$4:BF$54)+SUMIF(AF$4:AF$54,BR33,BG$4:BG$54))","v":0},{"$f":"(SUMIF(AD$4:AD$54,BR33,BH$4:BH$54)+SUMIF(AF$4:AF$54,BR33,BI$4:BI$54))","v":0},0,{"$f":"BZ33","v":"D"},{"$f":"IF(DR33>0,RANK(DV33,DV31:DV34)+CE29+CY29,)","v":0},{"$f":"IF(AND(DR33>0,COUNTIF(DX31:DX34,DX33)>1),SUMIFS($AG$4:$AG$54,$AD$4:$AD$54,BR33,$K$4:$K$54,3)+SUMIFS($AI$4:$AI$54,$AF$4:$AF$54,BR33,$K$4:$K$54,3)-SUMIFS($AI$4:$AI$54,$AD$4:$AD$54,BR33,$K$4:$K$54,3)-SUMIFS($AG$4:$AG$54,$AF$4:$AF$54,BR33,$K$4:$K$54,3),)","v":0},{"$f":"IF(AND(DR33>0,COUNTIF(DX31:DX34,DX33)>1),DX33+RANK(DY33,DY31:DY34)-1,DX33)","v":0},{"$f":"IF(AND(DR33>0,COUNTIF(DZ31:DZ34,DZ33)>1),SUMIFS($AG$4:$AG$54,$AD$4:$AD$54,BR33,$K$4:$K$54,3)+SUMIFS($AI$4:$AI$54,$AF$4:$AF$54,BR33,$K$4:$K$54,3),)","v":0},{"$f":"IF(AND(DR33>0,COUNTIF(DZ31:DZ34,DZ33)>1),DZ33+RANK(EA33,EA31:EA34)-1,DZ33)","v":0},"",{"$f":"IF(OR(EC33=\"\",COUNTIF(EC31:EC34,EC33)=1),\"\",$BX33)","v":""},{"$f":"IF(EC33=\"\",\"\",IF(COUNTIF(EC31:EC34,EC33)=1,EC33,EC33+RANK(ED33,ED31:ED34,0)-1))","v":""},{"$f":"IF(OR(EE33=\"\",COUNTIF(EE31:EE34,EE33)=1),\"\",$BV33)","v":""},{"$f":"IF(EC33=\"\",\"\",IF(COUNTIF(EE31:EE34,EE33)=1,EE33,EE33+RANK(EF33,EF31:EF34,0)-1))","v":""},{"$f":"IF(OR(EG33=\"\",COUNTIF(EG31:EG34,EG33)=1),\"\",$BS33)","v":""},{"$f":"IF(EC33=\"\",\"\",IF(COUNTIF(EG31:EG34,EG33)=1,EG33,EG33+RANK(EH33,EH31:EH34,0)-1))","v":""},{"$f":"IF(DR33>0,CE29+CY29+RANK(EI33,EI31:EI34,1),)","v":0},null,{"$f":"IF(CA33=4,BR33,)","v":0},0,0,0,0,"D",{"$f":"IF(EL33>0,RANK(EP33,EP31:EP34)+CE29+CY29+DS29,)","v":0},{"$f":"IF(AND(EL33>0,COUNTIF(ER31:ER34,ER33)>1),SUMIFS($AG$4:$AG$54,$AD$4:$AD$54,BR33,$K$4:$K$54,4)+SUMIFS($AI$4:$AI$54,$AF$4:$AF$54,BR33,$K$4:$K$54,4)-SUMIFS($AI$4:$AI$54,$AD$4:$AD$54,BR33,$K$4:$K$54,4)-SUMIFS($AG$4:$AG$54,$AF$4:$AF$54,BR33,$K$4:$K$54,4),)","v":0},0,{"$f":"IF(AND(EL33>0,COUNTIF(ET31:ET34,ET33)>1),SUMIFS($AG$4:$AG$54,$AD$4:$AD$54,BR33,$K$4:$K$54,4)+SUMIFS($AI$4:$AI$54,$AF$4:$AF$54,BR33,$K$4:$K$54,4),)","v":0},{"$f":"IF(AND(EL33>0,COUNTIF(ET31:ET34,ET33)>1),ET33+RANK(EU33,EU31:EU34)-1,ET33)","v":0},"",{"$f":"IF(OR(EW33=\"\",COUNTIF(EW31:EW34,EW33)=1),\"\",$BX33)","v":""},{"$f":"IF(EW33=\"\",\"\",IF(COUNTIF(EW31:EW34,EW33)=1,EW33,EW33+RANK(EX33,EX31:EX34,0)-1))","v":""},{"$f":"IF(OR(EY33=\"\",COUNTIF(EY31:EY34,EY33)=1),\"\",$BV33)","v":""},{"$f":"IF(EW33=\"\",\"\",IF(COUNTIF(EY31:EY34,EY33)=1,EY33,EY33+RANK(EZ33,EZ31:EZ34,0)-1))","v":""},{"$f":"IF(OR(FA33=\"\",COUNTIF(FA31:FA34,FA33)=1),\"\",$BS33)","v":""},{"$f":"IF(EW33=\"\",\"\",IF(COUNTIF(FA31:FA34,FA33)=1,FA33,FA33+RANK(FB33,FB31:FB34,0)-1))","v":""},{"$f":"IF(EL33>0,CE29+CY29+DS29+RANK(FC33,FC31:FC34,1),)","v":0},null,{"$f":"IFERROR(VLOOKUP(FH33,CD30:CV34,19,FALSE),IFERROR(VLOOKUP(FH33,CX30:DP34,19,FALSE),IFERROR(VLOOKUP(FH33,DR30:EJ34,19,FALSE),VLOOKUP(FH33,EL30:FD34,19,FALSE))))","v":1},{"$f":"RANK(FF33,FF31:FF34,1)+COUNTIF(FF31:FF33,FF33)-1","v":3},{"$f":"BR33","v":"Polen"},null,null,null,null,null,null,null,null,null,null,null,null,null,null,null,null,null,null,null,null,null,null,null,null,null,30]
[null,null,"2024-06-21","Nederländerna","-","Frankrike",null,"-",null,"",{"$f":"IF(VLOOKUP(D34,BR30:CA34,10,FALSE)=VLOOKUP(F34,BR30:CA34,10,FALSE),VLOOKUP(D34,BR30:CA34,10,FALSE),\"-\")","v":1},4,{"$f":"VLOOKUP(L34,FG31:FH34,2,FALSE)","v":"Österrike"},{"$f":"VLOOKUP($M34,$BR$31:$BY$34,2,FALSE)","v":0},{"$f":"VLOOKUP($M34,$BR$31:$BY$34,3,FALSE)","v":0},{"$f":"VLOOKUP($M34,$BR$31:$BY$34,4,FALSE)","v":0},{"$f":"VLOOKUP($M34,$BR$31:$BY$34,5,FALSE)","v":0},{"$f":"VLOOKUP($M34,$BR$31:$BY$34,6,FALSE)","v":0},{"$f":"VLOOKUP($M34,$BR$31:$BY$34,7,FALSE)","v":0},{"$f":"VLOOKUP($M34,$BR$31:$BY$34,8,FALSE)","v":0},null,null,null,null,null,null,null,null,"2024-06-21","Nederländerna","-","Frankrike","","-","","",null,0,0,0,0,0,0,0,0,0,0,0,0,0,0,0,0,0,0,0,0,0,0,0,0,0,0,0,0,0,0,null,null,"Österrike",{"$f":"(SUMIF(AD$4:AD$54,BR34,AL$4:AL$54)+SUMIF(AF$4:AF$54,BR34,AM$4:AM$54))","v":0},{"$f":"(SUMIF(AD$4:AD$54,BR34,AN$4:AN$54)+SUMIF(AF$4:AF$54,BR34,AO$4:AO$54))","v":0},{"$f":"(SUMIF(AD$4:AD$54,BR34,AP$4:AP$54)+SUMIF(AF$4:AF$54,BR34,AQ$4:AQ$54))","v":0},{"$f":"SUMIF($AD$4:$AD$54,BR34,$AG$4:$AG$54)+SUMIF($AF$4:$AF$54,BR34,$AI$4:$AI$54)","v":0},{"$f":"SUMIF($AD$4:$AD$54,BR34,$AI$4:$AI$54)+SUMIF($AF$4:$AF$54,BR34,$AG$4:$AG$54)","v":0},{"$f":"BV34-BW34","v":0},{"$f":"IFERROR(BS34*3+BT34*1,0)","v":0},"D",{"$f":"RANK(BY34,BY31:BY34)","v":1},{"$f":"SUMPRODUCT((BY31:BY34=BY34)*(BX31:BX34>BX34))","v":0},null,{"$f":"IF(CA34=1,BR34,)","v":"Österrike"},0,0,0,0,"D",{"$f":"IF(CD34>0,RANK(CH34,CH31:CH34),)","v":1},{"$f":"IF(AND(CD34>0,COUNTIF(CJ31:CJ34,CJ34)>1),SUMIFS($AG$4:$AG$54,$AD$4:$AD$54,BR34,$K$4:$K$54,1)+SUMIFS($AI$4:$AI$54,$AF$4:$AF$54,BR34,$K$4:$K$54,1)-SUMIFS($AI$4:$AI$54,$AD$4:$AD$54,BR34,$K$4:$K$54,1)-SUMIFS($AG$4:$AG$54,$AF$4:$AF$54,BR34,$K$4:$K$54,1),)","v":0},{"$f":"IF(AND(CD34>0,COUNTIF(CJ31:CJ34,CJ34)>1),CJ34+RANK(CK34,CK31:CK34)-1,CJ34)","v":1},{"$f":"IF(AND(CD34>0,COUNTIF(CL31:CL34,CL34)>1),SUMIFS($AG$4:$AG$54,$AD$4:$AD$54,BR34,$K$4:$K$54,1)+SUMIFS($AI$4:$AI$54,$AF$4:$AF$54,BR34,$K$4:$K$54,1),)","v":0},{"$f":"IF(AND(CD34>0,COUNTIF(CL31:CL34,CL34)>1),CL34+RANK(CM34,CM31:CM34)-1,CL34)","v":1},1,{"$f":"IF(OR(CO34=\"\",COUNTIF(CO31:CO34,CO34)=1),\"\",$BX34)","v":0},{"$f":"IF(CO34=\"\",\"\",IF(COUNTIF(CO31:CO34,CO34)=1,CO34,CO34+RANK(CP34,CP31:CP34,0)-1))","v":1},{"$f":"IF(OR(CQ34=\"\",COUNTIF(CQ31:CQ34,CQ34)=1),\"\",$BV34)","v":0},{"$f":"IF(CO34=\"\",\"\",IF(COUNTIF(CQ31:CQ34,CQ34)=1,CQ34,CQ34+RANK(CR34,CR31:CR34,0)-1))","v":1},{"$f":"IF(OR(CS34=\"\",COUNTIF(CS31:CS34,CS34)=1),\"\",$BS34)","v":0},{"$f":"IF(CO34=\"\",\"\",IF(COUNTIF(CS31:CS34,CS34)=1,CS34,CS34+RANK(CT34,CT31:CT34,0)-1))","v":1},{"$f":"IF(CD34>0,BK29+RANK(CU34,CU31:CU34,1),)","v":1},null,{"$f":"IF(CA34=2,BR34,)","v":0},0,0,0,0,"D",{"$f":"IF(CX34>0,RANK(DB34,DB31:DB34)+CE29,)","v":0},{"$f":"IF(AND(CX34>0,COUNTIF(DD31:DD34,DD34)>1),SUMIFS($AG$4:$AG$54,$AD$4:$AD$54,BR34,$K$4:$K$54,2)+SUMIFS($AI$4:$AI$54,$AF$4:$AF$54,BR34,$K$4:$K$54,2)-SUMIFS($AI$4:$AI$54,$AD$4:$AD$54,BR34,$K$4:$K$54,2)-SUMIFS($AG$4:$AG$54,$AF$4:$AF$54,BR34,$K$4:$K$54,2),)","v":0},{"$f":"IF(AND(CX34>0,COUNTIF(DD31:DD34,DD34)>1),DD34+RANK(DE34,DE31:DE34)-1,DD34)","v":0},{"$f":"IF(AND(CX34>0,COUNTIF(DF31:DF34,DF34)>1),SUMIFS($AG$4:$AG$54,$AD$4:$AD$54,BR34,$K$4:$K$54,2)+SUMIFS($AI$4:$AI$54,$AF$4:$AF$54,BR34,$K$4:$K$54,2),)","v":0},{"$f":"IF(AND(CX34>0,COUNTIF(DF31:DF34,DF34)>1),DF34+RANK(DG34,DG31:DG34)-1,DF34)","v":0},"",{"$f":"IF(OR(DI34=\"\",COUNTIF(DI31:DI34,DI34)=1),\"\",$BX34)","v":""},{"$f":"IF(DI34=\"\",\"\",IF(COUNTIF(DI31:DI34,DI34)=1,DI34,DI34+RANK(DJ34,DJ31:DJ34,0)-1))","v":""},{"$f":"IF(OR(DK34=\"\",COUNTIF(DK31:DK34,DK34)=1),\"\",$BV34)","v":""},{"$f":"IF(DI34=\"\",\"\",IF(COUNTIF(DK31:DK34,DK34)=1,DK34,DK34+RANK(DL34,DL31:DL34,0)-1))","v":""},{"$f":"IF(OR(DM34=\"\",COUNTIF(DM31:DM34,DM34)=1),\"\",$BS34)","v":""},{"$f":"IF(DI34=\"\",\"\",IF(COUNTIF(DM31:DM34,DM34)=1,DM34,DM34+RANK(DN34,DN31:DN34,0)-1))","v":""},{"$f":"IF(CX34>0,CE29+RANK(DO34,DO31:DO34,1),)","v":0},null,{"$f":"IF(CA34=3,BR34,)","v":0},{"$f":"(SUMIF(AD$4:AD$54,BR34,BD$4:BD$54)+SUMIF(AF$4:AF$54,BR34,BE$4:BE$54))","v":0},{"$f":"(SUMIF(AD$4:AD$54,BR34,BF$4:BF$54)+SUMIF(AF$4:AF$54,BR34,BG$4:BG$54))","v":0},{"$f":"(SUMIF(AD$4:AD$54,BR34,BH$4:BH$54)+SUMIF(AF$4:AF$54,BR34,BI$4:BI$54))","v":0},0,{"$f":"BZ34","v":"D"},{"$f":"IF(DR34>0,RANK(DV34,DV31:DV34)+CE29+CY29,)","v":0},{"$f":"IF(AND(DR34>0,COUNTIF(DX31:DX34,DX34)>1),SUMIFS($AG$4:$AG$54,$AD$4:$AD$54,BR34,$K$4:$K$54,3)+SUMIFS($AI$4:$AI$54,$AF$4:$AF$54,BR34,$K$4:$K$54,3)-SUMIFS($AI$4:$AI$54,$AD$4:$AD$54,BR34,$K$4:$K$54,3)-SUMIFS($AG$4:$AG$54,$AF$4:$AF$54,BR34,$K$4:$K$54,3),)","v":0},{"$f":"IF(AND(DR34>0,COUNTIF(DX31:DX34,DX34)>1),DX34+RANK(DY34,DY31:DY34)-1,DX34)","v":0},{"$f":"IF(AND(DR34>0,COUNTIF(DZ31:DZ34,DZ34)>1),SUMIFS($AG$4:$AG$54,$AD$4:$AD$54,BR34,$K$4:$K$54,3)+SUMIFS($AI$4:$AI$54,$AF$4:$AF$54,BR34,$K$4:$K$54,3),)","v":0},{"$f":"IF(AND(DR34>0,COUNTIF(DZ31:DZ34,DZ34)>1),DZ34+RANK(EA34,EA31:EA34)-1,DZ34)","v":0},"",{"$f":"IF(OR(EC34=\"\",COUNTIF(EC31:EC34,EC34)=1),\"\",$BX34)","v":""},{"$f":"IF(EC34=\"\",\"\",IF(COUNTIF(EC31:EC34,EC34)=1,EC34,EC34+RANK(ED34,ED31:ED34,0)-1))","v":""},{"$f":"IF(OR(EE34=\"\",COUNTIF(EE31:EE34,EE34)=1),\"\",$BV34)","v":""},{"$f":"IF(EC34=\"\",\"\",IF(COUNTIF(EE31:EE34,EE34)=1,EE34,EE34+RANK(EF34,EF31:EF34,0)-1))","v":""},{"$f":"IF(OR(EG34=\"\",COUNTIF(EG31:EG34,EG34)=1),\"\",$BS34)","v":""},{"$f":"IF(EC34=\"\",\"\",IF(COUNTIF(EG31:EG34,EG34)=1,EG34,EG34+RANK(EH34,EH31:EH34,0)-1))","v":""},{"$f":"IF(DR34>0,CE29+CY29+RANK(EI34,EI31:EI34,1),)","v":0},null,{"$f":"IF(CA34=4,BR34,)","v":0},0,0,0,0,"D",{"$f":"IF(EL34>0,RANK(EP34,EP31:EP34)+CE29+CY29+DS29,)","v":0},{"$f":"IF(AND(EL34>0,COUNTIF(ER31:ER34,ER34)>1),SUMIFS($AG$4:$AG$54,$AD$4:$AD$54,BR34,$K$4:$K$54,4)+SUMIFS($AI$4:$AI$54,$AF$4:$AF$54,BR34,$K$4:$K$54,4)-SUMIFS($AI$4:$AI$54,$AD$4:$AD$54,BR34,$K$4:$K$54,4)-SUMIFS($AG$4:$AG$54,$AF$4:$AF$54,BR34,$K$4:$K$54,4),)","v":0},0,{"$f":"IF(AND(EL34>0,COUNTIF(ET31:ET34,ET34)>1),SUMIFS($AG$4:$AG$54,$AD$4:$AD$54,BR34,$K$4:$K$54,4)+SUMIFS($AI$4:$AI$54,$AF$4:$AF$54,BR34,$K$4:$K$54,4),)","v":0},{"$f":"IF(AND(EL34>0,COUNTIF(ET31:ET34,ET34)>1),ET34+RANK(EU34,EU31:EU34)-1,ET34)","v":0},"",{"$f":"IF(OR(EW34=\"\",COUNTIF(EW31:EW34,EW34)=1),\"\",$BX34)","v":""},{"$f":"IF(EW34=\"\",\"\",IF(COUNTIF(EW31:EW34,EW34)=1,EW34,EW34+RANK(EX34,EX31:EX34,0)-1))","v":""},{"$f":"IF(OR(EY34=\"\",COUNTIF(EY31:EY34,EY34)=1),\"\",$BV34)","v":""},{"$f":"IF(EW34=\"\",\"\",IF(COUNTIF(EY31:EY34,EY34)=1,EY34,EY34+RANK(EZ34,EZ31:EZ34,0)-1))","v":""},{"$f":"IF(OR(FA34=\"\",COUNTIF(FA31:FA34,FA34)=1),\"\",$BS34)","v":""},{"$f":"IF(EW34=\"\",\"\",IF(COUNTIF(FA31:FA34,FA34)=1,FA34,FA34+RANK(FB34,FB31:FB34,0)-1))","v":""},{"$f":"IF(EL34>0,CE29+CY29+DS29+RANK(FC34,FC31:FC34,1),)","v":0},null,{"$f":"IFERROR(VLOOKUP(FH34,CD30:CV34,19,FALSE),IFERROR(VLOOKUP(FH34,CX30:DP34,19,FALSE),IFERROR(VLOOKUP(FH34,DR30:EJ34,19,FALSE),VLOOKUP(FH34,EL30:FD34,19,FALSE))))","v":1},{"$f":"RANK(FF34,FF31:FF34,1)+COUNTIF(FF31:FF34,FF34)-1","v":4},{"$f":"BR34","v":"Österrike"},null,null,null,null,null,null,null,null,null,null,null,null,null,null,null,null,null,null,null,null,null,null,null,null,null,31]
[null,null,"2024-06-25","Nederländerna","-","Österrike",null,"-",null,"",{"$f":"IF(VLOOKUP(D35,BR30:CA34,10,FALSE)=VLOOKUP(F35,BR30:CA34,10,FALSE),VLOOKUP(D35,BR30:CA34,10,FALSE),\"-\")","v":1},null,{"$f":"IF(COUNTBLANK(G31:G36)+COUNTBLANK(I31:I36)=0,\"Resultat OK\",\"Fyll i resultat\")","v":"Fyll i resultat"},null,null,null,null,null,null,null,null,null,null,null,null,null,null,null,"2024-06-25","Nederländerna","-","Österrike","","-","","",null,0,0,0,0,0,0,0,0,0,0,0,0,0,0,0,0,0,0,0,0,0,0,0,0,0,0,0,0,0,0,null,null,null,null,null,null,null,null,null,null,null,null,null,null,null,null,null,null,null,null,null,null,null,null,null,null,null,null,null,null,null,null,null,null,null,null,null,null,null,null,null,null,null,null,null,null,null,null,null,null,null,null,null,null,null,null,null,null,null,null,null,null,null,null,null,null,null,null,null,null,null,null,null,null,null,null,null,null,null,null,null,null,null,null,null,null,null,null,null,null,null,null,null,null,null,null,null,null,null,null,null,null,null,null,null,null,null,null,null,null,null,null,null,null,null,null,null,null,null,null,null,null,32]
[null,null,"2024-06-25","Frankrike","-","Polen",null,"-",null,"",{"$f":"IF(VLOOKUP(D36,BR30:CA34,10,FALSE)=VLOOKUP(F36,BR30:CA34,10,FALSE),VLOOKUP(D36,BR30:CA34,10,FALSE),\"-\")","v":1},null,null,null,null,null,null,null,null,null,null,null,null,null,null,null,null,null,"2024-06-25","Frankrike","-","Polen","","-","","",null,0,0,0,0,0,0,0,0,0,0,0,0,0,0,0,0,0,0,0,0,0,0,0,0,0,0,0,0,0,0,null,null,null,null,null,null,null,null,null,null,null,null,null,null,null,null,null,null,null,null,null,null,null,null,null,null,null,null,null,null,null,null,null,null,null,null,null,null,null,null,null,null,null,null,null,null,null,null,null,null,null,null,null,null,null,null,null,null,null,null,null,null,null,null,null,null,null,null,null,null,null,null,null,null,null,null,null,null,null,null,null,null,null,null,null,null,null,null,null,null,null,null,null,null,null,null,null,null,null,null,null,null,null,null,null,null,null,null,null,null,null,null,null,null,null,null,null,null,null,null,null,null,33]
[null,null,null,null,null,null,null,null,null,"",null,null,null,null,null,null,null,null,null,null,null,null,null,null,null,null,null,null,null,null,null,null,"",null,null,"",null,null,null,null,null,null,null,null,null,null,null,null,null,null,null,null,null,null,null,null,null,null,null,null,null,null,null,null,null,null,null,null,null,null,null,null,null,null,null,null,null,null,null,null,null,null,null,null,null,null,null,null,null,null,null,null,null,null,null,null,null,null,null,null,null,null,null,null,null,null,null,null,null,null,null,null,null,null,null,null,null,null,null,null,null,null,null,null,null,null,null,null,null,null,null,null,null,null,null,null,null,null,null,null,null,null,null,null,null,null,null,null,null,null,null,null,null,null,null,null,null,null,null,null,null,null,null,null,null,null,null,null,null,null,null,null,null,null,null,null,null,null,null,null,null,null,null,null,null,null,null,null,null,34]
[null,null,"Grupp E",null,null,null,null,null,null,null,null,null,null,null,null,null,null,null,null,null,null,null,null,null,null,null,null,null,"Grupp E",null,null,null,null,null,null,null,null,null,null,null,null,null,null,null,null,null,null,null,null,null,null,null,null,null,null,null,null,null,null,null,null,null,null,null,null,null,null,null,null,"Rank 0",null,null,null,null,null,null,null,null,null,null,null,"Rank 1",{"$f":"COUNTIF(CA40:CA43,1)","v":4},null,null,null,null,null,null,null,null,null,null,null,null,null,null,null,null,null,null,"Rank 2",{"$f":"COUNTIF(CA40:CA43,2)","v":0},null,null,null,null,null,null,null,null,null,null,null,null,null,null,null,null,null,null,"Rank 3",{"$f":"COUNTIF(CA40:CA43,3)","v":0},null,null,null,null,null,null,null,null,null,null,null,null,null,null,null,null,null,null,"Rank 4",{"$f":"COUNTIF(CA40:CA43,4)","v":0},null,null,null,null,null,null,null,null,null,null,null,null,null,null,null,null,null,null,null,null,null,null,null,null,null,null,null,null,null,null,null,null,null,null,null,null,null,null,null,null,null,null,null,null,null,null,35]
[null,null,"Datum","Match",null,null,"Resultat",null,null,"Tecken",null,null,"Lag","V","O","F","GM","IM","+/-","P",null,null,null,null,null,null,null,null,"Datum","Match",null,null,"Resultat",null,null,"Tecken","Poäng","V1","V2","O1","O2","F1","F2","V1","V2","O1","O2","F1","F2","V1","V2","O1","O2","F1","F2","V1","V2","O1","O2","F1","F2","V1","V2","O1","O2","F1","F2",null,null,"Lag","V","O","F","GM","IM","+/-","P","Grupp","Rank P","Rank +/-",null,"Lag","V","O","F","P","Grupp","Rank P","+/-","+/- rank","GM","GM rank","Rank internal","+/- all","+/- rank all","GM all","GM rank all","V all","V rank all","Rank all",null,"Lag","V","O","F","P","Grupp","Rank P","+/-","+/- rank","GM","GM rank","Rank internal","+/- all","+/- rank all","GM all","GM rank all","V all","V rank all","Rank all",null,"Lag","V","O","F","P","Grupp","Rank P","+/-","+/- rank","GM","GM rank","Rank internal","+/- all","+/- rank all","GM all","GM rank all","V all","V rank all","Rank all",null,"Lag","V","O","F","P","Grupp","Rank P","+/-","+/- rank","GM","GM rank","Rank internal","+/- all","+/- rank all","GM all","GM rank all","V all","V rank all","Rank all",null,"Rank","Rank Ties",null,null,null,null,null,null,null,null,null,null,null,null,null,null,null,null,null,null,null,null,null,null,null,null,null,null,36]
[null,null,"2024-06-17","Rumänien","-","Ukraina",null,"-",null,{"$f":"IF(OR(ISBLANK(G40),ISBLANK(I40)),\"\",IF(G40>I40,1,IF(G40<I40,2,\"X\")))","v":""},{"$f":"IF(VLOOKUP(D40,BR39:CA43,10,FALSE)=VLOOKUP(F40,BR39:CA43,10,FALSE),VLOOKUP(D40,BR39:CA43,10,FALSE),\"-\")","v":1},1,{"$f":"VLOOKUP(L40,FG40:FH43,2,FALSE)","v":"Ukraina"},{"$f":"VLOOKUP($M40,$BR$40:$BY$43,2,FALSE)","v":0},{"$f":"VLOOKUP($M40,$BR$40:$BY$43,3,FALSE)","v":0},{"$f":"VLOOKUP($M40,$BR$40:$BY$43,4,FALSE)","v":0},{"$f":"VLOOKUP($M40,$BR$40:$BY$43,5,FALSE)","v":0},{"$f":"VLOOKUP($M40,$BR$40:$BY$43,6,FALSE)","v":0},{"$f":"VLOOKUP($M40,$BR$40:$BY$43,7,FALSE)","v":0},{"$f":"VLOOKUP($M40,$BR$40:$BY$43,8,FALSE)","v":0},null,null,null,null,null,null,null,null,{"$f":"C40","v":"2024-06-17"},"Rumänien","-","Ukraina",{"$f":"IF(G40=\"\",\"\",G40)","v":""},"-",{"$f":"IF(I40=\"\",\"\",I40)","v":""},{"$f":"J40","v":""},null,{"$f":"IF(AG40>AI40,1,0)","v":0},{"$f":"IF(AI40>AG40,1,0)","v":0},{"$f":"IF(AND(AG40=AI40,AG40<>\"\"),1,0)","v":0},{"$f":"IF(AND(AG40=AI40,AG40<>\"\"),1,0)","v":0},{"$f":"IF(AG40<AI40,1,0)","v":0},{"$f":"IF(AI40<AG40,1,)","v":0},{"$f":"IF(ISERROR(VLOOKUP(AD40,CD:CD,1,FALSE)),0,1)*IF(ISERROR(VLOOKUP(AF40,CD:CD,1,FALSE)),0,1)*AL40","v":0},{"$f":"IF(ISERROR(VLOOKUP(AD40,CD:CD,1,FALSE)),0,1)*IF(ISERROR(VLOOKUP(AF40,CD:CD,1,FALSE)),0,1)*AM40","v":0},{"$f":"IF(ISERROR(VLOOKUP(AD40,CD:CD,1,FALSE)),0,1)*IF(ISERROR(VLOOKUP(AF40,CD:CD,1,FALSE)),0,1)*AN40","v":0},{"$f":"IF(ISERROR(VLOOKUP(AD40,CD:CD,1,FALSE)),0,1)*IF(ISERROR(VLOOKUP(AF40,CD:CD,1,FALSE)),0,1)*AO40","v":0},{"$f":"IF(ISERROR(VLOOKUP(AD40,CD:CD,1,FALSE)),0,1)*IF(ISERROR(VLOOKUP(AF40,CD:CD,1,FALSE)),0,1)*AP40","v":0},{"$f":"IF(ISERROR(VLOOKUP(AD40,CD:CD,1,FALSE)),0,1)*IF(ISERROR(VLOOKUP(AF40,CD:CD,1,FALSE)),0,1)*AQ40","v":0},{"$f":"IF(ISERROR(VLOOKUP(AD40,CX:CX,1,FALSE)),0,1)*IF(ISERROR(VLOOKUP(AF40,CX:CX,1,FALSE)),0,1)*AL40","v":0},{"$f":"IF(ISERROR(VLOOKUP(AD40,CX:CX,1,FALSE)),0,1)*IF(ISERROR(VLOOKUP(AF40,CX:CX,1,FALSE)),0,1)*AM40","v":0},{"$f":"IF(ISERROR(VLOOKUP(AD40,CX:CX,1,FALSE)),0,1)*IF(ISERROR(VLOOKUP(AF40,CX:CX,1,FALSE)),0,1)*AN40","v":0},{"$f":"IF(ISERROR(VLOOKUP(AD40,CX:CX,1,FALSE)),0,1)*IF(ISERROR(VLOOKUP(AF40,CX:CX,1,FALSE)),0,1)*AO40","v":0},{"$f":"IF(ISERROR(VLOOKUP(AD40,CX:CX,1,FALSE)),0,1)*IF(ISERROR(VLOOKUP(AF40,CX:CX,1,FALSE)),0,1)*AP40","v":0},{"$f":"IF(ISERROR(VLOOKUP(AD40,CX:CX,1,FALSE)),0,1)*IF(ISERROR(VLOOKUP(AF40,CX:CX,1,FALSE)),0,1)*AQ40","v":0},{"$f":"IF(ISERROR(VLOOKUP(AD40,DR:DR,1,FALSE)),0,1)*IF(ISERROR(VLOOKUP(AF40,DR:DR,1,FALSE)),0,1)*AL40","v":0},{"$f":"IF(ISERROR(VLOOKUP(AD40,DR:DR,1,FALSE)),0,1)*IF(ISERROR(VLOOKUP(AF40,DR:DR,1,FALSE)),0,1)*AM40","v":0},{"$f":"IF(ISERROR(VLOOKUP(AD40,DR:DR,1,FALSE)),0,1)*IF(ISERROR(VLOOKUP(AF40,DR:DR,1,FALSE)),0,1)*AN40","v":0},{"$f":"IF(ISERROR(VLOOKUP(AD40,DR:DR,1,FALSE)),0,1)*IF(ISERROR(VLOOKUP(AF40,DR:DR,1,FALSE)),0,1)*AO40","v":0},{"$f":"IF(ISERROR(VLOOKUP(AD40,DR:DR,1,FALSE)),0,1)*IF(ISERROR(VLOOKUP(AF40,DR:DR,1,FALSE)),0,1)*AP40","v":0},{"$f":"IF(ISERROR(VLOOKUP(AD40,DR:DR,1,FALSE)),0,1)*IF(ISERROR(VLOOKUP(AF40,DR:DR,1,FALSE)),0,1)*AQ40","v":0},{"$f":"IF(ISERROR(VLOOKUP(AD40,EL:EL,1,FALSE)),0,1)*IF(ISERROR(VLOOKUP(AF40,EL:EL,1,FALSE)),0,1)*AL40","v":0},{"$f":"IF(ISERROR(VLOOKUP(AD40,EL:EL,1,FALSE)),0,1)*IF(ISERROR(VLOOKUP(AF40,EL:EL,1,FALSE)),0,1)*AM40","v":0},{"$f":"IF(ISERROR(VLOOKUP(AD40,EL:EL,1,FALSE)),0,1)*IF(ISERROR(VLOOKUP(AF40,EL:EL,1,FALSE)),0,1)*AN40","v":0},{"$f":"IF(ISERROR(VLOOKUP(AD40,EL:EL,1,FALSE)),0,1)*IF(ISERROR(VLOOKUP(AF40,EL:EL,1,FALSE)),0,1)*AO40","v":0},{"$f":"IF(ISERROR(VLOOKUP(AD40,EL:EL,1,FALSE)),0,1)*IF(ISERROR(VLOOKUP(AF40,EL:EL,1,FALSE)),0,1)*AP40","v":0},{"$f":"IF(ISERROR(VLOOKUP(AD40,EL:EL,1,FALSE)),0,1)*IF(ISERROR(VLOOKUP(AF40,EL:EL,1,FALSE)),0,1)*AQ40","v":0},null,null,"Ukraina",{"$f":"(SUMIF(AD$4:AD$54,BR40,AL$4:AL$54)+SUMIF(AF$4:AF$54,BR40,AM$4:AM$54))","v":0},{"$f":"(SUMIF(AD$4:AD$54,BR40,AN$4:AN$54)+SUMIF(AF$4:AF$54,BR40,AO$4:AO$54))","v":0},{"$f":"(SUMIF(AD$4:AD$54,BR40,AP$4:AP$54)+SUMIF(AF$4:AF$54,BR40,AQ$4:AQ$54))","v":0},{"$f":"SUMIF($AD$4:$AD$54,BR40,$AG$4:$AG$54)+SUMIF($AF$4:$AF$54,BR40,$AI$4:$AI$54)","v":0},{"$f":"SUMIF($AD$4:$AD$54,BR40,$AI$4:$AI$54)+SUMIF($AF$4:$AF$54,BR40,$AG$4:$AG$54)","v":0},{"$f":"BV40-BW40","v":0},{"$f":"IFERROR(BS40*3+BT40*1,0)","v":0},"E",{"$f":"RANK(BY40,BY40:BY43)","v":1},{"$f":"SUMPRODUCT((BY40:BY43=BY40)*(BX40:BX43>BX40))","v":0},null,{"$f":"IF(CA40=1,BR40,)","v":"Ukraina"},{"$f":"(SUMIF($AD$4:$AD$54,$BR40,$AR$4:$AR$54)+SUMIF($AF$4:$AF$54,$BR40,$AS$4:$AS$54))","v":0},{"$f":"(SUMIF($AD$4:$AD$54,$BR40,$AT$4:$AT$54)+SUMIF($AF$4:$AF$54,$BR40,$AU$4:$AU$54))","v":0},{"$f":"(SUMIF($AD$4:$AD$54,$BR40,$AV$4:$AV$54)+SUMIF($AF$4:$AF$54,$BR40,$AW$4:$AW$54))","v":0},{"$f":"IFERROR(CE40*3+CF40*1,0)","v":0},{"$f":"BZ40","v":"E"},{"$f":"IF(CD40>0,RANK(CH40,CH40:CH43),)","v":1},{"$f":"IF(AND(CD40>0,COUNTIF(CJ40:CJ43,CJ40)>1),SUMIFS($AG$4:$AG$54,$AD$4:$AD$54,$BR40,$K$4:$K$54,1)+SUMIFS($AI$4:$AI$54,$AF$4:$AF$54,$BR40,$K$4:$K$54,1)-SUMIFS($AI$4:$AI$54,$AD$4:$AD$54,$BR40,$K$4:$K$54,1)-SUMIFS($AG$4:$AG$54,$AF$4:$AF$54,$BR40,$K$4:$K$54,1),)","v":0},{"$f":"IF(AND(CD40>0,COUNTIF(CJ40:CJ43,CJ40)>1),CJ40+RANK(CK40,CK40:CK43)-1,CJ40)","v":1},{"$f":"IF(AND(CD40>0,COUNTIF(CL40:CL43,CL40)>1),SUMIFS($AG$4:$AG$54,$AD$4:$AD$54,$BR40,$K$4:$K$54,1)+SUMIFS($AI$4:$AI$54,$AF$4:$AF$54,$BR40,$K$4:$K$54,1),)","v":0},{"$f":"IF(AND(CD40>0,COUNTIF(CL40:CL43,CL40)>1),CL40+RANK(CM40,CM40:CM43)-1,CL40)","v":1},{"$f":"IF(CN40=0,\"\",CN40)","v":1},{"$f":"IF(OR(CO40=\"\",COUNTIF(CO40:CO43,CO40)=1),\"\",$BX40)","v":0},{"$f":"IF(CO40=\"\",\"\",IF(COUNTIF(CO40:CO43,CO40)=1,CO40,CO40+RANK(CP40,CP40:CP43,0)-1))","v":1},{"$f":"IF(OR(CQ40=\"\",COUNTIF(CQ40:CQ43,CQ40)=1),\"\",$BV40)","v":0},{"$f":"IF(CO40=\"\",\"\",IF(COUNTIF(CQ40:CQ43,CQ40)=1,CQ40,CQ40+RANK(CR40,CR40:CR43,0)-1))","v":1},{"$f":"IF(OR(CS40=\"\",COUNTIF(CS40:CS43,CS40)=1),\"\",$BS40)","v":0},{"$f":"IF(CO40=\"\",\"\",IF(COUNTIF(CS40:CS43,CS40)=1,CS40,CS40+RANK(CT40,CT40:CT43,0)-1))","v":1},{"$f":"IF(CD40>0,BK38+RANK(CU40,CU40:CU43,1),)","v":1},null,{"$f":"IF(CA40=2,BR40,)","v":0},{"$f":"(SUMIF($AD$4:$AD$54,$BR40,$AX$4:$AX$54)+SUMIF($AF$4:$AF$54,$BR40,$AY$4:$AY$54))","v":0},{"$f":"(SUMIF($AD$4:$AD$54,$BR40,$AZ$4:$AZ$54)+SUMIF($AF$4:$AF$54,$BR40,$BA$4:$BA$54))","v":0},{"$f":"(SUMIF($AD$4:$AD$54,$BR40,$BB$4:$BB$54)+SUMIF($AF$4:$AF$54,$BR40,$BC$4:$BC$54))","v":0},{"$f":"IFERROR(CY40*3+CZ40*1,0)","v":0},{"$f":"$BZ40","v":"E"},{"$f":"IF(CX40>0,RANK(DB40,DB40:DB43)+CE38,)","v":0},{"$f":"IF(AND(CX40>0,COUNTIF(DD40:DD43,DD40)>1),SUMIFS($AG$4:$AG$54,$AD$4:$AD$54,$BR40,$K$4:$K$54,2)+SUMIFS($AI$4:$AI$54,$AF$4:$AF$54,$BR40,$K$4:$K$54,2)-SUMIFS($AI$4:$AI$54,$AD$4:$AD$54,$BR40,$K$4:$K$54,2)-SUMIFS($AG$4:$AG$54,$AF$4:$AF$54,$BR40,$K$4:$K$54,2),)","v":0},{"$f":"IF(AND(CX40>0,COUNTIF(DD40:DD43,DD40)>1),DD40+RANK(DE40,DE40:DE43)-1,DD40)","v":0},{"$f":"IF(AND(CX40>0,COUNTIF(DF40:DF43,DF40)>1),SUMIFS($AG$4:$AG$54,$AD$4:$AD$54,$BR40,$K$4:$K$54,2)+SUMIFS($AI$4:$AI$54,$AF$4:$AF$54,$BR40,$K$4:$K$54,2),)","v":0},{"$f":"IF(AND(CX40>0,COUNTIF(DF40:DF43,DF40)>1),DF40+RANK(DG40,DG40:DG43)-1,DF40)","v":0},{"$f":"IF(DH40=0,\"\",DH40)","v":""},{"$f":"IF(OR(DI40=\"\",COUNTIF(DI40:DI43,DI40)=1),\"\",$BX40)","v":""},{"$f":"IF(DI40=\"\",\"\",IF(COUNTIF(DI40:DI43,DI40)=1,DI40,DI40+RANK(DJ40,DJ40:DJ43,0)-1))","v":""},{"$f":"IF(OR(DK40=\"\",COUNTIF(DK40:DK43,DK40)=1),\"\",$BV40)","v":""},{"$f":"IF(DI40=\"\",\"\",IF(COUNTIF(DK40:DK43,DK40)=1,DK40,DK40+RANK(DL40,DL40:DL43,0)-1))","v":""},{"$f":"IF(OR(DM40=\"\",COUNTIF(DM40:DM43,DM40)=1),\"\",$BS40)","v":""},{"$f":"IF(DI40=\"\",\"\",IF(COUNTIF(DM40:DM43,DM40)=1,DM40,DM40+RANK(DN40,DN40:DN43,0)-1))","v":""},{"$f":"IF(CX40>0,CE38+RANK(DO40,DO40:DO43,1),)","v":0},null,{"$f":"IF(CA40=3,BR40,)","v":0},{"$f":"(SUMIF($AD$4:$AD$54,BR40,$BD$4:$BD$54)+SUMIF($AF$4:$AF$54,BR40,$BE$4:$BE$54))","v":0},{"$f":"(SUMIF($AD$4:$AD$54,BR40,$BF$4:$BF$54)+SUMIF($AF$4:$AF$54,BR40,$BG$4:$BG$54))","v":0},{"$f":"(SUMIF($AD$4:$AD$54,BR40,$BH$4:$BH$54)+SUMIF($AF$4:$AF$54,BR40,$BI$4:$BI$54))","v":0},{"$f":"IFERROR(DS40*3+DT40*1,0)","v":0},{"$f":"BZ40","v":"E"},{"$f":"IF(DR40>0,RANK(DV40,DV40:DV43)+CE38+CY38,)","v":0},{"$f":"IF(AND(DR40>0,COUNTIF(DX40:DX43,DX40)>1),SUMIFS($AG$4:$AG$54,$AD$4:$AD$54,$BR40,$K$4:$K$54,3)+SUMIFS($AI$4:$AI$54,$AF$4:$AF$54,$BR40,$K$4:$K$54,3)-SUMIFS($AI$4:$AI$54,$AD$4:$AD$54,$BR40,$K$4:$K$54,3)-SUMIFS($AG$4:$AG$54,$AF$4:$AF$54,$BR40,$K$4:$K$54,3),)","v":0},{"$f":"IF(AND(DR40>0,COUNTIF(DX40:DX43,DX40)>1),DX40+RANK(DY40,DY40:DY43)-1,DX40)","v":0},{"$f":"IF(AND(DR40>0,COUNTIF(DZ40:DZ43,DZ40)>1),SUMIFS($AG$4:$AG$54,$AD$4:$AD$54,$BR40,$K$4:$K$54,3)+SUMIFS($AI$4:$AI$54,$AF$4:$AF$54,$BR40,$K$4:$K$54,3),)","v":0},{"$f":"IF(AND(DR40>0,COUNTIF(DZ40:DZ43,DZ40)>1),DZ40+RANK(EA40,EA40:EA43)-1,DZ40)","v":0},{"$f":"IF(EB40=0,\"\",EB40)","v":""},{"$f":"IF(OR(EC40=\"\",COUNTIF(EC40:EC43,EC40)=1),\"\",$BX40)","v":""},{"$f":"IF(EC40=\"\",\"\",IF(COUNTIF(EC40:EC43,EC40)=1,EC40,EC40+RANK(ED40,ED40:ED43,0)-1))","v":""},{"$f":"IF(OR(EE40=\"\",COUNTIF(EE40:EE43,EE40)=1),\"\",$BV40)","v":""},{"$f":"IF(EC40=\"\",\"\",IF(COUNTIF(EE40:EE43,EE40)=1,EE40,EE40+RANK(EF40,EF40:EF43,0)-1))","v":""},{"$f":"IF(OR(EG40=\"\",COUNTIF(EG40:EG43,EG40)=1),\"\",$BS40)","v":""},{"$f":"IF(EC40=\"\",\"\",IF(COUNTIF(EG40:EG43,EG40)=1,EG40,EG40+RANK(EH40,EH40:EH43,0)-1))","v":""},{"$f":"IF(DR40>0,CE38+CY38+RANK(EI40,EI40:EI43,1),)","v":0},null,{"$f":"IF(CA40=4,BR40,)","v":0},{"$f":"(SUMIF($AD$4:$AD$54,$BR40,$BJ$4:$BJ$54)+SUMIF($AF$4:$AF$54,$BR40,$BK$4:$BK$54))","v":0},{"$f":"(SUMIF($AD$4:$AD$54,$BR40,$BL$4:$BL$54)+SUMIF($AF$4:$AF$54,$BR40,$BM$4:$BM$54))","v":0},{"$f":"(SUMIF($AD$4:$AD$54,$BR40,$BN$4:$BN$54)+SUMIF($AF$4:$AF$54,$BR40,$BO$4:$BO$54))","v":0},{"$f":"IFERROR(EM40*3+EN40*1,0)","v":0},{"$f":"$BZ40","v":"E"},{"$f":"IF(EL40>0,RANK(EP40,EP40:EP43)+CE38+CY38+DS38,)","v":0},{"$f":"IF(AND(EL40>0,COUNTIF(ER40:ER43,ER40)>1),SUMIFS($AG$4:$AG$54,$AD$4:$AD$54,$BR40,$K$4:$K$54,4)+SUMIFS($AI$4:$AI$54,$AF$4:$AF$54,$BR40,$K$4:$K$54,4)-SUMIFS($AI$4:$AI$54,$AD$4:$AD$54,$BR40,$K$4:$K$54,4)-SUMIFS($AG$4:$AG$54,$AF$4:$AF$54,$BR40,$K$4:$K$54,4),)","v":0},{"$f":"IF(AND(EL40>0,COUNTIF($ER$4:$ER$7,ER40)>1),ER40+RANK(ES40,$ES$4:$ES$7)-1,ER40)","v":0},{"$f":"IF(AND(EL40>0,COUNTIF(ET40:ET43,ET40)>1),SUMIFS($AG$4:$AG$54,$AD$4:$AD$54,$BR40,$K$4:$K$54,4)+SUMIFS($AI$4:$AI$54,$AF$4:$AF$54,$BR40,$K$4:$K$54,4),)","v":0},{"$f":"IF(AND(EL40>0,COUNTIF(ET40:ET43,ET40)>1),ET40+RANK(EU40,EU40:EU43)-1,ET40)","v":0},{"$f":"IF(EV40=0,\"\",EV40)","v":""},{"$f":"IF(OR(EW40=\"\",COUNTIF(EW40:EW43,EW40)=1),\"\",$BX40)","v":""},{"$f":"IF(EW40=\"\",\"\",IF(COUNTIF(EW40:EW43,EW40)=1,EW40,EW40+RANK(EX40,EX40:EX43,0)-1))","v":""},{"$f":"IF(OR(EY40=\"\",COUNTIF(EY40:EY43,EY40)=1),\"\",$BV40)","v":""},{"$f":"IF(EW40=\"\",\"\",IF(COUNTIF(EY40:EY43,EY40)=1,EY40,EY40+RANK(EZ40,EZ40:EZ43,0)-1))","v":""},{"$f":"IF(OR(FA40=\"\",COUNTIF(FA40:FA43,FA40)=1),\"\",$BS40)","v":""},{"$f":"IF(EW40=\"\",\"\",IF(COUNTIF(FA40:FA43,FA40)=1,FA40,FA40+RANK(FB40,FB40:FB43,0)-1))","v":""},{"$f":"IF(EL40>0,CE38+CY38+DS38+RANK(FC40,FC40:FC43,1),)","v":0},null,{"$f":"IFERROR(VLOOKUP(FH40,CD39:CV43,19,FALSE),IFERROR(VLOOKUP(FH40,CX39:DP43,19,FALSE),IFERROR(VLOOKUP(FH40,DR39:EJ43,19,FALSE),VLOOKUP(FH40,EL39:FD43,19,FALSE))))","v":1},{"$f":"RANK(FF40,FF40:FF43,1)+COUNTIF(FF40:FF40,FF40)-1","v":1},{"$f":"BR40","v":"Ukraina"},null,null,null,null,null,null,null,null,null,null,null,null,null,null,null,null,null,null,null,null,null,null,null,null,null,37]
[null,null,"2024-06-17","Belgien","-","Slovakien",null,"-",null,{"$f":"IF(OR(ISBLANK(G41),ISBLANK(I41)),\"\",IF(G41>I41,1,IF(G41<I41,2,\"X\")))","v":""},{"$f":"IF(VLOOKUP(D41,BR39:CA43,10,FALSE)=VLOOKUP(F41,BR39:CA43,10,FALSE),VLOOKUP(D41,BR39:CA43,10,FALSE),\"-\")","v":1},2,{"$f":"VLOOKUP(L41,FG40:FH43,2,FALSE)","v":"Slovakien"},{"$f":"VLOOKUP($M41,$BR$40:$BY$43,2,FALSE)","v":0},{"$f":"VLOOKUP($M41,$BR$40:$BY$43,3,FALSE)","v":0},{"$f":"VLOOKUP($M41,$BR$40:$BY$43,4,FALSE)","v":0},{"$f":"VLOOKUP($M41,$BR$40:$BY$43,5,FALSE)","v":0},{"$f":"VLOOKUP($M41,$BR$40:$BY$43,6,FALSE)","v":0},{"$f":"VLOOKUP($M41,$BR$40:$BY$43,7,FALSE)","v":0},{"$f":"VLOOKUP($M41,$BR$40:$BY$43,8,FALSE)","v":0},null,null,null,null,null,null,null,null,"2024-06-17","Belgien","-","Slovakien","","-","","",null,0,0,0,0,0,0,0,0,0,0,0,0,0,0,0,0,0,0,0,0,0,0,0,0,0,0,0,0,0,0,null,null,"Slovakien",{"$f":"(SUMIF(AD$4:AD$54,BR41,AL$4:AL$54)+SUMIF(AF$4:AF$54,BR41,AM$4:AM$54))","v":0},{"$f":"(SUMIF(AD$4:AD$54,BR41,AN$4:AN$54)+SUMIF(AF$4:AF$54,BR41,AO$4:AO$54))","v":0},{"$f":"(SUMIF(AD$4:AD$54,BR41,AP$4:AP$54)+SUMIF(AF$4:AF$54,BR41,AQ$4:AQ$54))","v":0},{"$f":"SUMIF($AD$4:$AD$54,BR41,$AG$4:$AG$54)+SUMIF($AF$4:$AF$54,BR41,$AI$4:$AI$54)","v":0},{"$f":"SUMIF($AD$4:$AD$54,BR41,$AI$4:$AI$54)+SUMIF($AF$4:$AF$54,BR41,$AG$4:$AG$54)","v":0},{"$f":"BV41-BW41","v":0},{"$f":"IFERROR(BS41*3+BT41*1,0)","v":0},"E",{"$f":"RANK(BY41,BY40:BY43)","v":1},{"$f":"SUMPRODUCT((BY40:BY43=BY41)*(BX40:BX43>BX41))","v":0},null,{"$f":"IF(CA41=1,BR41,)","v":"Slovakien"},{"$f":"(SUMIF($AD$4:$AD$54,$BR41,$AR$4:$AR$54)+SUMIF($AF$4:$AF$54,$BR41,$AS$4:$AS$54))","v":0},{"$f":"(SUMIF($AD$4:$AD$54,$BR41,$AT$4:$AT$54)+SUMIF($AF$4:$AF$54,$BR41,$AU$4:$AU$54))","v":0},{"$f":"(SUMIF($AD$4:$AD$54,$BR41,$AV$4:$AV$54)+SUMIF($AF$4:$AF$54,$BR41,$AW$4:$AW$54))","v":0},{"$f":"IFERROR(CE41*3+CF41*1,0)","v":0},{"$f":"BZ41","v":"E"},{"$f":"IF(CD41>0,RANK(CH41,CH40:CH43),)","v":1},{"$f":"IF(AND(CD41>0,COUNTIF(CJ40:CJ43,CJ41)>1),SUMIFS($AG$4:$AG$54,$AD$4:$AD$54,BR41,$K$4:$K$54,1)+SUMIFS($AI$4:$AI$54,$AF$4:$AF$54,BR41,$K$4:$K$54,1)-SUMIFS($AI$4:$AI$54,$AD$4:$AD$54,BR41,$K$4:$K$54,1)-SUMIFS($AG$4:$AG$54,$AF$4:$AF$54,BR41,$K$4:$K$54,1),)","v":0},{"$f":"IF(AND(CD41>0,COUNTIF(CJ40:CJ43,CJ41)>1),CJ41+RANK(CK41,CK40:CK43)-1,CJ41)","v":1},{"$f":"IF(AND(CD41>0,COUNTIF(CL40:CL43,CL41)>1),SUMIFS($AG$4:$AG$54,$AD$4:$AD$54,BR41,$K$4:$K$54,1)+SUMIFS($AI$4:$AI$54,$AF$4:$AF$54,BR41,$K$4:$K$54,1),)","v":0},{"$f":"IF(AND(CD41>0,COUNTIF(CL40:CL43,CL41)>1),CL41+RANK(CM41,CM40:CM43)-1,CL41)","v":1},{"$f":"IF(CN41=0,\"\",CN41)","v":1},{"$f":"IF(OR(CO41=\"\",COUNTIF(CO40:CO43,CO41)=1),\"\",$BX41)","v":0},{"$f":"IF(CO41=\"\",\"\",IF(COUNTIF(CO40:CO43,CO41)=1,CO41,CO41+RANK(CP41,CP40:CP43,0)-1))","v":1},{"$f":"IF(OR(CQ41=\"\",COUNTIF(CQ40:CQ43,CQ41)=1),\"\",$BV41)","v":0},{"$f":"IF(CO41=\"\",\"\",IF(COUNTIF(CQ40:CQ43,CQ41)=1,CQ41,CQ41+RANK(CR41,CR40:CR43,0)-1))","v":1},{"$f":"IF(OR(CS41=\"\",COUNTIF(CS40:CS43,CS41)=1),\"\",$BS41)","v":0},{"$f":"IF(CO41=\"\",\"\",IF(COUNTIF(CS40:CS43,CS41)=1,CS41,CS41+RANK(CT41,CT40:CT43,0)-1))","v":1},{"$f":"IF(CD41>0,BK38+RANK(CU41,CU40:CU43,1),)","v":1},null,{"$f":"IF(CA41=2,BR41,)","v":0},{"$f":"(SUMIF($AD$4:$AD$54,$BR41,$AX$4:$AX$54)+SUMIF($AF$4:$AF$54,$BR41,$AY$4:$AY$54))","v":0},{"$f":"(SUMIF($AD$4:$AD$54,$BR41,$AZ$4:$AZ$54)+SUMIF($AF$4:$AF$54,$BR41,$BA$4:$BA$54))","v":0},{"$f":"(SUMIF($AD$4:$AD$54,$BR41,$BB$4:$BB$54)+SUMIF($AF$4:$AF$54,$BR41,$BC$4:$BC$54))","v":0},{"$f":"IFERROR(CY41*3+CZ41*1,0)","v":0},{"$f":"$BZ41","v":"E"},{"$f":"IF(CX41>0,RANK(DB41,DB40:DB43)+CE38,)","v":0},{"$f":"IF(AND(CX41>0,COUNTIF(DD40:DD43,DD41)>1),SUMIFS($AG$4:$AG$54,$AD$4:$AD$54,BR41,$K$4:$K$54,2)+SUMIFS($AI$4:$AI$54,$AF$4:$AF$54,BR41,$K$4:$K$54,2)-SUMIFS($AI$4:$AI$54,$AD$4:$AD$54,BR41,$K$4:$K$54,2)-SUMIFS($AG$4:$AG$54,$AF$4:$AF$54,BR41,$K$4:$K$54,2),)","v":0},{"$f":"IF(AND(CX41>0,COUNTIF(DD40:DD43,DD41)>1),DD41+RANK(DE41,DE40:DE43)-1,DD41)","v":0},{"$f":"IF(AND(CX41>0,COUNTIF(DF40:DF43,DF41)>1),SUMIFS($AG$4:$AG$54,$AD$4:$AD$54,BR41,$K$4:$K$54,2)+SUMIFS($AI$4:$AI$54,$AF$4:$AF$54,BR41,$K$4:$K$54,2),)","v":0},{"$f":"IF(AND(CX41>0,COUNTIF(DF40:DF43,DF41)>1),DF41+RANK(DG41,DG40:DG43)-1,DF41)","v":0},{"$f":"IF(DH41=0,\"\",DH41)","v":""},{"$f":"IF(OR(DI41=\"\",COUNTIF(DI40:DI43,DI41)=1),\"\",$BX41)","v":""},{"$f":"IF(DI41=\"\",\"\",IF(COUNTIF(DI40:DI43,DI41)=1,DI41,DI41+RANK(DJ41,DJ40:DJ43,0)-1))","v":""},{"$f":"IF(OR(DK41=\"\",COUNTIF(DK40:DK43,DK41)=1),\"\",$BV41)","v":""},{"$f":"IF(DI41=\"\",\"\",IF(COUNTIF(DK40:DK43,DK41)=1,DK41,DK41+RANK(DL41,DL40:DL43,0)-1))","v":""},{"$f":"IF(OR(DM41=\"\",COUNTIF(DM40:DM43,DM41)=1),\"\",$BS41)","v":""},{"$f":"IF(DI41=\"\",\"\",IF(COUNTIF(DM40:DM43,DM41)=1,DM41,DM41+RANK(DN41,DN40:DN43,0)-1))","v":""},{"$f":"IF(CX41>0,CE38+RANK(DO41,DO40:DO43,1),)","v":0},null,{"$f":"IF(CA41=3,BR41,)","v":0},{"$f":"(SUMIF(AD$4:AD$54,BR41,BD$4:BD$54)+SUMIF(AF$4:AF$54,BR41,BE$4:BE$54))","v":0},{"$f":"(SUMIF(AD$4:AD$54,BR41,BF$4:BF$54)+SUMIF(AF$4:AF$54,BR41,BG$4:BG$54))","v":0},{"$f":"(SUMIF(AD$4:AD$54,BR41,BH$4:BH$54)+SUMIF(AF$4:AF$54,BR41,BI$4:BI$54))","v":0},{"$f":"IFERROR(DS41*3+DT41*1,0)","v":0},{"$f":"BZ41","v":"E"},{"$f":"IF(DR41>0,RANK(DV41,DV40:DV43)+CE38+CY38,)","v":0},{"$f":"IF(AND(DR41>0,COUNTIF(DX40:DX43,DX41)>1),SUMIFS($AG$4:$AG$54,$AD$4:$AD$54,BR41,$K$4:$K$54,3)+SUMIFS($AI$4:$AI$54,$AF$4:$AF$54,BR41,$K$4:$K$54,3)-SUMIFS($AI$4:$AI$54,$AD$4:$AD$54,BR41,$K$4:$K$54,3)-SUMIFS($AG$4:$AG$54,$AF$4:$AF$54,BR41,$K$4:$K$54,3),)","v":0},{"$f":"IF(AND(DR41>0,COUNTIF(DX40:DX43,DX41)>1),DX41+RANK(DY41,DY40:DY43)-1,DX41)","v":0},{"$f":"IF(AND(DR41>0,COUNTIF(DZ40:DZ43,DZ41)>1),SUMIFS($AG$4:$AG$54,$AD$4:$AD$54,BR41,$K$4:$K$54,3)+SUMIFS($AI$4:$AI$54,$AF$4:$AF$54,BR41,$K$4:$K$54,3),)","v":0},{"$f":"IF(AND(DR41>0,COUNTIF(DZ40:DZ43,DZ41)>1),DZ41+RANK(EA41,EA40:EA43)-1,DZ41)","v":0},{"$f":"IF(EB41=0,\"\",EB41)","v":""},{"$f":"IF(OR(EC41=\"\",COUNTIF(EC40:EC43,EC41)=1),\"\",$BX41)","v":""},{"$f":"IF(EC41=\"\",\"\",IF(COUNTIF(EC40:EC43,EC41)=1,EC41,EC41+RANK(ED41,ED40:ED43,0)-1))","v":""},{"$f":"IF(OR(EE41=\"\",COUNTIF(EE40:EE43,EE41)=1),\"\",$BV41)","v":""},{"$f":"IF(EC41=\"\",\"\",IF(COUNTIF(EE40:EE43,EE41)=1,EE41,EE41+RANK(EF41,EF40:EF43,0)-1))","v":""},{"$f":"IF(OR(EG41=\"\",COUNTIF(EG40:EG43,EG41)=1),\"\",$BS41)","v":""},{"$f":"IF(EC41=\"\",\"\",IF(COUNTIF(EG40:EG43,EG41)=1,EG41,EG41+RANK(EH41,EH40:EH43,0)-1))","v":""},{"$f":"IF(DR41>0,CE38+CY38+RANK(EI41,EI40:EI43,1),)","v":0},null,{"$f":"IF(CA41=4,BR41,)","v":0},{"$f":"(SUMIF($AD$4:$AD$54,$BR41,$BJ$4:$BJ$54)+SUMIF($AF$4:$AF$54,$BR41,$BK$4:$BK$54))","v":0},{"$f":"(SUMIF($AD$4:$AD$54,$BR41,$BL$4:$BL$54)+SUMIF($AF$4:$AF$54,$BR41,$BM$4:$BM$54))","v":0},{"$f":"(SUMIF($AD$4:$AD$54,$BR41,$BN$4:$BN$54)+SUMIF($AF$4:$AF$54,$BR41,$BO$4:$BO$54))","v":0},{"$f":"IFERROR(EM41*3+EN41*1,0)","v":0},{"$f":"$BZ41","v":"E"},{"$f":"IF(EL41>0,RANK(EP41,EP40:EP43)+CE38+CY38+DS38,)","v":0},{"$f":"IF(AND(EL41>0,COUNTIF(ER40:ER43,ER41)>1),SUMIFS($AG$4:$AG$54,$AD$4:$AD$54,BR41,$K$4:$K$54,4)+SUMIFS($AI$4:$AI$54,$AF$4:$AF$54,BR41,$K$4:$K$54,4)-SUMIFS($AI$4:$AI$54,$AD$4:$AD$54,BR41,$K$4:$K$54,4)-SUMIFS($AG$4:$AG$54,$AF$4:$AF$54,BR41,$K$4:$K$54,4),)","v":0},{"$f":"IF(AND(EL41>0,COUNTIF($ER$4:$ER$7,ER41)>1),ER41+RANK(ES41,$ES$4:$ES$7)-1,ER41)","v":0},{"$f":"IF(AND(EL41>0,COUNTIF(ET40:ET43,ET41)>1),SUMIFS($AG$4:$AG$54,$AD$4:$AD$54,BR41,$K$4:$K$54,4)+SUMIFS($AI$4:$AI$54,$AF$4:$AF$54,BR41,$K$4:$K$54,4),)","v":0},{"$f":"IF(AND(EL41>0,COUNTIF(ET40:ET43,ET41)>1),ET41+RANK(EU41,EU40:EU43)-1,ET41)","v":0},{"$f":"IF(EV41=0,\"\",EV41)","v":""},{"$f":"IF(OR(EW41=\"\",COUNTIF(EW40:EW43,EW41)=1),\"\",$BX41)","v":""},{"$f":"IF(EW41=\"\",\"\",IF(COUNTIF(EW40:EW43,EW41)=1,EW41,EW41+RANK(EX41,EX40:EX43,0)-1))","v":""},{"$f":"IF(OR(EY41=\"\",COUNTIF(EY40:EY43,EY41)=1),\"\",$BV41)","v":""},{"$f":"IF(EW41=\"\",\"\",IF(COUNTIF(EY40:EY43,EY41)=1,EY41,EY41+RANK(EZ41,EZ40:EZ43,0)-1))","v":""},{"$f":"IF(OR(FA41=\"\",COUNTIF(FA40:FA43,FA41)=1),\"\",$BS41)","v":""},{"$f":"IF(EW41=\"\",\"\",IF(COUNTIF(FA40:FA43,FA41)=1,FA41,FA41+RANK(FB41,FB40:FB43,0)-1))","v":""},{"$f":"IF(EL41>0,CE38+CY38+DS38+RANK(FC41,FC40:FC43,1),)","v":0},null,{"$f":"IFERROR(VLOOKUP(FH41,CD39:CV43,19,FALSE),IFERROR(VLOOKUP(FH41,CX39:DP43,19,FALSE),IFERROR(VLOOKUP(FH41,DR39:EJ43,19,FALSE),VLOOKUP(FH41,EL39:FD43,19,FALSE))))","v":1},{"$f":"RANK(FF41,FF40:FF43,1)+COUNTIF(FF40:FF41,FF41)-1","v":2},{"$f":"BR41","v":"Slovakien"},null,null,null,null,null,null,null,null,null,null,null,null,null,null,null,null,null,null,null,null,null,null,null,null,null,38]
[null,null,"2024-06-21","Slovakien","-","Ukraina",null,"-",null,"",{"$f":"IF(VLOOKUP(D42,BR39:CA43,10,FALSE)=VLOOKUP(F42,BR39:CA43,10,FALSE),VLOOKUP(D42,BR39:CA43,10,FALSE),\"-\")","v":1},3,{"$f":"VLOOKUP(L42,FG40:FH43,2,FALSE)","v":"Belgien"},{"$f":"VLOOKUP($M42,$BR$40:$BY$43,2,FALSE)","v":0},{"$f":"VLOOKUP($M42,$BR$40:$BY$43,3,FALSE)","v":0},{"$f":"VLOOKUP($M42,$BR$40:$BY$43,4,FALSE)","v":0},{"$f":"VLOOKUP($M42,$BR$40:$BY$43,5,FALSE)","v":0},{"$f":"VLOOKUP($M42,$BR$40:$BY$43,6,FALSE)","v":0},{"$f":"VLOOKUP($M42,$BR$40:$BY$43,7,FALSE)","v":0},{"$f":"VLOOKUP($M42,$BR$40:$BY$43,8,FALSE)","v":0},null,null,null,null,null,null,null,null,"2024-06-21","Slovakien","-","Ukraina","","-","","",null,0,0,0,0,0,0,0,0,0,0,0,0,0,0,0,0,0,0,0,0,0,0,0,0,0,0,0,0,0,0,null,null,"Belgien",{"$f":"(SUMIF(AD$4:AD$54,BR42,AL$4:AL$54)+SUMIF(AF$4:AF$54,BR42,AM$4:AM$54))","v":0},{"$f":"(SUMIF(AD$4:AD$54,BR42,AN$4:AN$54)+SUMIF(AF$4:AF$54,BR42,AO$4:AO$54))","v":0},{"$f":"(SUMIF(AD$4:AD$54,BR42,AP$4:AP$54)+SUMIF(AF$4:AF$54,BR42,AQ$4:AQ$54))","v":0},{"$f":"SUMIF($AD$4:$AD$54,BR42,$AG$4:$AG$54)+SUMIF($AF$4:$AF$54,BR42,$AI$4:$AI$54)","v":0},{"$f":"SUMIF($AD$4:$AD$54,BR42,$AI$4:$AI$54)+SUMIF($AF$4:$AF$54,BR42,$AG$4:$AG$54)","v":0},{"$f":"BV42-BW42","v":0},{"$f":"IFERROR(BS42*3+BT42*1,0)","v":0},"E",{"$f":"RANK(BY42,BY40:BY43)","v":1},{"$f":"SUMPRODUCT((BY40:BY43=BY42)*(BX40:BX43>BX42))","v":0},null,{"$f":"IF(CA42=1,BR42,)","v":"Belgien"},0,0,0,0,"E",{"$f":"IF(CD42>0,RANK(CH42,CH40:CH43),)","v":1},{"$f":"IF(AND(CD42>0,COUNTIF(CJ40:CJ43,CJ42)>1),SUMIFS($AG$4:$AG$54,$AD$4:$AD$54,BR42,$K$4:$K$54,1)+SUMIFS($AI$4:$AI$54,$AF$4:$AF$54,BR42,$K$4:$K$54,1)-SUMIFS($AI$4:$AI$54,$AD$4:$AD$54,BR42,$K$4:$K$54,1)-SUMIFS($AG$4:$AG$54,$AF$4:$AF$54,BR42,$K$4:$K$54,1),)","v":0},{"$f":"IF(AND(CD42>0,COUNTIF(CJ40:CJ43,CJ42)>1),CJ42+RANK(CK42,CK40:CK43)-1,CJ42)","v":1},{"$f":"IF(AND(CD42>0,COUNTIF(CL40:CL43,CL42)>1),SUMIFS($AG$4:$AG$54,$AD$4:$AD$54,BR42,$K$4:$K$54,1)+SUMIFS($AI$4:$AI$54,$AF$4:$AF$54,BR42,$K$4:$K$54,1),)","v":0},{"$f":"IF(AND(CD42>0,COUNTIF(CL40:CL43,CL42)>1),CL42+RANK(CM42,CM40:CM43)-1,CL42)","v":1},1,{"$f":"IF(OR(CO42=\"\",COUNTIF(CO40:CO43,CO42)=1),\"\",$BX42)","v":0},{"$f":"IF(CO42=\"\",\"\",IF(COUNTIF(CO40:CO43,CO42)=1,CO42,CO42+RANK(CP42,CP40:CP43,0)-1))","v":1},{"$f":"IF(OR(CQ42=\"\",COUNTIF(CQ40:CQ43,CQ42)=1),\"\",$BV42)","v":0},{"$f":"IF(CO42=\"\",\"\",IF(COUNTIF(CQ40:CQ43,CQ42)=1,CQ42,CQ42+RANK(CR42,CR40:CR43,0)-1))","v":1},{"$f":"IF(OR(CS42=\"\",COUNTIF(CS40:CS43,CS42)=1),\"\",$BS42)","v":0},{"$f":"IF(CO42=\"\",\"\",IF(COUNTIF(CS40:CS43,CS42)=1,CS42,CS42+RANK(CT42,CT40:CT43,0)-1))","v":1},{"$f":"IF(CD42>0,BK38+RANK(CU42,CU40:CU43,1),)","v":1},null,{"$f":"IF(CA42=2,BR42,)","v":0},{"$f":"(SUMIF($AD$4:$AD$54,$BR42,$AX$4:$AX$54)+SUMIF($AF$4:$AF$54,$BR42,$AY$4:$AY$54))","v":0},{"$f":"(SUMIF($AD$4:$AD$54,$BR42,$AZ$4:$AZ$54)+SUMIF($AF$4:$AF$54,$BR42,$BA$4:$BA$54))","v":0},{"$f":"(SUMIF($AD$4:$AD$54,$BR42,$BB$4:$BB$54)+SUMIF($AF$4:$AF$54,$BR42,$BC$4:$BC$54))","v":0},{"$f":"IFERROR(CY42*3+CZ42*1,0)","v":0},{"$f":"$BZ42","v":"E"},{"$f":"IF(CX42>0,RANK(DB42,DB40:DB43)+CE38,)","v":0},{"$f":"IF(AND(CX42>0,COUNTIF(DD40:DD43,DD42)>1),SUMIFS($AG$4:$AG$54,$AD$4:$AD$54,BR42,$K$4:$K$54,2)+SUMIFS($AI$4:$AI$54,$AF$4:$AF$54,BR42,$K$4:$K$54,2)-SUMIFS($AI$4:$AI$54,$AD$4:$AD$54,BR42,$K$4:$K$54,2)-SUMIFS($AG$4:$AG$54,$AF$4:$AF$54,BR42,$K$4:$K$54,2),)","v":0},{"$f":"IF(AND(CX42>0,COUNTIF(DD40:DD43,DD42)>1),DD42+RANK(DE42,DE40:DE43)-1,DD42)","v":0},{"$f":"IF(AND(CX42>0,COUNTIF(DF40:DF43,DF42)>1),SUMIFS($AG$4:$AG$54,$AD$4:$AD$54,BR42,$K$4:$K$54,2)+SUMIFS($AI$4:$AI$54,$AF$4:$AF$54,BR42,$K$4:$K$54,2),)","v":0},{"$f":"IF(AND(CX42>0,COUNTIF(DF40:DF43,DF42)>1),DF42+RANK(DG42,DG40:DG43)-1,DF42)","v":0},"",{"$f":"IF(OR(DI42=\"\",COUNTIF(DI40:DI43,DI42)=1),\"\",$BX42)","v":""},{"$f":"IF(DI42=\"\",\"\",IF(COUNTIF(DI40:DI43,DI42)=1,DI42,DI42+RANK(DJ42,DJ40:DJ43,0)-1))","v":""},{"$f":"IF(OR(DK42=\"\",COUNTIF(DK40:DK43,DK42)=1),\"\",$BV42)","v":""},{"$f":"IF(DI42=\"\",\"\",IF(COUNTIF(DK40:DK43,DK42)=1,DK42,DK42+RANK(DL42,DL40:DL43,0)-1))","v":""},{"$f":"IF(OR(DM42=\"\",COUNTIF(DM40:DM43,DM42)=1),\"\",$BS42)","v":""},{"$f":"IF(DI42=\"\",\"\",IF(COUNTIF(DM40:DM43,DM42)=1,DM42,DM42+RANK(DN42,DN40:DN43,0)-1))","v":""},{"$f":"IF(CX42>0,CE38+RANK(DO42,DO40:DO43,1),)","v":0},null,{"$f":"IF(CA42=3,BR42,)","v":0},{"$f":"(SUMIF(AD$4:AD$54,BR42,BD$4:BD$54)+SUMIF(AF$4:AF$54,BR42,BE$4:BE$54))","v":0},{"$f":"(SUMIF(AD$4:AD$54,BR42,BF$4:BF$54)+SUMIF(AF$4:AF$54,BR42,BG$4:BG$54))","v":0},{"$f":"(SUMIF(AD$4:AD$54,BR42,BH$4:BH$54)+SUMIF(AF$4:AF$54,BR42,BI$4:BI$54))","v":0},0,{"$f":"BZ42","v":"E"},{"$f":"IF(DR42>0,RANK(DV42,DV40:DV43)+CE38+CY38,)","v":0},{"$f":"IF(AND(DR42>0,COUNTIF(DX40:DX43,DX42)>1),SUMIFS($AG$4:$AG$54,$AD$4:$AD$54,BR42,$K$4:$K$54,3)+SUMIFS($AI$4:$AI$54,$AF$4:$AF$54,BR42,$K$4:$K$54,3)-SUMIFS($AI$4:$AI$54,$AD$4:$AD$54,BR42,$K$4:$K$54,3)-SUMIFS($AG$4:$AG$54,$AF$4:$AF$54,BR42,$K$4:$K$54,3),)","v":0},{"$f":"IF(AND(DR42>0,COUNTIF(DX40:DX43,DX42)>1),DX42+RANK(DY42,DY40:DY43)-1,DX42)","v":0},{"$f":"IF(AND(DR42>0,COUNTIF(DZ40:DZ43,DZ42)>1),SUMIFS($AG$4:$AG$54,$AD$4:$AD$54,BR42,$K$4:$K$54,3)+SUMIFS($AI$4:$AI$54,$AF$4:$AF$54,BR42,$K$4:$K$54,3),)","v":0},{"$f":"IF(AND(DR42>0,COUNTIF(DZ40:DZ43,DZ42)>1),DZ42+RANK(EA42,EA40:EA43)-1,DZ42)","v":0},"",{"$f":"IF(OR(EC42=\"\",COUNTIF(EC40:EC43,EC42)=1),\"\",$BX42)","v":""},{"$f":"IF(EC42=\"\",\"\",IF(COUNTIF(EC40:EC43,EC42)=1,EC42,EC42+RANK(ED42,ED40:ED43,0)-1))","v":""},{"$f":"IF(OR(EE42=\"\",COUNTIF(EE40:EE43,EE42)=1),\"\",$BV42)","v":""},{"$f":"IF(EC42=\"\",\"\",IF(COUNTIF(EE40:EE43,EE42)=1,EE42,EE42+RANK(EF42,EF40:EF43,0)-1))","v":""},{"$f":"IF(OR(EG42=\"\",COUNTIF(EG40:EG43,EG42)=1),\"\",$BS42)","v":""},{"$f":"IF(EC42=\"\",\"\",IF(COUNTIF(EG40:EG43,EG42)=1,EG42,EG42+RANK(EH42,EH40:EH43,0)-1))","v":""},{"$f":"IF(DR42>0,CE38+CY38+RANK(EI42,EI40:EI43,1),)","v":0},null,{"$f":"IF(CA42=4,BR42,)","v":0},0,0,0,0,"E",{"$f":"IF(EL42>0,RANK(EP42,EP40:EP43)+CE38+CY38+DS38,)","v":0},{"$f":"IF(AND(EL42>0,COUNTIF(ER40:ER43,ER42)>1),SUMIFS($AG$4:$AG$54,$AD$4:$AD$54,BR42,$K$4:$K$54,4)+SUMIFS($AI$4:$AI$54,$AF$4:$AF$54,BR42,$K$4:$K$54,4)-SUMIFS($AI$4:$AI$54,$AD$4:$AD$54,BR42,$K$4:$K$54,4)-SUMIFS($AG$4:$AG$54,$AF$4:$AF$54,BR42,$K$4:$K$54,4),)","v":0},0,{"$f":"IF(AND(EL42>0,COUNTIF(ET40:ET43,ET42)>1),SUMIFS($AG$4:$AG$54,$AD$4:$AD$54,BR42,$K$4:$K$54,4)+SUMIFS($AI$4:$AI$54,$AF$4:$AF$54,BR42,$K$4:$K$54,4),)","v":0},{"$f":"IF(AND(EL42>0,COUNTIF(ET40:ET43,ET42)>1),ET42+RANK(EU42,EU40:EU43)-1,ET42)","v":0},"",{"$f":"IF(OR(EW42=\"\",COUNTIF(EW40:EW43,EW42)=1),\"\",$BX42)","v":""},{"$f":"IF(EW42=\"\",\"\",IF(COUNTIF(EW40:EW43,EW42)=1,EW42,EW42+RANK(EX42,EX40:EX43,0)-1))","v":""},{"$f":"IF(OR(EY42=\"\",COUNTIF(EY40:EY43,EY42)=1),\"\",$BV42)","v":""},{"$f":"IF(EW42=\"\",\"\",IF(COUNTIF(EY40:EY43,EY42)=1,EY42,EY42+RANK(EZ42,EZ40:EZ43,0)-1))","v":""},{"$f":"IF(OR(FA42=\"\",COUNTIF(FA40:FA43,FA42)=1),\"\",$BS42)","v":""},{"$f":"IF(EW42=\"\",\"\",IF(COUNTIF(FA40:FA43,FA42)=1,FA42,FA42+RANK(FB42,FB40:FB43,0)-1))","v":""},{"$f":"IF(EL42>0,CE38+CY38+DS38+RANK(FC42,FC40:FC43,1),)","v":0},null,{"$f":"IFERROR(VLOOKUP(FH42,CD39:CV43,19,FALSE),IFERROR(VLOOKUP(FH42,CX39:DP43,19,FALSE),IFERROR(VLOOKUP(FH42,DR39:EJ43,19,FALSE),VLOOKUP(FH42,EL39:FD43,19,FALSE))))","v":1},{"$f":"RANK(FF42,FF40:FF43,1)+COUNTIF(FF40:FF42,FF42)-1","v":3},{"$f":"BR42","v":"Belgien"},null,null,null,null,null,null,null,null,null,null,null,null,null,null,null,null,null,null,null,null,null,null,null,null,null,39]
[null,null,"2024-06-22","Belgien",null,"Rumänien",null,"-",null,"",{"$f":"IF(VLOOKUP(D43,BR39:CA43,10,FALSE)=VLOOKUP(F43,BR39:CA43,10,FALSE),VLOOKUP(D43,BR39:CA43,10,FALSE),\"-\")","v":1},4,{"$f":"VLOOKUP(L43,FG40:FH43,2,FALSE)","v":"Rumänien"},{"$f":"VLOOKUP($M43,$BR$40:$BY$43,2,FALSE)","v":0},{"$f":"VLOOKUP($M43,$BR$40:$BY$43,3,FALSE)","v":0},{"$f":"VLOOKUP($M43,$BR$40:$BY$43,4,FALSE)","v":0},{"$f":"VLOOKUP($M43,$BR$40:$BY$43,5,FALSE)","v":0},{"$f":"VLOOKUP($M43,$BR$40:$BY$43,6,FALSE)","v":0},{"$f":"VLOOKUP($M43,$BR$40:$BY$43,7,FALSE)","v":0},{"$f":"VLOOKUP($M43,$BR$40:$BY$43,8,FALSE)","v":0},null,null,null,null,null,null,null,null,"2024-06-22","Belgien",0,"Rumänien","","-","","",null,0,0,0,0,0,0,0,0,0,0,0,0,0,0,0,0,0,0,0,0,0,0,0,0,0,0,0,0,0,0,null,null,"Rumänien",{"$f":"(SUMIF(AD$4:AD$54,BR43,AL$4:AL$54)+SUMIF(AF$4:AF$54,BR43,AM$4:AM$54))","v":0},{"$f":"(SUMIF(AD$4:AD$54,BR43,AN$4:AN$54)+SUMIF(AF$4:AF$54,BR43,AO$4:AO$54))","v":0},{"$f":"(SUMIF(AD$4:AD$54,BR43,AP$4:AP$54)+SUMIF(AF$4:AF$54,BR43,AQ$4:AQ$54))","v":0},{"$f":"SUMIF($AD$4:$AD$54,BR43,$AG$4:$AG$54)+SUMIF($AF$4:$AF$54,BR43,$AI$4:$AI$54)","v":0},{"$f":"SUMIF($AD$4:$AD$54,BR43,$AI$4:$AI$54)+SUMIF($AF$4:$AF$54,BR43,$AG$4:$AG$54)","v":0},{"$f":"BV43-BW43","v":0},{"$f":"IFERROR(BS43*3+BT43*1,0)","v":0},"E",{"$f":"RANK(BY43,BY40:BY43)","v":1},{"$f":"SUMPRODUCT((BY40:BY43=BY43)*(BX40:BX43>BX43))","v":0},null,{"$f":"IF(CA43=1,BR43,)","v":"Rumänien"},0,0,0,0,"E",{"$f":"IF(CD43>0,RANK(CH43,CH40:CH43),)","v":1},{"$f":"IF(AND(CD43>0,COUNTIF(CJ40:CJ43,CJ43)>1),SUMIFS($AG$4:$AG$54,$AD$4:$AD$54,BR43,$K$4:$K$54,1)+SUMIFS($AI$4:$AI$54,$AF$4:$AF$54,BR43,$K$4:$K$54,1)-SUMIFS($AI$4:$AI$54,$AD$4:$AD$54,BR43,$K$4:$K$54,1)-SUMIFS($AG$4:$AG$54,$AF$4:$AF$54,BR43,$K$4:$K$54,1),)","v":0},{"$f":"IF(AND(CD43>0,COUNTIF(CJ40:CJ43,CJ43)>1),CJ43+RANK(CK43,CK40:CK43)-1,CJ43)","v":1},{"$f":"IF(AND(CD43>0,COUNTIF(CL40:CL43,CL43)>1),SUMIFS($AG$4:$AG$54,$AD$4:$AD$54,BR43,$K$4:$K$54,1)+SUMIFS($AI$4:$AI$54,$AF$4:$AF$54,BR43,$K$4:$K$54,1),)","v":0},{"$f":"IF(AND(CD43>0,COUNTIF(CL40:CL43,CL43)>1),CL43+RANK(CM43,CM40:CM43)-1,CL43)","v":1},1,{"$f":"IF(OR(CO43=\"\",COUNTIF(CO40:CO43,CO43)=1),\"\",$BX43)","v":0},{"$f":"IF(CO43=\"\",\"\",IF(COUNTIF(CO40:CO43,CO43)=1,CO43,CO43+RANK(CP43,CP40:CP43,0)-1))","v":1},{"$f":"IF(OR(CQ43=\"\",COUNTIF(CQ40:CQ43,CQ43)=1),\"\",$BV43)","v":0},{"$f":"IF(CO43=\"\",\"\",IF(COUNTIF(CQ40:CQ43,CQ43)=1,CQ43,CQ43+RANK(CR43,CR40:CR43,0)-1))","v":1},{"$f":"IF(OR(CS43=\"\",COUNTIF(CS40:CS43,CS43)=1),\"\",$BS43)","v":0},{"$f":"IF(CO43=\"\",\"\",IF(COUNTIF(CS40:CS43,CS43)=1,CS43,CS43+RANK(CT43,CT40:CT43,0)-1))","v":1},{"$f":"IF(CD43>0,BK38+RANK(CU43,CU40:CU43,1),)","v":1},null,{"$f":"IF(CA43=2,BR43,)","v":0},0,0,0,0,"E",{"$f":"IF(CX43>0,RANK(DB43,DB40:DB43)+CE38,)","v":0},{"$f":"IF(AND(CX43>0,COUNTIF(DD40:DD43,DD43)>1),SUMIFS($AG$4:$AG$54,$AD$4:$AD$54,BR43,$K$4:$K$54,2)+SUMIFS($AI$4:$AI$54,$AF$4:$AF$54,BR43,$K$4:$K$54,2)-SUMIFS($AI$4:$AI$54,$AD$4:$AD$54,BR43,$K$4:$K$54,2)-SUMIFS($AG$4:$AG$54,$AF$4:$AF$54,BR43,$K$4:$K$54,2),)","v":0},{"$f":"IF(AND(CX43>0,COUNTIF(DD40:DD43,DD43)>1),DD43+RANK(DE43,DE40:DE43)-1,DD43)","v":0},{"$f":"IF(AND(CX43>0,COUNTIF(DF40:DF43,DF43)>1),SUMIFS($AG$4:$AG$54,$AD$4:$AD$54,BR43,$K$4:$K$54,2)+SUMIFS($AI$4:$AI$54,$AF$4:$AF$54,BR43,$K$4:$K$54,2),)","v":0},{"$f":"IF(AND(CX43>0,COUNTIF(DF40:DF43,DF43)>1),DF43+RANK(DG43,DG40:DG43)-1,DF43)","v":0},"",{"$f":"IF(OR(DI43=\"\",COUNTIF(DI40:DI43,DI43)=1),\"\",$BX43)","v":""},{"$f":"IF(DI43=\"\",\"\",IF(COUNTIF(DI40:DI43,DI43)=1,DI43,DI43+RANK(DJ43,DJ40:DJ43,0)-1))","v":""},{"$f":"IF(OR(DK43=\"\",COUNTIF(DK40:DK43,DK43)=1),\"\",$BV43)","v":""},{"$f":"IF(DI43=\"\",\"\",IF(COUNTIF(DK40:DK43,DK43)=1,DK43,DK43+RANK(DL43,DL40:DL43,0)-1))","v":""},{"$f":"IF(OR(DM43=\"\",COUNTIF(DM40:DM43,DM43)=1),\"\",$BS43)","v":""},{"$f":"IF(DI43=\"\",\"\",IF(COUNTIF(DM40:DM43,DM43)=1,DM43,DM43+RANK(DN43,DN40:DN43,0)-1))","v":""},{"$f":"IF(CX43>0,CE38+RANK(DO43,DO40:DO43,1),)","v":0},null,{"$f":"IF(CA43=3,BR43,)","v":0},{"$f":"(SUMIF(AD$4:AD$54,BR43,BD$4:BD$54)+SUMIF(AF$4:AF$54,BR43,BE$4:BE$54))","v":0},{"$f":"(SUMIF(AD$4:AD$54,BR43,BF$4:BF$54)+SUMIF(AF$4:AF$54,BR43,BG$4:BG$54))","v":0},{"$f":"(SUMIF(AD$4:AD$54,BR43,BH$4:BH$54)+SUMIF(AF$4:AF$54,BR43,BI$4:BI$54))","v":0},0,{"$f":"BZ43","v":"E"},{"$f":"IF(DR43>0,RANK(DV43,DV40:DV43)+CE38+CY38,)","v":0},{"$f":"IF(AND(DR43>0,COUNTIF(DX40:DX43,DX43)>1),SUMIFS($AG$4:$AG$54,$AD$4:$AD$54,BR43,$K$4:$K$54,3)+SUMIFS($AI$4:$AI$54,$AF$4:$AF$54,BR43,$K$4:$K$54,3)-SUMIFS($AI$4:$AI$54,$AD$4:$AD$54,BR43,$K$4:$K$54,3)-SUMIFS($AG$4:$AG$54,$AF$4:$AF$54,BR43,$K$4:$K$54,3),)","v":0},{"$f":"IF(AND(DR43>0,COUNTIF(DX40:DX43,DX43)>1),DX43+RANK(DY43,DY40:DY43)-1,DX43)","v":0},{"$f":"IF(AND(DR43>0,COUNTIF(DZ40:DZ43,DZ43)>1),SUMIFS($AG$4:$AG$54,$AD$4:$AD$54,BR43,$K$4:$K$54,3)+SUMIFS($AI$4:$AI$54,$AF$4:$AF$54,BR43,$K$4:$K$54,3),)","v":0},{"$f":"IF(AND(DR43>0,COUNTIF(DZ40:DZ43,DZ43)>1),DZ43+RANK(EA43,EA40:EA43)-1,DZ43)","v":0},"",{"$f":"IF(OR(EC43=\"\",COUNTIF(EC40:EC43,EC43)=1),\"\",$BX43)","v":""},{"$f":"IF(EC43=\"\",\"\",IF(COUNTIF(EC40:EC43,EC43)=1,EC43,EC43+RANK(ED43,ED40:ED43,0)-1))","v":""},{"$f":"IF(OR(EE43=\"\",COUNTIF(EE40:EE43,EE43)=1),\"\",$BV43)","v":""},{"$f":"IF(EC43=\"\",\"\",IF(COUNTIF(EE40:EE43,EE43)=1,EE43,EE43+RANK(EF43,EF40:EF43,0)-1))","v":""},{"$f":"IF(OR(EG43=\"\",COUNTIF(EG40:EG43,EG43)=1),\"\",$BS43)","v":""},{"$f":"IF(EC43=\"\",\"\",IF(COUNTIF(EG40:EG43,EG43)=1,EG43,EG43+RANK(EH43,EH40:EH43,0)-1))","v":""},{"$f":"IF(DR43>0,CE38+CY38+RANK(EI43,EI40:EI43,1),)","v":0},null,{"$f":"IF(CA43=4,BR43,)","v":0},0,0,0,0,"E",{"$f":"IF(EL43>0,RANK(EP43,EP40:EP43)+CE38+CY38+DS38,)","v":0},{"$f":"IF(AND(EL43>0,COUNTIF(ER40:ER43,ER43)>1),SUMIFS($AG$4:$AG$54,$AD$4:$AD$54,BR43,$K$4:$K$54,4)+SUMIFS($AI$4:$AI$54,$AF$4:$AF$54,BR43,$K$4:$K$54,4)-SUMIFS($AI$4:$AI$54,$AD$4:$AD$54,BR43,$K$4:$K$54,4)-SUMIFS($AG$4:$AG$54,$AF$4:$AF$54,BR43,$K$4:$K$54,4),)","v":0},0,{"$f":"IF(AND(EL43>0,COUNTIF(ET40:ET43,ET43)>1),SUMIFS($AG$4:$AG$54,$AD$4:$AD$54,BR43,$K$4:$K$54,4)+SUMIFS($AI$4:$AI$54,$AF$4:$AF$54,BR43,$K$4:$K$54,4),)","v":0},{"$f":"IF(AND(EL43>0,COUNTIF(ET40:ET43,ET43)>1),ET43+RANK(EU43,EU40:EU43)-1,ET43)","v":0},"",{"$f":"IF(OR(EW43=\"\",COUNTIF(EW40:EW43,EW43)=1),\"\",$BX43)","v":""},{"$f":"IF(EW43=\"\",\"\",IF(COUNTIF(EW40:EW43,EW43)=1,EW43,EW43+RANK(EX43,EX40:EX43,0)-1))","v":""},{"$f":"IF(OR(EY43=\"\",COUNTIF(EY40:EY43,EY43)=1),\"\",$BV43)","v":""},{"$f":"IF(EW43=\"\",\"\",IF(COUNTIF(EY40:EY43,EY43)=1,EY43,EY43+RANK(EZ43,EZ40:EZ43,0)-1))","v":""},{"$f":"IF(OR(FA43=\"\",COUNTIF(FA40:FA43,FA43)=1),\"\",$BS43)","v":""},{"$f":"IF(EW43=\"\",\"\",IF(COUNTIF(FA40:FA43,FA43)=1,FA43,FA43+RANK(FB43,FB40:FB43,0)-1))","v":""},{"$f":"IF(EL43>0,CE38+CY38+DS38+RANK(FC43,FC40:FC43,1),)","v":0},null,{"$f":"IFERROR(VLOOKUP(FH43,CD39:CV43,19,FALSE),IFERROR(VLOOKUP(FH43,CX39:DP43,19,FALSE),IFERROR(VLOOKUP(FH43,DR39:EJ43,19,FALSE),VLOOKUP(FH43,EL39:FD43,19,FALSE))))","v":1},{"$f":"RANK(FF43,FF40:FF43,1)+COUNTIF(FF40:FF43,FF43)-1","v":4},{"$f":"BR43","v":"Rumänien"},null,null,null,null,null,null,null,null,null,null,null,null,null,null,null,null,null,null,null,null,null,null,null,null,null,40]
[null,null,"2024-06-26","Slovakien","-","Rumänien",null,"-",null,"",{"$f":"IF(VLOOKUP(D44,BR39:CA43,10,FALSE)=VLOOKUP(F44,BR39:CA43,10,FALSE),VLOOKUP(D44,BR39:CA43,10,FALSE),\"-\")","v":1},null,{"$f":"IF(COUNTBLANK(G40:G45)+COUNTBLANK(I40:I45)=0,\"Resultat OK\",\"Fyll i resultat\")","v":"Fyll i resultat"},null,null,null,null,null,null,null,null,null,null,null,null,null,null,null,"2024-06-26","Slovakien","-","Rumänien","","-","","",null,0,0,0,0,0,0,0,0,0,0,0,0,0,0,0,0,0,0,0,0,0,0,0,0,0,0,0,0,0,0,null,null,null,null,null,null,null,null,null,null,null,null,null,null,null,null,null,null,null,null,null,null,null,null,null,null,null,null,null,null,null,null,null,null,null,null,null,null,null,null,null,null,null,null,null,null,null,null,null,null,null,null,null,null,null,null,null,null,null,null,null,null,null,null,null,null,null,null,null,null,null,null,null,null,null,null,null,null,null,null,null,null,null,null,null,null,null,null,null,null,null,null,null,null,null,null,null,null,null,null,null,null,null,null,null,null,null,null,null,null,null,null,null,null,null,null,null,null,null,null,null,null,41]
[null,null,"2024-06-26","Ukraina","-","Belgien",null,"-",null,"",{"$f":"IF(VLOOKUP(D45,BR39:CA43,10,FALSE)=VLOOKUP(F45,BR39:CA43,10,FALSE),VLOOKUP(D45,BR39:CA43,10,FALSE),\"-\")","v":1},null,null,null,null,null,null,null,null,null,null,null,null,null,null,null,null,null,"2024-06-26","Ukraina","-","Belgien","","-","","",null,0,0,0,0,0,0,0,0,0,0,0,0,0,0,0,0,0,0,0,0,0,0,0,0,0,0,0,0,0,0,null,null,null,null,null,null,null,null,null,null,null,null,null,null,null,null,null,null,null,null,null,null,null,null,null,null,null,null,null,null,null,null,null,null,null,null,null,null,null,null,null,null,null,null,null,null,null,null,null,null,null,null,null,null,null,null,null,null,null,null,null,null,null,null,null,null,null,null,null,null,null,null,null,null,null,null,null,null,null,null,null,null,null,null,null,null,null,null,null,null,null,null,null,null,null,null,null,null,null,null,null,null,null,null,null,null,null,null,null,null,null,null,null,null,null,null,null,null,null,null,null,null,42]
[null,null,null,null,null,null,null,null,null,null,null,null,null,null,null,null,null,null,null,null,null,null,null,null,null,null,null,null,null,null,null,null,null,null,null,null,null,null,null,null,null,null,null,null,null,null,null,null,null,null,null,null,null,null,null,null,null,null,null,null,null,null,null,null,null,null,null,null,null,null,null,null,null,null,null,null,null,null,null,null,null,null,null,null,null,null,null,null,null,null,null,null,null,null,null,null,null,null,null,null,null,null,null,null,null,null,null,null,null,null,null,null,null,null,null,null,null,null,null,null,null,null,null,null,null,null,null,null,null,null,null,null,null,null,null,null,null,null,null,null,null,null,null,null,null,null,null,null,null,null,null,null,null,null,null,null,null,null,null,null,null,null,null,null,null,null,null,null,null,null,null,null,null,null,null,null,null,null,null,null,null,null,null,null,null,null,null,null,null,43]
[null,null,"Grupp F",null,null,null,null,null,null,null,null,null,null,null,null,null,null,null,null,null,null,null,null,null,null,null,null,null,"Grupp F",null,null,null,null,null,null,null,null,null,null,null,null,null,null,null,null,null,null,null,null,null,null,null,null,null,null,null,null,null,null,null,null,null,null,null,null,null,null,null,null,"Rank 0",null,null,null,null,null,null,null,null,null,null,null,"Rank 1",{"$f":"COUNTIF(CA49:CA52,1)","v":4},null,null,null,null,null,null,null,null,null,null,null,null,null,null,null,null,null,null,"Rank 2",{"$f":"COUNTIF(CA49:CA52,2)","v":0},null,null,null,null,null,null,null,null,null,null,null,null,null,null,null,null,null,null,"Rank 3",{"$f":"COUNTIF(CA49:CA52,3)","v":0},null,null,null,null,null,null,null,null,null,null,null,null,null,null,null,null,null,null,"Rank 4",{"$f":"COUNTIF(CA49:CA52,4)","v":0},null,null,null,null,null,null,null,null,null,null,null,null,null,null,null,null,null,null,null,null,null,null,null,null,null,null,null,null,null,null,null,null,null,null,null,null,null,null,null,null,null,null,null,null,null,null,44]
[null,null,"Datum","Match",null,null,"Resultat",null,null,"Tecken",null,null,"Lag","V","O","F","GM","IM","+/-","P",null,null,null,null,null,null,null,null,"Datum","Match",null,null,"Resultat",null,null,"Tecken","Poäng","V1","V2","O1","O2","F1","F2","V1","V2","O1","O2","F1","F2","V1","V2","O1","O2","F1","F2","V1","V2","O1","O2","F1","F2","V1","V2","O1","O2","F1","F2",null,null,"Lag","V","O","F","GM","IM","+/-","P","Grupp","Rank P","Rank +/-",null,"Lag","V","O","F","P","Grupp","Rank P","+/-","+/- rank","GM","GM rank","Rank internal","+/- all","+/- rank all","GM all","GM rank all","V all","V rank all","Rank all",null,"Lag","V","O","F","P","Grupp","Rank P","+/-","+/- rank","GM","GM rank","Rank internal","+/- all","+/- rank all","GM all","GM rank all","V all","V rank all","Rank all",null,"Lag","V","O","F","P","Grupp","Rank P","+/-","+/- rank","GM","GM rank","Rank internal","+/- all","+/- rank all","GM all","GM rank all","V all","V rank all","Rank all",null,"Lag","V","O","F","P","Grupp","Rank P","+/-","+/- rank","GM","GM rank","Rank internal","+/- all","+/- rank all","GM all","GM rank all","V all","V rank all","Rank all",null,"Rank","Rank Ties",null,null,null,null,null,null,null,null,null,null,null,null,null,null,null,null,null,null,null,null,null,null,null,null,null,null,45]
[null,null,"2024-06-18","Turkiet","-","Georgien",null,"-",null,{"$f":"IF(OR(ISBLANK(G49),ISBLANK(I49)),\"\",IF(G49>I49,1,IF(G49<I49,2,\"X\")))","v":""},{"$f":"IF(VLOOKUP(D49,BR48:CA52,10,FALSE)=VLOOKUP(F49,BR48:CA52,10,FALSE),VLOOKUP(D49,BR48:CA52,10,FALSE),\"-\")","v":1},1,{"$f":"VLOOKUP(L49,FG49:FH52,2,FALSE)","v":"Portugal"},{"$f":"VLOOKUP($M49,$BR$49:$BY$52,2,FALSE)","v":0},{"$f":"VLOOKUP($M49,$BR$49:$BY$52,3,FALSE)","v":0},{"$f":"VLOOKUP($M49,$BR$49:$BY$52,4,FALSE)","v":0},{"$f":"VLOOKUP($M49,$BR$49:$BY$52,5,FALSE)","v":0},{"$f":"VLOOKUP($M49,$BR$49:$BY$52,6,FALSE)","v":0},{"$f":"VLOOKUP($M49,$BR$49:$BY$52,7,FALSE)","v":0},{"$f":"VLOOKUP($M49,$BR$49:$BY$52,8,FALSE)","v":0},null,null,null,null,null,null,null,null,{"$f":"C49","v":"2024-06-18"},"Turkiet","-","Georgien",{"$f":"IF(G49=\"\",\"\",G49)","v":""},"-",{"$f":"IF(I49=\"\",\"\",I49)","v":""},{"$f":"J49","v":""},null,{"$f":"IF(AG49>AI49,1,0)","v":0},{"$f":"IF(AI49>AG49,1,0)","v":0},{"$f":"IF(AND(AG49=AI49,AG49<>\"\"),1,0)","v":0},{"$f":"IF(AND(AG49=AI49,AG49<>\"\"),1,0)","v":0},{"$f":"IF(AG49<AI49,1,0)","v":0},{"$f":"IF(AI49<AG49,1,)","v":0},{"$f":"IF(ISERROR(VLOOKUP(AD49,CD:CD,1,FALSE)),0,1)*IF(ISERROR(VLOOKUP(AF49,CD:CD,1,FALSE)),0,1)*AL49","v":0},{"$f":"IF(ISERROR(VLOOKUP(AD49,CD:CD,1,FALSE)),0,1)*IF(ISERROR(VLOOKUP(AF49,CD:CD,1,FALSE)),0,1)*AM49","v":0},{"$f":"IF(ISERROR(VLOOKUP(AD49,CD:CD,1,FALSE)),0,1)*IF(ISERROR(VLOOKUP(AF49,CD:CD,1,FALSE)),0,1)*AN49","v":0},{"$f":"IF(ISERROR(VLOOKUP(AD49,CD:CD,1,FALSE)),0,1)*IF(ISERROR(VLOOKUP(AF49,CD:CD,1,FALSE)),0,1)*AO49","v":0},{"$f":"IF(ISERROR(VLOOKUP(AD49,CD:CD,1,FALSE)),0,1)*IF(ISERROR(VLOOKUP(AF49,CD:CD,1,FALSE)),0,1)*AP49","v":0},{"$f":"IF(ISERROR(VLOOKUP(AD49,CD:CD,1,FALSE)),0,1)*IF(ISERROR(VLOOKUP(AF49,CD:CD,1,FALSE)),0,1)*AQ49","v":0},{"$f":"IF(ISERROR(VLOOKUP(AD49,CX:CX,1,FALSE)),0,1)*IF(ISERROR(VLOOKUP(AF49,CX:CX,1,FALSE)),0,1)*AL49","v":0},{"$f":"IF(ISERROR(VLOOKUP(AD49,CX:CX,1,FALSE)),0,1)*IF(ISERROR(VLOOKUP(AF49,CX:CX,1,FALSE)),0,1)*AM49","v":0},{"$f":"IF(ISERROR(VLOOKUP(AD49,CX:CX,1,FALSE)),0,1)*IF(ISERROR(VLOOKUP(AF49,CX:CX,1,FALSE)),0,1)*AN49","v":0},{"$f":"IF(ISERROR(VLOOKUP(AD49,CX:CX,1,FALSE)),0,1)*IF(ISERROR(VLOOKUP(AF49,CX:CX,1,FALSE)),0,1)*AO49","v":0},{"$f":"IF(ISERROR(VLOOKUP(AD49,CX:CX,1,FALSE)),0,1)*IF(ISERROR(VLOOKUP(AF49,CX:CX,1,FALSE)),0,1)*AP49","v":0},{"$f":"IF(ISERROR(VLOOKUP(AD49,CX:CX,1,FALSE)),0,1)*IF(ISERROR(VLOOKUP(AF49,CX:CX,1,FALSE)),0,1)*AQ49","v":0},{"$f":"IF(ISERROR(VLOOKUP(AD49,DR:DR,1,FALSE)),0,1)*IF(ISERROR(VLOOKUP(AF49,DR:DR,1,FALSE)),0,1)*AL49","v":0},{"$f":"IF(ISERROR(VLOOKUP(AD49,DR:DR,1,FALSE)),0,1)*IF(ISERROR(VLOOKUP(AF49,DR:DR,1,FALSE)),0,1)*AM49","v":0},{"$f":"IF(ISERROR(VLOOKUP(AD49,DR:DR,1,FALSE)),0,1)*IF(ISERROR(VLOOKUP(AF49,DR:DR,1,FALSE)),0,1)*AN49","v":0},{"$f":"IF(ISERROR(VLOOKUP(AD49,DR:DR,1,FALSE)),0,1)*IF(ISERROR(VLOOKUP(AF49,DR:DR,1,FALSE)),0,1)*AO49","v":0},{"$f":"IF(ISERROR(VLOOKUP(AD49,DR:DR,1,FALSE)),0,1)*IF(ISERROR(VLOOKUP(AF49,DR:DR,1,FALSE)),0,1)*AP49","v":0},{"$f":"IF(ISERROR(VLOOKUP(AD49,DR:DR,1,FALSE)),0,1)*IF(ISERROR(VLOOKUP(AF49,DR:DR,1,FALSE)),0,1)*AQ49","v":0},{"$f":"IF(ISERROR(VLOOKUP(AD49,EL:EL,1,FALSE)),0,1)*IF(ISERROR(VLOOKUP(AF49,EL:EL,1,FALSE)),0,1)*AL49","v":0},{"$f":"IF(ISERROR(VLOOKUP(AD49,EL:EL,1,FALSE)),0,1)*IF(ISERROR(VLOOKUP(AF49,EL:EL,1,FALSE)),0,1)*AM49","v":0},{"$f":"IF(ISERROR(VLOOKUP(AD49,EL:EL,1,FALSE)),0,1)*IF(ISERROR(VLOOKUP(AF49,EL:EL,1,FALSE)),0,1)*AN49","v":0},{"$f":"IF(ISERROR(VLOOKUP(AD49,EL:EL,1,FALSE)),0,1)*IF(ISERROR(VLOOKUP(AF49,EL:EL,1,FALSE)),0,1)*AO49","v":0},{"$f":"IF(ISERROR(VLOOKUP(AD49,EL:EL,1,FALSE)),0,1)*IF(ISERROR(VLOOKUP(AF49,EL:EL,1,FALSE)),0,1)*AP49","v":0},{"$f":"IF(ISERROR(VLOOKUP(AD49,EL:EL,1,FALSE)),0,1)*IF(ISERROR(VLOOKUP(AF49,EL:EL,1,FALSE)),0,1)*AQ49","v":0},null,null,"Portugal",{"$f":"(SUMIF(AD$4:AD$54,BR49,AL$4:AL$54)+SUMIF(AF$4:AF$54,BR49,AM$4:AM$54))","v":0},{"$f":"(SUMIF(AD$4:AD$54,BR49,AN$4:AN$54)+SUMIF(AF$4:AF$54,BR49,AO$4:AO$54))","v":0},{"$f":"(SUMIF(AD$4:AD$54,BR49,AP$4:AP$54)+SUMIF(AF$4:AF$54,BR49,AQ$4:AQ$54))","v":0},{"$f":"SUMIF($AD$4:$AD$54,BR49,$AG$4:$AG$54)+SUMIF($AF$4:$AF$54,BR49,$AI$4:$AI$54)","v":0},{"$f":"SUMIF($AD$4:$AD$54,BR49,$AI$4:$AI$54)+SUMIF($AF$4:$AF$54,BR49,$AG$4:$AG$54)","v":0},{"$f":"BV49-BW49","v":0},{"$f":"IFERROR(BS49*3+BT49*1,0)","v":0},"F",{"$f":"RANK(BY49,BY49:BY52)","v":1},{"$f":"SUMPRODUCT((BY49:BY52=BY49)*(BX49:BX52>BX49))","v":0},null,{"$f":"IF(CA49=1,BR49,)","v":"Portugal"},{"$f":"(SUMIF($AD$4:$AD$54,$BR49,$AR$4:$AR$54)+SUMIF($AF$4:$AF$54,$BR49,$AS$4:$AS$54))","v":0},{"$f":"(SUMIF($AD$4:$AD$54,$BR49,$AT$4:$AT$54)+SUMIF($AF$4:$AF$54,$BR49,$AU$4:$AU$54))","v":0},{"$f":"(SUMIF($AD$4:$AD$54,$BR49,$AV$4:$AV$54)+SUMIF($AF$4:$AF$54,$BR49,$AW$4:$AW$54))","v":0},{"$f":"IFERROR(CE49*3+CF49*1,0)","v":0},{"$f":"BZ49","v":"F"},{"$f":"IF(CD49>0,RANK(CH49,CH49:CH52),)","v":1},{"$f":"IF(AND(CD49>0,COUNTIF(CJ49:CJ52,CJ49)>1),SUMIFS($AG$4:$AG$54,$AD$4:$AD$54,$BR49,$K$4:$K$54,1)+SUMIFS($AI$4:$AI$54,$AF$4:$AF$54,$BR49,$K$4:$K$54,1)-SUMIFS($AI$4:$AI$54,$AD$4:$AD$54,$BR49,$K$4:$K$54,1)-SUMIFS($AG$4:$AG$54,$AF$4:$AF$54,$BR49,$K$4:$K$54,1),)","v":0},{"$f":"IF(AND(CD49>0,COUNTIF(CJ49:CJ52,CJ49)>1),CJ49+RANK(CK49,CK49:CK52)-1,CJ49)","v":1},{"$f":"IF(AND(CD49>0,COUNTIF(CL49:CL52,CL49)>1),SUMIFS($AG$4:$AG$54,$AD$4:$AD$54,$BR49,$K$4:$K$54,1)+SUMIFS($AI$4:$AI$54,$AF$4:$AF$54,$BR49,$K$4:$K$54,1),)","v":0},{"$f":"IF(AND(CD49>0,COUNTIF(CL49:CL52,CL49)>1),CL49+RANK(CM49,CM49:CM52)-1,CL49)","v":1},{"$f":"IF(CN49=0,\"\",CN49)","v":1},{"$f":"IF(OR(CO49=\"\",COUNTIF(CO49:CO52,CO49)=1),\"\",$BX49)","v":0},{"$f":"IF(CO49=\"\",\"\",IF(COUNTIF(CO49:CO52,CO49)=1,CO49,CO49+RANK(CP49,CP49:CP52,0)-1))","v":1},{"$f":"IF(OR(CQ49=\"\",COUNTIF(CQ49:CQ52,CQ49)=1),\"\",$BV49)","v":0},{"$f":"IF(CO49=\"\",\"\",IF(COUNTIF(CQ49:CQ52,CQ49)=1,CQ49,CQ49+RANK(CR49,CR49:CR52,0)-1))","v":1},{"$f":"IF(OR(CS49=\"\",COUNTIF(CS49:CS52,CS49)=1),\"\",$BS49)","v":0},{"$f":"IF(CO49=\"\",\"\",IF(COUNTIF(CS49:CS52,CS49)=1,CS49,CS49+RANK(CT49,CT49:CT52,0)-1))","v":1},{"$f":"IF(CD49>0,BK47+RANK(CU49,CU49:CU52,1),)","v":1},null,{"$f":"IF(CA49=2,BR49,)","v":0},{"$f":"(SUMIF($AD$4:$AD$54,$BR49,$AX$4:$AX$54)+SUMIF($AF$4:$AF$54,$BR49,$AY$4:$AY$54))","v":0},{"$f":"(SUMIF($AD$4:$AD$54,$BR49,$AZ$4:$AZ$54)+SUMIF($AF$4:$AF$54,$BR49,$BA$4:$BA$54))","v":0},{"$f":"(SUMIF($AD$4:$AD$54,$BR49,$BB$4:$BB$54)+SUMIF($AF$4:$AF$54,$BR49,$BC$4:$BC$54))","v":0},{"$f":"IFERROR(CY49*3+CZ49*1,0)","v":0},{"$f":"$BZ49","v":"F"},{"$f":"IF(CX49>0,RANK(DB49,DB49:DB52)+CE47,)","v":0},{"$f":"IF(AND(CX49>0,COUNTIF(DD49:DD52,DD49)>1),SUMIFS($AG$4:$AG$54,$AD$4:$AD$54,$BR49,$K$4:$K$54,2)+SUMIFS($AI$4:$AI$54,$AF$4:$AF$54,$BR49,$K$4:$K$54,2)-SUMIFS($AI$4:$AI$54,$AD$4:$AD$54,$BR49,$K$4:$K$54,2)-SUMIFS($AG$4:$AG$54,$AF$4:$AF$54,$BR49,$K$4:$K$54,2),)","v":0},{"$f":"IF(AND(CX49>0,COUNTIF(DD49:DD52,DD49)>1),DD49+RANK(DE49,DE49:DE52)-1,DD49)","v":0},{"$f":"IF(AND(CX49>0,COUNTIF(DF49:DF52,DF49)>1),SUMIFS($AG$4:$AG$54,$AD$4:$AD$54,$BR49,$K$4:$K$54,2)+SUMIFS($AI$4:$AI$54,$AF$4:$AF$54,$BR49,$K$4:$K$54,2),)","v":0},{"$f":"IF(AND(CX49>0,COUNTIF(DF49:DF52,DF49)>1),DF49+RANK(DG49,DG49:DG52)-1,DF49)","v":0},{"$f":"IF(DH49=0,\"\",DH49)","v":""},{"$f":"IF(OR(DI49=\"\",COUNTIF(DI49:DI52,DI49)=1),\"\",$BX49)","v":""},{"$f":"IF(DI49=\"\",\"\",IF(COUNTIF(DI49:DI52,DI49)=1,DI49,DI49+RANK(DJ49,DJ49:DJ52,0)-1))","v":""},{"$f":"IF(OR(DK49=\"\",COUNTIF(DK49:DK52,DK49)=1),\"\",$BV49)","v":""},{"$f":"IF(DI49=\"\",\"\",IF(COUNTIF(DK49:DK52,DK49)=1,DK49,DK49+RANK(DL49,DL49:DL52,0)-1))","v":""},{"$f":"IF(OR(DM49=\"\",COUNTIF(DM49:DM52,DM49)=1),\"\",$BS49)","v":""},{"$f":"IF(DI49=\"\",\"\",IF(COUNTIF(DM49:DM52,DM49)=1,DM49,DM49+RANK(DN49,DN49:DN52,0)-1))","v":""},{"$f":"IF(CX49>0,CE47+RANK(DO49,DO49:DO52,1),)","v":0},null,{"$f":"IF(CA49=3,BR49,)","v":0},{"$f":"(SUMIF($AD$4:$AD$54,BR49,$BD$4:$BD$54)+SUMIF($AF$4:$AF$54,BR49,$BE$4:$BE$54))","v":0},{"$f":"(SUMIF($AD$4:$AD$54,BR49,$BF$4:$BF$54)+SUMIF($AF$4:$AF$54,BR49,$BG$4:$BG$54))","v":0},{"$f":"(SUMIF($AD$4:$AD$54,BR49,$BH$4:$BH$54)+SUMIF($AF$4:$AF$54,BR49,$BI$4:$BI$54))","v":0},{"$f":"IFERROR(DS49*3+DT49*1,0)","v":0},{"$f":"BZ49","v":"F"},{"$f":"IF(DR49>0,RANK(DV49,DV49:DV52)+CE47+CY47,)","v":0},{"$f":"IF(AND(DR49>0,COUNTIF(DX49:DX52,DX49)>1),SUMIFS($AG$4:$AG$54,$AD$4:$AD$54,$BR49,$K$4:$K$54,3)+SUMIFS($AI$4:$AI$54,$AF$4:$AF$54,$BR49,$K$4:$K$54,3)-SUMIFS($AI$4:$AI$54,$AD$4:$AD$54,$BR49,$K$4:$K$54,3)-SUMIFS($AG$4:$AG$54,$AF$4:$AF$54,$BR49,$K$4:$K$54,3),)","v":0},{"$f":"IF(AND(DR49>0,COUNTIF(DX49:DX52,DX49)>1),DX49+RANK(DY49,DY49:DY52)-1,DX49)","v":0},{"$f":"IF(AND(DR49>0,COUNTIF(DZ49:DZ52,DZ49)>1),SUMIFS($AG$4:$AG$54,$AD$4:$AD$54,$BR49,$K$4:$K$54,3)+SUMIFS($AI$4:$AI$54,$AF$4:$AF$54,$BR49,$K$4:$K$54,3),)","v":0},{"$f":"IF(AND(DR49>0,COUNTIF(DZ49:DZ52,DZ49)>1),DZ49+RANK(EA49,EA49:EA52)-1,DZ49)","v":0},{"$f":"IF(EB49=0,\"\",EB49)","v":""},{"$f":"IF(OR(EC49=\"\",COUNTIF(EC49:EC52,EC49)=1),\"\",$BX49)","v":""},{"$f":"IF(EC49=\"\",\"\",IF(COUNTIF(EC49:EC52,EC49)=1,EC49,EC49+RANK(ED49,ED49:ED52,0)-1))","v":""},{"$f":"IF(OR(EE49=\"\",COUNTIF(EE49:EE52,EE49)=1),\"\",$BV49)","v":""},{"$f":"IF(EC49=\"\",\"\",IF(COUNTIF(EE49:EE52,EE49)=1,EE49,EE49+RANK(EF49,EF49:EF52,0)-1))","v":""},{"$f":"IF(OR(EG49=\"\",COUNTIF(EG49:EG52,EG49)=1),\"\",$BS49)","v":""},{"$f":"IF(EC49=\"\",\"\",IF(COUNTIF(EG49:EG52,EG49)=1,EG49,EG49+RANK(EH49,EH49:EH52,0)-1))","v":""},{"$f":"IF(DR49>0,CE47+CY47+RANK(EI49,EI49:EI52,1),)","v":0},null,{"$f":"IF(CA49=4,BR49,)","v":0},{"$f":"(SUMIF($AD$4:$AD$54,$BR49,$BJ$4:$BJ$54)+SUMIF($AF$4:$AF$54,$BR49,$BK$4:$BK$54))","v":0},{"$f":"(SUMIF($AD$4:$AD$54,$BR49,$BL$4:$BL$54)+SUMIF($AF$4:$AF$54,$BR49,$BM$4:$BM$54))","v":0},{"$f":"(SUMIF($AD$4:$AD$54,$BR49,$BN$4:$BN$54)+SUMIF($AF$4:$AF$54,$BR49,$BO$4:$BO$54))","v":0},{"$f":"IFERROR(EM49*3+EN49*1,0)","v":0},{"$f":"$BZ49","v":"F"},{"$f":"IF(EL49>0,RANK(EP49,EP49:EP52)+CE47+CY47+DS47,)","v":0},{"$f":"IF(AND(EL49>0,COUNTIF(ER49:ER52,ER49)>1),SUMIFS($AG$4:$AG$54,$AD$4:$AD$54,$BR49,$K$4:$K$54,4)+SUMIFS($AI$4:$AI$54,$AF$4:$AF$54,$BR49,$K$4:$K$54,4)-SUMIFS($AI$4:$AI$54,$AD$4:$AD$54,$BR49,$K$4:$K$54,4)-SUMIFS($AG$4:$AG$54,$AF$4:$AF$54,$BR49,$K$4:$K$54,4),)","v":0},{"$f":"IF(AND(EL49>0,COUNTIF($ER$4:$ER$7,ER49)>1),ER49+RANK(ES49,$ES$4:$ES$7)-1,ER49)","v":0},{"$f":"IF(AND(EL49>0,COUNTIF(ET49:ET52,ET49)>1),SUMIFS($AG$4:$AG$54,$AD$4:$AD$54,$BR49,$K$4:$K$54,4)+SUMIFS($AI$4:$AI$54,$AF$4:$AF$54,$BR49,$K$4:$K$54,4),)","v":0},{"$f":"IF(AND(EL49>0,COUNTIF(ET49:ET52,ET49)>1),ET49+RANK(EU49,EU49:EU52)-1,ET49)","v":0},{"$f":"IF(EV49=0,\"\",EV49)","v":""},{"$f":"IF(OR(EW49=\"\",COUNTIF(EW49:EW52,EW49)=1),\"\",$BX49)","v":""},{"$f":"IF(EW49=\"\",\"\",IF(COUNTIF(EW49:EW52,EW49)=1,EW49,EW49+RANK(EX49,EX49:EX52,0)-1))","v":""},{"$f":"IF(OR(EY49=\"\",COUNTIF(EY49:EY52,EY49)=1),\"\",$BV49)","v":""},{"$f":"IF(EW49=\"\",\"\",IF(COUNTIF(EY49:EY52,EY49)=1,EY49,EY49+RANK(EZ49,EZ49:EZ52,0)-1))","v":""},{"$f":"IF(OR(FA49=\"\",COUNTIF(FA49:FA52,FA49)=1),\"\",$BS49)","v":""},{"$f":"IF(EW49=\"\",\"\",IF(COUNTIF(FA49:FA52,FA49)=1,FA49,FA49+RANK(FB49,FB49:FB52,0)-1))","v":""},{"$f":"IF(EL49>0,CE47+CY47+DS47+RANK(FC49,FC49:FC52,1),)","v":0},null,{"$f":"IFERROR(VLOOKUP(FH49,CD48:CV52,19,FALSE),IFERROR(VLOOKUP(FH49,CX48:DP52,19,FALSE),IFERROR(VLOOKUP(FH49,DR48:EJ52,19,FALSE),VLOOKUP(FH49,EL48:FD52,19,FALSE))))","v":1},{"$f":"RANK(FF49,FF49:FF52,1)+COUNTIF(FF49:FF49,FF49)-1","v":1},{"$f":"BR49","v":"Portugal"},null,null,null,null,null,null,null,null,null,null,null,null,null,null,null,null,null,null,null,null,null,null,null,null,null,46]
[null,null,"2024-06-18","Portugal","-","Tjeckien",null,"-",null,{"$f":"IF(OR(ISBLANK(G50),ISBLANK(I50)),\"\",IF(G50>I50,1,IF(G50<I50,2,\"X\")))","v":""},{"$f":"IF(VLOOKUP(D50,BR48:CA52,10,FALSE)=VLOOKUP(F50,BR48:CA52,10,FALSE),VLOOKUP(D50,BR48:CA52,10,FALSE),\"-\")","v":1},2,{"$f":"VLOOKUP(L50,FG49:FH52,2,FALSE)","v":"Tjeckien"},{"$f":"VLOOKUP($M50,$BR$49:$BY$52,2,FALSE)","v":0},{"$f":"VLOOKUP($M50,$BR$49:$BY$52,3,FALSE)","v":0},{"$f":"VLOOKUP($M50,$BR$49:$BY$52,4,FALSE)","v":0},{"$f":"VLOOKUP($M50,$BR$49:$BY$52,5,FALSE)","v":0},{"$f":"VLOOKUP($M50,$BR$49:$BY$52,6,FALSE)","v":0},{"$f":"VLOOKUP($M50,$BR$49:$BY$52,7,FALSE)","v":0},{"$f":"VLOOKUP($M50,$BR$49:$BY$52,8,FALSE)","v":0},null,null,null,null,null,null,null,null,"2024-06-18","Portugal","-","Tjeckien","","-","","",null,0,0,0,0,0,0,0,0,0,0,0,0,0,0,0,0,0,0,0,0,0,0,0,0,0,0,0,0,0,0,null,null,"Tjeckien",{"$f":"(SUMIF(AD$4:AD$54,BR50,AL$4:AL$54)+SUMIF(AF$4:AF$54,BR50,AM$4:AM$54))","v":0},{"$f":"(SUMIF(AD$4:AD$54,BR50,AN$4:AN$54)+SUMIF(AF$4:AF$54,BR50,AO$4:AO$54))","v":0},{"$f":"(SUMIF(AD$4:AD$54,BR50,AP$4:AP$54)+SUMIF(AF$4:AF$54,BR50,AQ$4:AQ$54))","v":0},{"$f":"SUMIF($AD$4:$AD$54,BR50,$AG$4:$AG$54)+SUMIF($AF$4:$AF$54,BR50,$AI$4:$AI$54)","v":0},{"$f":"SUMIF($AD$4:$AD$54,BR50,$AI$4:$AI$54)+SUMIF($AF$4:$AF$54,BR50,$AG$4:$AG$54)","v":0},{"$f":"BV50-BW50","v":0},{"$f":"IFERROR(BS50*3+BT50*1,0)","v":0},"F",{"$f":"RANK(BY50,BY49:BY52)","v":1},{"$f":"SUMPRODUCT((BY49:BY52=BY50)*(BX49:BX52>BX50))","v":0},null,{"$f":"IF(CA50=1,BR50,)","v":"Tjeckien"},{"$f":"(SUMIF($AD$4:$AD$54,$BR50,$AR$4:$AR$54)+SUMIF($AF$4:$AF$54,$BR50,$AS$4:$AS$54))","v":0},{"$f":"(SUMIF($AD$4:$AD$54,$BR50,$AT$4:$AT$54)+SUMIF($AF$4:$AF$54,$BR50,$AU$4:$AU$54))","v":0},{"$f":"(SUMIF($AD$4:$AD$54,$BR50,$AV$4:$AV$54)+SUMIF($AF$4:$AF$54,$BR50,$AW$4:$AW$54))","v":0},{"$f":"IFERROR(CE50*3+CF50*1,0)","v":0},{"$f":"BZ50","v":"F"},{"$f":"IF(CD50>0,RANK(CH50,CH49:CH52),)","v":1},{"$f":"IF(AND(CD50>0,COUNTIF(CJ49:CJ52,CJ50)>1),SUMIFS($AG$4:$AG$54,$AD$4:$AD$54,BR50,$K$4:$K$54,1)+SUMIFS($AI$4:$AI$54,$AF$4:$AF$54,BR50,$K$4:$K$54,1)-SUMIFS($AI$4:$AI$54,$AD$4:$AD$54,BR50,$K$4:$K$54,1)-SUMIFS($AG$4:$AG$54,$AF$4:$AF$54,BR50,$K$4:$K$54,1),)","v":0},{"$f":"IF(AND(CD50>0,COUNTIF(CJ49:CJ52,CJ50)>1),CJ50+RANK(CK50,CK49:CK52)-1,CJ50)","v":1},{"$f":"IF(AND(CD50>0,COUNTIF(CL49:CL52,CL50)>1),SUMIFS($AG$4:$AG$54,$AD$4:$AD$54,BR50,$K$4:$K$54,1)+SUMIFS($AI$4:$AI$54,$AF$4:$AF$54,BR50,$K$4:$K$54,1),)","v":0},{"$f":"IF(AND(CD50>0,COUNTIF(CL49:CL52,CL50)>1),CL50+RANK(CM50,CM49:CM52)-1,CL50)","v":1},{"$f":"IF(CN50=0,\"\",CN50)","v":1},{"$f":"IF(OR(CO50=\"\",COUNTIF(CO49:CO52,CO50)=1),\"\",$BX50)","v":0},{"$f":"IF(CO50=\"\",\"\",IF(COUNTIF(CO49:CO52,CO50)=1,CO50,CO50+RANK(CP50,CP49:CP52,0)-1))","v":1},{"$f":"IF(OR(CQ50=\"\",COUNTIF(CQ49:CQ52,CQ50)=1),\"\",$BV50)","v":0},{"$f":"IF(CO50=\"\",\"\",IF(COUNTIF(CQ49:CQ52,CQ50)=1,CQ50,CQ50+RANK(CR50,CR49:CR52,0)-1))","v":1},{"$f":"IF(OR(CS50=\"\",COUNTIF(CS49:CS52,CS50)=1),\"\",$BS50)","v":0},{"$f":"IF(CO50=\"\",\"\",IF(COUNTIF(CS49:CS52,CS50)=1,CS50,CS50+RANK(CT50,CT49:CT52,0)-1))","v":1},{"$f":"IF(CD50>0,BK47+RANK(CU50,CU49:CU52,1),)","v":1},null,{"$f":"IF(CA50=2,BR50,)","v":0},{"$f":"(SUMIF($AD$4:$AD$54,$BR50,$AX$4:$AX$54)+SUMIF($AF$4:$AF$54,$BR50,$AY$4:$AY$54))","v":0},{"$f":"(SUMIF($AD$4:$AD$54,$BR50,$AZ$4:$AZ$54)+SUMIF($AF$4:$AF$54,$BR50,$BA$4:$BA$54))","v":0},{"$f":"(SUMIF($AD$4:$AD$54,$BR50,$BB$4:$BB$54)+SUMIF($AF$4:$AF$54,$BR50,$BC$4:$BC$54))","v":0},{"$f":"IFERROR(CY50*3+CZ50*1,0)","v":0},{"$f":"$BZ50","v":"F"},{"$f":"IF(CX50>0,RANK(DB50,DB49:DB52)+CE47,)","v":0},{"$f":"IF(AND(CX50>0,COUNTIF(DD49:DD52,DD50)>1),SUMIFS($AG$4:$AG$54,$AD$4:$AD$54,BR50,$K$4:$K$54,2)+SUMIFS($AI$4:$AI$54,$AF$4:$AF$54,BR50,$K$4:$K$54,2)-SUMIFS($AI$4:$AI$54,$AD$4:$AD$54,BR50,$K$4:$K$54,2)-SUMIFS($AG$4:$AG$54,$AF$4:$AF$54,BR50,$K$4:$K$54,2),)","v":0},{"$f":"IF(AND(CX50>0,COUNTIF(DD49:DD52,DD50)>1),DD50+RANK(DE50,DE49:DE52)-1,DD50)","v":0},{"$f":"IF(AND(CX50>0,COUNTIF(DF49:DF52,DF50)>1),SUMIFS($AG$4:$AG$54,$AD$4:$AD$54,BR50,$K$4:$K$54,2)+SUMIFS($AI$4:$AI$54,$AF$4:$AF$54,BR50,$K$4:$K$54,2),)","v":0},{"$f":"IF(AND(CX50>0,COUNTIF(DF49:DF52,DF50)>1),DF50+RANK(DG50,DG49:DG52)-1,DF50)","v":0},{"$f":"IF(DH50=0,\"\",DH50)","v":""},{"$f":"IF(OR(DI50=\"\",COUNTIF(DI49:DI52,DI50)=1),\"\",$BX50)","v":""},{"$f":"IF(DI50=\"\",\"\",IF(COUNTIF(DI49:DI52,DI50)=1,DI50,DI50+RANK(DJ50,DJ49:DJ52,0)-1))","v":""},{"$f":"IF(OR(DK50=\"\",COUNTIF(DK49:DK52,DK50)=1),\"\",$BV50)","v":""},{"$f":"IF(DI50=\"\",\"\",IF(COUNTIF(DK49:DK52,DK50)=1,DK50,DK50+RANK(DL50,DL49:DL52,0)-1))","v":""},{"$f":"IF(OR(DM50=\"\",COUNTIF(DM49:DM52,DM50)=1),\"\",$BS50)","v":""},{"$f":"IF(DI50=\"\",\"\",IF(COUNTIF(DM49:DM52,DM50)=1,DM50,DM50+RANK(DN50,DN49:DN52,0)-1))","v":""},{"$f":"IF(CX50>0,CE47+RANK(DO50,DO49:DO52,1),)","v":0},null,{"$f":"IF(CA50=3,BR50,)","v":0},{"$f":"(SUMIF(AD$4:AD$54,BR50,BD$4:BD$54)+SUMIF(AF$4:AF$54,BR50,BE$4:BE$54))","v":0},{"$f":"(SUMIF(AD$4:AD$54,BR50,BF$4:BF$54)+SUMIF(AF$4:AF$54,BR50,BG$4:BG$54))","v":0},{"$f":"(SUMIF(AD$4:AD$54,BR50,BH$4:BH$54)+SUMIF(AF$4:AF$54,BR50,BI$4:BI$54))","v":0},{"$f":"IFERROR(DS50*3+DT50*1,0)","v":0},{"$f":"BZ50","v":"F"},{"$f":"IF(DR50>0,RANK(DV50,DV49:DV52)+CE47+CY47,)","v":0},{"$f":"IF(AND(DR50>0,COUNTIF(DX49:DX52,DX50)>1),SUMIFS($AG$4:$AG$54,$AD$4:$AD$54,BR50,$K$4:$K$54,3)+SUMIFS($AI$4:$AI$54,$AF$4:$AF$54,BR50,$K$4:$K$54,3)-SUMIFS($AI$4:$AI$54,$AD$4:$AD$54,BR50,$K$4:$K$54,3)-SUMIFS($AG$4:$AG$54,$AF$4:$AF$54,BR50,$K$4:$K$54,3),)","v":0},{"$f":"IF(AND(DR50>0,COUNTIF(DX49:DX52,DX50)>1),DX50+RANK(DY50,DY49:DY52)-1,DX50)","v":0},{"$f":"IF(AND(DR50>0,COUNTIF(DZ49:DZ52,DZ50)>1),SUMIFS($AG$4:$AG$54,$AD$4:$AD$54,BR50,$K$4:$K$54,3)+SUMIFS($AI$4:$AI$54,$AF$4:$AF$54,BR50,$K$4:$K$54,3),)","v":0},{"$f":"IF(AND(DR50>0,COUNTIF(DZ49:DZ52,DZ50)>1),DZ50+RANK(EA50,EA49:EA52)-1,DZ50)","v":0},{"$f":"IF(EB50=0,\"\",EB50)","v":""},{"$f":"IF(OR(EC50=\"\",COUNTIF(EC49:EC52,EC50)=1),\"\",$BX50)","v":""},{"$f":"IF(EC50=\"\",\"\",IF(COUNTIF(EC49:EC52,EC50)=1,EC50,EC50+RANK(ED50,ED49:ED52,0)-1))","v":""},{"$f":"IF(OR(EE50=\"\",COUNTIF(EE49:EE52,EE50)=1),\"\",$BV50)","v":""},{"$f":"IF(EC50=\"\",\"\",IF(COUNTIF(EE49:EE52,EE50)=1,EE50,EE50+RANK(EF50,EF49:EF52,0)-1))","v":""},{"$f":"IF(OR(EG50=\"\",COUNTIF(EG49:EG52,EG50)=1),\"\",$BS50)","v":""},{"$f":"IF(EC50=\"\",\"\",IF(COUNTIF(EG49:EG52,EG50)=1,EG50,EG50+RANK(EH50,EH49:EH52,0)-1))","v":""},{"$f":"IF(DR50>0,CE47+CY47+RANK(EI50,EI49:EI52,1),)","v":0},null,{"$f":"IF(CA50=4,BR50,)","v":0},{"$f":"(SUMIF($AD$4:$AD$54,$BR50,$BJ$4:$BJ$54)+SUMIF($AF$4:$AF$54,$BR50,$BK$4:$BK$54))","v":0},{"$f":"(SUMIF($AD$4:$AD$54,$BR50,$BL$4:$BL$54)+SUMIF($AF$4:$AF$54,$BR50,$BM$4:$BM$54))","v":0},{"$f":"(SUMIF($AD$4:$AD$54,$BR50,$BN$4:$BN$54)+SUMIF($AF$4:$AF$54,$BR50,$BO$4:$BO$54))","v":0},{"$f":"IFERROR(EM50*3+EN50*1,0)","v":0},{"$f":"$BZ50","v":"F"},{"$f":"IF(EL50>0,RANK(EP50,EP49:EP52)+CE47+CY47+DS47,)","v":0},{"$f":"IF(AND(EL50>0,COUNTIF(ER49:ER52,ER50)>1),SUMIFS($AG$4:$AG$54,$AD$4:$AD$54,BR50,$K$4:$K$54,4)+SUMIFS($AI$4:$AI$54,$AF$4:$AF$54,BR50,$K$4:$K$54,4)-SUMIFS($AI$4:$AI$54,$AD$4:$AD$54,BR50,$K$4:$K$54,4)-SUMIFS($AG$4:$AG$54,$AF$4:$AF$54,BR50,$K$4:$K$54,4),)","v":0},{"$f":"IF(AND(EL50>0,COUNTIF($ER$4:$ER$7,ER50)>1),ER50+RANK(ES50,$ES$4:$ES$7)-1,ER50)","v":0},{"$f":"IF(AND(EL50>0,COUNTIF(ET49:ET52,ET50)>1),SUMIFS($AG$4:$AG$54,$AD$4:$AD$54,BR50,$K$4:$K$54,4)+SUMIFS($AI$4:$AI$54,$AF$4:$AF$54,BR50,$K$4:$K$54,4),)","v":0},{"$f":"IF(AND(EL50>0,COUNTIF(ET49:ET52,ET50)>1),ET50+RANK(EU50,EU49:EU52)-1,ET50)","v":0},{"$f":"IF(EV50=0,\"\",EV50)","v":""},{"$f":"IF(OR(EW50=\"\",COUNTIF(EW49:EW52,EW50)=1),\"\",$BX50)","v":""},{"$f":"IF(EW50=\"\",\"\",IF(COUNTIF(EW49:EW52,EW50)=1,EW50,EW50+RANK(EX50,EX49:EX52,0)-1))","v":""},{"$f":"IF(OR(EY50=\"\",COUNTIF(EY49:EY52,EY50)=1),\"\",$BV50)","v":""},{"$f":"IF(EW50=\"\",\"\",IF(COUNTIF(EY49:EY52,EY50)=1,EY50,EY50+RANK(EZ50,EZ49:EZ52,0)-1))","v":""},{"$f":"IF(OR(FA50=\"\",COUNTIF(FA49:FA52,FA50)=1),\"\",$BS50)","v":""},{"$f":"IF(EW50=\"\",\"\",IF(COUNTIF(FA49:FA52,FA50)=1,FA50,FA50+RANK(FB50,FB49:FB52,0)-1))","v":""},{"$f":"IF(EL50>0,CE47+CY47+DS47+RANK(FC50,FC49:FC52,1),)","v":0},null,{"$f":"IFERROR(VLOOKUP(FH50,CD48:CV52,19,FALSE),IFERROR(VLOOKUP(FH50,CX48:DP52,19,FALSE),IFERROR(VLOOKUP(FH50,DR48:EJ52,19,FALSE),VLOOKUP(FH50,EL48:FD52,19,FALSE))))","v":1},{"$f":"RANK(FF50,FF49:FF52,1)+COUNTIF(FF49:FF50,FF50)-1","v":2},{"$f":"BR50","v":"Tjeckien"},null,null,null,null,null,null,null,null,null,null,null,null,null,null,null,null,null,null,null,null,null,null,null,null,null,47]
[null,null,"2024-06-22","Georgien","-","Tjeckien",null,"-",null,"",{"$f":"IF(VLOOKUP(D51,BR48:CA52,10,FALSE)=VLOOKUP(F51,BR48:CA52,10,FALSE),VLOOKUP(D51,BR48:CA52,10,FALSE),\"-\")","v":1},3,{"$f":"VLOOKUP(L51,FG49:FH52,2,FALSE)","v":"Georgien"},{"$f":"VLOOKUP($M51,$BR$49:$BY$52,2,FALSE)","v":0},{"$f":"VLOOKUP($M51,$BR$49:$BY$52,3,FALSE)","v":0},{"$f":"VLOOKUP($M51,$BR$49:$BY$52,4,FALSE)","v":0},{"$f":"VLOOKUP($M51,$BR$49:$BY$52,5,FALSE)","v":0},{"$f":"VLOOKUP($M51,$BR$49:$BY$52,6,FALSE)","v":0},{"$f":"VLOOKUP($M51,$BR$49:$BY$52,7,FALSE)","v":0},{"$f":"VLOOKUP($M51,$BR$49:$BY$52,8,FALSE)","v":0},null,null,null,null,null,null,null,null,"2024-06-22","Georgien","-","Tjeckien","","-","","",null,0,0,0,0,0,0,0,0,0,0,0,0,0,0,0,0,0,0,0,0,0,0,0,0,0,0,0,0,0,0,null,null,"Georgien",{"$f":"(SUMIF(AD$4:AD$54,BR51,AL$4:AL$54)+SUMIF(AF$4:AF$54,BR51,AM$4:AM$54))","v":0},{"$f":"(SUMIF(AD$4:AD$54,BR51,AN$4:AN$54)+SUMIF(AF$4:AF$54,BR51,AO$4:AO$54))","v":0},{"$f":"(SUMIF(AD$4:AD$54,BR51,AP$4:AP$54)+SUMIF(AF$4:AF$54,BR51,AQ$4:AQ$54))","v":0},{"$f":"SUMIF($AD$4:$AD$54,BR51,$AG$4:$AG$54)+SUMIF($AF$4:$AF$54,BR51,$AI$4:$AI$54)","v":0},{"$f":"SUMIF($AD$4:$AD$54,BR51,$AI$4:$AI$54)+SUMIF($AF$4:$AF$54,BR51,$AG$4:$AG$54)","v":0},{"$f":"BV51-BW51","v":0},{"$f":"IFERROR(BS51*3+BT51*1,0)","v":0},"F",{"$f":"RANK(BY51,BY49:BY52)","v":1},{"$f":"SUMPRODUCT((BY49:BY52=BY51)*(BX49:BX52>BX51))","v":0},null,{"$f":"IF(CA51=1,BR51,)","v":"Georgien"},0,0,0,0,"F",{"$f":"IF(CD51>0,RANK(CH51,CH49:CH52),)","v":1},{"$f":"IF(AND(CD51>0,COUNTIF(CJ49:CJ52,CJ51)>1),SUMIFS($AG$4:$AG$54,$AD$4:$AD$54,BR51,$K$4:$K$54,1)+SUMIFS($AI$4:$AI$54,$AF$4:$AF$54,BR51,$K$4:$K$54,1)-SUMIFS($AI$4:$AI$54,$AD$4:$AD$54,BR51,$K$4:$K$54,1)-SUMIFS($AG$4:$AG$54,$AF$4:$AF$54,BR51,$K$4:$K$54,1),)","v":0},{"$f":"IF(AND(CD51>0,COUNTIF(CJ49:CJ52,CJ51)>1),CJ51+RANK(CK51,CK49:CK52)-1,CJ51)","v":1},{"$f":"IF(AND(CD51>0,COUNTIF(CL49:CL52,CL51)>1),SUMIFS($AG$4:$AG$54,$AD$4:$AD$54,BR51,$K$4:$K$54,1)+SUMIFS($AI$4:$AI$54,$AF$4:$AF$54,BR51,$K$4:$K$54,1),)","v":0},{"$f":"IF(AND(CD51>0,COUNTIF(CL49:CL52,CL51)>1),CL51+RANK(CM51,CM49:CM52)-1,CL51)","v":1},1,{"$f":"IF(OR(CO51=\"\",COUNTIF(CO49:CO52,CO51)=1),\"\",$BX51)","v":0},{"$f":"IF(CO51=\"\",\"\",IF(COUNTIF(CO49:CO52,CO51)=1,CO51,CO51+RANK(CP51,CP49:CP52,0)-1))","v":1},{"$f":"IF(OR(CQ51=\"\",COUNTIF(CQ49:CQ52,CQ51)=1),\"\",$BV51)","v":0},{"$f":"IF(CO51=\"\",\"\",IF(COUNTIF(CQ49:CQ52,CQ51)=1,CQ51,CQ51+RANK(CR51,CR49:CR52,0)-1))","v":1},{"$f":"IF(OR(CS51=\"\",COUNTIF(CS49:CS52,CS51)=1),\"\",$BS51)","v":0},{"$f":"IF(CO51=\"\",\"\",IF(COUNTIF(CS49:CS52,CS51)=1,CS51,CS51+RANK(CT51,CT49:CT52,0)-1))","v":1},{"$f":"IF(CD51>0,BK47+RANK(CU51,CU49:CU52,1),)","v":1},null,{"$f":"IF(CA51=2,BR51,)","v":0},0,0,0,0,"F",{"$f":"IF(CX51>0,RANK(DB51,DB49:DB52)+CE47,)","v":0},{"$f":"IF(AND(CX51>0,COUNTIF(DD49:DD52,DD51)>1),SUMIFS($AG$4:$AG$54,$AD$4:$AD$54,BR51,$K$4:$K$54,2)+SUMIFS($AI$4:$AI$54,$AF$4:$AF$54,BR51,$K$4:$K$54,2)-SUMIFS($AI$4:$AI$54,$AD$4:$AD$54,BR51,$K$4:$K$54,2)-SUMIFS($AG$4:$AG$54,$AF$4:$AF$54,BR51,$K$4:$K$54,2),)","v":0},{"$f":"IF(AND(CX51>0,COUNTIF(DD49:DD52,DD51)>1),DD51+RANK(DE51,DE49:DE52)-1,DD51)","v":0},{"$f":"IF(AND(CX51>0,COUNTIF(DF49:DF52,DF51)>1),SUMIFS($AG$4:$AG$54,$AD$4:$AD$54,BR51,$K$4:$K$54,2)+SUMIFS($AI$4:$AI$54,$AF$4:$AF$54,BR51,$K$4:$K$54,2),)","v":0},{"$f":"IF(AND(CX51>0,COUNTIF(DF49:DF52,DF51)>1),DF51+RANK(DG51,DG49:DG52)-1,DF51)","v":0},"",{"$f":"IF(OR(DI51=\"\",COUNTIF(DI49:DI52,DI51)=1),\"\",$BX51)","v":""},{"$f":"IF(DI51=\"\",\"\",IF(COUNTIF(DI49:DI52,DI51)=1,DI51,DI51+RANK(DJ51,DJ49:DJ52,0)-1))","v":""},{"$f":"IF(OR(DK51=\"\",COUNTIF(DK49:DK52,DK51)=1),\"\",$BV51)","v":""},{"$f":"IF(DI51=\"\",\"\",IF(COUNTIF(DK49:DK52,DK51)=1,DK51,DK51+RANK(DL51,DL49:DL52,0)-1))","v":""},{"$f":"IF(OR(DM51=\"\",COUNTIF(DM49:DM52,DM51)=1),\"\",$BS51)","v":""},{"$f":"IF(DI51=\"\",\"\",IF(COUNTIF(DM49:DM52,DM51)=1,DM51,DM51+RANK(DN51,DN49:DN52,0)-1))","v":""},{"$f":"IF(CX51>0,CE47+RANK(DO51,DO49:DO52,1),)","v":0},null,{"$f":"IF(CA51=3,BR51,)","v":0},{"$f":"(SUMIF(AD$4:AD$54,BR51,BD$4:BD$54)+SUMIF(AF$4:AF$54,BR51,BE$4:BE$54))","v":0},{"$f":"(SUMIF(AD$4:AD$54,BR51,BF$4:BF$54)+SUMIF(AF$4:AF$54,BR51,BG$4:BG$54))","v":0},{"$f":"(SUMIF(AD$4:AD$54,BR51,BH$4:BH$54)+SUMIF(AF$4:AF$54,BR51,BI$4:BI$54))","v":0},0,{"$f":"BZ51","v":"F"},{"$f":"IF(DR51>0,RANK(DV51,DV49:DV52)+CE47+CY47,)","v":0},{"$f":"IF(AND(DR51>0,COUNTIF(DX49:DX52,DX51)>1),SUMIFS($AG$4:$AG$54,$AD$4:$AD$54,BR51,$K$4:$K$54,3)+SUMIFS($AI$4:$AI$54,$AF$4:$AF$54,BR51,$K$4:$K$54,3)-SUMIFS($AI$4:$AI$54,$AD$4:$AD$54,BR51,$K$4:$K$54,3)-SUMIFS($AG$4:$AG$54,$AF$4:$AF$54,BR51,$K$4:$K$54,3),)","v":0},{"$f":"IF(AND(DR51>0,COUNTIF(DX49:DX52,DX51)>1),DX51+RANK(DY51,DY49:DY52)-1,DX51)","v":0},{"$f":"IF(AND(DR51>0,COUNTIF(DZ49:DZ52,DZ51)>1),SUMIFS($AG$4:$AG$54,$AD$4:$AD$54,BR51,$K$4:$K$54,3)+SUMIFS($AI$4:$AI$54,$AF$4:$AF$54,BR51,$K$4:$K$54,3),)","v":0},{"$f":"IF(AND(DR51>0,COUNTIF(DZ49:DZ52,DZ51)>1),DZ51+RANK(EA51,EA49:EA52)-1,DZ51)","v":0},"",{"$f":"IF(OR(EC51=\"\",COUNTIF(EC49:EC52,EC51)=1),\"\",$BX51)","v":""},{"$f":"IF(EC51=\"\",\"\",IF(COUNTIF(EC49:EC52,EC51)=1,EC51,EC51+RANK(ED51,ED49:ED52,0)-1))","v":""},{"$f":"IF(OR(EE51=\"\",COUNTIF(EE49:EE52,EE51)=1),\"\",$BV51)","v":""},{"$f":"IF(EC51=\"\",\"\",IF(COUNTIF(EE49:EE52,EE51)=1,EE51,EE51+RANK(EF51,EF49:EF52,0)-1))","v":""},{"$f":"IF(OR(EG51=\"\",COUNTIF(EG49:EG52,EG51)=1),\"\",$BS51)","v":""},{"$f":"IF(EC51=\"\",\"\",IF(COUNTIF(EG49:EG52,EG51)=1,EG51,EG51+RANK(EH51,EH49:EH52,0)-1))","v":""},{"$f":"IF(DR51>0,CE47+CY47+RANK(EI51,EI49:EI52,1),)","v":0},null,{"$f":"IF(CA51=4,BR51,)","v":0},0,0,0,0,"F",{"$f":"IF(EL51>0,RANK(EP51,EP49:EP52)+CE47+CY47+DS47,)","v":0},{"$f":"IF(AND(EL51>0,COUNTIF(ER49:ER52,ER51)>1),SUMIFS($AG$4:$AG$54,$AD$4:$AD$54,BR51,$K$4:$K$54,4)+SUMIFS($AI$4:$AI$54,$AF$4:$AF$54,BR51,$K$4:$K$54,4)-SUMIFS($AI$4:$AI$54,$AD$4:$AD$54,BR51,$K$4:$K$54,4)-SUMIFS($AG$4:$AG$54,$AF$4:$AF$54,BR51,$K$4:$K$54,4),)","v":0},0,{"$f":"IF(AND(EL51>0,COUNTIF(ET49:ET52,ET51)>1),SUMIFS($AG$4:$AG$54,$AD$4:$AD$54,BR51,$K$4:$K$54,4)+SUMIFS($AI$4:$AI$54,$AF$4:$AF$54,BR51,$K$4:$K$54,4),)","v":0},{"$f":"IF(AND(EL51>0,COUNTIF(ET49:ET52,ET51)>1),ET51+RANK(EU51,EU49:EU52)-1,ET51)","v":0},"",{"$f":"IF(OR(EW51=\"\",COUNTIF(EW49:EW52,EW51)=1),\"\",$BX51)","v":""},{"$f":"IF(EW51=\"\",\"\",IF(COUNTIF(EW49:EW52,EW51)=1,EW51,EW51+RANK(EX51,EX49:EX52,0)-1))","v":""},{"$f":"IF(OR(EY51=\"\",COUNTIF(EY49:EY52,EY51)=1),\"\",$BV51)","v":""},{"$f":"IF(EW51=\"\",\"\",IF(COUNTIF(EY49:EY52,EY51)=1,EY51,EY51+RANK(EZ51,EZ49:EZ52,0)-1))","v":""},{"$f":"IF(OR(FA51=\"\",COUNTIF(FA49:FA52,FA51)=1),\"\",$BS51)","v":""},{"$f":"IF(EW51=\"\",\"\",IF(COUNTIF(FA49:FA52,FA51)=1,FA51,FA51+RANK(FB51,FB49:FB52,0)-1))","v":""},{"$f":"IF(EL51>0,CE47+CY47+DS47+RANK(FC51,FC49:FC52,1),)","v":0},null,{"$f":"IFERROR(VLOOKUP(FH51,CD48:CV52,19,FALSE),IFERROR(VLOOKUP(FH51,CX48:DP52,19,FALSE),IFERROR(VLOOKUP(FH51,DR48:EJ52,19,FALSE),VLOOKUP(FH51,EL48:FD52,19,FALSE))))","v":1},{"$f":"RANK(FF51,FF49:FF52,1)+COUNTIF(FF49:FF51,FF51)-1","v":3},{"$f":"BR51","v":"Georgien"},null,null,null,null,null,null,null,null,null,null,null,null,null,null,null,null,null,null,null,null,null,null,null,null,null,48]
[null,null,"2024-06-22","Turkiet","-","Portugal",null,"-",null,"",{"$f":"IF(VLOOKUP(D52,BR48:CA52,10,FALSE)=VLOOKUP(F52,BR48:CA52,10,FALSE),VLOOKUP(D52,BR48:CA52,10,FALSE),\"-\")","v":1},4,{"$f":"VLOOKUP(L52,FG49:FH52,2,FALSE)","v":"Turkiet"},{"$f":"VLOOKUP($M52,$BR$49:$BY$52,2,FALSE)","v":0},{"$f":"VLOOKUP($M52,$BR$49:$BY$52,3,FALSE)","v":0},{"$f":"VLOOKUP($M52,$BR$49:$BY$52,4,FALSE)","v":0},{"$f":"VLOOKUP($M52,$BR$49:$BY$52,5,FALSE)","v":0},{"$f":"VLOOKUP($M52,$BR$49:$BY$52,6,FALSE)","v":0},{"$f":"VLOOKUP($M52,$BR$49:$BY$52,7,FALSE)","v":0},{"$f":"VLOOKUP($M52,$BR$49:$BY$52,8,FALSE)","v":0},null,null,null,null,null,null,null,null,"2024-06-22","Turkiet","-","Portugal","","-","","",null,0,0,0,0,0,0,0,0,0,0,0,0,0,0,0,0,0,0,0,0,0,0,0,0,0,0,0,0,0,0,null,null,"Turkiet",{"$f":"(SUMIF(AD$4:AD$54,BR52,AL$4:AL$54)+SUMIF(AF$4:AF$54,BR52,AM$4:AM$54))","v":0},{"$f":"(SUMIF(AD$4:AD$54,BR52,AN$4:AN$54)+SUMIF(AF$4:AF$54,BR52,AO$4:AO$54))","v":0},{"$f":"(SUMIF(AD$4:AD$54,BR52,AP$4:AP$54)+SUMIF(AF$4:AF$54,BR52,AQ$4:AQ$54))","v":0},{"$f":"SUMIF($AD$4:$AD$54,BR52,$AG$4:$AG$54)+SUMIF($AF$4:$AF$54,BR52,$AI$4:$AI$54)","v":0},{"$f":"SUMIF($AD$4:$AD$54,BR52,$AI$4:$AI$54)+SUMIF($AF$4:$AF$54,BR52,$AG$4:$AG$54)","v":0},{"$f":"BV52-BW52","v":0},{"$f":"IFERROR(BS52*3+BT52*1,0)","v":0},"F",{"$f":"RANK(BY52,BY49:BY52)","v":1},{"$f":"SUMPRODUCT((BY49:BY52=BY52)*(BX49:BX52>BX52))","v":0},null,{"$f":"IF(CA52=1,BR52,)","v":"Turkiet"},0,0,0,0,"F",{"$f":"IF(CD52>0,RANK(CH52,CH49:CH52),)","v":1},{"$f":"IF(AND(CD52>0,COUNTIF(CJ49:CJ52,CJ52)>1),SUMIFS($AG$4:$AG$54,$AD$4:$AD$54,BR52,$K$4:$K$54,1)+SUMIFS($AI$4:$AI$54,$AF$4:$AF$54,BR52,$K$4:$K$54,1)-SUMIFS($AI$4:$AI$54,$AD$4:$AD$54,BR52,$K$4:$K$54,1)-SUMIFS($AG$4:$AG$54,$AF$4:$AF$54,BR52,$K$4:$K$54,1),)","v":0},{"$f":"IF(AND(CD52>0,COUNTIF(CJ49:CJ52,CJ52)>1),CJ52+RANK(CK52,CK49:CK52)-1,CJ52)","v":1},{"$f":"IF(AND(CD52>0,COUNTIF(CL49:CL52,CL52)>1),SUMIFS($AG$4:$AG$54,$AD$4:$AD$54,BR52,$K$4:$K$54,1)+SUMIFS($AI$4:$AI$54,$AF$4:$AF$54,BR52,$K$4:$K$54,1),)","v":0},{"$f":"IF(AND(CD52>0,COUNTIF(CL49:CL52,CL52)>1),CL52+RANK(CM52,CM49:CM52)-1,CL52)","v":1},1,{"$f":"IF(OR(CO52=\"\",COUNTIF(CO49:CO52,CO52)=1),\"\",$BX52)","v":0},{"$f":"IF(CO52=\"\",\"\",IF(COUNTIF(CO49:CO52,CO52)=1,CO52,CO52+RANK(CP52,CP49:CP52,0)-1))","v":1},{"$f":"IF(OR(CQ52=\"\",COUNTIF(CQ49:CQ52,CQ52)=1),\"\",$BV52)","v":0},{"$f":"IF(CO52=\"\",\"\",IF(COUNTIF(CQ49:CQ52,CQ52)=1,CQ52,CQ52+RANK(CR52,CR49:CR52,0)-1))","v":1},{"$f":"IF(OR(CS52=\"\",COUNTIF(CS49:CS52,CS52)=1),\"\",$BS52)","v":0},{"$f":"IF(CO52=\"\",\"\",IF(COUNTIF(CS49:CS52,CS52)=1,CS52,CS52+RANK(CT52,CT49:CT52,0)-1))","v":1},{"$f":"IF(CD52>0,BK47+RANK(CU52,CU49:CU52,1),)","v":1},null,{"$f":"IF(CA52=2,BR52,)","v":0},0,0,0,0,"F",{"$f":"IF(CX52>0,RANK(DB52,DB49:DB52)+CE47,)","v":0},{"$f":"IF(AND(CX52>0,COUNTIF(DD49:DD52,DD52)>1),SUMIFS($AG$4:$AG$54,$AD$4:$AD$54,BR52,$K$4:$K$54,2)+SUMIFS($AI$4:$AI$54,$AF$4:$AF$54,BR52,$K$4:$K$54,2)-SUMIFS($AI$4:$AI$54,$AD$4:$AD$54,BR52,$K$4:$K$54,2)-SUMIFS($AG$4:$AG$54,$AF$4:$AF$54,BR52,$K$4:$K$54,2),)","v":0},{"$f":"IF(AND(CX52>0,COUNTIF(DD49:DD52,DD52)>1),DD52+RANK(DE52,DE49:DE52)-1,DD52)","v":0},{"$f":"IF(AND(CX52>0,COUNTIF(DF49:DF52,DF52)>1),SUMIFS($AG$4:$AG$54,$AD$4:$AD$54,BR52,$K$4:$K$54,2)+SUMIFS($AI$4:$AI$54,$AF$4:$AF$54,BR52,$K$4:$K$54,2),)","v":0},{"$f":"IF(AND(CX52>0,COUNTIF(DF49:DF52,DF52)>1),DF52+RANK(DG52,DG49:DG52)-1,DF52)","v":0},"",{"$f":"IF(OR(DI52=\"\",COUNTIF(DI49:DI52,DI52)=1),\"\",$BX52)","v":""},{"$f":"IF(DI52=\"\",\"\",IF(COUNTIF(DI49:DI52,DI52)=1,DI52,DI52+RANK(DJ52,DJ49:DJ52,0)-1))","v":""},{"$f":"IF(OR(DK52=\"\",COUNTIF(DK49:DK52,DK52)=1),\"\",$BV52)","v":""},{"$f":"IF(DI52=\"\",\"\",IF(COUNTIF(DK49:DK52,DK52)=1,DK52,DK52+RANK(DL52,DL49:DL52,0)-1))","v":""},{"$f":"IF(OR(DM52=\"\",COUNTIF(DM49:DM52,DM52)=1),\"\",$BS52)","v":""},{"$f":"IF(DI52=\"\",\"\",IF(COUNTIF(DM49:DM52,DM52)=1,DM52,DM52+RANK(DN52,DN49:DN52,0)-1))","v":""},{"$f":"IF(CX52>0,CE47+RANK(DO52,DO49:DO52,1),)","v":0},null,{"$f":"IF(CA52=3,BR52,)","v":0},{"$f":"(SUMIF(AD$4:AD$54,BR52,BD$4:BD$54)+SUMIF(AF$4:AF$54,BR52,BE$4:BE$54))","v":0},{"$f":"(SUMIF(AD$4:AD$54,BR52,BF$4:BF$54)+SUMIF(AF$4:AF$54,BR52,BG$4:BG$54))","v":0},{"$f":"(SUMIF(AD$4:AD$54,BR52,BH$4:BH$54)+SUMIF(AF$4:AF$54,BR52,BI$4:BI$54))","v":0},0,{"$f":"BZ52","v":"F"},{"$f":"IF(DR52>0,RANK(DV52,DV49:DV52)+CE47+CY47,)","v":0},{"$f":"IF(AND(DR52>0,COUNTIF(DX49:DX52,DX52)>1),SUMIFS($AG$4:$AG$54,$AD$4:$AD$54,BR52,$K$4:$K$54,3)+SUMIFS($AI$4:$AI$54,$AF$4:$AF$54,BR52,$K$4:$K$54,3)-SUMIFS($AI$4:$AI$54,$AD$4:$AD$54,BR52,$K$4:$K$54,3)-SUMIFS($AG$4:$AG$54,$AF$4:$AF$54,BR52,$K$4:$K$54,3),)","v":0},{"$f":"IF(AND(DR52>0,COUNTIF(DX49:DX52,DX52)>1),DX52+RANK(DY52,DY49:DY52)-1,DX52)","v":0},{"$f":"IF(AND(DR52>0,COUNTIF(DZ49:DZ52,DZ52)>1),SUMIFS($AG$4:$AG$54,$AD$4:$AD$54,BR52,$K$4:$K$54,3)+SUMIFS($AI$4:$AI$54,$AF$4:$AF$54,BR52,$K$4:$K$54,3),)","v":0},{"$f":"IF(AND(DR52>0,COUNTIF(DZ49:DZ52,DZ52)>1),DZ52+RANK(EA52,EA49:EA52)-1,DZ52)","v":0},"",{"$f":"IF(OR(EC52=\"\",COUNTIF(EC49:EC52,EC52)=1),\"\",$BX52)","v":""},{"$f":"IF(EC52=\"\",\"\",IF(COUNTIF(EC49:EC52,EC52)=1,EC52,EC52+RANK(ED52,ED49:ED52,0)-1))","v":""},{"$f":"IF(OR(EE52=\"\",COUNTIF(EE49:EE52,EE52)=1),\"\",$BV52)","v":""},{"$f":"IF(EC52=\"\",\"\",IF(COUNTIF(EE49:EE52,EE52)=1,EE52,EE52+RANK(EF52,EF49:EF52,0)-1))","v":""},{"$f":"IF(OR(EG52=\"\",COUNTIF(EG49:EG52,EG52)=1),\"\",$BS52)","v":""},{"$f":"IF(EC52=\"\",\"\",IF(COUNTIF(EG49:EG52,EG52)=1,EG52,EG52+RANK(EH52,EH49:EH52,0)-1))","v":""},{"$f":"IF(DR52>0,CE47+CY47+RANK(EI52,EI49:EI52,1),)","v":0},null,{"$f":"IF(CA52=4,BR52,)","v":0},0,0,0,0,"F",{"$f":"IF(EL52>0,RANK(EP52,EP49:EP52)+CE47+CY47+DS47,)","v":0},{"$f":"IF(AND(EL52>0,COUNTIF(ER49:ER52,ER52)>1),SUMIFS($AG$4:$AG$54,$AD$4:$AD$54,BR52,$K$4:$K$54,4)+SUMIFS($AI$4:$AI$54,$AF$4:$AF$54,BR52,$K$4:$K$54,4)-SUMIFS($AI$4:$AI$54,$AD$4:$AD$54,BR52,$K$4:$K$54,4)-SUMIFS($AG$4:$AG$54,$AF$4:$AF$54,BR52,$K$4:$K$54,4),)","v":0},0,{"$f":"IF(AND(EL52>0,COUNTIF(ET49:ET52,ET52)>1),SUMIFS($AG$4:$AG$54,$AD$4:$AD$54,BR52,$K$4:$K$54,4)+SUMIFS($AI$4:$AI$54,$AF$4:$AF$54,BR52,$K$4:$K$54,4),)","v":0},{"$f":"IF(AND(EL52>0,COUNTIF(ET49:ET52,ET52)>1),ET52+RANK(EU52,EU49:EU52)-1,ET52)","v":0},"",{"$f":"IF(OR(EW52=\"\",COUNTIF(EW49:EW52,EW52)=1),\"\",$BX52)","v":""},{"$f":"IF(EW52=\"\",\"\",IF(COUNTIF(EW49:EW52,EW52)=1,EW52,EW52+RANK(EX52,EX49:EX52,0)-1))","v":""},{"$f":"IF(OR(EY52=\"\",COUNTIF(EY49:EY52,EY52)=1),\"\",$BV52)","v":""},{"$f":"IF(EW52=\"\",\"\",IF(COUNTIF(EY49:EY52,EY52)=1,EY52,EY52+RANK(EZ52,EZ49:EZ52,0)-1))","v":""},{"$f":"IF(OR(FA52=\"\",COUNTIF(FA49:FA52,FA52)=1),\"\",$BS52)","v":""},{"$f":"IF(EW52=\"\",\"\",IF(COUNTIF(FA50:FA53,FA52)=1,FA52,FA52+RANK(FB52,FB50:FB53,0)-1))","v":""},{"$f":"IF(EL52>0,CE47+CY47+DS47+RANK(FC52,FC49:FC52,1),)","v":0},null,{"$f":"IFERROR(VLOOKUP(FH52,CD48:CV52,19,FALSE),IFERROR(VLOOKUP(FH52,CX48:DP52,19,FALSE),IFERROR(VLOOKUP(FH52,DR48:EJ52,19,FALSE),VLOOKUP(FH52,EL48:FD52,19,FALSE))))","v":1},{"$f":"RANK(FF52,FF49:FF52,1)+COUNTIF(FF49:FF52,FF52)-1","v":4},{"$f":"BR52","v":"Turkiet"},null,null,null,null,null,null,null,null,null,null,null,null,null,null,null,null,null,null,null,null,null,null,null,null,null,49]
[null,null,"2024-06-26","Georgien","-","Portugal",null,"-",null,"",{"$f":"IF(VLOOKUP(D53,BR48:CA52,10,FALSE)=VLOOKUP(F53,BR48:CA52,10,FALSE),VLOOKUP(D53,BR48:CA52,10,FALSE),\"-\")","v":1},null,{"$f":"IF(COUNTBLANK(G49:G54)+COUNTBLANK(I49:I54)=0,\"Resultat OK\",\"Fyll i resultat\")","v":"Fyll i resultat"},null,null,null,null,null,null,null,null,null,null,null,null,null,null,null,"2024-06-26","Georgien","-","Portugal","","-","","",null,0,0,0,0,0,0,0,0,0,0,0,0,0,0,0,0,0,0,0,0,0,0,0,0,0,0,0,0,0,0,null,null,null,null,null,null,null,null,null,null,null,null,null,null,null,null,null,null,null,null,null,null,null,null,null,null,null,null,null,null,null,null,null,null,null,null,null,null,null,null,null,null,null,null,null,null,null,null,null,null,null,null,null,null,null,null,null,null,null,null,null,null,null,null,null,null,null,null,null,null,null,null,null,null,null,null,null,null,null,null,null,null,null,null,null,null,null,null,null,null,null,null,null,null,null,null,null,null,null,null,null,null,null,null,null,null,null,null,null,null,null,null,null,null,null,null,null,null,null,null,null,null,50]
[null,null,"2024-06-26","Tjeckien","-","Turkiet",null,"-",null,"",{"$f":"IF(VLOOKUP(D54,BR48:CA52,10,FALSE)=VLOOKUP(F54,BR48:CA52,10,FALSE),VLOOKUP(D54,BR48:CA52,10,FALSE),\"-\")","v":1},null,null,null,null,null,null,null,null,null,null,null,null,null,null,null,null,null,"2024-06-26","Tjeckien","-","Turkiet","","-","","",null,0,0,0,0,0,0,0,0,0,0,0,0,0,0,0,0,0,0,0,0,0,0,0,0,0,0,0,0,0,0,null,null,null,null,null,null,null,null,null,null,null,null,null,null,null,null,null,null,null,null,null,null,null,null,null,null,null,null,null,null,null,null,null,null,null,null,null,null,null,null,null,null,null,null,null,null,null,null,null,null,null,null,null,null,null,null,null,null,null,null,null,null,null,null,null,null,null,null,null,null,null,null,null,null,null,null,null,null,null,null,null,null,null,null,null,null,null,null,null,null,null,null,null,null,null,null,null,null,null,null,null,null,null,null,null,null,null,null,null,null,null,null,null,null,null,null,null,null,null,null,null,null,51]
[null,null,null,null,null,null,null,null,null,null,null,null,null,null,null,null,null,null,null,null,null,null,null,null,null,null,null,null,null,null,null,null,null,null,null,null,null,null,null,null,null,null,null,null,null,null,null,null,null,null,null,null,null,null,null,null,null,null,null,null,null,null,null,null,null,null,null,null,null,null,null,null,null,null,null,null,null,null,null,null,null,null,null,null,null,null,null,null,null,null,null,null,null,null,null,null,null,null,null,null,null,null,null,null,null,null,null,null,null,null,null,null,null,null,null,null,null,null,null,null,null,null,null,null,null,null,null,null,null,null,null,null,null,null,null,null,null,null,null,null,null,null,null,null,null,null,null,null,null,null,null,null,null,null,null,null,null,null,null,null,null,null,null,null,null,null,null,null,null,null,null,null,null,null,null,null,null,null,null,null,null,null,null,null,null,null,null,null,null,52]
[null,null,"Åttondelsfinaler",null,null,null,null,null,null,null,null,null,null,null,null,null,null,null,null,null,null,null,null,null,null,null,null,null,"Åttondelsfinaler",null,null,null,null,null,null,null,null,null,null,null,null,null,null,null,null,null,null,null,null,null,null,null,null,null,null,null,null,null,null,null,null,null,null,null,null,null,null,null,null,null,null,null,null,null,null,null,null,null,null,null,null,null,null,null,null,null,null,null,null,null,null,null,null,null,null,null,null,null,null,null,null,null,null,null,null,null,null,null,null,null,null,null,null,null,null,null,null,null,null,null,null,null,null,null,null,null,null,null,null,null,null,null,null,null,null,null,null,null,null,null,null,null,null,null,null,null,null,null,null,null,null,null,null,null,null,null,null,null,null,null,null,null,null,null,null,null,null,null,null,null,null,null,null,null,null,null,null,null,null,null,null,null,null,null,null,null,null,null,null,53]
["#","#","Datum","Match",null,null,"Resultat",null,null,"Tecken",null,null,"Vinnare åttondelsfinaler",null,"Notera!",null,null,null,null,null,null,null,null,null,null,null,null,null,"Datum","Match",null,null,"Resultat",null,null,"Tecken","Poäng",null,null,null,null,null,null,"Åttondelsfinaler",null,null,null,null,"List",null,null,null,null,null,null,null,null,null,null,null,null,null,null,null,null,null,null,null,null,null,null,null,null,null,null,null,null,null,null,null,null,null,null,null,null,null,null,null,null,null,null,null,null,null,null,null,null,null,null,null,null,null,null,null,null,null,null,null,null,null,null,null,null,null,null,null,null,null,null,null,null,null,null,null,null,null,null,null,null,null,null,null,null,null,null,null,null,null,null,null,null,null,null,null,null,null,null,null,null,null,null,null,null,null,null,null,null,null,null,null,null,null,null,null,null,null,null,null,null,null,null,null,null,null,null,null,null,null,null,null,null,null,null,null,null,null,null,null,null,54]
[38,8,"2024-06-29",{"$f":"IF($M$8=\"Resultat OK\",$M$5,\"Tvåa grupp A\")","v":"Tvåa grupp A"},"-",{"$f":"IF($M$17=\"Resultat OK\",$M$14,\"Tvåa grupp B\")","v":"Tvåa grupp B"},null,"-",null,{"$f":"IF(OR(ISBLANK(G58),ISBLANK(I58)),\"\",IF(G58>I58,1,IF(G58<I58,2,\"X\")))","v":""},null,null,null,null,"Tipset kan ej ta hänsyn till antal gula/röda kort i turneringen, vilket kan påverka vilka lag som går vidare till åttondelsfinal. Skulle detta ske kan du som rättar manuellt skriva i rätt lag på rätt plats i åttondelsfinalerna (cell D58-D65 & F58-F65)\n\nFör att återställa, klicka på gröna knappen till höger",null,null,null,null,null,null,null,null,null,null,null,null,null,{"$f":"C58","v":"2024-06-29"},"Tvåa grupp A","-","Tvåa grupp B",{"$f":"IF(G58=\"\",\"\",G58)","v":""},"-",{"$f":"IF(I58=\"\",\"\",I58)","v":""},{"$f":"J58","v":""},null,null,null,null,null,null,null,"Mitt tips","Resultat & tabell","Utfall","Poäng",null,{"$f":"D58","v":"Tvåa grupp A"},{"$f":"F58","v":"Tvåa grupp B"},null,null,null,null,null,null,null,null,null,null,null,null,null,null,null,null,null,null,null,null,null,null,null,null,null,null,null,null,null,null,null,null,null,null,null,null,null,null,null,null,null,null,null,null,null,null,null,null,null,null,null,null,null,null,null,null,null,null,null,null,null,null,null,null,null,null,null,null,null,null,null,null,null,null,null,null,null,null,null,null,null,null,null,null,null,null,null,null,null,null,null,null,null,null,null,null,null,null,null,null,null,null,null,null,null,null,null,null,null,null,null,null,null,null,null,null,null,null,null,null,null,null,null,null,null,null,null,null,null,null,null,null,null,null,null,null,null,null,null,55]
[37,2,"2024-06-29",{"$f":"IF($M$8=\"Resultat OK\",$M$4,\"Vinnare grupp A\")","v":"Vinnare grupp A"},"-",{"$f":"IF($M$26=\"Resultat OK\",$M$23,\"Tvåa grupp C\")","v":"Tvåa grupp C"},null,"-",null,{"$f":"IF(OR(ISBLANK(G59),ISBLANK(I59)),\"\",IF(G59>I59,1,IF(G59<I59,2,\"X\")))","v":""},null,null,null,null,null,null,null,null,null,null,null,null,null,null,null,null,null,null,"2024-06-29","Vinnare grupp A","-","Tvåa grupp C","","-","","",null,null,null,null,null,null,null,{"$f":"D58","v":"Tvåa grupp A"},{"$f":"IF(OR('Resultat & Tabell'!G58=\"\",'Resultat & Tabell'!I58=\"\"),\"\",'Resultat & Tabell'!D58)","v":""},{"$f":"IF(ISERROR(VLOOKUP(AR59,$AS$59:$AS$74,1,FALSE)),0,1)","v":0},{"$f":"2*AT59","v":0},null,"Vinnare grupp A","Tvåa grupp C",null,null,null,null,null,null,null,null,null,null,null,null,null,null,null,"#","Datum","Match",null,null,"Resultat",null,null,"Tecken",null,null,null,null,null,null,null,null,null,null,null,null,null,null,null,null,null,null,null,null,null,null,null,null,null,null,null,null,null,null,null,null,null,null,null,null,null,null,null,null,null,null,null,null,null,null,null,null,null,null,null,null,null,null,null,null,null,null,null,null,null,null,null,null,null,null,null,null,null,null,null,null,null,null,null,null,null,null,null,null,null,null,null,null,null,null,null,null,null,null,null,null,null,null,null,null,null,null,null,null,null,null,null,null,null,null,null,null,null,null,null,null,null,null,null,56]
[40,7,"2024-06-30",{"$f":"IF($M$26=\"Resultat OK\",$M$22,\"Vinnare grupp C\")","v":"Vinnare grupp C"},"-",{"$f":"IF($FK$12=\"Resultat OK\",HLOOKUP(\"C\",$GD$2:$GD$17,$FX$2),\"Trea D/E/F\")","v":"Trea D/E/F"},null,"-",null,"",null,null,null,null,null,null,null,null,null,null,null,null,null,null,null,null,null,null,"2024-06-30","Vinnare grupp C","-","Trea D/E/F","","-","","",null,null,null,null,null,null,null,"Vinnare grupp A",{"$f":"IF(OR('Resultat & Tabell'!G59=\"\",'Resultat & Tabell'!I59=\"\"),\"\",'Resultat & Tabell'!D59)","v":""},{"$f":"IF(ISERROR(VLOOKUP(AR60,$AS$59:$AS$74,1,FALSE)),0,1)","v":0},0,null,"Vinnare grupp C","Trea D/E/F",null,null,null,null,null,null,null,null,null,null,null,null,null,null,null,1,"2024-06-29",{"$f":"IF($M$8=\"Resultat OK\",$M$5,\"Tvåa grupp A\")","v":"Tvåa grupp A"},"-",{"$f":"IF($M$17=\"Resultat OK\",$M$14,\"Tvåa grupp B\")","v":"Tvåa grupp B"},null,"-",null,null,null,null,null,null,null,null,null,null,null,null,null,null,null,null,null,null,null,null,null,null,null,null,null,null,null,null,null,null,null,null,null,null,null,null,null,null,null,null,null,null,null,null,null,null,null,null,null,null,null,null,null,null,null,null,null,null,null,null,null,null,null,null,null,null,null,null,null,null,null,null,null,null,null,null,null,null,null,null,null,null,null,null,null,null,null,null,null,null,null,null,null,null,null,null,null,null,null,null,null,null,null,null,null,null,null,null,null,null,null,null,null,null,null,null,null,57]
[39,1,"2024-06-30",{"$f":"IF($M$17=\"Resultat OK\",$M$13,\"Vinnare grupp B\")","v":"Vinnare grupp B"},"-",{"$f":"IF($FK$12=\"Resultat OK\",HLOOKUP(\"B\",$GC$2:$GC$17,$FX$2),\"Trea A/D/E/F\")","v":"Trea A/D/E/F"},null,"-",null,"",null,null,null,null,null,null,null,null,null,null,null,null,null,null,null,null,null,null,"2024-06-30","Vinnare grupp B","-","Trea A/D/E/F","","-","","",null,null,null,null,null,null,null,"Vinnare grupp C",{"$f":"IF(OR('Resultat & Tabell'!G60=\"\",'Resultat & Tabell'!I60=\"\"),\"\",'Resultat & Tabell'!D60)","v":""},0,0,null,"Vinnare grupp B","Trea A/D/E/F",null,null,null,null,null,null,null,null,null,null,null,null,null,null,null,2,"2024-06-29",{"$f":"IF($M$8=\"Resultat OK\",$M$4,\"Vinnare grupp A\")","v":"Vinnare grupp A"},"-",{"$f":"IF($M$26=\"Resultat OK\",$M$23,\"Tvåa grupp C\")","v":"Tvåa grupp C"},null,"-",null,null,null,null,null,null,null,null,null,null,null,null,null,null,null,null,null,null,null,null,null,null,null,null,null,null,null,null,null,null,null,null,null,null,null,null,null,null,null,null,null,null,null,null,null,null,null,null,null,null,null,null,null,null,null,null,null,null,null,null,null,null,null,null,null,null,null,null,null,null,null,null,null,null,null,null,null,null,null,null,null,null,null,null,null,null,null,null,null,null,null,null,null,null,null,null,null,null,null,null,null,null,null,null,null,null,null,null,null,null,null,null,null,null,null,null,null,58]
[42,4,"2024-07-01",{"$f":"IF($M$35=\"Resultat OK\",$M$32,\"Tvåa grupp D\")","v":"Tvåa grupp D"},"-",{"$f":"IF($M$44=\"Resultat OK\",$M$41,\"Tvåa grupp E\")","v":"Tvåa grupp E"},null,"-",null,"",null,null,null,null,null,null,null,null,null,null,null,null,null,null,null,null,null,null,"2024-07-01","Tvåa grupp D","-","Tvåa grupp E","","-","","",null,null,null,null,null,null,null,"Vinnare grupp B",{"$f":"IF(OR('Resultat & Tabell'!G61=\"\",'Resultat & Tabell'!I61=\"\"),\"\",'Resultat & Tabell'!D61)","v":""},0,0,null,"Tvåa grupp D","Tvåa grupp E",null,null,null,null,null,null,null,null,null,null,null,null,null,null,null,3,"2024-06-30",{"$f":"IF($M$26=\"Resultat OK\",$M$22,\"Vinnare grupp C\")","v":"Vinnare grupp C"},"-",{"$f":"IF($FK$12=\"Resultat OK\",HLOOKUP(\"C\",$GD$2:$GD$17,$FX$2),\"Trea D/E/F\")","v":"Trea D/E/F"},null,"-",null,{"$f":"IF(OR(ISBLANK(BS62),ISBLANK(BU62)),\"\",IF(BS62>BU62,1,IF(BS62<BU62,2,\"X\")))","v":""},null,null,null,null,null,null,null,null,null,null,null,null,null,null,null,null,null,null,null,null,null,null,null,null,null,null,null,null,null,null,null,null,null,null,null,null,null,null,null,null,null,null,null,null,null,null,null,null,null,null,null,null,null,null,null,null,null,null,null,null,null,null,null,null,null,null,null,null,null,null,null,null,null,null,null,null,null,null,null,null,null,null,null,null,null,null,null,null,null,null,null,null,null,null,null,null,null,null,null,null,null,null,null,null,null,null,null,null,null,null,null,null,null,null,null,59]
[41,3,"2024-07-01",{"$f":"IF($M$53=\"Resultat OK\",$M$49,\"Vinnare grupp F\")","v":"Vinnare grupp F"},"-",{"$f":"IF($FK$12=\"Resultat OK\",HLOOKUP(\"F\",$GF$2:$GF$17,$FX$2),\"Trea A/B/C\")","v":"Trea A/B/C"},null,"-",null,"",null,null,null,null,null,null,null,null,null,null,null,null,null,null,null,null,null,null,"2024-07-01","Vinnare grupp F","-","Trea A/B/C","","-","","",null,null,null,null,null,null,null,"Tvåa grupp D",{"$f":"IF(OR('Resultat & Tabell'!G62=\"\",'Resultat & Tabell'!I62=\"\"),\"\",'Resultat & Tabell'!D62)","v":""},0,0,null,"Vinnare grupp F","Trea A/B/C",null,null,null,null,null,null,null,null,null,null,null,null,null,null,null,4,"2024-06-30",{"$f":"IF($M$17=\"Resultat OK\",$M$13,\"Vinnare grupp B\")","v":"Vinnare grupp B"},"-",{"$f":"IF($FK$12=\"Resultat OK\",HLOOKUP(\"B\",$GC$2:$GC$17,$FX$2),\"Trea A/D/E/F\")","v":"Trea A/D/E/F"},null,"-",null,"",null,null,null,null,null,null,null,null,null,null,null,null,null,null,null,null,null,null,null,null,null,null,null,null,null,null,null,null,null,null,null,null,null,null,null,null,null,null,null,null,null,null,null,null,null,null,null,null,null,null,null,null,null,null,null,null,null,null,null,null,null,null,null,null,null,null,null,null,null,null,null,null,null,null,null,null,null,null,null,null,null,null,null,null,null,null,null,null,null,null,null,null,null,null,null,null,null,null,null,null,null,null,null,null,null,null,null,null,null,null,null,null,null,null,null,60]
[43,5,"2024-07-02",{"$f":"IF($M$44=\"Resultat OK\",$M$40,\"Vinnare grupp E\")","v":"Vinnare grupp E"},"-",{"$f":"IF($FK$12=\"Resultat OK\",HLOOKUP(\"E\",$GE$2:$GE$17,$FX$2),\"Trea A/B/C/D\")","v":"Trea A/B/C/D"},null,"-",null,{"$f":"IF(OR(ISBLANK(G64),ISBLANK(I64)),\"\",IF(G64>I64,1,IF(G64<I64,2,\"X\")))","v":""},null,null,null,null,null,null,null,null,null,null,null,null,null,null,null,null,null,null,"2024-07-02","Vinnare grupp E","-","Trea A/B/C/D","","-","","",null,null,null,null,null,null,null,"Vinnare grupp F",{"$f":"IF(OR('Resultat & Tabell'!G63=\"\",'Resultat & Tabell'!I63=\"\"),\"\",'Resultat & Tabell'!D63)","v":""},0,0,null,"Vinnare grupp E","Trea A/B/C/D",null,null,null,null,null,null,null,null,null,null,null,null,null,null,null,5,"2024-07-01",{"$f":"IF($M$35=\"Resultat OK\",$M$32,\"Tvåa grupp D\")","v":"Tvåa grupp D"},"-",{"$f":"IF($M$44=\"Resultat OK\",$M$41,\"Tvåa grupp E\")","v":"Tvåa grupp E"},null,"-",null,"",null,null,null,null,null,null,null,null,null,null,null,null,null,null,null,null,null,null,null,null,null,null,null,null,null,null,null,null,null,null,null,null,null,null,null,null,null,null,null,null,null,null,null,null,null,null,null,null,null,null,null,null,null,null,null,null,null,null,null,null,null,null,null,null,null,null,null,null,null,null,null,null,null,null,null,null,null,null,null,null,null,null,null,null,null,null,null,null,null,null,null,null,null,null,null,null,null,null,null,null,null,null,null,null,null,null,null,null,null,null,null,null,null,null,null,61]
[44,6,"2024-07-02",{"$f":"IF($M$35=\"Resultat OK\",$M$31,\"Vinnare grupp D\")","v":"Vinnare grupp D"},"-",{"$f":"IF($M$53=\"Resultat OK\",$M$50,\"Tvåa grupp F\")","v":"Tvåa grupp F"},null,"-",null,"",null,null,null,null,null,null,null,null,null,null,null,null,null,null,null,null,null,null,"2024-07-02","Vinnare grupp D","-","Tvåa grupp F","","-","","",null,null,null,null,null,null,null,"Vinnare grupp E",{"$f":"IF(OR('Resultat & Tabell'!G64=\"\",'Resultat & Tabell'!I64=\"\"),\"\",'Resultat & Tabell'!D64)","v":""},0,0,null,"Vinnare grupp D","Tvåa grupp F",null,null,null,null,null,null,null,null,null,null,null,null,null,null,null,6,"2024-07-01",{"$f":"IF($M$53=\"Resultat OK\",$M$49,\"Vinnare grupp F\")","v":"Vinnare grupp F"},"-",{"$f":"IF($FK$12=\"Resultat OK\",HLOOKUP(\"F\",$GF$2:$GF$17,$FX$2),\"Trea A/B/C\")","v":"Trea A/B/C"},null,"-",null,"",null,null,null,null,null,null,null,null,null,null,null,null,null,null,null,null,null,null,null,null,null,null,null,null,null,null,null,null,null,null,null,null,null,null,null,null,null,null,null,null,null,null,null,null,null,null,null,null,null,null,null,null,null,null,null,null,null,null,null,null,null,null,null,null,null,null,null,null,null,null,null,null,null,null,null,null,null,null,null,null,null,null,null,null,null,null,null,null,null,null,null,null,null,null,null,null,null,null,null,null,null,null,null,null,null,null,null,null,null,null,null,null,null,null,null,62]
[null,null,null,null,null,null,null,null,null,null,null,null,null,null,null,null,null,null,null,null,null,null,null,null,null,null,null,null,null,null,null,null,null,null,null,null,null,null,null,null,null,null,null,"Vinnare grupp D",{"$f":"IF(OR('Resultat & Tabell'!G65=\"\",'Resultat & Tabell'!I65=\"\"),\"\",'Resultat & Tabell'!D65)","v":""},0,0,null,null,null,null,null,null,null,null,null,null,null,null,null,null,null,null,null,null,7,"2024-07-02",{"$f":"IF($M$44=\"Resultat OK\",$M$40,\"Vinnare grupp E\")","v":"Vinnare grupp E"},"-",{"$f":"IF($FK$12=\"Resultat OK\",HLOOKUP(\"E\",$GE$2:$GE$17,$FX$2),\"Trea A/B/C/D\")","v":"Trea A/B/C/D"},null,"-",null,{"$f":"IF(OR(ISBLANK(BS66),ISBLANK(BU66)),\"\",IF(BS66>BU66,1,IF(BS66<BU66,2,\"X\")))","v":""},null,null,null,null,null,null,null,null,null,null,null,null,null,null,null,null,null,null,null,null,null,null,null,null,null,null,null,null,null,null,null,null,null,null,null,null,null,null,null,null,null,null,null,null,null,null,null,null,null,null,null,null,null,null,null,null,null,null,null,null,null,null,null,null,null,null,null,null,null,null,null,null,null,null,null,null,null,null,null,null,null,null,null,null,null,null,null,null,null,null,null,null,null,null,null,null,null,null,null,null,null,null,null,null,null,null,null,null,null,null,null,null,null,null,null,63]
[null,null,"Kvartsfinaler",null,null,null,null,null,null,null,null,null,null,null,null,null,null,null,null,null,null,null,null,null,null,null,null,null,"Kvartsfinaler",null,null,null,null,null,null,null,null,null,null,null,null,null,null,{"$f":"F58","v":"Tvåa grupp B"},{"$f":"IF(OR('Resultat & Tabell'!G58=\"\",'Resultat & Tabell'!I58=\"\"),\"\",'Resultat & Tabell'!F58)","v":""},0,0,null,null,null,null,null,null,null,null,null,null,null,null,null,null,null,null,null,null,8,"2024-07-02",{"$f":"IF($M$35=\"Resultat OK\",$M$31,\"Vinnare grupp D\")","v":"Vinnare grupp D"},"-",{"$f":"IF($M$53=\"Resultat OK\",$M$50,\"Tvåa grupp F\")","v":"Tvåa grupp F"},null,"-",null,{"$f":"IF(OR(ISBLANK(BS67),ISBLANK(BU67)),\"\",IF(BS67>BU67,1,IF(BS67<BU67,2,\"X\")))","v":""},null,null,null,null,null,null,null,null,null,null,null,null,null,null,null,null,null,null,null,null,null,null,null,null,null,null,null,null,null,null,null,null,null,null,null,null,null,null,null,null,null,null,null,null,null,null,null,null,null,null,null,null,null,null,null,null,null,null,null,null,null,null,null,null,null,null,null,null,null,null,null,null,null,null,null,null,null,null,null,null,null,null,null,null,null,null,null,null,null,null,null,null,null,null,null,null,null,null,null,null,null,null,null,null,null,null,null,null,null,null,null,null,null,null,null,64]
["#","#","Datum","Match",null,null,"Resultat",null,null,"Tecken",null,null,"Vinnare kvartsfinaler",null,null,null,null,null,null,null,null,null,null,null,null,null,null,null,"Datum","Match",null,null,"Resultat",null,null,"Tecken","Poäng",null,null,null,null,null,null,"Tvåa grupp C",{"$f":"IF(OR('Resultat & Tabell'!G59=\"\",'Resultat & Tabell'!I59=\"\"),\"\",'Resultat & Tabell'!F59)","v":""},0,0,null,null,null,null,null,null,null,null,null,null,null,null,null,null,null,null,null,null,null,null,null,null,null,null,null,null,null,null,null,null,null,null,null,null,null,null,null,null,null,null,null,null,null,null,null,null,null,null,null,null,null,null,null,null,null,null,null,null,null,null,null,null,null,null,null,null,null,null,null,null,null,null,null,null,null,null,null,null,null,null,null,null,null,null,null,null,null,null,null,null,null,null,null,null,null,null,null,null,null,null,null,null,null,null,null,null,null,null,null,null,null,null,null,null,null,null,null,null,null,null,null,null,null,null,null,null,null,null,null,null,null,null,null,null,null,null,null,null,null,null,null,null,65]
[45,1,"2021-07-05",{"$f":"IF(OR(M61=\"\",M61=\"Fyll i vinnare oavgjort\"),\"Vinnare match 39\",M61)","v":"Vinnare match 39"},"-",{"$f":"IF(OR(M59=\"\",M59=\"Fyll i vinnare oavgjort\"),\"Vinnare match 37\",M59)","v":"Vinnare match 37"},null,"-",null,{"$f":"IF(OR(ISBLANK(G69),ISBLANK(I69)),\"\",IF(G69>I69,1,IF(G69<I69,2,\"X\")))","v":""},null,null,null,null,null,null,null,null,null,null,null,null,null,null,null,null,null,null,{"$f":"C69","v":"2021-07-05"},"Vinnare match 39","-","Vinnare match 37",{"$f":"IF(G69=\"\",\"\",G69)","v":""},"-",{"$f":"IF(I69=\"\",\"\",I69)","v":""},{"$f":"J69","v":""},null,null,null,null,null,null,null,"Trea D/E/F",{"$f":"IF(OR('Resultat & Tabell'!G60=\"\",'Resultat & Tabell'!I60=\"\"),\"\",'Resultat & Tabell'!F60)","v":""},0,0,null,{"$f":"D69","v":"Vinnare match 39"},{"$f":"F69","v":"Vinnare match 37"},null,null,null,null,null,null,null,null,null,null,null,null,null,null,null,null,null,null,null,null,null,null,null,null,null,null,null,null,null,null,null,null,null,null,null,null,null,null,null,null,null,null,null,null,null,null,null,null,null,null,null,null,null,null,null,null,null,null,null,null,null,null,null,null,null,null,null,null,null,null,null,null,null,null,null,null,null,null,null,null,null,null,null,null,null,null,null,null,null,null,null,null,null,null,null,null,null,null,null,null,null,null,null,null,null,null,null,null,null,null,null,null,null,null,null,null,null,null,null,null,null,null,null,null,null,null,null,null,null,null,null,null,null,null,null,null,null,null,null,66]
[46,2,"2021-07-05",{"$f":"IF(OR(M63=\"\",M63=\"Fyll i vinnare oavgjort\"),\"Vinnare match 41\",M63)","v":"Vinnare match 41"},"-",{"$f":"IF(OR(M62=\"\",M62=\"Fyll i vinnare oavgjort\"),\"Vinnare match 42\",M62)","v":"Vinnare match 42"},null,"-",null,"",null,null,null,null,null,null,null,null,null,null,null,null,null,null,null,null,null,null,"2021-07-05","Vinnare match 41","-","Vinnare match 42",{"$f":"IF(G70=\"\",\"\",G70)","v":""},"-",{"$f":"IF(I70=\"\",\"\",I70)","v":""},{"$f":"J70","v":""},null,null,null,null,null,null,null,"Trea A/D/E/F",{"$f":"IF(OR('Resultat & Tabell'!G61=\"\",'Resultat & Tabell'!I61=\"\"),\"\",'Resultat & Tabell'!F61)","v":""},0,0,null,{"$f":"D70","v":"Vinnare match 41"},{"$f":"F70","v":"Vinnare match 42"},null,null,null,null,null,null,null,null,null,null,null,null,null,null,null,null,null,null,null,null,null,null,null,null,null,null,null,null,null,null,null,null,null,null,null,null,null,null,null,null,null,null,null,null,null,null,null,null,null,null,null,null,null,null,null,null,null,null,null,null,null,null,null,null,null,null,null,null,null,null,null,null,null,null,null,null,null,null,null,null,null,null,null,null,null,null,null,null,null,null,null,null,null,null,null,null,null,null,null,null,null,null,null,null,null,null,null,null,null,null,null,null,null,null,null,null,null,null,null,null,null,null,null,null,null,null,null,null,null,null,null,null,null,null,null,null,null,null,null,67]
[48,4,"2021-07-06",{"$f":"IF(OR(M60=\"\",M60=\"Fyll i vinnare oavgjort\"),\"Vinnare match 40\",M60)","v":"Vinnare match 40"},"-",{"$f":"IF(OR(M58=\"\",M58=\"Fyll i vinnare oavgjort\"),\"Vinnare match 38\",M58)","v":"Vinnare match 38"},null,"-",null,"",null,null,null,null,null,null,null,null,null,null,null,null,null,null,null,null,null,null,"2021-07-06","Vinnare match 40","-","Vinnare match 38",{"$f":"IF(G71=\"\",\"\",G71)","v":""},"-",{"$f":"IF(I71=\"\",\"\",I71)","v":""},{"$f":"J71","v":""},null,null,null,null,null,null,null,"Tvåa grupp E",{"$f":"IF(OR('Resultat & Tabell'!G62=\"\",'Resultat & Tabell'!I62=\"\"),\"\",'Resultat & Tabell'!F62)","v":""},0,0,null,{"$f":"D71","v":"Vinnare match 40"},{"$f":"F71","v":"Vinnare match 38"},null,null,null,null,null,null,null,null,null,null,null,null,null,null,null,null,null,null,null,null,null,null,null,null,null,null,null,null,null,null,null,null,null,null,null,null,null,null,null,null,null,null,null,null,null,null,null,null,null,null,null,null,null,null,null,null,null,null,null,null,null,null,null,null,null,null,null,null,null,null,null,null,null,null,null,null,null,null,null,null,null,null,null,null,null,null,null,null,null,null,null,null,null,null,null,null,null,null,null,null,null,null,null,null,null,null,null,null,null,null,null,null,null,null,null,null,null,null,null,null,null,null,null,null,null,null,null,null,null,null,null,null,null,null,null,null,null,null,null,68]
[47,3,"2021-07-06",{"$f":"IF(OR(M64=\"\",M64=\"Fyll i vinnare oavgjort\"),\"Vinnare match 43\",M64)","v":"Vinnare match 43"},"-",{"$f":"IF(OR(M65=\"\",M65=\"Fyll i vinnare oavgjort\"),\"Vinnare match 44\",M65)","v":"Vinnare match 44"},null,"-",null,"",null,null,null,null,null,null,null,null,null,null,null,null,null,null,null,null,null,null,"2021-07-06","Vinnare match 43","-","Vinnare match 44",{"$f":"IF(G72=\"\",\"\",G72)","v":""},"-",{"$f":"IF(I72=\"\",\"\",I72)","v":""},{"$f":"J72","v":""},null,null,null,null,null,null,null,"Trea A/B/C",{"$f":"IF(OR('Resultat & Tabell'!G63=\"\",'Resultat & Tabell'!I63=\"\"),\"\",'Resultat & Tabell'!F63)","v":""},0,0,null,{"$f":"D72","v":"Vinnare match 43"},{"$f":"F72","v":"Vinnare match 44"},null,null,null,null,null,null,null,null,null,null,null,null,null,null,null,null,null,null,null,null,null,null,null,null,null,null,null,null,null,null,null,null,null,null,null,null,null,null,null,null,null,null,null,null,null,null,null,null,null,null,null,null,null,null,null,null,null,null,null,null,null,null,null,null,null,null,null,null,null,null,null,null,null,null,null,null,null,null,null,null,null,null,null,null,null,null,null,null,null,null,null,null,null,null,null,null,null,null,null,null,null,null,null,null,null,null,null,null,null,null,null,null,null,null,null,null,null,null,null,null,null,null,null,null,null,null,null,null,null,null,null,null,null,null,null,null,null,null,null,69]
[null,null,null,null,null,null,null,null,null,null,null,null,null,null,null,null,null,null,null,null,null,null,null,null,null,null,null,null,null,null,null,null,null,null,null,null,null,null,null,null,null,null,null,"Trea A/B/C/D",{"$f":"IF(OR('Resultat & Tabell'!G64=\"\",'Resultat & Tabell'!I64=\"\"),\"\",'Resultat & Tabell'!F64)","v":""},0,0,null,null,null,null,null,null,null,null,null,null,null,null,null,null,null,null,null,null,null,null,null,null,null,null,null,null,null,null,null,null,null,null,null,null,null,null,null,null,null,null,null,null,null,null,null,null,null,null,null,null,null,null,null,null,null,null,null,null,null,null,null,null,null,null,null,null,null,null,null,null,null,null,null,null,null,null,null,null,null,null,null,null,null,null,null,null,null,null,null,null,null,null,null,null,null,null,null,null,null,null,null,null,null,null,null,null,null,null,null,null,null,null,null,null,null,null,null,null,null,null,null,null,null,null,null,null,null,null,null,null,null,null,null,null,null,null,null,null,null,null,null,null,70]
[null,null,"Semifinaler",null,null,null,null,null,null,null,null,null,null,null,null,null,null,null,null,null,null,null,null,null,null,null,null,null,"Semifinaler",null,null,null,null,null,null,null,null,null,null,null,null,null,null,"Tvåa grupp F",{"$f":"IF(OR('Resultat & Tabell'!G65=\"\",'Resultat & Tabell'!I65=\"\"),\"\",'Resultat & Tabell'!F65)","v":""},0,0,null,null,null,null,null,null,null,null,null,null,null,null,null,null,null,null,null,null,null,null,null,null,null,null,null,null,null,null,null,null,null,null,null,null,null,null,null,null,null,null,null,null,null,null,null,null,null,null,null,null,null,null,null,null,null,null,null,null,null,null,null,null,null,null,null,null,null,null,null,null,null,null,null,null,null,null,null,null,null,null,null,null,null,null,null,null,null,null,null,null,null,null,null,null,null,null,null,null,null,null,null,null,null,null,null,null,null,null,null,null,null,null,null,null,null,null,null,null,null,null,null,null,null,null,null,null,null,null,null,null,null,null,null,null,null,null,null,null,null,null,null,null,71]
["#","#","Datum","Match",null,null,"Resultat",null,null,"Tecken",null,null,"Vinnare semifinaler",null,null,null,null,null,null,null,null,null,null,null,null,null,null,null,"Datum","Match",null,null,"Resultat",null,null,"Tecken","Poäng",null,null,null,null,null,null,null,null,"SUMMA",{"$f":"SUM(AU59:AU74)","v":0},null,null,null,null,null,null,null,null,null,null,null,null,null,null,null,null,null,null,null,null,null,null,null,null,null,null,null,null,null,null,null,null,null,null,null,null,null,null,null,null,null,null,null,null,null,null,null,null,null,null,null,null,null,null,null,null,null,null,null,null,null,null,null,null,null,null,null,null,null,null,null,null,null,null,null,null,null,null,null,null,null,null,null,null,null,null,null,null,null,null,null,null,null,null,null,null,null,null,null,null,null,null,null,null,null,null,null,null,null,null,null,null,null,null,null,null,null,null,null,null,null,null,null,null,null,null,null,null,null,null,null,null,null,null,null,null,null,null,null,null,null,null,72]
[49,1,"2021-07-09",{"$f":"IF(OR(M69=\"\",M69=\"Fyll i vinnare oavgjort\"),\"Vinnare match 45\",M69)","v":"Vinnare match 45"},"-",{"$f":"IF(OR(M70=\"\",M70=\"Fyll i vinnare oavgjort\"),\"Vinnare match 46\",M70)","v":"Vinnare match 46"},null,"-",null,{"$f":"IF(OR(ISBLANK(G76),ISBLANK(I76)),\"\",IF(G76>I76,1,IF(G76<I76,2,\"X\")))","v":""},null,null,null,null,null,null,null,null,null,null,null,null,null,null,null,null,null,null,{"$f":"C76","v":"2021-07-09"},"Vinnare match 45","-","Vinnare match 46",{"$f":"IF(G76=\"\",\"\",G76)","v":""},"-",{"$f":"IF(I76=\"\",\"\",I76)","v":""},{"$f":"J76","v":""},null,null,null,null,null,null,null,"Kvartsfinaler",null,null,null,null,{"$f":"D76","v":"Vinnare match 45"},{"$f":"F76","v":"Vinnare match 46"},null,null,null,null,null,null,null,null,null,null,null,null,null,null,null,null,null,null,null,null,null,null,null,null,null,null,null,null,null,null,null,null,null,null,null,null,null,null,null,null,null,null,null,null,null,null,null,null,null,null,null,null,null,null,null,null,null,null,null,null,null,null,null,null,null,null,null,null,null,null,null,null,null,null,null,null,null,null,null,null,null,null,null,null,null,null,null,null,null,null,null,null,null,null,null,null,null,null,null,null,null,null,null,null,null,null,null,null,null,null,null,null,null,null,null,null,null,null,null,null,null,null,null,null,null,null,null,null,null,null,null,null,null,null,null,null,null,null,null,73]
[50,2,"2021-07-10",{"$f":"IF(OR(M72=\"\",M72=\"Fyll i vinnare oavgjort\"),\"Vinnare match 47\",M72)","v":"Vinnare match 47"},"-",{"$f":"IF(OR(M71=\"\",M71=\"Fyll i vinnare oavgjort\"),\"Vinnare match 48\",M71)","v":"Vinnare match 48"},null,"-",null,"",null,null,null,null,null,null,null,null,null,null,null,null,null,null,null,null,null,null,"2021-07-10","Vinnare match 47","-","Vinnare match 48",{"$f":"IF(G77=\"\",\"\",G77)","v":""},"-",{"$f":"IF(I77=\"\",\"\",I77)","v":""},{"$f":"J77","v":""},null,null,null,null,null,null,null,"Mitt tips","Resultat & tabell","Utfall","Poäng",null,{"$f":"D77","v":"Vinnare match 47"},{"$f":"F77","v":"Vinnare match 48"},null,null,null,null,null,null,null,null,null,null,null,null,null,null,null,null,null,null,null,null,null,null,null,null,null,null,null,null,null,null,null,null,null,null,null,null,null,null,null,null,null,null,null,null,null,null,null,null,null,null,null,null,null,null,null,null,null,null,null,null,null,null,null,null,null,null,null,null,null,null,null,null,null,null,null,null,null,null,null,null,null,null,null,null,null,null,null,null,null,null,null,null,null,null,null,null,null,null,null,null,null,null,null,null,null,null,null,null,null,null,null,null,null,null,null,null,null,null,null,null,null,null,null,null,null,null,null,null,null,null,null,null,null,null,null,null,null,null,null,74]
[null,null,null,null,null,null,null,null,null,null,null,null,null,null,null,null,null,null,null,null,null,null,null,null,null,null,null,null,null,null,null,null,null,null,null,null,null,null,null,null,null,null,null,{"$f":"D69","v":"Vinnare match 39"},{"$f":"IF(OR('Resultat & Tabell'!G69=\"\",'Resultat & Tabell'!I69=\"\"),\"\",'Resultat & Tabell'!D69)","v":""},{"$f":"IF(ISERROR(VLOOKUP(AR78,$AS$78:$AS$85,1,FALSE)),0,1)","v":0},{"$f":"4*AT78","v":0},null,null,null,null,null,null,null,null,null,null,null,null,null,null,null,null,null,null,null,null,null,null,null,null,null,null,null,null,null,null,null,null,null,null,null,null,null,null,null,null,null,null,null,null,null,null,null,null,null,null,null,null,null,null,null,null,null,null,null,null,null,null,null,null,null,null,null,null,null,null,null,null,null,null,null,null,null,null,null,null,null,null,null,null,null,null,null,null,null,null,null,null,null,null,null,null,null,null,null,null,null,null,null,null,null,null,null,null,null,null,null,null,null,null,null,null,null,null,null,null,null,null,null,null,null,null,null,null,null,null,null,null,null,null,null,null,null,null,null,null,null,null,75]
[null,null,"Final",null,null,null,null,null,null,null,null,null,null,null,null,null,null,null,null,null,null,null,null,null,null,null,null,null,"Final",null,null,null,null,null,null,null,null,null,null,null,null,null,null,{"$f":"D70","v":"Vinnare match 41"},{"$f":"IF(OR('Resultat & Tabell'!G70=\"\",'Resultat & Tabell'!I70=\"\"),\"\",'Resultat & Tabell'!D70)","v":""},{"$f":"IF(ISERROR(VLOOKUP(AR79,$AS$78:$AS$85,1,FALSE)),0,1)","v":0},{"$f":"4*AT79","v":0},null,null,null,null,null,null,null,null,null,null,null,null,null,null,null,null,null,null,null,null,null,null,null,null,null,null,null,null,null,null,null,null,null,null,null,null,null,null,null,null,null,null,null,null,null,null,null,null,null,null,null,null,null,null,null,null,null,null,null,null,null,null,null,null,null,null,null,null,null,null,null,null,null,null,null,null,null,null,null,null,null,null,null,null,null,null,null,null,null,null,null,null,null,null,null,null,null,null,null,null,null,null,null,null,null,null,null,null,null,null,null,null,null,null,null,null,null,null,null,null,null,null,null,null,null,null,null,null,null,null,null,null,null,null,null,null,null,null,null,null,null,null,76]
["#","#","Datum","Match",null,null,"Resultat",null,null,"Tecken",null,null,null,null,null,null,null,null,null,null,null,null,null,null,null,null,null,null,"Datum","Match",null,null,"Resultat",null,null,"Tecken","Poäng",null,null,null,null,null,null,{"$f":"D71","v":"Vinnare match 40"},{"$f":"IF(OR('Resultat & Tabell'!G71=\"\",'Resultat & Tabell'!I71=\"\"),\"\",'Resultat & Tabell'!D71)","v":""},0,0,null,null,null,null,null,null,null,null,null,null,null,null,null,null,null,null,null,null,null,null,null,null,null,null,null,null,null,null,null,null,null,null,null,null,null,null,null,null,null,null,null,null,null,null,null,null,null,null,null,null,null,null,null,null,null,null,null,null,null,null,null,null,null,null,null,null,null,null,null,null,null,null,null,null,null,null,null,null,null,null,null,null,null,null,null,null,null,null,null,null,null,null,null,null,null,null,null,null,null,null,null,null,null,null,null,null,null,null,null,null,null,null,null,null,null,null,null,null,null,null,null,null,null,null,null,null,null,null,null,null,null,null,null,null,null,null,null,null,null,null,null,null,77]
[51,null,"2021-07-14",{"$f":"IF(OR(M76=\"\",M76=\"Fyll i vinnare oavgjort\"),\"Vinnare match 49\",M76)","v":"Vinnare match 49"},"-",{"$f":"IF(OR(M77=\"\",M77=\"Fyll i vinnare oavgjort\"),\"Vinnare match 50\",M77)","v":"Vinnare match 50"},null,"-",null,{"$f":"IF(OR(ISBLANK(G81),ISBLANK(I81)),\"\",IF(G81>I81,1,IF(G81<I81,2,\"X\")))","v":""},null,null,null,null,null,null,null,null,null,null,null,null,null,null,null,null,null,null,{"$f":"C81","v":"2021-07-14"},{"$f":"D81","v":"Vinnare match 49"},{"$f":"E81","v":"-"},{"$f":"F81","v":"Vinnare match 50"},{"$f":"IF(G81=\"\",\"\",G81)","v":""},"-",{"$f":"IF(I81=\"\",\"\",I81)","v":""},{"$f":"J81","v":""},null,null,null,null,null,null,null,{"$f":"D72","v":"Vinnare match 43"},{"$f":"IF(OR('Resultat & Tabell'!G72=\"\",'Resultat & Tabell'!I72=\"\"),\"\",'Resultat & Tabell'!D72)","v":""},0,0,null,{"$f":"D81","v":"Vinnare match 49"},{"$f":"F81","v":"Vinnare match 50"},null,null,null,null,null,null,null,null,null,null,null,null,null,null,null,null,null,null,null,null,null,null,null,null,null,null,null,null,null,null,null,null,null,null,null,null,null,null,null,null,null,null,null,null,null,null,null,null,null,null,null,null,null,null,null,null,null,null,null,null,null,null,null,null,null,null,null,null,null,null,null,null,null,null,null,null,null,null,null,null,null,null,null,null,null,null,null,null,null,null,null,null,null,null,null,null,null,null,null,null,null,null,null,null,null,null,null,null,null,null,null,null,null,null,null,null,null,null,null,null,null,null,null,null,null,null,null,null,null,null,null,null,null,null,null,null,null,null,null,78]
[null,null,null,null,null,null,null,null,null,null,null,null,null,null,null,null,null,null,null,null,null,null,null,null,null,null,null,null,null,null,null,null,null,null,null,null,null,null,null,null,null,null,null,{"$f":"F69","v":"Vinnare match 37"},{"$f":"IF(OR('Resultat & Tabell'!G69=\"\",'Resultat & Tabell'!I69=\"\"),\"\",'Resultat & Tabell'!F69)","v":""},0,0,null,null,null,null,null,null,null,null,null,null,null,null,null,null,null,null,null,null,null,null,null,null,null,null,null,null,null,null,null,null,null,null,null,null,null,null,null,null,null,null,null,null,null,null,null,null,null,null,null,null,null,null,null,null,null,null,null,null,null,null,null,null,null,null,null,null,null,null,null,null,null,null,null,null,null,null,null,null,null,null,null,null,null,null,null,null,null,null,null,null,null,null,null,null,null,null,null,null,null,null,null,null,null,null,null,null,null,null,null,null,null,null,null,null,null,null,null,null,null,null,null,null,null,null,null,null,null,null,null,null,null,null,null,null,null,null,null,null,null,null,null,null,79]
[null,null,null,null,null,null,null,null,null,null,null,null,null,null,null,null,null,null,null,null,null,null,null,null,null,null,null,null,null,null,null,null,null,null,null,null,null,null,null,null,null,null,null,{"$f":"F70","v":"Vinnare match 42"},{"$f":"IF(OR('Resultat & Tabell'!G70=\"\",'Resultat & Tabell'!I70=\"\"),\"\",'Resultat & Tabell'!F70)","v":""},0,0,null,null,null,null,null,null,null,null,null,null,null,null,null,null,null,null,null,null,null,null,null,null,null,null,null,null,null,null,null,null,null,null,null,null,null,null,null,null,null,null,null,null,null,null,null,null,null,null,null,null,null,null,null,null,null,null,null,null,null,null,null,null,null,null,null,null,null,null,null,null,null,null,null,null,null,null,null,null,null,null,null,null,null,null,null,null,null,null,null,null,null,null,null,null,null,null,null,null,null,null,null,null,null,null,null,null,null,null,null,null,null,null,null,null,null,null,null,null,null,null,null,null,null,null,null,null,null,null,null,null,null,null,null,null,null,null,null,null,null,null,null,null,80]
[null,null,null,null,null,null,null,null,null,null,null,null,null,null,null,null,null,null,null,null,null,null,null,null,null,null,null,null,null,null,null,null,null,null,null,null,null,null,null,null,null,null,null,{"$f":"F71","v":"Vinnare match 38"},{"$f":"IF(OR('Resultat & Tabell'!G71=\"\",'Resultat & Tabell'!I71=\"\"),\"\",'Resultat & Tabell'!F71)","v":""},0,0,null,null,null,null,null,null,null,null,null,null,null,null,null,null,null,null,null,null,null,null,null,null,null,null,null,null,null,null,null,null,null,null,null,null,null,null,null,null,null,null,null,null,null,null,null,null,null,null,null,null,null,null,null,null,null,null,null,null,null,null,null,null,null,null,null,null,null,null,null,null,null,null,null,null,null,null,null,null,null,null,null,null,null,null,null,null,null,null,null,null,null,null,null,null,null,null,null,null,null,null,null,null,null,null,null,null,null,null,null,null,null,null,null,null,null,null,null,null,null,null,null,null,null,null,null,null,null,null,null,null,null,null,null,null,null,null,null,null,null,null,null,null,81]
[null,null,null,null,null,null,null,null,null,null,null,null,null,null,null,null,null,null,null,null,null,null,null,null,null,null,null,null,null,null,null,null,null,null,null,null,null,null,null,null,null,null,null,{"$f":"F72","v":"Vinnare match 44"},{"$f":"IF(OR('Resultat & Tabell'!G72=\"\",'Resultat & Tabell'!I72=\"\"),\"\",'Resultat & Tabell'!F72)","v":""},0,0,null,null,null,null,null,null,null,null,null,null,null,null,null,null,null,null,null,null,null,null,null,null,null,null,null,null,null,null,null,null,null,null,null,null,null,null,null,null,null,null,null,null,null,null,null,null,null,null,null,null,null,null,null,null,null,null,null,null,null,null,null,null,null,null,null,null,null,null,null,null,null,null,null,null,null,null,null,null,null,null,null,null,null,null,null,null,null,null,null,null,null,null,null,null,null,null,null,null,null,null,null,null,null,null,null,null,null,null,null,null,null,null,null,null,null,null,null,null,null,null,null,null,null,null,null,null,null,null,null,null,null,null,null,null,null,null,null,null,null,null,null,null,82]
[null,null,null,null,null,null,null,null,null,null,null,null,null,null,null,null,null,null,null,null,null,null,null,null,null,null,null,null,null,null,null,null,null,null,null,null,null,null,null,null,null,null,null,null,null,"SUMMA",{"$f":"SUM(AU78:AU85)","v":0},null,null,null,null,null,null,null,null,null,null,null,null,null,null,null,null,null,null,null,null,null,null,null,null,null,null,null,null,null,null,null,null,null,null,null,null,null,null,null,null,null,null,null,null,null,null,null,null,null,null,null,null,null,null,null,null,null,null,null,null,null,null,null,null,null,null,null,null,null,null,null,null,null,null,null,null,null,null,null,null,null,null,null,null,null,null,null,null,null,null,null,null,null,null,null,null,null,null,null,null,null,null,null,null,null,null,null,null,null,null,null,null,null,null,null,null,null,null,null,null,null,null,null,null,null,null,null,null,null,null,null,null,null,null,null,null,null,null,null,null,null,null,83]
[null,null,null,null,null,null,null,null,null,null,null,null,null,null,null,null,null,null,null,null,null,null,null,null,null,null,null,null,null,null,null,null,null,null,null,null,null,null,null,null,null,null,null,"Semifinaler",null,null,null,null,null,null,null,null,null,null,null,null,null,null,null,null,null,null,null,null,null,null,null,null,null,null,null,null,null,null,null,null,null,null,null,null,null,null,null,null,null,null,null,null,null,null,null,null,null,null,null,null,null,null,null,null,null,null,null,null,null,null,null,null,null,null,null,null,null,null,null,null,null,null,null,null,null,null,null,null,null,null,null,null,null,null,null,null,null,null,null,null,null,null,null,null,null,null,null,null,null,null,null,null,null,null,null,null,null,null,null,null,null,null,null,null,null,null,null,null,null,null,null,null,null,null,null,null,null,null,null,null,null,null,null,null,null,null,null,null,null,null,null,null,null,84]
[null,null,null,null,null,null,null,null,null,null,null,null,null,null,null,null,null,null,null,null,null,null,null,null,null,null,null,null,null,null,null,null,null,null,null,null,null,null,null,null,null,null,null,"Mitt tips","Resultat & tabell","Utfall","Poäng",null,null,null,null,null,null,null,null,null,null,null,null,null,null,null,null,null,null,null,null,null,null,null,null,null,null,null,null,null,null,null,null,null,null,null,null,null,null,null,null,null,null,null,null,null,null,null,null,null,null,null,null,null,null,null,null,null,null,null,null,null,null,null,null,null,null,null,null,null,null,null,null,null,null,null,null,null,null,null,null,null,null,null,null,null,null,null,null,null,null,null,null,null,null,null,null,null,null,null,null,null,null,null,null,null,null,null,null,null,null,null,null,null,null,null,null,null,null,null,null,null,null,null,null,null,null,null,null,null,null,null,null,null,null,null,null,null,null,null,null,null,null,85]
[null,null,null,null,null,null,null,null,null,null,null,null,null,null,null,null,null,null,null,null,null,null,null,null,null,null,null,null,null,null,null,null,null,null,null,null,null,null,null,null,null,null,null,{"$f":"D76","v":"Vinnare match 45"},{"$f":"IF(OR('Resultat & Tabell'!G76=\"\",'Resultat & Tabell'!I76=\"\"),\"\",'Resultat & Tabell'!D76)","v":""},{"$f":"IF(ISERROR(VLOOKUP(AR89,$AS$89:$AS$92,1,FALSE)),0,1)","v":0},{"$f":"6*AT89","v":0},null,null,null,null,null,null,null,null,null,null,null,null,null,null,null,null,null,null,null,null,null,null,null,null,null,null,null,null,null,null,null,null,null,null,null,null,null,null,null,null,null,null,null,null,null,null,null,null,null,null,null,null,null,null,null,null,null,null,null,null,null,null,null,null,null,null,null,null,null,null,null,null,null,null,null,null,null,null,null,null,null,null,null,null,null,null,null,null,null,null,null,null,null,null,null,null,null,null,null,null,null,null,null,null,null,null,null,null,null,null,null,null,null,null,null,null,null,null,null,null,null,null,null,null,null,null,null,null,null,null,null,null,null,null,null,null,null,null,null,null,null,null,86]
[null,null,null,null,null,null,null,null,null,null,null,null,null,null,null,null,null,null,null,null,null,null,null,null,null,null,null,null,null,null,null,null,null,null,null,null,null,null,null,null,null,null,null,{"$f":"D77","v":"Vinnare match 47"},{"$f":"IF(OR('Resultat & Tabell'!G77=\"\",'Resultat & Tabell'!I77=\"\"),\"\",'Resultat & Tabell'!D77)","v":""},{"$f":"IF(ISERROR(VLOOKUP(AR90,$AS$89:$AS$92,1,FALSE)),0,1)","v":0},{"$f":"6*AT90","v":0},null,null,null,null,null,null,null,null,null,null,null,null,null,null,null,null,null,null,null,null,null,null,null,null,null,null,null,null,null,null,null,null,null,null,null,null,null,null,null,null,null,null,null,null,null,null,null,null,null,null,null,null,null,null,null,null,null,null,null,null,null,null,null,null,null,null,null,null,null,null,null,null,null,null,null,null,null,null,null,null,null,null,null,null,null,null,null,null,null,null,null,null,null,null,null,null,null,null,null,null,null,null,null,null,null,null,null,null,null,null,null,null,null,null,null,null,null,null,null,null,null,null,null,null,null,null,null,null,null,null,null,null,null,null,null,null,null,null,null,null,null,null,87]
[null,null,null,null,null,null,null,null,null,null,null,null,null,null,null,null,null,null,null,null,null,null,null,null,null,null,null,null,null,null,null,null,null,null,null,null,null,null,null,null,null,null,null,{"$f":"F76","v":"Vinnare match 46"},{"$f":"IF(OR('Resultat & Tabell'!G76=\"\",'Resultat & Tabell'!I76=\"\"),\"\",'Resultat & Tabell'!F76)","v":""},0,0,null,null,null,null,null,null,null,null,null,null,null,null,null,null,null,null,null,null,null,null,null,null,null,null,null,null,null,null,null,null,null,null,null,null,null,null,null,null,null,null,null,null,null,null,null,null,null,null,null,null,null,null,null,null,null,null,null,null,null,null,null,null,null,null,null,null,null,null,null,null,null,null,null,null,null,null,null,null,null,null,null,null,null,null,null,null,null,null,null,null,null,null,null,null,null,null,null,null,null,null,null,null,null,null,null,null,null,null,null,null,null,null,null,null,null,null,null,null,null,null,null,null,null,null,null,null,null,null,null,null,null,null,null,null,null,null,null,null,null,null,null,null,88]
[null,null,null,null,null,null,null,null,null,null,null,null,null,null,null,null,null,null,null,null,null,null,null,null,null,null,null,null,null,null,null,null,null,null,null,null,null,null,null,null,null,null,null,{"$f":"F77","v":"Vinnare match 48"},{"$f":"IF(OR('Resultat & Tabell'!G77=\"\",'Resultat & Tabell'!I77=\"\"),\"\",'Resultat & Tabell'!F77)","v":""},0,0,null,null,null,null,null,null,null,null,null,null,null,null,null,null,null,null,null,null,null,null,null,null,null,null,null,null,null,null,null,null,null,null,null,null,null,null,null,null,null,null,null,null,null,null,null,null,null,null,null,null,null,null,null,null,null,null,null,null,null,null,null,null,null,null,null,null,null,null,null,null,null,null,null,null,null,null,null,null,null,null,null,null,null,null,null,null,null,null,null,null,null,null,null,null,null,null,null,null,null,null,null,null,null,null,null,null,null,null,null,null,null,null,null,null,null,null,null,null,null,null,null,null,null,null,null,null,null,null,null,null,null,null,null,null,null,null,null,null,null,null,null,null,89]
[null,null,null,null,null,null,null,null,null,null,null,null,null,null,null,null,null,null,null,null,null,null,null,null,null,null,null,null,null,null,null,null,null,null,null,null,null,null,null,null,null,null,null,null,null,"SUMMA",{"$f":"SUM(AU89:AU92)","v":0},null,null,null,null,null,null,null,null,null,null,null,null,null,null,null,null,null,null,null,null,null,null,null,null,null,null,null,null,null,null,null,null,null,null,null,null,null,null,null,null,null,null,null,null,null,null,null,null,null,null,null,null,null,null,null,null,null,null,null,null,null,null,null,null,null,null,null,null,null,null,null,null,null,null,null,null,null,null,null,null,null,null,null,null,null,null,null,null,null,null,null,null,null,null,null,null,null,null,null,null,null,null,null,null,null,null,null,null,null,null,null,null,null,null,null,null,null,null,null,null,null,null,null,null,null,null,null,null,null,null,null,null,null,null,null,null,null,null,null,null,null,null,90]
[null,null,null,null,null,null,null,null,null,null,null,null,null,null,null,null,null,null,null,null,null,null,null,null,null,null,null,null,null,null,null,null,null,null,null,null,null,null,null,null,null,null,null,"Final",null,null,null,null,null,null,null,null,null,null,null,null,null,null,null,null,null,null,null,null,null,null,null,null,null,null,null,null,null,null,null,null,null,null,null,null,null,null,null,null,null,null,null,null,null,null,null,null,null,null,null,null,null,null,null,null,null,null,null,null,null,null,null,null,null,null,null,null,null,null,null,null,null,null,null,null,null,null,null,null,null,null,null,null,null,null,null,null,null,null,null,null,null,null,null,null,null,null,null,null,null,null,null,null,null,null,null,null,null,null,null,null,null,null,null,null,null,null,null,null,null,null,null,null,null,null,null,null,null,null,null,null,null,null,null,null,null,null,null,null,null,null,null,null,null,91]
[null,null,null,null,null,null,null,null,null,null,null,null,null,null,null,null,null,null,null,null,null,null,null,null,null,null,null,null,null,null,null,null,null,null,null,null,null,null,null,null,null,null,null,"Mitt tips","Resultat & tabell","Utfall","Poäng",null,null,null,null,null,null,null,null,null,null,null,null,null,null,null,null,null,null,null,null,null,null,null,null,null,null,null,null,null,null,null,null,null,null,null,null,null,null,null,null,null,null,null,null,null,null,null,null,null,null,null,null,null,null,null,null,null,null,null,null,null,null,null,null,null,null,null,null,null,null,null,null,null,null,null,null,null,null,null,null,null,null,null,null,null,null,null,null,null,null,null,null,null,null,null,null,null,null,null,null,null,null,null,null,null,null,null,null,null,null,null,null,null,null,null,null,null,null,null,null,null,null,null,null,null,null,null,null,null,null,null,null,null,null,null,null,null,null,null,null,null,null,92]
[null,null,null,null,null,null,null,null,null,null,null,null,null,null,null,null,null,null,null,null,null,null,null,null,null,null,null,null,null,null,null,null,null,null,null,null,null,null,null,null,null,null,null,{"$f":"D81","v":"Vinnare match 49"},{"$f":"IF(OR('Resultat & Tabell'!G81=\"\",'Resultat & Tabell'!I81=\"\"),\"\",'Resultat & Tabell'!D81)","v":""},{"$f":"IF(ISERROR(VLOOKUP(AR96,$AS$96:$AS$97,1,FALSE)),0,1)","v":0},{"$f":"8*AT96","v":0},null,null,null,null,null,null,null,null,null,null,null,null,null,null,null,null,null,null,null,null,null,null,null,null,null,null,null,null,null,null,null,null,null,null,null,null,null,null,null,null,null,null,null,null,null,null,null,null,null,null,null,null,null,null,null,null,null,null,null,null,null,null,null,null,null,null,null,null,null,null,null,null,null,null,null,null,null,null,null,null,null,null,null,null,null,null,null,null,null,null,null,null,null,null,null,null,null,null,null,null,null,null,null,null,null,null,null,null,null,null,null,null,null,null,null,null,null,null,null,null,null,null,null,null,null,null,null,null,null,null,null,null,null,null,null,null,null,null,null,null,null,null,93]
[null,null,null,null,null,null,null,null,null,null,null,null,null,null,null,null,null,null,null,null,null,null,null,null,null,null,null,null,null,null,null,null,null,null,null,null,null,null,null,null,null,null,null,{"$f":"F81","v":"Vinnare match 50"},{"$f":"IF(OR('Resultat & Tabell'!G81=\"\",'Resultat & Tabell'!I81=\"\"),\"\",'Resultat & Tabell'!F81)","v":""},{"$f":"IF(ISERROR(VLOOKUP(AR97,$AS$96:$AS$97,1,FALSE)),0,1)","v":0},{"$f":"8*AT97","v":0},null,null,null,null,null,null,null,null,null,null,null,null,null,null,null,null,null,null,null,null,null,null,null,null,null,null,null,null,null,null,null,null,null,null,null,null,null,null,null,null,null,null,null,null,null,null,null,null,null,null,null,null,null,null,null,null,null,null,null,null,null,null,null,null,null,null,null,null,null,null,null,null,null,null,null,null,null,null,null,null,null,null,null,null,null,null,null,null,null,null,null,null,null,null,null,null,null,null,null,null,null,null,null,null,null,null,null,null,null,null,null,null,null,null,null,null,null,null,null,null,null,null,null,null,null,null,null,null,null,null,null,null,null,null,null,null,null,null,null,null,null,null,94]
[null,null,null,null,null,null,null,null,null,null,null,null,null,null,null,null,null,null,null,null,null,null,null,null,null,null,null,null,null,null,null,null,null,null,null,null,null,null,null,null,null,null,null,null,null,"SUMMA",{"$f":"SUM(AU96:AU97)","v":0},null,null,null,null,null,null,null,null,null,null,null,null,null,null,null,null,null,null,null,null,null,null,null,null,null,null,null,null,null,null,null,null,null,null,null,null,null,null,null,null,null,null,null,null,null,null,null,null,null,null,null,null,null,null,null,null,null,null,null,null,null,null,null,null,null,null,null,null,null,null,null,null,null,null,null,null,null,null,null,null,null,null,null,null,null,null,null,null,null,null,null,null,null,null,null,null,null,null,null,null,null,null,null,null,null,null,null,null,null,null,null,null,null,null,null,null,null,null,null,null,null,null,null,null,null,null,null,null,null,null,null,null,null,null,null,null,null,null,null,null,null,null,95]
[null,null,null,null,null,null,null,null,null,null,null,null,null,null,null,null,null,null,null,null,null,null,null,null,null,null,null,null,null,null,null,null,null,null,null,null,null,null,null,null,null,null,null,null,null,null,null,null,null,null,null,null,null,null,null,null,null,null,null,null,null,null,null,null,null,null,null,null,null,null,null,null,null,null,null,null,null,null,null,null,null,null,null,null,null,null,null,null,null,null,null,null,null,null,null,null,null,null,null,null,null,null,null,null,null,null,null,null,null,null,null,null,null,null,null,null,null,null,null,null,null,null,null,null,null,null,null,null,null,null,null,null,null,null,null,null,null,null,null,null,null,null,null,null,null,null,null,null,null,null,null,null,null,null,null,null,null,null,null,null,null,null,null,null,null,null,null,null,null,null,null,null,null,null,null,null,null,null,null,null,null,null,null,null,null,null,null,null,null,96]
[null,null,null,null,null,null,null,null,null,null,null,null,null,null,null,null,null,null,null,null,null,null,null,null,null,null,null,null,null,null,null,null,null,null,null,null,null,null,null,null,null,null,null,null,null,null,null,null,null,null,null,null,null,null,null,null,null,null,null,null,null,null,null,null,null,null,null,null,null,null,null,null,null,null,null,null,null,null,null,null,null,null,null,null,null,null,null,null,null,null,null,null,null,null,null,null,null,null,null,null,null,null,null,null,null,null,null,null,null,null,null,null,null,null,null,null,null,null,null,null,null,null,null,null,null,null,null,null,null,null,null,null,null,null,null,null,null,null,null,null,null,null,null,null,null,null,null,null,null,null,null,null,null,null,null,null,null,null,null,null,null,null,null,null,null,null,null,null,null,null,null,null,null,null,null,null,null,null,null,null,null,null,null,null,null,null,null,null,null,97]
[null,null,null,null,null,null,null,null,null,null,null,null,null,null,null,null,null,null,null,null,null,null,null,null,null,null,null,null,null,null,null,null,null,null,null,null,null,null,null,null,null,null,null,null,null,null,null,null,null,null,null,null,null,null,null,null,null,null,null,null,null,null,null,null,null,null,null,null,null,null,null,null,null,null,null,null,null,null,null,null,null,null,null,null,null,null,null,null,null,null,null,null,null,null,null,null,null,null,null,null,null,null,null,null,null,null,null,null,null,null,null,null,null,null,null,null,null,null,null,null,null,null,null,null,null,null,null,null,null,null,null,null,null,null,null,null,null,null,null,null,null,null,null,null,null,null,null,null,null,null,null,null,null,null,null,null,null,null,null,null,null,null,null,null,null,null,null,null,null,null,null,null,null,null,null,null,null,null,null,null,null,null,null,null,null,null,null,null,null,98]
[null,null,null,null,null,null,null,null,null,null,null,null,null,null,null,null,null,null,null,null,null,null,null,null,null,null,null,null,null,null,null,null,null,null,null,null,null,null,null,null,null,null,null,null,null,null,null,null,null,null,null,null,null,null,null,null,null,null,null,null,null,null,null,null,null,null,null,null,null,null,null,null,null,null,null,null,null,null,null,null,null,null,null,null,null,null,null,null,null,null,null,null,null,null,null,null,null,null,null,null,null,null,null,null,null,null,null,null,null,null,null,null,null,null,null,null,null,null,null,null,null,null,null,null,null,null,null,null,null,null,null,null,null,null,null,null,null,null,null,null,null,null,null,null,null,null,null,null,null,null,null,null,null,null,null,null,null,null,null,null,null,null,null,null,null,null,null,null,null,null,null,null,null,null,null,null,null,null,null,null,null,null,null,null,null,null,null,null,null,99]
[null,null,null,null,null,null,null,null,null,null,null,null,null,null,null,null,null,null,null,null,null,null,null,null,null,null,null,null,null,null,null,null,null,null,null,null,null,null,null,null,null,null,null,null,null,null,null,null,null,null,null,null,null,null,null,null,null,null,null,null,null,null,null,null,null,null,null,null,null,null,null,null,null,null,null,null,null,null,null,null,null,null,null,null,null,null,null,null,null,null,null,null,null,null,null,null,null,null,null,null,null,null,null,null,null,null,null,null,null,null,null,null,null,null,null,null,null,null,null,null,null,null,null,null,null,null,null,null,null,null,null,null,null,null,null,null,null,null,null,null,null,null,null,null,null,null,null,null,null,null,null,null,null,null,null,null,null,null,null,null,null,null,null,null,null,null,null,null,null,null,null,null,null,null,null,null,null,null,null,null,null,null,null,null,null,null,null,null,null,100]

{"sheet":"Mitt tips","index":2,"n_rows":98,"n_cols":191,"rows_kept":98,"cut":false,"hidden":false,"merged":[[2,3,2,5],[2,6,2,8],[2,31,2,33],[2,34,2,36],[11,3,11,5],[11,6,11,8],[11,31,11,33],[11,34,11,36],[2,24,2,27],[3,24,3,27],[4,24,4,27],[5,24,5,27],[6,24,6,27],[7,24,7,27],[8,24,8,27],[20,3,20,5],[20,6,20,8],[20,31,20,33],[20,34,20,36],[27,30,27,31],[27,2,27,3],[29,3,29,5],[29,6,29,8],[29,31,29,33],[29,34,29,36],[38,3,38,5],[38,6,38,8],[38,31,38,33],[38,34,38,36],[47,3,47,5],[47,6,47,8],[47,31,47,33],[47,34,47,36],[56,3,56,5],[56,6,56,8],[56,31,56,33],[56,34,56,36],[56,16,56,19],[80,16,80,19],[75,16,75,19],[79,16,79,19],[67,3,67,5],[67,6,67,8],[79,3,79,5],[79,6,79,8],[74,3,74,5],[74,6,74,8],[79,34,79,36],[57,16,57,19],[67,16,67,19],[68,16,68,19],[74,16,74,19],[67,31,67,33],[79,31,79,33],[67,34,67,36],[74,31,74,33],[74,34,74,36]]}
[]
[null,null,"Grupp A",null,null,null,null,null,null,null,null,null,null,null,null,null,null,null,null,null,null,null,null,"Bonusfrågor",null,null,null,null,null,null,"Grupp A",null,null,null,null,null,null,null,null,"Rank 0",null,null,null,null,null,"Rank 1",null,null,null,null,null,"Rank 3",null,null,null,null,null,"Rank 3",null,null,null,null,null,"Rank 4",null,null,null,null,null,null,null,"Rank 0",null,null,null,null,null,null,null,null,null,null,null,"Rank 1",{"$f":"COUNTIF(CC4:CC7,1)","v":4},null,null,null,null,null,null,null,null,null,null,null,null,null,null,null,null,null,null,"Rank 2",{"$f":"COUNTIF(CC4:CC7,2)","v":0},null,null,null,null,null,null,null,null,null,null,null,null,null,null,null,null,null,null,"Rank 3",{"$f":"COUNTIF(CC4:CC7,3)","v":0},null,null,null,null,null,null,null,null,null,null,null,null,null,null,null,null,null,null,"Rank 4",{"$f":"COUNTIF(CC4:CC7,4)","v":0},null,null,null,null,null,null,null,null,null,null,null,null,null,null,null,null,null,null,null,null,null,null,"3rd places",null,null,null,null,null,null,null,null,null,null,null,null,"Check row:",{"$f":"MAX(GI3:GI18)","v":2},"Combo",null,null,null,"B","C","E","F","Valid"]
[null,null,"Datum","Match",null,null,"Resultat",null,null,"Tecken","Poäng",null,null,"Lag","V","O","F","GM","IM","+/-","P",null,null,"Kategori","Svar",null,null,null,"Poäng",null,"Datum","Match",null,null,"Resultat",null,null,"Tecken","Poäng","V1","V2","O1","O2","F1","F2","V1","V2","O1","O2","F1","F2","V1","V2","O1","O2","F1","F2","V1","V2","O1","O2","F1","F2","V1","V2","O1","O2","F1","F2",null,null,"Lag","V","O","F","GM","IM","+/-","P","Grupp","Rank P","Rank +/-",null,"Lag","V","O","F","P","Grupp","Rank P","+/-","+/- rank","GM","GM rank","Rank internal","+/- all","+/- rank all","GM all","GM rank all","V all","V rank all","Rank all",null,"Lag","V","O","F","P","Grupp","Rank P","+/-","+/- rank","GM","GM rank","Rank internal","+/- all","+/- rank all","GM all","GM rank all","V all","V rank all","Rank all",null,"Lag","V","O","F","P","Grupp","Rank P","+/-","+/- rank","GM","GM rank","Rank internal","+/- all","+/- rank all","GM all","GM rank all","V all","V rank all","Rank all",null,"Lag","V","O","F","P","Grupp","Rank P","+/-","+/- rank","GM","GM rank","Rank internal","+/- all","+/- rank all","GM all","GM rank all","V all","V rank all","Rank all",null,"Rank","Rank Ties",null,null,"Grupp","Lag","Rank ties","Rank total","Rank mål","Rank +/-","Rank poäng","Poäng","+/-","GM","Grupp","Team through",null,2,"ABCD","A","B","C","D",{"$f":"VLOOKUP(\"A\",FL3:FM9,2,FALSE)","v":"Ungern"},{"$f":"VLOOKUP(\"D\",FL3:FM9,2,FALSE)","v":"Polen"},{"$f":"VLOOKUP(\"B\",FL3:FM9,2,FALSE)","v":"Italien"},{"$f":"VLOOKUP(\"C\",FL3:FM9,2,FALSE)","v":"Serbien"},{"$f":"IFERROR(IF(AND(VLOOKUP(GA3,FW4:FW9,1,FALSE)=GA3,VLOOKUP(GB3,FW4:FW9,1,FALSE)=GB3,VLOOKUP(GC3,FW4:FW9,1,FALSE)=GC3,VLOOKUP(GD3,FW4:FW9,1,FALSE)=GD3),FY3,\"\"),\"\")","v":2}]
[null,null,"2024-06-14","Tyskland","-","Skottland",null,"-",null,{"$f":"IF(OR(ISBLANK(G4),ISBLANK(I4)),\"\",IF(G4>I4,1,IF(G4<I4,2,\"X\")))","v":""},{"$f":"IF(OR('Resultat & Tabell'!G4=\"\",'Resultat & Tabell'!I4=\"\",G4=\"\",I4=\"\"),0,IF(G4='Resultat & Tabell'!G4,2,0)+IF(I4='Resultat & Tabell'!I4,2,0)+IF(J4='Resultat & Tabell'!J4,3,0))","v":0},{"$f":"IF(VLOOKUP(D4,BT3:CC7,10,FALSE)=VLOOKUP(F4,BT3:CC7,10,FALSE),VLOOKUP(D4,BT3:CC7,10,FALSE),\"-\")","v":1},1,{"$f":"VLOOKUP(M4,FI4:FJ7,2,FALSE)","v":"Tyskland"},{"$f":"VLOOKUP(N4,BT4:CA7,2,FALSE)","v":0},{"$f":"VLOOKUP(N4,BT4:CA7,3,FALSE)","v":0},{"$f":"VLOOKUP(N4,BT4:CA7,4,FALSE)","v":0},{"$f":"VLOOKUP(N4,BT4:CA7,5,FALSE)","v":0},{"$f":"VLOOKUP(N4,BT4:CA7,6,FALSE)","v":0},{"$f":"VLOOKUP(N4,BT4:CA7,7,FALSE)","v":0},{"$f":"VLOOKUP(N4,BT4:CA7,8,FALSE)","v":0},null,null,"Europamästare",null,null,null,null,{"$f":"IF(AND('Resultat & Tabell'!W4:W4<>\"\",Y4='Resultat & Tabell'!W4:W4),20,0)","v":0},null,{"$f":"C4","v":"2024-06-14"},"Tyskland","-","Skottland",{"$f":"IF(G4=\"\",\"\",G4)","v":""},"-",{"$f":"IF(I4=\"\",\"\",I4)","v":""},{"$f":"J4","v":""},null,{"$f":"IF(AI4>AK4,1,0)","v":0},{"$f":"IF(AK4>AI4,1,0)","v":0},{"$f":"IF(AND(AI4=AK4,AI4<>\"\"),1,0)","v":0},{"$f":"IF(AND(AI4=AK4,AI4<>\"\"),1,0)","v":0},{"$f":"IF(AI4<AK4,1,0)","v":0},{"$f":"IF(AK4<AI4,1,)","v":0},{"$f":"IF(ISERROR(VLOOKUP(AF4,CF:CF,1,FALSE)),0,1)*IF(ISERROR(VLOOKUP(AH4,CF:CF,1,FALSE)),0,1)*AN4","v":0},{"$f":"IF(ISERROR(VLOOKUP(AF4,CF:CF,1,FALSE)),0,1)*IF(ISERROR(VLOOKUP(AH4,CF:CF,1,FALSE)),0,1)*AO4","v":0},{"$f":"IF(ISERROR(VLOOKUP(AF4,CF:CF,1,FALSE)),0,1)*IF(ISERROR(VLOOKUP(AH4,CF:CF,1,FALSE)),0,1)*AP4","v":0},{"$f":"IF(ISERROR(VLOOKUP(AF4,CF:CF,1,FALSE)),0,1)*IF(ISERROR(VLOOKUP(AH4,CF:CF,1,FALSE)),0,1)*AQ4","v":0},{"$f":"IF(ISERROR(VLOOKUP(AF4,CF:CF,1,FALSE)),0,1)*IF(ISERROR(VLOOKUP(AH4,CF:CF,1,FALSE)),0,1)*AR4","v":0},{"$f":"IF(ISERROR(VLOOKUP(AF4,CF:CF,1,FALSE)),0,1)*IF(ISERROR(VLOOKUP(AH4,CF:CF,1,FALSE)),0,1)*AS4","v":0},{"$f":"IF(ISERROR(VLOOKUP(AF4,CZ:CZ,1,FALSE)),0,1)*IF(ISERROR(VLOOKUP(AH4,CZ:CZ,1,FALSE)),0,1)*AN4","v":0},{"$f":"IF(ISERROR(VLOOKUP(AF4,CZ:CZ,1,FALSE)),0,1)*IF(ISERROR(VLOOKUP(AH4,CZ:CZ,1,FALSE)),0,1)*AO4","v":0},{"$f":"IF(ISERROR(VLOOKUP(AF4,CZ:CZ,1,FALSE)),0,1)*IF(ISERROR(VLOOKUP(AH4,CZ:CZ,1,FALSE)),0,1)*AP4","v":0},{"$f":"IF(ISERROR(VLOOKUP(AF4,CZ:CZ,1,FALSE)),0,1)*IF(ISERROR(VLOOKUP(AH4,CZ:CZ,1,FALSE)),0,1)*AQ4","v":0},{"$f":"IF(ISERROR(VLOOKUP(AF4,CZ:CZ,1,FALSE)),0,1)*IF(ISERROR(VLOOKUP(AH4,CZ:CZ,1,FALSE)),0,1)*AR4","v":0},{"$f":"IF(ISERROR(VLOOKUP(AF4,CZ:CZ,1,FALSE)),0,1)*IF(ISERROR(VLOOKUP(AH4,CZ:CZ,1,FALSE)),0,1)*AS4","v":0},{"$f":"IF(ISERROR(VLOOKUP(AF4,DT:DT,1,FALSE)),0,1)*IF(ISERROR(VLOOKUP(AH4,DT:DT,1,FALSE)),0,1)*AN4","v":0},{"$f":"IF(ISERROR(VLOOKUP(AF4,DT:DT,1,FALSE)),0,1)*IF(ISERROR(VLOOKUP(AH4,DT:DT,1,FALSE)),0,1)*AO4","v":0},{"$f":"IF(ISERROR(VLOOKUP(AF4,DT:DT,1,FALSE)),0,1)*IF(ISERROR(VLOOKUP(AH4,DT:DT,1,FALSE)),0,1)*AP4","v":0},{"$f":"IF(ISERROR(VLOOKUP(AF4,DT:DT,1,FALSE)),0,1)*IF(ISERROR(VLOOKUP(AH4,DT:DT,1,FALSE)),0,1)*AQ4","v":0},{"$f":"IF(ISERROR(VLOOKUP(AF4,DT:DT,1,FALSE)),0,1)*IF(ISERROR(VLOOKUP(AH4,DT:DT,1,FALSE)),0,1)*AR4","v":0},{"$f":"IF(ISERROR(VLOOKUP(AF4,DT:DT,1,FALSE)),0,1)*IF(ISERROR(VLOOKUP(AH4,DT:DT,1,FALSE)),0,1)*AS4","v":0},{"$f":"IF(ISERROR(VLOOKUP(AF4,EN:EN,1,FALSE)),0,1)*IF(ISERROR(VLOOKUP(AH4,EN:EN,1,FALSE)),0,1)*AN4","v":0},{"$f":"IF(ISERROR(VLOOKUP(AF4,EN:EN,1,FALSE)),0,1)*IF(ISERROR(VLOOKUP(AH4,EN:EN,1,FALSE)),0,1)*AO4","v":0},{"$f":"IF(ISERROR(VLOOKUP(AF4,EN:EN,1,FALSE)),0,1)*IF(ISERROR(VLOOKUP(AH4,EN:EN,1,FALSE)),0,1)*AP4","v":0},{"$f":"IF(ISERROR(VLOOKUP(AF4,EN:EN,1,FALSE)),0,1)*IF(ISERROR(VLOOKUP(AH4,EN:EN,1,FALSE)),0,1)*AQ4","v":0},{"$f":"IF(ISERROR(VLOOKUP(AF4,EN:EN,1,FALSE)),0,1)*IF(ISERROR(VLOOKUP(AH4,EN:EN,1,FALSE)),0,1)*AR4","v":0},{"$f":"IF(ISERROR(VLOOKUP(AF4,EN:EN,1,FALSE)),0,1)*IF(ISERROR(VLOOKUP(AH4,EN:EN,1,FALSE)),0,1)*AS4","v":0},null,null,"Tyskland",{"$f":"(SUMIF(AF4:AF54,BT4,AN4:AN54)+SUMIF(AH4:AH54,BT4,AO4:AO54))","v":0},{"$f":"(SUMIF(AF4:AF54,BT4,AP4:AP54)+SUMIF(AH4:AH54,BT4,AQ4:AQ54))","v":0},{"$f":"(SUMIF(AF4:AF54,BT4,AR4:AR54)+SUMIF(AH4:AH54,BT4,AS4:AS54))","v":0},{"$f":"SUMIF(AF4:AF54,BT4,AI4:AI54)+SUMIF(AH4:AH54,BT4,AK4:AK54)","v":0},{"$f":"SUMIF(AF4:AF54,BT4,AK4:AK54)+SUMIF(AH4:AH54,BT4,AI4:AI54)","v":0},{"$f":"BX4-BY4","v":0},{"$f":"IFERROR(BU4*3+BV4*1,0)","v":0},"A",{"$f":"RANK(CA4,CA4:CA7)","v":1},{"$f":"SUMPRODUCT((CA4:CA7=CA4)*(BZ4:BZ7>BZ4))","v":0},null,{"$f":"IF(CC4=1,BT4,)","v":"Tyskland"},{"$f":"(SUMIF(AF4:AF54,BT4,AT4:AT54)+SUMIF(AH4:AH54,BT4,AU4:AU54))","v":0},{"$f":"(SUMIF(AF4:AF54,BT4,AV4:AV54)+SUMIF(AH4:AH54,BT4,AW4:AW54))","v":0},{"$f":"(SUMIF(AF4:AF54,BT4,AX4:AX54)+SUMIF(AH4:AH54,BT4,AY4:AY54))","v":0},{"$f":"IFERROR(CG4*3+CH4*1,0)","v":0},{"$f":"CB4","v":"A"},{"$f":"IF(CF4>0,RANK(CJ4,CJ4:CJ7),)","v":1},{"$f":"IF(AND(CF4>0,COUNTIF(CL4:CL7,CL4)>1),SUMIFS($AI$4:$AI$54,$AF$4:$AF$54,$BT4,$L$4:$L$54,1)+SUMIFS($AK$4:$AK$54,$AH$4:$AH$54,$BT4,$L$4:$L$54,1)-SUMIFS($AK$4:$AK$54,$AF$4:$AF$54,$BT4,$L$4:$L$54,1)-SUMIFS($AI$4:$AI$54,$AH$4:$AH$54,$BT4,$L$4:$L$54,1),)","v":0},{"$f":"IF(AND(CF4>0,COUNTIF(CL4:CL7,CL4)>1),CL4+RANK(CM4,CM4:CM7)-1,CL4)","v":1},{"$f":"IF(AND(CF4>0,COUNTIF(CN4:CN7,CN4)>1),SUMIFS($AI$4:$AI$54,$AF$4:$AF$54,$BT4,$L$4:$L$54,1)+SUMIFS($AK$4:$AK$54,$AH$4:$AH$54,$BT4,$L$4:$L$54,1),)","v":0},{"$f":"IF(AND(CF4>0,COUNTIF(CN4:CN7,CN4)>1),CN4+RANK(CO4,CO4:CO7)-1,CN4)","v":1},{"$f":"IF(CP4=0,\"\",CP4)","v":1},{"$f":"IF(OR(CQ4=\"\",COUNTIF(CQ4:CQ7,CQ4)=1),\"\",$BZ4)","v":0},{"$f":"IF(CQ4=\"\",\"\",IF(COUNTIF(CQ4:CQ7,CQ4)=1,CQ4,CQ4+RANK(CR4,CR4:CR7,0)-1))","v":1},{"$f":"IF(OR(CS4=\"\",COUNTIF(CS4:CS7,CS4)=1),\"\",$BX4)","v":0},{"$f":"IF(CQ4=\"\",\"\",IF(COUNTIF(CS4:CS7,CS4)=1,CS4,CS4+RANK(CT4,CT4:CT7,0)-1))","v":1},{"$f":"IF(OR(CU4=\"\",COUNTIF(CU4:CU7,CU4)=1),\"\",$BU4)","v":0},{"$f":"IF(CQ4=\"\",\"\",IF(COUNTIF(CU4:CU7,CU4)=1,CU4,CU4+RANK(CV4,CV4:CV7,0)-1))","v":1},{"$f":"IF(CF4>0,BM2+RANK(CW4,CW4:CW7,1),)","v":1},null,{"$f":"IF(CC4=2,BT4,)","v":0},{"$f":"(SUMIF(AF4:AF54,BT4,AZ4:AZ54)+SUMIF(AH4:AH54,BT4,BA4:BA54))","v":0},{"$f":"(SUMIF(AF4:AF54,BT4,BB4:BB54)+SUMIF(AH4:AH54,BT4,BC4:BC54))","v":0},{"$f":"(SUMIF(AF4:AF54,BT4,BD4:BD54)+SUMIF(AH4:AH54,BT4,BE4:BE54))","v":0},{"$f":"IFERROR(DA4*3+DB4*1,0)","v":0},{"$f":"CB4","v":"A"},{"$f":"IF(CZ4>0,RANK(DD4,DD4:DD7)+CG2,)","v":0},{"$f":"IF(AND(CZ4>0,COUNTIF(DF4:DF7,DF4)>1),SUMIFS($AI$4:$AI$54,$AF$4:$AF$54,$BT4,$L$4:$L$54,2)+SUMIFS($AK$4:$AK$54,$AH$4:$AH$54,$BT4,$L$4:$L$54,2)-SUMIFS($AK$4:$AK$54,$AF$4:$AF$54,$BT4,$L$4:$L$54,2)-SUMIFS($AI$4:$AI$54,$AH$4:$AH$54,$BT4,$L$4:$L$54,2),)","v":0},{"$f":"IF(AND(CZ4>0,COUNTIF(DF4:DF7,DF4)>1),DF4+RANK(DG4,DG4:DG7)-1,DF4)","v":0},{"$f":"IF(AND(CZ4>0,COUNTIF(DH4:DH7,DH4)>1),SUMIFS($AI$4:$AI$54,$AF$4:$AF$54,$BT4,$L$4:$L$54,2)+SUMIFS($AK$4:$AK$54,$AH$4:$AH$54,$BT4,$L$4:$L$54,2),)","v":0},{"$f":"IF(AND(CZ4>0,COUNTIF(DH4:DH7,DH4)>1),DH4+RANK(DI4,DI4:DI7)-1,DH4)","v":0},{"$f":"IF(DJ4=0,\"\",DJ4)","v":""},{"$f":"IF(OR(DK4=\"\",COUNTIF(DK4:DK7,DK4)=1),\"\",$BZ4)","v":""},{"$f":"IF(DK4=\"\",\"\",IF(COUNTIF(DK4:DK7,DK4)=1,DK4,DK4+RANK(DL4,DL4:DL7,0)-1))","v":""},{"$f":"IF(OR(DM4=\"\",COUNTIF(DM4:DM7,DM4)=1),\"\",$BX4)","v":""},{"$f":"IF(DK4=\"\",\"\",IF(COUNTIF(DM4:DM7,DM4)=1,DM4,DM4+RANK(DN4,DN4:DN7,0)-1))","v":""},{"$f":"IF(OR(DO4=\"\",COUNTIF(DO4:DO7,DO4)=1),\"\",$BU4)","v":""},{"$f":"IF(DK4=\"\",\"\",IF(COUNTIF(DO4:DO7,DO4)=1,DO4,DO4+RANK(DP4,DP4:DP7,0)-1))","v":""},{"$f":"IF(CZ4>0,CG2+RANK(DQ4,DQ4:DQ7,1),)","v":0},null,{"$f":"IF(CC4=3,BT4,)","v":0},{"$f":"(SUMIF(AF4:AF54,BT4,BF4:BF54)+SUMIF(AH4:AH54,BT4,BG4:BG54))","v":0},{"$f":"(SUMIF(AF4:AF54,BT4,BH4:BH54)+SUMIF(AH4:AH54,BT4,BI4:BI54))","v":0},{"$f":"(SUMIF(AF4:AF54,BT4,BJ4:BJ54)+SUMIF(AH4:AH54,BT4,BK4:BK54))","v":0},{"$f":"IFERROR(DU4*3+DV4*1,0)","v":0},{"$f":"CB4","v":"A"},{"$f":"IF(DT4>0,RANK(DX4,DX4:DX7)+CG2+DA2,)","v":0},{"$f":"IF(AND(DT4>0,COUNTIF(DZ4:DZ7,DZ4)>1),SUMIFS($AI$4:$AI$54,$AF$4:$AF$54,$BT4,$L$4:$L$54,3)+SUMIFS($AK$4:$AK$54,$AH$4:$AH$54,$BT4,$L$4:$L$54,3)-SUMIFS($AK$4:$AK$54,$AF$4:$AF$54,$BT4,$L$4:$L$54,3)-SUMIFS($AI$4:$AI$54,$AH$4:$AH$54,$BT4,$L$4:$L$54,3),)","v":0},{"$f":"IF(AND(DT4>0,COUNTIF(DZ4:DZ7,DZ4)>1),DZ4+RANK(EA4,EA4:EA7)-1,DZ4)","v":0},{"$f":"IF(AND(DT4>0,COUNTIF(EB4:EB7,EB4)>1),SUMIFS($AI$4:$AI$54,$AF$4:$AF$54,$BT4,$L$4:$L$54,3)+SUMIFS($AK$4:$AK$54,$AH$4:$AH$54,$BT4,$L$4:$L$54,3),)","v":0},{"$f":"IF(AND(DT4>0,COUNTIF(EB4:EB7,EB4)>1),EB4+RANK(EC4,EC4:EC7)-1,EB4)","v":0},{"$f":"IF(ED4=0,\"\",ED4)","v":""},{"$f":"IF(OR(EE4=\"\",COUNTIF(EE4:EE7,EE4)=1),\"\",$BZ4)","v":""},{"$f":"IF(EE4=\"\",\"\",IF(COUNTIF(EE4:EE7,EE4)=1,EE4,EE4+RANK(EF4,EF4:EF7,0)-1))","v":""},{"$f":"IF(OR(EG4=\"\",COUNTIF(EG4:EG7,EG4)=1),\"\",$BX4)","v":""},{"$f":"IF(EE4=\"\",\"\",IF(COUNTIF(EG4:EG7,EG4)=1,EG4,EG4+RANK(EH4,EH4:EH7,0)-1))","v":""},{"$f":"IF(OR(EI4=\"\",COUNTIF(EI4:EI7,EI4)=1),\"\",$BU4)","v":""},{"$f":"IF(EE4=\"\",\"\",IF(COUNTIF(EI4:EI7,EI4)=1,EI4,EI4+RANK(EJ4,EJ4:EJ7,0)-1))","v":""},{"$f":"IF(DT4>0,CG2+DA2+RANK(EK4,EK4:EK7,1),)","v":0},null,{"$f":"IF(CC4=4,BT4,)","v":0},{"$f":"(SUMIF(AF4:AF54,BT4,BL4:BL54)+SUMIF(AH4:AH54,BT4,BM4:BM54))","v":0},{"$f":"(SUMIF(AF4:AF54,BT4,BN4:BN54)+SUMIF(AH4:AH54,BT4,BO4:BO54))","v":0},{"$f":"(SUMIF(AF4:AF54,BT4,BP4:BP54)+SUMIF(AH4:AH54,BT4,BQ4:BQ54))","v":0},{"$f":"IFERROR(EO4*3+EP4*1,0)","v":0},{"$f":"CB4","v":"A"},{"$f":"IF(EN4>0,RANK(ER4,ER4:ER7)+CG2+DA2+DU2,)","v":0},{"$f":"IF(AND(EN4>0,COUNTIF(ET4:ET7,ET4)>1),SUMIFS($AI$4:$AI$54,$AF$4:$AF$54,$BT4,$L$4:$L$54,4)+SUMIFS($AK$4:$AK$54,$AH$4:$AH$54,$BT4,$L$4:$L$54,4)-SUMIFS($AK$4:$AK$54,$AF$4:$AF$54,$BT4,$L$4:$L$54,4)-SUMIFS($AI$4:$AI$54,$AH$4:$AH$54,$BT4,$L$4:$L$54,4),)","v":0},{"$f":"IF(AND(EN4>0,COUNTIF(ET4:ET7,ET4)>1),ET4+RANK(EU4,EU4:EU7)-1,ET4)","v":0},{"$f":"IF(AND(EN4>0,COUNTIF(EV4:EV7,EV4)>1),SUMIFS($AI$4:$AI$54,$AF$4:$AF$54,$BT4,$L$4:$L$54,4)+SUMIFS($AK$4:$AK$54,$AH$4:$AH$54,$BT4,$L$4:$L$54,4),)","v":0},{"$f":"IF(AND(EN4>0,COUNTIF(EV4:EV7,EV4)>1),EV4+RANK(EW4,EW4:EW7)-1,EV4)","v":0},{"$f":"IF(EX4=0,\"\",EX4)","v":""},{"$f":"IF(OR(EY4=\"\",COUNTIF(EY4:EY7,EY4)=1),\"\",$BZ4)","v":""},{"$f":"IF(EY4=\"\",\"\",IF(COUNTIF(EY4:EY7,EY4)=1,EY4,EY4+RANK(EZ4,EZ4:EZ7,0)-1))","v":""},{"$f":"IF(OR(FA4=\"\",COUNTIF(FA4:FA7,FA4)=1),\"\",$BX4)","v":""},{"$f":"IF(EY4=\"\",\"\",IF(COUNTIF(FA4:FA7,FA4)=1,FA4,FA4+RANK(FB4,FB4:FB7,0)-1))","v":""},{"$f":"IF(OR(FC4=\"\",COUNTIF(FC4:FC7,FC4)=1),\"\",$BU4)","v":""},{"$f":"IF(EY4=\"\",\"\",IF(COUNTIF(FC4:FC7,FC4)=1,FC4,FC4+RANK(FD4,FD4:FD7,0)-1))","v":""},{"$f":"IF(EN4>0,CG2+DA2+DU2+RANK(FE4,FE4:FE7,1),)","v":0},null,{"$f":"IFERROR(VLOOKUP(FJ4,CF3:CX7,19,FALSE),IFERROR(VLOOKUP(FJ4,CZ3:DR7,19,FALSE),IFERROR(VLOOKUP(FJ4,DT3:EL7,19,FALSE),VLOOKUP(FJ4,EN3:FF7,19,FALSE))))","v":1},{"$f":"RANK(FH4,FH4:FH7,1)+COUNTIF(FH4:FH4,FH4)-1","v":1},{"$f":"BT4","v":"Tyskland"},null,"A",{"$f":"N6","v":"Ungern"},{"$f":"RANK(FO4,FO4:FO9,1)+COUNTIF(FO4:FO4,FO4)-1","v":1},{"$f":"FR4+FQ4+FP4","v":1},{"$f":"SUMPRODUCT((FS4:FS9=FS4)*(FT4:FT9=FT4)*(FU4:FU9>FU4))","v":0},{"$f":"SUMPRODUCT((FS4:FS9=FS4)*(FT4:FT9>FT4))","v":0},{"$f":"RANK(FS4,FS4:FS9)","v":1},{"$f":"U6","v":0},{"$f":"T6","v":0},{"$f":"R6","v":0},"A",{"$f":"IF(FN4<5,FV4,)","v":"A"},null,3,"ABCE","A","B","C","E",{"$f":"VLOOKUP(\"A\",FL3:FM9,2,FALSE)","v":"Ungern"},{"$f":"VLOOKUP(\"E\",FL3:FM9,2,FALSE)","v":"Belgien"},{"$f":"VLOOKUP(\"B\",FL3:FM9,2,FALSE)","v":"Italien"},{"$f":"VLOOKUP(\"C\",FL3:FM9,2,FALSE)","v":"Serbien"},{"$f":"IFERROR(IF(AND(VLOOKUP(GA4,FW4:FW9,1,FALSE)=GA4,VLOOKUP(GB4,FW4:FW9,1,FALSE)=GB4,VLOOKUP(GC4,FW4:FW9,1,FALSE)=GC4,VLOOKUP(GD4,FW4:FW9,1,FALSE)=GD4),FY4,\"\"),\"\")","v":""}]
[null,null,"2024-06-15","Ungern","-","Schweiz",null,"-",null,{"$f":"IF(OR(ISBLANK(G5),ISBLANK(I5)),\"\",IF(G5>I5,1,IF(G5<I5,2,\"X\")))","v":""},{"$f":"IF(OR('Resultat & Tabell'!G5=\"\",'Resultat & Tabell'!I5=\"\",G5=\"\",I5=\"\"),0,IF(G5='Resultat & Tabell'!G5,2,0)+IF(I5='Resultat & Tabell'!I5,2,0)+IF(J5='Resultat & Tabell'!J5,3,0))","v":0},{"$f":"IF(VLOOKUP(D5,BT3:CC7,10,FALSE)=VLOOKUP(F5,BT3:CC7,10,FALSE),VLOOKUP(D5,BT3:CC7,10,FALSE),\"-\")","v":1},2,{"$f":"VLOOKUP(M5,FI4:FJ7,2,FALSE)","v":"Skottland"},{"$f":"VLOOKUP(N5,BT4:CA7,2,FALSE)","v":0},{"$f":"VLOOKUP(N5,BT4:CA7,3,FALSE)","v":0},{"$f":"VLOOKUP(N5,BT4:CA7,4,FALSE)","v":0},{"$f":"VLOOKUP(N5,BT4:CA7,5,FALSE)","v":0},{"$f":"VLOOKUP(N5,BT4:CA7,6,FALSE)","v":0},{"$f":"VLOOKUP(N5,BT4:CA7,7,FALSE)","v":0},{"$f":"VLOOKUP(N5,BT4:CA7,8,FALSE)","v":0},null,null,"Skyttekung",null,null,null,null,{"$f":"IF(AND('Resultat & Tabell'!W5:W5<>\"\",Y5='Resultat & Tabell'!W5:W5),20,0)","v":0},null,"2024-06-15","Ungern","-","Schweiz","","-","","",null,{"$f":"IF(AI5>AK5,1,0)","v":0},{"$f":"IF(AK5>AI5,1,0)","v":0},{"$f":"IF(AND(AI5=AK5,AI5<>\"\"),1,0)","v":0},{"$f":"IF(AND(AI5=AK5,AI5<>\"\"),1,0)","v":0},{"$f":"IF(AI5<AK5,1,0)","v":0},{"$f":"IF(AK5<AI5,1,)","v":0},0,0,0,0,0,0,0,0,0,0,0,0,0,0,0,0,0,0,0,0,0,0,0,0,null,null,"Skottland",{"$f":"(SUMIF(AF4:AF54,BT5,AN4:AN54)+SUMIF(AH4:AH54,BT5,AO4:AO54))","v":0},{"$f":"(SUMIF(AF4:AF54,BT5,AP4:AP54)+SUMIF(AH4:AH54,BT5,AQ4:AQ54))","v":0},{"$f":"(SUMIF(AF4:AF54,BT5,AR4:AR54)+SUMIF(AH4:AH54,BT5,AS4:AS54))","v":0},{"$f":"SUMIF(AF4:AF54,BT5,AI4:AI54)+SUMIF(AH4:AH54,BT5,AK4:AK54)","v":0},{"$f":"SUMIF(AF4:AF54,BT5,AK4:AK54)+SUMIF(AH4:AH54,BT5,AI4:AI54)","v":0},{"$f":"BX5-BY5","v":0},{"$f":"IFERROR(BU5*3+BV5*1,0)","v":0},"A",{"$f":"RANK(CA5,CA4:CA7)","v":1},{"$f":"SUMPRODUCT((CA4:CA7=CA5)*(BZ4:BZ7>BZ5))","v":0},null,{"$f":"IF(CC5=1,BT5,)","v":"Skottland"},{"$f":"(SUMIF(AF4:AF54,BT5,AT4:AT54)+SUMIF(AH4:AH54,BT5,AU4:AU54))","v":0},{"$f":"(SUMIF(AF4:AF54,BT5,AV4:AV54)+SUMIF(AH4:AH54,BT5,AW4:AW54))","v":0},{"$f":"(SUMIF(AF4:AF54,BT5,AX4:AX54)+SUMIF(AH4:AH54,BT5,AY4:AY54))","v":0},{"$f":"IFERROR(CG5*3+CH5*1,0)","v":0},{"$f":"CB5","v":"A"},{"$f":"IF(CF5>0,RANK(CJ5,CJ4:CJ7),)","v":1},{"$f":"IF(AND(CF5>0,COUNTIF(CL4:CL7,CL5)>1),SUMIFS($AI$4:$AI$54,$AF$4:$AF$54,BT5,$L$4:$L$54,1)+SUMIFS($AK$4:$AK$54,$AH$4:$AH$54,BT5,$L$4:$L$54,1)-SUMIFS($AK$4:$AK$54,$AF$4:$AF$54,BT5,$L$4:$L$54,1)-SUMIFS($AI$4:$AI$54,$AH$4:$AH$54,BT5,$L$4:$L$54,1),)","v":0},{"$f":"IF(AND(CF5>0,COUNTIF(CL4:CL7,CL5)>1),CL5+RANK(CM5,CM4:CM7)-1,CL5)","v":1},{"$f":"IF(AND(CF5>0,COUNTIF(CN4:CN7,CN5)>1),SUMIFS($AI$4:$AI$54,$AF$4:$AF$54,BT5,$L$4:$L$54,1)+SUMIFS($AK$4:$AK$54,$AH$4:$AH$54,BT5,$L$4:$L$54,1),)","v":0},{"$f":"IF(AND(CF5>0,COUNTIF(CN4:CN7,CN5)>1),CN5+RANK(CO5,CO4:CO7)-1,CN5)","v":1},{"$f":"IF(CP5=0,\"\",CP5)","v":1},{"$f":"IF(OR(CQ5=\"\",COUNTIF(CQ4:CQ7,CQ5)=1),\"\",$BZ5)","v":0},{"$f":"IF(CQ5=\"\",\"\",IF(COUNTIF(CQ4:CQ7,CQ5)=1,CQ5,CQ5+RANK(CR5,CR4:CR7,0)-1))","v":1},{"$f":"IF(OR(CS5=\"\",COUNTIF(CS4:CS7,CS5)=1),\"\",$BX5)","v":0},{"$f":"IF(CQ5=\"\",\"\",IF(COUNTIF(CS4:CS7,CS5)=1,CS5,CS5+RANK(CT5,CT4:CT7,0)-1))","v":1},{"$f":"IF(OR(CU5=\"\",COUNTIF(CU4:CU7,CU5)=1),\"\",$BU5)","v":0},{"$f":"IF(CQ5=\"\",\"\",IF(COUNTIF(CU4:CU7,CU5)=1,CU5,CU5+RANK(CV5,CV4:CV7,0)-1))","v":1},{"$f":"IF(CF5>0,BM2+RANK(CW5,CW4:CW7,1),)","v":1},null,{"$f":"IF(CC5=2,BT5,)","v":0},{"$f":"(SUMIF(AF4:AF54,BT5,AZ4:AZ54)+SUMIF(AH4:AH54,BT5,BA4:BA54))","v":0},{"$f":"(SUMIF(AF4:AF54,BT5,BB4:BB54)+SUMIF(AH4:AH54,BT5,BC4:BC54))","v":0},{"$f":"(SUMIF(AF4:AF54,BT5,BD4:BD54)+SUMIF(AH4:AH54,BT5,BE4:BE54))","v":0},{"$f":"IFERROR(DA5*3+DB5*1,0)","v":0},{"$f":"CB5","v":"A"},{"$f":"IF(CZ5>0,RANK(DD5,DD4:DD7)+CG2,)","v":0},{"$f":"IF(AND(CZ5>0,COUNTIF(DF4:DF7,DF5)>1),SUMIFS($AI$4:$AI$54,$AF$4:$AF$54,BT5,$L$4:$L$54,2)+SUMIFS($AK$4:$AK$54,$AH$4:$AH$54,BT5,$L$4:$L$54,2)-SUMIFS($AK$4:$AK$54,$AF$4:$AF$54,BT5,$L$4:$L$54,2)-SUMIFS($AI$4:$AI$54,$AH$4:$AH$54,BT5,$L$4:$L$54,2),)","v":0},{"$f":"IF(AND(CZ5>0,COUNTIF(DF4:DF7,DF5)>1),DF5+RANK(DG5,DG4:DG7)-1,DF5)","v":0},{"$f":"IF(AND(CZ5>0,COUNTIF(DH4:DH7,DH5)>1),SUMIFS($AI$4:$AI$54,$AF$4:$AF$54,BT5,$L$4:$L$54,2)+SUMIFS($AK$4:$AK$54,$AH$4:$AH$54,BT5,$L$4:$L$54,2),)","v":0},{"$f":"IF(AND(CZ5>0,COUNTIF(DH4:DH7,DH5)>1),DH5+RANK(DI5,DI4:DI7)-1,DH5)","v":0},{"$f":"IF(DJ5=0,\"\",DJ5)","v":""},{"$f":"IF(OR(DK5=\"\",COUNTIF(DK4:DK7,DK5)=1),\"\",$BZ5)","v":""},{"$f":"IF(DK5=\"\",\"\",IF(COUNTIF(DK4:DK7,DK5)=1,DK5,DK5+RANK(DL5,DL4:DL7,0)-1))","v":""},{"$f":"IF(OR(DM5=\"\",COUNTIF(DM4:DM7,DM5)=1),\"\",$BX5)","v":""},{"$f":"IF(DK5=\"\",\"\",IF(COUNTIF(DM4:DM7,DM5)=1,DM5,DM5+RANK(DN5,DN4:DN7,0)-1))","v":""},{"$f":"IF(OR(DO5=\"\",COUNTIF(DO4:DO7,DO5)=1),\"\",$BU5)","v":""},{"$f":"IF(DK5=\"\",\"\",IF(COUNTIF(DO4:DO7,DO5)=1,DO5,DO5+RANK(DP5,DP4:DP7,0)-1))","v":""},{"$f":"IF(CZ5>0,CG2+RANK(DQ5,DQ4:DQ7,1),)","v":0},null,{"$f":"IF(CC5=3,BT5,)","v":0},{"$f":"(SUMIF(AF4:AF54,BT5,BF4:BF54)+SUMIF(AH4:AH54,BT5,BG4:BG54))","v":0},{"$f":"(SUMIF(AF4:AF54,BT5,BH4:BH54)+SUMIF(AH4:AH54,BT5,BI4:BI54))","v":0},{"$f":"(SUMIF(AF4:AF54,BT5,BJ4:BJ54)+SUMIF(AH4:AH54,BT5,BK4:BK54))","v":0},{"$f":"IFERROR(DU5*3+DV5*1,0)","v":0},{"$f":"CB5","v":"A"},{"$f":"IF(DT5>0,RANK(DX5,DX4:DX7)+CG2+DA2,)","v":0},{"$f":"IF(AND(DT5>0,COUNTIF(DZ4:DZ7,DZ5)>1),SUMIFS($AI$4:$AI$54,$AF$4:$AF$54,BT5,$L$4:$L$54,3)+SUMIFS($AK$4:$AK$54,$AH$4:$AH$54,BT5,$L$4:$L$54,3)-SUMIFS($AK$4:$AK$54,$AF$4:$AF$54,BT5,$L$4:$L$54,3)-SUMIFS($AI$4:$AI$54,$AH$4:$AH$54,BT5,$L$4:$L$54,3),)","v":0},{"$f":"IF(AND(DT5>0,COUNTIF(DZ4:DZ7,DZ5)>1),DZ5+RANK(EA5,EA4:EA7)-1,DZ5)","v":0},{"$f":"IF(AND(DT5>0,COUNTIF(EB4:EB7,EB5)>1),SUMIFS($AI$4:$AI$54,$AF$4:$AF$54,BT5,$L$4:$L$54,3)+SUMIFS($AK$4:$AK$54,$AH$4:$AH$54,BT5,$L$4:$L$54,3),)","v":0},{"$f":"IF(AND(DT5>0,COUNTIF(EB4:EB7,EB5)>1),EB5+RANK(EC5,EC4:EC7)-1,EB5)","v":0},{"$f":"IF(ED5=0,\"\",ED5)","v":""},{"$f":"IF(OR(EE5=\"\",COUNTIF(EE4:EE7,EE5)=1),\"\",$BZ5)","v":""},{"$f":"IF(EE5=\"\",\"\",IF(COUNTIF(EE4:EE7,EE5)=1,EE5,EE5+RANK(EF5,EF4:EF7,0)-1))","v":""},{"$f":"IF(OR(EG5=\"\",COUNTIF(EG4:EG7,EG5)=1),\"\",$BX5)","v":""},{"$f":"IF(EE5=\"\",\"\",IF(COUNTIF(EG4:EG7,EG5)=1,EG5,EG5+RANK(EH5,EH4:EH7,0)-1))","v":""},{"$f":"IF(OR(EI5=\"\",COUNTIF(EI4:EI7,EI5)=1),\"\",$BU5)","v":""},{"$f":"IF(EE5=\"\",\"\",IF(COUNTIF(EI4:EI7,EI5)=1,EI5,EI5+RANK(EJ5,EJ4:EJ7,0)-1))","v":""},{"$f":"IF(DT5>0,CG2+DA2+RANK(EK5,EK4:EK7,1),)","v":0},null,{"$f":"IF(CC5=4,BT5,)","v":0},{"$f":"(SUMIF(AF4:AF54,BT5,BL4:BL54)+SUMIF(AH4:AH54,BT5,BM4:BM54))","v":0},{"$f":"(SUMIF(AF4:AF54,BT5,BN4:BN54)+SUMIF(AH4:AH54,BT5,BO4:BO54))","v":0},{"$f":"(SUMIF(AF4:AF54,BT5,BP4:BP54)+SUMIF(AH4:AH54,BT5,BQ4:BQ54))","v":0},{"$f":"IFERROR(EO5*3+EP5*1,0)","v":0},{"$f":"CB5","v":"A"},{"$f":"IF(EN5>0,RANK(ER5,ER4:ER7)+CG2+DA2+DU2,)","v":0},{"$f":"IF(AND(EN5>0,COUNTIF(ET4:ET7,ET5)>1),SUMIFS($AI$4:$AI$54,$AF$4:$AF$54,BT5,$L$4:$L$54,4)+SUMIFS($AK$4:$AK$54,$AH$4:$AH$54,BT5,$L$4:$L$54,4)-SUMIFS($AK$4:$AK$54,$AF$4:$AF$54,BT5,$L$4:$L$54,4)-SUMIFS($AI$4:$AI$54,$AH$4:$AH$54,BT5,$L$4:$L$54,4),)","v":0},{"$f":"IF(AND(EN5>0,COUNTIF(ET4:ET7,ET5)>1),ET5+RANK(EU5,EU4:EU7)-1,ET5)","v":0},{"$f":"IF(AND(EN5>0,COUNTIF(EV4:EV7,EV5)>1),SUMIFS($AI$4:$AI$54,$AF$4:$AF$54,BT5,$L$4:$L$54,4)+SUMIFS($AK$4:$AK$54,$AH$4:$AH$54,BT5,$L$4:$L$54,4),)","v":0},{"$f":"IF(AND(EN5>0,COUNTIF(EV4:EV7,EV5)>1),EV5+RANK(EW5,EW4:EW7)-1,EV5)","v":0},{"$f":"IF(EX5=0,\"\",EX5)","v":""},{"$f":"IF(OR(EY5=\"\",COUNTIF(EY4:EY7,EY5)=1),\"\",$BZ5)","v":""},{"$f":"IF(EY5=\"\",\"\",IF(COUNTIF(EY4:EY7,EY5)=1,EY5,EY5+RANK(EZ5,EZ4:EZ7,0)-1))","v":""},{"$f":"IF(OR(FA5=\"\",COUNTIF(FA4:FA7,FA5)=1),\"\",$BX5)","v":""},{"$f":"IF(EY5=\"\",\"\",IF(COUNTIF(FA4:FA7,FA5)=1,FA5,FA5+RANK(FB5,FB4:FB7,0)-1))","v":""},{"$f":"IF(OR(FC5=\"\",COUNTIF(FC4:FC7,FC5)=1),\"\",$BU5)","v":""},{"$f":"IF(EY5=\"\",\"\",IF(COUNTIF(FC4:FC7,FC5)=1,FC5,FC5+RANK(FD5,FD4:FD7,0)-1))","v":""},{"$f":"IF(EN5>0,CG2+DA2+DU2+RANK(FE5,FE4:FE7,1),)","v":0},null,{"$f":"IFERROR(VLOOKUP(FJ5,CF3:CX7,19,FALSE),IFERROR(VLOOKUP(FJ5,CZ3:DR7,19,FALSE),IFERROR(VLOOKUP(FJ5,DT3:EL7,19,FALSE),VLOOKUP(FJ5,EN3:FF7,19,FALSE))))","v":1},{"$f":"RANK(FH5,FH4:FH7,1)+COUNTIF(FH4:FH5,FH5)-1","v":2},{"$f":"BT5","v":"Skottland"},null,"B",{"$f":"N15","v":"Italien"},{"$f":"RANK(FO5,FO4:FO9,1)+COUNTIF(FO4:FO5,FO5)-1","v":2},{"$f":"FR5+FQ5+FP5","v":1},{"$f":"SUMPRODUCT((FS4:FS9=FS5)*(FT4:FT9=FT5)*(FU4:FU9>FU5))","v":0},{"$f":"SUMPRODUCT((FS4:FS9=FS5)*(FT4:FT9>FT5))","v":0},{"$f":"RANK(FS5,FS4:FS9)","v":1},{"$f":"U15","v":0},{"$f":"T15","v":0},{"$f":"R15","v":0},"B",{"$f":"IF(FN5<5,FV5,)","v":"B"},null,4,"ABCF","A","B","C","F",{"$f":"VLOOKUP(\"A\",FL3:FM9,2,FALSE)","v":"Ungern"},{"$f":"VLOOKUP(\"F\",FL3:FM9,2,FALSE)","v":"Georgien"},{"$f":"VLOOKUP(\"B\",FL3:FM9,2,FALSE)","v":"Italien"},{"$f":"VLOOKUP(\"C\",FL3:FM9,2,FALSE)","v":"Serbien"},{"$f":"IFERROR(IF(AND(VLOOKUP(GA5,FW4:FW9,1,FALSE)=GA5,VLOOKUP(GB5,FW4:FW9,1,FALSE)=GB5,VLOOKUP(GC5,FW4:FW9,1,FALSE)=GC5,VLOOKUP(GD5,FW4:FW9,1,FALSE)=GD5),FY5,\"\"),\"\")","v":""}]
[null,null,"2024-06-19","Tyskland","-","Ungern",null,"-",null,"",{"$f":"IF(OR('Resultat & Tabell'!G6=\"\",'Resultat & Tabell'!I6=\"\",G6=\"\",I6=\"\"),0,IF(G6='Resultat & Tabell'!G6,2,0)+IF(I6='Resultat & Tabell'!I6,2,0)+IF(J6='Resultat & Tabell'!J6,3,0))","v":0},{"$f":"IF(VLOOKUP(D6,BT3:CC7,10,FALSE)=VLOOKUP(F6,BT3:CC7,10,FALSE),VLOOKUP(D6,BT3:CC7,10,FALSE),\"-\")","v":1},3,{"$f":"VLOOKUP(M6,FI4:FJ7,2,FALSE)","v":"Ungern"},{"$f":"VLOOKUP(N6,BT4:CA7,2,FALSE)","v":0},{"$f":"VLOOKUP(N6,BT4:CA7,3,FALSE)","v":0},{"$f":"VLOOKUP(N6,BT4:CA7,4,FALSE)","v":0},{"$f":"VLOOKUP(N6,BT4:CA7,5,FALSE)","v":0},{"$f":"VLOOKUP(N6,BT4:CA7,6,FALSE)","v":0},{"$f":"VLOOKUP(N6,BT4:CA7,7,FALSE)","v":0},{"$f":"VLOOKUP(N6,BT4:CA7,8,FALSE)","v":0},null,null,{"$f":"'Resultat & Tabell'!V6","v":"Lag som gör flest mål i gruppspelet"},null,null,null,null,{"$f":"IF(AND('Resultat & Tabell'!W6:W6<>\"\",Y6='Resultat & Tabell'!W6:W6),10,0)","v":0},null,"2024-06-19","Tyskland","-","Ungern","","-","","",null,0,0,0,0,0,0,0,0,0,0,0,0,0,0,0,0,0,0,0,0,0,0,0,0,0,0,0,0,0,0,null,null,"Ungern",{"$f":"(SUMIF(AF4:AF54,BT6,AN4:AN54)+SUMIF(AH4:AH54,BT6,AO4:AO54))","v":0},{"$f":"(SUMIF(AF4:AF54,BT6,AP4:AP54)+SUMIF(AH4:AH54,BT6,AQ4:AQ54))","v":0},{"$f":"(SUMIF(AF4:AF54,BT6,AR4:AR54)+SUMIF(AH4:AH54,BT6,AS4:AS54))","v":0},{"$f":"SUMIF(AF4:AF54,BT6,AI4:AI54)+SUMIF(AH4:AH54,BT6,AK4:AK54)","v":0},{"$f":"SUMIF(AF4:AF54,BT6,AK4:AK54)+SUMIF(AH4:AH54,BT6,AI4:AI54)","v":0},0,0,"A",{"$f":"RANK(CA6,CA4:CA7)","v":1},{"$f":"SUMPRODUCT((CA4:CA7=CA6)*(BZ4:BZ7>BZ6))","v":0},null,{"$f":"IF(CC6=1,BT6,)","v":"Ungern"},{"$f":"(SUMIF(AF4:AF54,BT6,AT4:AT54)+SUMIF(AH4:AH54,BT6,AU4:AU54))","v":0},{"$f":"(SUMIF(AF4:AF54,BT6,AV4:AV54)+SUMIF(AH4:AH54,BT6,AW4:AW54))","v":0},{"$f":"(SUMIF(AF4:AF54,BT6,AX4:AX54)+SUMIF(AH4:AH54,BT6,AY4:AY54))","v":0},0,{"$f":"CB6","v":"A"},{"$f":"IF(CF6>0,RANK(CJ6,CJ4:CJ7),)","v":1},{"$f":"IF(AND(CF6>0,COUNTIF(CL4:CL7,CL6)>1),SUMIFS($AI$4:$AI$54,$AF$4:$AF$54,BT6,$L$4:$L$54,1)+SUMIFS($AK$4:$AK$54,$AH$4:$AH$54,BT6,$L$4:$L$54,1)-SUMIFS($AK$4:$AK$54,$AF$4:$AF$54,BT6,$L$4:$L$54,1)-SUMIFS($AI$4:$AI$54,$AH$4:$AH$54,BT6,$L$4:$L$54,1),)","v":0},{"$f":"IF(AND(CF6>0,COUNTIF(CL4:CL7,CL6)>1),CL6+RANK(CM6,CM4:CM7)-1,CL6)","v":1},{"$f":"IF(AND(CF6>0,COUNTIF(CN4:CN7,CN6)>1),SUMIFS($AI$4:$AI$54,$AF$4:$AF$54,BT6,$L$4:$L$54,1)+SUMIFS($AK$4:$AK$54,$AH$4:$AH$54,BT6,$L$4:$L$54,1),)","v":0},{"$f":"IF(AND(CF6>0,COUNTIF(CN4:CN7,CN6)>1),CN6+RANK(CO6,CO4:CO7)-1,CN6)","v":1},1,{"$f":"IF(OR(CQ6=\"\",COUNTIF(CQ4:CQ7,CQ6)=1),\"\",$BZ6)","v":0},{"$f":"IF(CQ6=\"\",\"\",IF(COUNTIF(CQ4:CQ7,CQ6)=1,CQ6,CQ6+RANK(CR6,CR4:CR7,0)-1))","v":1},{"$f":"IF(OR(CS6=\"\",COUNTIF(CS4:CS7,CS6)=1),\"\",$BX6)","v":0},{"$f":"IF(CQ6=\"\",\"\",IF(COUNTIF(CS4:CS7,CS6)=1,CS6,CS6+RANK(CT6,CT4:CT7,0)-1))","v":1},{"$f":"IF(OR(CU6=\"\",COUNTIF(CU4:CU7,CU6)=1),\"\",$BU6)","v":0},{"$f":"IF(CQ6=\"\",\"\",IF(COUNTIF(CU4:CU7,CU6)=1,CU6,CU6+RANK(CV6,CV4:CV7,0)-1))","v":1},{"$f":"IF(CF6>0,BM2+RANK(CW6,CW4:CW7,1),)","v":1},null,{"$f":"IF(CC6=2,BT6,)","v":0},{"$f":"(SUMIF(AF4:AF54,BT6,AZ4:AZ54)+SUMIF(AH4:AH54,BT6,BA4:BA54))","v":0},{"$f":"(SUMIF(AF4:AF54,BT6,BB4:BB54)+SUMIF(AH4:AH54,BT6,BC4:BC54))","v":0},{"$f":"(SUMIF(AF4:AF54,BT6,BD4:BD54)+SUMIF(AH4:AH54,BT6,BE4:BE54))","v":0},0,{"$f":"CB6","v":"A"},{"$f":"IF(CZ6>0,RANK(DD6,DD4:DD7)+CG2,)","v":0},{"$f":"IF(AND(CZ6>0,COUNTIF(DF4:DF7,DF6)>1),SUMIFS($AI$4:$AI$54,$AF$4:$AF$54,BT6,$L$4:$L$54,2)+SUMIFS($AK$4:$AK$54,$AH$4:$AH$54,BT6,$L$4:$L$54,2)-SUMIFS($AK$4:$AK$54,$AF$4:$AF$54,BT6,$L$4:$L$54,2)-SUMIFS($AI$4:$AI$54,$AH$4:$AH$54,BT6,$L$4:$L$54,2),)","v":0},{"$f":"IF(AND(CZ6>0,COUNTIF(DF4:DF7,DF6)>1),DF6+RANK(DG6,DG4:DG7)-1,DF6)","v":0},{"$f":"IF(AND(CZ6>0,COUNTIF(DH4:DH7,DH6)>1),SUMIFS($AI$4:$AI$54,$AF$4:$AF$54,BT6,$L$4:$L$54,2)+SUMIFS($AK$4:$AK$54,$AH$4:$AH$54,BT6,$L$4:$L$54,2),)","v":0},{"$f":"IF(AND(CZ6>0,COUNTIF(DH4:DH7,DH6)>1),DH6+RANK(DI6,DI4:DI7)-1,DH6)","v":0},"",{"$f":"IF(OR(DK6=\"\",COUNTIF(DK4:DK7,DK6)=1),\"\",$BZ6)","v":""},{"$f":"IF(DK6=\"\",\"\",IF(COUNTIF(DK4:DK7,DK6)=1,DK6,DK6+RANK(DL6,DL4:DL7,0)-1))","v":""},{"$f":"IF(OR(DM6=\"\",COUNTIF(DM4:DM7,DM6)=1),\"\",$BX6)","v":""},{"$f":"IF(DK6=\"\",\"\",IF(COUNTIF(DM4:DM7,DM6)=1,DM6,DM6+RANK(DN6,DN4:DN7,0)-1))","v":""},{"$f":"IF(OR(DO6=\"\",COUNTIF(DO4:DO7,DO6)=1),\"\",$BU6)","v":""},{"$f":"IF(DK6=\"\",\"\",IF(COUNTIF(DO4:DO7,DO6)=1,DO6,DO6+RANK(DP6,DP4:DP7,0)-1))","v":""},{"$f":"IF(CZ6>0,CG2+RANK(DQ6,DQ4:DQ7,1),)","v":0},null,{"$f":"IF(CC6=3,BT6,)","v":0},{"$f":"(SUMIF(AF4:AF54,BT6,BF4:BF54)+SUMIF(AH4:AH54,BT6,BG4:BG54))","v":0},{"$f":"(SUMIF(AF4:AF54,BT6,BH4:BH54)+SUMIF(AH4:AH54,BT6,BI4:BI54))","v":0},{"$f":"(SUMIF(AF4:AF54,BT6,BJ4:BJ54)+SUMIF(AH4:AH54,BT6,BK4:BK54))","v":0},0,{"$f":"CB6","v":"A"},{"$f":"IF(DT6>0,RANK(DX6,DX4:DX7)+CG2+DA2,)","v":0},{"$f":"IF(AND(DT6>0,COUNTIF(DZ4:DZ7,DZ6)>1),SUMIFS($AI$4:$AI$54,$AF$4:$AF$54,BT6,$L$4:$L$54,3)+SUMIFS($AK$4:$AK$54,$AH$4:$AH$54,BT6,$L$4:$L$54,3)-SUMIFS($AK$4:$AK$54,$AF$4:$AF$54,BT6,$L$4:$L$54,3)-SUMIFS($AI$4:$AI$54,$AH$4:$AH$54,BT6,$L$4:$L$54,3),)","v":0},{"$f":"IF(AND(DT6>0,COUNTIF(DZ4:DZ7,DZ6)>1),DZ6+RANK(EA6,EA4:EA7)-1,DZ6)","v":0},{"$f":"IF(AND(DT6>0,COUNTIF(EB4:EB7,EB6)>1),SUMIFS($AI$4:$AI$54,$AF$4:$AF$54,BT6,$L$4:$L$54,3)+SUMIFS($AK$4:$AK$54,$AH$4:$AH$54,BT6,$L$4:$L$54,3),)","v":0},{"$f":"IF(AND(DT6>0,COUNTIF(EB4:EB7,EB6)>1),EB6+RANK(EC6,EC4:EC7)-1,EB6)","v":0},"",{"$f":"IF(OR(EE6=\"\",COUNTIF(EE4:EE7,EE6)=1),\"\",$BZ6)","v":""},{"$f":"IF(EE6=\"\",\"\",IF(COUNTIF(EE4:EE7,EE6)=1,EE6,EE6+RANK(EF6,EF4:EF7,0)-1))","v":""},{"$f":"IF(OR(EG6=\"\",COUNTIF(EG4:EG7,EG6)=1),\"\",$BX6)","v":""},{"$f":"IF(EE6=\"\",\"\",IF(COUNTIF(EG4:EG7,EG6)=1,EG6,EG6+RANK(EH6,EH4:EH7,0)-1))","v":""},{"$f":"IF(OR(EI6=\"\",COUNTIF(EI4:EI7,EI6)=1),\"\",$BU6)","v":""},{"$f":"IF(EE6=\"\",\"\",IF(COUNTIF(EI4:EI7,EI6)=1,EI6,EI6+RANK(EJ6,EJ4:EJ7,0)-1))","v":""},{"$f":"IF(DT6>0,CG2+DA2+RANK(EK6,EK4:EK7,1),)","v":0},null,{"$f":"IF(CC6=4,BT6,)","v":0},{"$f":"(SUMIF(AF4:AF54,BT6,BL4:BL54)+SUMIF(AH4:AH54,BT6,BM4:BM54))","v":0},{"$f":"(SUMIF(AF4:AF54,BT6,BN4:BN54)+SUMIF(AH4:AH54,BT6,BO4:BO54))","v":0},{"$f":"(SUMIF(AF4:AF54,BT6,BP4:BP54)+SUMIF(AH4:AH54,BT6,BQ4:BQ54))","v":0},0,{"$f":"CB6","v":"A"},{"$f":"IF(EN6>0,RANK(ER6,ER4:ER7)+CG2+DA2+DU2,)","v":0},{"$f":"IF(AND(EN6>0,COUNTIF(ET4:ET7,ET6)>1),SUMIFS($AI$4:$AI$54,$AF$4:$AF$54,BT6,$L$4:$L$54,4)+SUMIFS($AK$4:$AK$54,$AH$4:$AH$54,BT6,$L$4:$L$54,4)-SUMIFS($AK$4:$AK$54,$AF$4:$AF$54,BT6,$L$4:$L$54,4)-SUMIFS($AI$4:$AI$54,$AH$4:$AH$54,BT6,$L$4:$L$54,4),)","v":0},{"$f":"IF(AND(EN6>0,COUNTIF(ET4:ET7,ET6)>1),ET6+RANK(EU6,EU4:EU7)-1,ET6)","v":0},{"$f":"IF(AND(EN6>0,COUNTIF(EV4:EV7,EV6)>1),SUMIFS($AI$4:$AI$54,$AF$4:$AF$54,BT6,$L$4:$L$54,4)+SUMIFS($AK$4:$AK$54,$AH$4:$AH$54,BT6,$L$4:$L$54,4),)","v":0},{"$f":"IF(AND(EN6>0,COUNTIF(EV4:EV7,EV6)>1),EV6+RANK(EW6,EW4:EW7)-1,EV6)","v":0},"",{"$f":"IF(OR(EY6=\"\",COUNTIF(EY4:EY7,EY6)=1),\"\",$BZ6)","v":""},{"$f":"IF(EY6=\"\",\"\",IF(COUNTIF(EY4:EY7,EY6)=1,EY6,EY6+RANK(EZ6,EZ4:EZ7,0)-1))","v":""},{"$f":"IF(OR(FA6=\"\",COUNTIF(FA4:FA7,FA6)=1),\"\",$BX6)","v":""},{"$f":"IF(EY6=\"\",\"\",IF(COUNTIF(FA4:FA7,FA6)=1,FA6,FA6+RANK(FB6,FB4:FB7,0)-1))","v":""},{"$f":"IF(OR(FC6=\"\",COUNTIF(FC4:FC7,FC6)=1),\"\",$BU6)","v":""},{"$f":"IF(EY6=\"\",\"\",IF(COUNTIF(FC4:FC7,FC6)=1,FC6,FC6+RANK(FD6,FD4:FD7,0)-1))","v":""},{"$f":"IF(EN6>0,CG2+DA2+DU2+RANK(FE6,FE4:FE7,1),)","v":0},null,{"$f":"IFERROR(VLOOKUP(FJ6,CF3:CX7,19,FALSE),IFERROR(VLOOKUP(FJ6,CZ3:DR7,19,FALSE),IFERROR(VLOOKUP(FJ6,DT3:EL7,19,FALSE),VLOOKUP(FJ6,EN3:FF7,19,FALSE))))","v":1},{"$f":"RANK(FH6,FH4:FH7,1)+COUNTIF(FH4:FH6,FH6)-1","v":3},{"$f":"BT6","v":"Ungern"},null,"C",{"$f":"N24","v":"Serbien"},{"$f":"RANK(FO6,FO4:FO9,1)+COUNTIF(FO4:FO6,FO6)-1","v":3},1,{"$f":"SUMPRODUCT((FS4:FS9=FS6)*(FT4:FT9=FT6)*(FU4:FU9>FU6))","v":0},{"$f":"SUMPRODUCT((FS4:FS9=FS6)*(FT4:FT9>FT6))","v":0},{"$f":"RANK(FS6,FS4:FS9)","v":1},{"$f":"U24","v":0},{"$f":"T24","v":0},{"$f":"R24","v":0},"C","C",null,5,"ABDE","A","B","D","E",{"$f":"VLOOKUP(\"D\",FL3:FM9,2,FALSE)","v":"Polen"},{"$f":"VLOOKUP(\"E\",FL3:FM9,2,FALSE)","v":"Belgien"},{"$f":"VLOOKUP(\"A\",FL3:FM9,2,FALSE)","v":"Ungern"},{"$f":"VLOOKUP(\"B\",FL3:FM9,2,FALSE)","v":"Italien"},{"$f":"IFERROR(IF(AND(VLOOKUP(GA6,FW4:FW9,1,FALSE)=GA6,VLOOKUP(GB6,FW4:FW9,1,FALSE)=GB6,VLOOKUP(GC6,FW4:FW9,1,FALSE)=GC6,VLOOKUP(GD6,FW4:FW9,1,FALSE)=GD6),FY6,\"\"),\"\")","v":""}]
[null,null,"2024-06-19","Skottland","-","Schweiz",null,"-",null,"",{"$f":"IF(OR('Resultat & Tabell'!G7=\"\",'Resultat & Tabell'!I7=\"\",G7=\"\",I7=\"\"),0,IF(G7='Resultat & Tabell'!G7,2,0)+IF(I7='Resultat & Tabell'!I7,2,0)+IF(J7='Resultat & Tabell'!J7,3,0))","v":0},{"$f":"IF(VLOOKUP(D7,BT3:CC7,10,FALSE)=VLOOKUP(F7,BT3:CC7,10,FALSE),VLOOKUP(D7,BT3:CC7,10,FALSE),\"-\")","v":1},4,{"$f":"VLOOKUP(M7,FI4:FJ7,2,FALSE)","v":"Schweiz"},{"$f":"VLOOKUP(N7,BT4:CA7,2,FALSE)","v":0},{"$f":"VLOOKUP(N7,BT4:CA7,3,FALSE)","v":0},{"$f":"VLOOKUP(N7,BT4:CA7,4,FALSE)","v":0},{"$f":"VLOOKUP(N7,BT4:CA7,5,FALSE)","v":0},{"$f":"VLOOKUP(N7,BT4:CA7,6,FALSE)","v":0},{"$f":"VLOOKUP(N7,BT4:CA7,7,FALSE)","v":0},{"$f":"VLOOKUP(N7,BT4:CA7,8,FALSE)","v":0},null,null,{"$f":"'Resultat & Tabell'!V7","v":"Lag som släpper in flest mål i gruppspelet"},null,null,null,null,{"$f":"IF(AND('Resultat & Tabell'!W7:W7<>\"\",Y7='Resultat & Tabell'!W7:W7),10,0)","v":0},null,"2024-06-19","Skottland","-","Schweiz","","-","","",null,0,0,0,0,0,0,0,0,0,0,0,0,0,0,0,0,0,0,0,0,0,0,0,0,0,0,0,0,0,0,null,null,"Schweiz",{"$f":"(SUMIF(AF4:AF54,BT7,AN4:AN54)+SUMIF(AH4:AH54,BT7,AO4:AO54))","v":0},{"$f":"(SUMIF(AF4:AF54,BT7,AP4:AP54)+SUMIF(AH4:AH54,BT7,AQ4:AQ54))","v":0},{"$f":"(SUMIF(AF4:AF54,BT7,AR4:AR54)+SUMIF(AH4:AH54,BT7,AS4:AS54))","v":0},{"$f":"SUMIF(AF4:AF54,BT7,AI4:AI54)+SUMIF(AH4:AH54,BT7,AK4:AK54)","v":0},{"$f":"SUMIF(AF4:AF54,BT7,AK4:AK54)+SUMIF(AH4:AH54,BT7,AI4:AI54)","v":0},0,0,"A",{"$f":"RANK(CA7,CA4:CA7)","v":1},{"$f":"SUMPRODUCT((CA4:CA7=CA7)*(BZ4:BZ7>BZ7))","v":0},null,{"$f":"IF(CC7=1,BT7,)","v":"Schweiz"},{"$f":"(SUMIF(AF4:AF54,BT7,AT4:AT54)+SUMIF(AH4:AH54,BT7,AU4:AU54))","v":0},{"$f":"(SUMIF(AF4:AF54,BT7,AV4:AV54)+SUMIF(AH4:AH54,BT7,AW4:AW54))","v":0},{"$f":"(SUMIF(AF4:AF54,BT7,AX4:AX54)+SUMIF(AH4:AH54,BT7,AY4:AY54))","v":0},0,{"$f":"CB7","v":"A"},{"$f":"IF(CF7>0,RANK(CJ7,CJ4:CJ7),)","v":1},{"$f":"IF(AND(CF7>0,COUNTIF(CL4:CL7,CL7)>1),SUMIFS($AI$4:$AI$54,$AF$4:$AF$54,BT7,$L$4:$L$54,1)+SUMIFS($AK$4:$AK$54,$AH$4:$AH$54,BT7,$L$4:$L$54,1)-SUMIFS($AK$4:$AK$54,$AF$4:$AF$54,BT7,$L$4:$L$54,1)-SUMIFS($AI$4:$AI$54,$AH$4:$AH$54,BT7,$L$4:$L$54,1),)","v":0},{"$f":"IF(AND(CF7>0,COUNTIF(CL4:CL7,CL7)>1),CL7+RANK(CM7,CM4:CM7)-1,CL7)","v":1},{"$f":"IF(AND(CF7>0,COUNTIF(CN4:CN7,CN7)>1),SUMIFS($AI$4:$AI$54,$AF$4:$AF$54,BT7,$L$4:$L$54,1)+SUMIFS($AK$4:$AK$54,$AH$4:$AH$54,BT7,$L$4:$L$54,1),)","v":0},{"$f":"IF(AND(CF7>0,COUNTIF(CN4:CN7,CN7)>1),CN7+RANK(CO7,CO4:CO7)-1,CN7)","v":1},1,{"$f":"IF(OR(CQ7=\"\",COUNTIF(CQ4:CQ7,CQ7)=1),\"\",$BZ7)","v":0},{"$f":"IF(CQ7=\"\",\"\",IF(COUNTIF(CQ4:CQ7,CQ7)=1,CQ7,CQ7+RANK(CR7,CR4:CR7,0)-1))","v":1},{"$f":"IF(OR(CS7=\"\",COUNTIF(CS4:CS7,CS7)=1),\"\",$BX7)","v":0},{"$f":"IF(CQ7=\"\",\"\",IF(COUNTIF(CS4:CS7,CS7)=1,CS7,CS7+RANK(CT7,CT4:CT7,0)-1))","v":1},{"$f":"IF(OR(CU7=\"\",COUNTIF(CU4:CU7,CU7)=1),\"\",$BU7)","v":0},{"$f":"IF(CQ7=\"\",\"\",IF(COUNTIF(CU4:CU7,CU7)=1,CU7,CU7+RANK(CV7,CV4:CV7,0)-1))","v":1},{"$f":"IF(CF7>0,BM2+RANK(CW7,CW4:CW7,1),)","v":1},null,{"$f":"IF(CC7=2,BT7,)","v":0},{"$f":"(SUMIF(AF4:AF54,BT7,AZ4:AZ54)+SUMIF(AH4:AH54,BT7,BA4:BA54))","v":0},{"$f":"(SUMIF(AF4:AF54,BT7,BB4:BB54)+SUMIF(AH4:AH54,BT7,BC4:BC54))","v":0},{"$f":"(SUMIF(AF4:AF54,BT7,BD4:BD54)+SUMIF(AH4:AH54,BT7,BE4:BE54))","v":0},0,{"$f":"CB7","v":"A"},{"$f":"IF(CZ7>0,RANK(DD7,DD4:DD7)+CG2,)","v":0},{"$f":"IF(AND(CZ7>0,COUNTIF(DF4:DF7,DF7)>1),SUMIFS($AI$4:$AI$54,$AF$4:$AF$54,BT7,$L$4:$L$54,2)+SUMIFS($AK$4:$AK$54,$AH$4:$AH$54,BT7,$L$4:$L$54,2)-SUMIFS($AK$4:$AK$54,$AF$4:$AF$54,BT7,$L$4:$L$54,2)-SUMIFS($AI$4:$AI$54,$AH$4:$AH$54,BT7,$L$4:$L$54,2),)","v":0},{"$f":"IF(AND(CZ7>0,COUNTIF(DF4:DF7,DF7)>1),DF7+RANK(DG7,DG4:DG7)-1,DF7)","v":0},{"$f":"IF(AND(CZ7>0,COUNTIF(DH4:DH7,DH7)>1),SUMIFS($AI$4:$AI$54,$AF$4:$AF$54,BT7,$L$4:$L$54,2)+SUMIFS($AK$4:$AK$54,$AH$4:$AH$54,BT7,$L$4:$L$54,2),)","v":0},{"$f":"IF(AND(CZ7>0,COUNTIF(DH4:DH7,DH7)>1),DH7+RANK(DI7,DI4:DI7)-1,DH7)","v":0},"",{"$f":"IF(OR(DK7=\"\",COUNTIF(DK4:DK7,DK7)=1),\"\",$BZ7)","v":""},{"$f":"IF(DK7=\"\",\"\",IF(COUNTIF(DK4:DK7,DK7)=1,DK7,DK7+RANK(DL7,DL4:DL7,0)-1))","v":""},{"$f":"IF(OR(DM7=\"\",COUNTIF(DM4:DM7,DM7)=1),\"\",$BX7)","v":""},{"$f":"IF(DK7=\"\",\"\",IF(COUNTIF(DM4:DM7,DM7)=1,DM7,DM7+RANK(DN7,DN4:DN7,0)-1))","v":""},{"$f":"IF(OR(DO7=\"\",COUNTIF(DO4:DO7,DO7)=1),\"\",$BU7)","v":""},{"$f":"IF(DK7=\"\",\"\",IF(COUNTIF(DO4:DO7,DO7)=1,DO7,DO7+RANK(DP7,DP4:DP7,0)-1))","v":""},{"$f":"IF(CZ7>0,CG2+RANK(DQ7,DQ4:DQ7,1),)","v":0},null,{"$f":"IF(CC7=3,BT7,)","v":0},{"$f":"(SUMIF(AF4:AF54,BT7,BF4:BF54)+SUMIF(AH4:AH54,BT7,BG4:BG54))","v":0},{"$f":"(SUMIF(AF4:AF54,BT7,BH4:BH54)+SUMIF(AH4:AH54,BT7,BI4:BI54))","v":0},{"$f":"(SUMIF(AF4:AF54,BT7,BJ4:BJ54)+SUMIF(AH4:AH54,BT7,BK4:BK54))","v":0},0,{"$f":"CB7","v":"A"},{"$f":"IF(DT7>0,RANK(DX7,DX4:DX7)+CG2+DA2,)","v":0},{"$f":"IF(AND(DT7>0,COUNTIF(DZ4:DZ7,DZ7)>1),SUMIFS($AI$4:$AI$54,$AF$4:$AF$54,BT7,$L$4:$L$54,3)+SUMIFS($AK$4:$AK$54,$AH$4:$AH$54,BT7,$L$4:$L$54,3)-SUMIFS($AK$4:$AK$54,$AF$4:$AF$54,BT7,$L$4:$L$54,3)-SUMIFS($AI$4:$AI$54,$AH$4:$AH$54,BT7,$L$4:$L$54,3),)","v":0},{"$f":"IF(AND(DT7>0,COUNTIF(DZ4:DZ7,DZ7)>1),DZ7+RANK(EA7,EA4:EA7)-1,DZ7)","v":0},{"$f":"IF(AND(DT7>0,COUNTIF(EB4:EB7,EB7)>1),SUMIFS($AI$4:$AI$54,$AF$4:$AF$54,BT7,$L$4:$L$54,3)+SUMIFS($AK$4:$AK$54,$AH$4:$AH$54,BT7,$L$4:$L$54,3),)","v":0},{"$f":"IF(AND(DT7>0,COUNTIF(EB4:EB7,EB7)>1),EB7+RANK(EC7,EC4:EC7)-1,EB7)","v":0},"",{"$f":"IF(OR(EE7=\"\",COUNTIF(EE4:EE7,EE7)=1),\"\",$BZ7)","v":""},{"$f":"IF(EE7=\"\",\"\",IF(COUNTIF(EE4:EE7,EE7)=1,EE7,EE7+RANK(EF7,EF4:EF7,0)-1))","v":""},{"$f":"IF(OR(EG7=\"\",COUNTIF(EG4:EG7,EG7)=1),\"\",$BX7)","v":""},{"$f":"IF(EE7=\"\",\"\",IF(COUNTIF(EG4:EG7,EG7)=1,EG7,EG7+RANK(EH7,EH4:EH7,0)-1))","v":""},{"$f":"IF(OR(EI7=\"\",COUNTIF(EI4:EI7,EI7)=1),\"\",$BU7)","v":""},{"$f":"IF(EE7=\"\",\"\",IF(COUNTIF(EI4:EI7,EI7)=1,EI7,EI7+RANK(EJ7,EJ4:EJ7,0)-1))","v":""},{"$f":"IF(DT7>0,CG2+DA2+RANK(EK7,EK4:EK7,1),)","v":0},null,{"$f":"IF(CC7=4,BT7,)","v":0},{"$f":"(SUMIF(AF4:AF54,BT7,BL4:BL54)+SUMIF(AH4:AH54,BT7,BM4:BM54))","v":0},{"$f":"(SUMIF(AF4:AF54,BT7,BN4:BN54)+SUMIF(AH4:AH54,BT7,BO4:BO54))","v":0},{"$f":"(SUMIF(AF4:AF54,BT7,BP4:BP54)+SUMIF(AH4:AH54,BT7,BQ4:BQ54))","v":0},0,{"$f":"CB7","v":"A"},{"$f":"IF(EN7>0,RANK(ER7,ER4:ER7)+CG2+DA2+DU2,)","v":0},{"$f":"IF(AND(EN7>0,COUNTIF(ET4:ET7,ET7)>1),SUMIFS($AI$4:$AI$54,$AF$4:$AF$54,BT7,$L$4:$L$54,4)+SUMIFS($AK$4:$AK$54,$AH$4:$AH$54,BT7,$L$4:$L$54,4)-SUMIFS($AK$4:$AK$54,$AF$4:$AF$54,BT7,$L$4:$L$54,4)-SUMIFS($AI$4:$AI$54,$AH$4:$AH$54,BT7,$L$4:$L$54,4),)","v":0},{"$f":"IF(AND(EN7>0,COUNTIF(ET4:ET7,ET7)>1),ET7+RANK(EU7,EU4:EU7)-1,ET7)","v":0},{"$f":"IF(AND(EN7>0,COUNTIF(EV4:EV7,EV7)>1),SUMIFS($AI$4:$AI$54,$AF$4:$AF$54,BT7,$L$4:$L$54,4)+SUMIFS($AK$4:$AK$54,$AH$4:$AH$54,BT7,$L$4:$L$54,4),)","v":0},{"$f":"IF(AND(EN7>0,COUNTIF(EV4:EV7,EV7)>1),EV7+RANK(EW7,EW4:EW7)-1,EV7)","v":0},"",{"$f":"IF(OR(EY7=\"\",COUNTIF(EY4:EY7,EY7)=1),\"\",$BZ7)","v":""},{"$f":"IF(EY7=\"\",\"\",IF(COUNTIF(EY4:EY7,EY7)=1,EY7,EY7+RANK(EZ7,EZ4:EZ7,0)-1))","v":""},{"$f":"IF(OR(FA7=\"\",COUNTIF(FA4:FA7,FA7)=1),\"\",$BX7)","v":""},{"$f":"IF(EY7=\"\",\"\",IF(COUNTIF(FA4:FA7,FA7)=1,FA7,FA7+RANK(FB7,FB4:FB7,0)-1))","v":""},{"$f":"IF(OR(FC7=\"\",COUNTIF(FC4:FC7,FC7)=1),\"\",$BU7)","v":""},{"$f":"IF(EY7=\"\",\"\",IF(COUNTIF(FC4:FC7,FC7)=1,FC7,FC7+RANK(FD7,FD4:FD7,0)-1))","v":""},{"$f":"IF(EN7>0,CG2+DA2+DU2+RANK(FE7,FE4:FE7,1),)","v":0},null,{"$f":"IFERROR(VLOOKUP(FJ7,CF3:CX7,19,FALSE),IFERROR(VLOOKUP(FJ7,CZ3:DR7,19,FALSE),IFERROR(VLOOKUP(FJ7,DT3:EL7,19,FALSE),VLOOKUP(FJ7,EN3:FF7,19,FALSE))))","v":1},{"$f":"RANK(FH7,FH4:FH7,1)+COUNTIF(FH4:FH7,FH7)-1","v":4},{"$f":"BT7","v":"Schweiz"},null,"D",{"$f":"N33","v":"Polen"},{"$f":"RANK(FO7,FO4:FO9,1)+COUNTIF(FO4:FO7,FO7)-1","v":4},1,{"$f":"SUMPRODUCT((FS4:FS9=FS7)*(FT4:FT9=FT7)*(FU4:FU9>FU7))","v":0},{"$f":"SUMPRODUCT((FS4:FS9=FS7)*(FT4:FT9>FT7))","v":0},{"$f":"RANK(FS7,FS4:FS9)","v":1},{"$f":"U33","v":0},{"$f":"T33","v":0},{"$f":"R33","v":0},"D","D",null,6,"ABDF","A","B","D","F",{"$f":"VLOOKUP(\"D\",FL3:FM9,2,FALSE)","v":"Polen"},{"$f":"VLOOKUP(\"F\",FL3:FM9,2,FALSE)","v":"Georgien"},{"$f":"VLOOKUP(\"A\",FL3:FM9,2,FALSE)","v":"Ungern"},{"$f":"VLOOKUP(\"B\",FL3:FM9,2,FALSE)","v":"Italien"},{"$f":"IFERROR(IF(AND(VLOOKUP(GA7,FW4:FW9,1,FALSE)=GA7,VLOOKUP(GB7,FW4:FW9,1,FALSE)=GB7,VLOOKUP(GC7,FW4:FW9,1,FALSE)=GC7,VLOOKUP(GD7,FW4:FW9,1,FALSE)=GD7),FY7,\"\"),\"\")","v":""}]
[null,null,"2024-06-23","Schweiz","-","Tyskland",null,"-",null,"",{"$f":"IF(OR('Resultat & Tabell'!G8=\"\",'Resultat & Tabell'!I8=\"\",G8=\"\",I8=\"\"),0,IF(G8='Resultat & Tabell'!G8,2,0)+IF(I8='Resultat & Tabell'!I8,2,0)+IF(J8='Resultat & Tabell'!J8,3,0))","v":0},{"$f":"IF(VLOOKUP(D8,BT3:CC7,10,FALSE)=VLOOKUP(F8,BT3:CC7,10,FALSE),VLOOKUP(D8,BT3:CC7,10,FALSE),\"-\")","v":1},null,{"$f":"IF(COUNTBLANK(G4:G9)+COUNTBLANK(I4:I9)=0,\"Resultat OK\",\"Fyll i resultat\")","v":"Fyll i resultat"},null,null,null,null,null,null,null,null,null,"Egen bonusfråga 1",null,null,null,null,{"$f":"IF(AND('Resultat & Tabell'!W8:W8<>\"\",Y8='Resultat & Tabell'!W8:W8),15,0)","v":0},null,"2024-06-23","Schweiz","-","Tyskland","","-","","",null,0,0,0,0,0,0,0,0,0,0,0,0,0,0,0,0,0,0,0,0,0,0,0,0,0,0,0,0,0,0,null,null,null,null,null,null,null,null,null,null,null,null,null,null,null,null,null,null,null,null,null,null,null,null,null,null,null,null,null,null,null,null,null,null,null,null,null,null,null,null,null,null,null,null,null,null,null,null,null,null,null,null,null,null,null,null,null,null,null,null,null,null,null,null,null,null,null,null,null,null,null,null,null,null,null,null,null,null,null,null,null,null,null,null,null,null,null,null,null,null,null,null,null,null,null,null,null,null,"E",{"$f":"N42","v":"Belgien"},{"$f":"RANK(FO8,FO4:FO9,1)+COUNTIF(FO4:FO8,FO8)-1","v":5},1,{"$f":"SUMPRODUCT((FS4:FS9=FS8)*(FT4:FT9=FT8)*(FU4:FU9>FU8))","v":0},{"$f":"SUMPRODUCT((FS4:FS9=FS8)*(FT4:FT9>FT8))","v":0},{"$f":"RANK(FS8,FS4:FS9)","v":1},{"$f":"U42","v":0},{"$f":"T42","v":0},{"$f":"R42","v":0},"E",0,null,7,"ABEF","A","B","E","F",{"$f":"VLOOKUP(\"E\",FL3:FM9,2,FALSE)","v":"Belgien"},{"$f":"VLOOKUP(\"F\",FL3:FM9,2,FALSE)","v":"Georgien"},{"$f":"VLOOKUP(\"B\",FL3:FM9,2,FALSE)","v":"Italien"},{"$f":"VLOOKUP(\"A\",FL3:FM9,2,FALSE)","v":"Ungern"},{"$f":"IFERROR(IF(AND(VLOOKUP(GA8,FW4:FW9,1,FALSE)=GA8,VLOOKUP(GB8,FW4:FW9,1,FALSE)=GB8,VLOOKUP(GC8,FW4:FW9,1,FALSE)=GC8,VLOOKUP(GD8,FW4:FW9,1,FALSE)=GD8),FY8,\"\"),\"\")","v":""}]
[null,null,"2024-06-23","Skottland","-","Ungern",null,"-",null,"",{"$f":"IF(OR('Resultat & Tabell'!G9=\"\",'Resultat & Tabell'!I9=\"\",G9=\"\",I9=\"\"),0,IF(G9='Resultat & Tabell'!G9,2,0)+IF(I9='Resultat & Tabell'!I9,2,0)+IF(J9='Resultat & Tabell'!J9,3,0))","v":0},{"$f":"IF(VLOOKUP(D9,BT3:CC7,10,FALSE)=VLOOKUP(F9,BT3:CC7,10,FALSE),VLOOKUP(D9,BT3:CC7,10,FALSE),\"-\")","v":1},null,null,null,null,null,null,null,null,null,null,null,"Egen bonusfråga 2",null,null,null,null,{"$f":"IF(AND('Resultat & Tabell'!W9:W9<>\"\",Y9='Resultat & Tabell'!W9:W9),15,0)","v":0},null,"2024-06-23","Skottland","-","Ungern","","-","","",null,0,0,0,0,0,0,0,0,0,0,0,0,0,0,0,0,0,0,0,0,0,0,0,0,0,0,0,0,0,0,null,null,null,null,null,null,null,null,null,null,null,null,null,null,null,null,null,null,null,null,null,null,null,null,null,null,null,null,null,null,null,null,null,null,null,null,null,null,null,null,null,null,null,null,null,null,null,null,null,null,null,null,null,null,null,null,null,null,null,null,null,null,null,null,null,null,null,null,null,null,null,null,null,null,null,null,null,null,null,null,null,null,null,null,null,null,null,null,null,null,null,null,null,null,null,null,null,null,"F",{"$f":"N51","v":"Georgien"},{"$f":"RANK(FO9,FO4:FO9,1)+COUNTIF(FO4:FO9,FO9)-1","v":6},1,{"$f":"SUMPRODUCT((FS4:FS9=FS9)*(FT4:FT9=FT9)*(FU4:FU9>FU9))","v":0},{"$f":"SUMPRODUCT((FS4:FS9=FS9)*(FT4:FT9>FT9))","v":0},{"$f":"RANK(FS9,FS4:FS9)","v":1},{"$f":"U51","v":0},{"$f":"T51","v":0},{"$f":"R51","v":0},"F",0,null,8,"ACDE","A","C","D","E",{"$f":"VLOOKUP(\"E\",FL3:FM9,2,FALSE)","v":"Belgien"},{"$f":"VLOOKUP(\"D\",FL3:FM9,2,FALSE)","v":"Polen"},{"$f":"VLOOKUP(\"C\",FL3:FM9,2,FALSE)","v":"Serbien"},{"$f":"VLOOKUP(\"A\",FL3:FM9,2,FALSE)","v":"Ungern"},{"$f":"IFERROR(IF(AND(VLOOKUP(GA9,FW4:FW9,1,FALSE)=GA9,VLOOKUP(GB9,FW4:FW9,1,FALSE)=GB9,VLOOKUP(GC9,FW4:FW9,1,FALSE)=GC9,VLOOKUP(GD9,FW4:FW9,1,FALSE)=GD9),FY9,\"\"),\"\")","v":""}]
[null,null,null,null,null,null,null,null,null,null,null,null,null,null,null,null,null,null,null,null,null,null,null,null,null,null,null,null,null,null,null,null,null,null,null,null,null,null,null,null,null,null,null,null,null,null,null,null,null,null,null,null,null,null,null,null,null,null,null,null,null,null,null,null,null,null,null,null,null,null,null,null,null,null,null,null,null,null,null,null,null,null,null,null,null,null,null,null,null,null,null,null,null,null,null,null,null,null,null,null,null,null,null,null,null,null,null,null,null,null,null,null,null,null,null,null,null,null,null,null,null,null,null,null,null,null,null,null,null,null,null,null,null,null,null,null,null,null,null,null,null,null,null,null,null,null,null,null,null,null,null,null,null,null,null,null,null,null,null,null,null,null,null,null,null,null,null,null,null,null,null,null,null,null,null,null,null,null,null,null,9,"ACDF","A","C","D","F",{"$f":"VLOOKUP(\"F\",FL3:FM9,2,FALSE)","v":"Georgien"},{"$f":"VLOOKUP(\"D\",FL3:FM9,2,FALSE)","v":"Polen"},{"$f":"VLOOKUP(\"C\",FL3:FM9,2,FALSE)","v":"Serbien"},{"$f":"VLOOKUP(\"A\",FL3:FM9,2,FALSE)","v":"Ungern"},{"$f":"IFERROR(IF(AND(VLOOKUP(GA10,FW4:FW9,1,FALSE)=GA10,VLOOKUP(GB10,FW4:FW9,1,FALSE)=GB10,VLOOKUP(GC10,FW4:FW9,1,FALSE)=GC10,VLOOKUP(GD10,FW4:FW9,1,FALSE)=GD10),FY10,\"\"),\"\")","v":""}]
[null,null,"Grupp B",null,null,null,null,null,null,null,null,null,null,null,null,null,null,null,null,null,null,null,null,"Totalpoäng",null,null,null,null,null,null,"Grupp B",null,null,null,null,null,null,null,null,null,null,null,null,null,null,null,null,null,null,null,null,null,null,null,null,null,null,null,null,null,null,null,null,null,null,null,null,null,null,null,null,"Rank 0",null,null,null,null,null,null,null,null,null,null,null,"Rank 1",{"$f":"COUNTIF(CC13:CC16,1)","v":4},null,null,null,null,null,null,null,null,null,null,null,null,null,null,null,null,null,null,"Rank 2",{"$f":"COUNTIF(CC13:CC16,2)","v":0},null,null,null,null,null,null,null,null,null,null,null,null,null,null,null,null,null,null,"Rank 3",{"$f":"COUNTIF(CC13:CC16,3)","v":0},null,null,null,null,null,null,null,null,null,null,null,null,null,null,null,null,null,null,"Rank 4",{"$f":"COUNTIF(CC13:CC16,4)","v":0},null,null,null,null,null,null,null,null,null,null,null,null,null,null,null,null,null,null,null,null,null,null,null,null,null,null,null,null,null,null,null,null,null,null,null,10,"ACEF","A","C","E","F",{"$f":"VLOOKUP(\"E\",FL3:FM9,2,FALSE)","v":"Belgien"},{"$f":"VLOOKUP(\"F\",FL3:FM9,2,FALSE)","v":"Georgien"},{"$f":"VLOOKUP(\"C\",FL3:FM9,2,FALSE)","v":"Serbien"},{"$f":"VLOOKUP(\"A\",FL3:FM9,2,FALSE)","v":"Ungern"},{"$f":"IFERROR(IF(AND(VLOOKUP(GA11,FW4:FW9,1,FALSE)=GA11,VLOOKUP(GB11,FW4:FW9,1,FALSE)=GB11,VLOOKUP(GC11,FW4:FW9,1,FALSE)=GC11,VLOOKUP(GD11,FW4:FW9,1,FALSE)=GD11),FY11,\"\"),\"\")","v":""}]
[null,null,"Datum","Match",null,null,"Resultat",null,null,"Tecken","Poäng",null,null,"Lag","V","O","F","GM","IM","+/-","P",null,null,"Kategori","Poäng","Bonus","Totalt",null,null,null,"Datum","Match",null,null,"Resultat",null,null,"Tecken","Poäng","V1","V2","O1","O2","F1","F2","V1","V2","O1","O2","F1","F2","V1","V2","O1","O2","F1","F2","V1","V2","O1","O2","F1","F2","V1","V2","O1","O2","F1","F2",null,null,"Lag","V","O","F","GM","IM","+/-","P","Grupp","Rank P","Rank +/-",null,"Lag","V","O","F","P","Grupp","Rank P","+/-","+/- rank","GM","GM rank","Rank internal","+/- all","+/- rank all","GM all","GM rank all","V all","V rank all","Rank all",null,"Lag","V","O","F","P","Grupp","Rank P","+/-","+/- rank","GM","GM rank","Rank internal","+/- all","+/- rank all","GM all","GM rank all","V all","V rank all","Rank all",null,"Lag","V","O","F","P","Grupp","Rank P","+/-","+/- rank","GM","GM rank","Rank internal","+/- all","+/- rank all","GM all","GM rank all","V all","V rank all","Rank all",null,"Lag","V","O","F","P","Grupp","Rank P","+/-","+/- rank","GM","GM rank","Rank internal","+/- all","+/- rank all","GM all","GM rank all","V all","V rank all","Rank all",null,"Rank","Rank Ties",null,null,null,{"$f":"IF(COUNTBLANK(G4:G9)+COUNTBLANK(I4:I9)+COUNTBLANK(G22:G27)+COUNTBLANK(I22:I27)+COUNTBLANK(G31:G36)+COUNTBLANK(I31:I36)+COUNTBLANK(G40:G45)+COUNTBLANK(I40:I45)+COUNTBLANK(G49:G54)+COUNTBLANK(I49:I54)++COUNTBLANK(G13:G18)+COUNTBLANK(I13:I18)=0,\"Resultat OK\",\"Fyll i resultat\")","v":"Fyll i resultat"},null,null,null,null,null,null,null,null,null,null,null,11,"ADEF","A","D","E","F",{"$f":"VLOOKUP(\"E\",FL3:FM9,2,FALSE)","v":"Belgien"},{"$f":"VLOOKUP(\"F\",FL3:FM9,2,FALSE)","v":"Georgien"},{"$f":"VLOOKUP(\"D\",FL3:FM9,2,FALSE)","v":"Polen"},{"$f":"VLOOKUP(\"A\",FL3:FM9,2,FALSE)","v":"Ungern"},{"$f":"IFERROR(IF(AND(VLOOKUP(GA12,FW4:FW9,1,FALSE)=GA12,VLOOKUP(GB12,FW4:FW9,1,FALSE)=GB12,VLOOKUP(GC12,FW4:FW9,1,FALSE)=GC12,VLOOKUP(GD12,FW4:FW9,1,FALSE)=GD12),FY12,\"\"),\"\")","v":""}]
[null,null,"2024-06-15","Spanien","-","Kroatien",null,"-",null,{"$f":"IF(OR(ISBLANK(G13),ISBLANK(I13)),\"\",IF(G13>I13,1,IF(G13<I13,2,\"X\")))","v":""},{"$f":"IF(OR('Resultat & Tabell'!G13=\"\",'Resultat & Tabell'!I13=\"\",G13=\"\",I13=\"\"),0,IF(G13='Resultat & Tabell'!G13,2,0)+IF(I13='Resultat & Tabell'!I13,2,0)+IF(J13='Resultat & Tabell'!J13,3,0))","v":0},{"$f":"IF(VLOOKUP(D13,BT12:CC16,10,FALSE)=VLOOKUP(F13,BT12:CC16,10,FALSE),VLOOKUP(D13,BT12:CC16,10,FALSE),\"-\")","v":1},1,{"$f":"VLOOKUP(M13,FI13:FJ16,2,FALSE)","v":"Spanien"},{"$f":"VLOOKUP(N13,BT13:CA16,2,FALSE)","v":0},{"$f":"VLOOKUP(N13,BT13:CA16,3,FALSE)","v":0},{"$f":"VLOOKUP(N13,BT13:CA16,4,FALSE)","v":0},{"$f":"VLOOKUP(N13,BT13:CA16,5,FALSE)","v":0},{"$f":"VLOOKUP(N13,BT13:CA16,6,FALSE)","v":0},{"$f":"VLOOKUP(N13,BT13:CA16,7,FALSE)","v":0},{"$f":"VLOOKUP(N13,BT13:CA16,8,FALSE)","v":0},null,null,"Gruppspel",{"$f":"SUM(K4:K9)+SUM(K13:K18)+SUM(K22:K27)+SUM(K31:K36)+SUM(K40:K45)+SUM(K49:K54)","v":0},0,{"$f":"SUM(Y13:Z13)","v":0},null,null,null,{"$f":"C13","v":"2024-06-15"},"Spanien","-","Kroatien",{"$f":"IF(G13=\"\",\"\",G13)","v":""},"-",{"$f":"IF(I13=\"\",\"\",I13)","v":""},{"$f":"J13","v":""},null,{"$f":"IF(AI13>AK13,1,0)","v":0},{"$f":"IF(AK13>AI13,1,0)","v":0},{"$f":"IF(AND(AI13=AK13,AI13<>\"\"),1,0)","v":0},{"$f":"IF(AND(AI13=AK13,AI13<>\"\"),1,0)","v":0},{"$f":"IF(AI13<AK13,1,0)","v":0},{"$f":"IF(AK13<AI13,1,)","v":0},{"$f":"IF(ISERROR(VLOOKUP(AF13,CF:CF,1,FALSE)),0,1)*IF(ISERROR(VLOOKUP(AH13,CF:CF,1,FALSE)),0,1)*AN13","v":0},{"$f":"IF(ISERROR(VLOOKUP(AF13,CF:CF,1,FALSE)),0,1)*IF(ISERROR(VLOOKUP(AH13,CF:CF,1,FALSE)),0,1)*AO13","v":0},{"$f":"IF(ISERROR(VLOOKUP(AF13,CF:CF,1,FALSE)),0,1)*IF(ISERROR(VLOOKUP(AH13,CF:CF,1,FALSE)),0,1)*AP13","v":0},{"$f":"IF(ISERROR(VLOOKUP(AF13,CF:CF,1,FALSE)),0,1)*IF(ISERROR(VLOOKUP(AH13,CF:CF,1,FALSE)),0,1)*AQ13","v":0},{"$f":"IF(ISERROR(VLOOKUP(AF13,CF:CF,1,FALSE)),0,1)*IF(ISERROR(VLOOKUP(AH13,CF:CF,1,FALSE)),0,1)*AR13","v":0},{"$f":"IF(ISERROR(VLOOKUP(AF13,CF:CF,1,FALSE)),0,1)*IF(ISERROR(VLOOKUP(AH13,CF:CF,1,FALSE)),0,1)*AS13","v":0},{"$f":"IF(ISERROR(VLOOKUP(AF13,CZ:CZ,1,FALSE)),0,1)*IF(ISERROR(VLOOKUP(AH13,CZ:CZ,1,FALSE)),0,1)*AN13","v":0},{"$f":"IF(ISERROR(VLOOKUP(AF13,CZ:CZ,1,FALSE)),0,1)*IF(ISERROR(VLOOKUP(AH13,CZ:CZ,1,FALSE)),0,1)*AO13","v":0},{"$f":"IF(ISERROR(VLOOKUP(AF13,CZ:CZ,1,FALSE)),0,1)*IF(ISERROR(VLOOKUP(AH13,CZ:CZ,1,FALSE)),0,1)*AP13","v":0},{"$f":"IF(ISERROR(VLOOKUP(AF13,CZ:CZ,1,FALSE)),0,1)*IF(ISERROR(VLOOKUP(AH13,CZ:CZ,1,FALSE)),0,1)*AQ13","v":0},{"$f":"IF(ISERROR(VLOOKUP(AF13,CZ:CZ,1,FALSE)),0,1)*IF(ISERROR(VLOOKUP(AH13,CZ:CZ,1,FALSE)),0,1)*AR13","v":0},{"$f":"IF(ISERROR(VLOOKUP(AF13,CZ:CZ,1,FALSE)),0,1)*IF(ISERROR(VLOOKUP(AH13,CZ:CZ,1,FALSE)),0,1)*AS13","v":0},{"$f":"IF(ISERROR(VLOOKUP(AF13,DT:DT,1,FALSE)),0,1)*IF(ISERROR(VLOOKUP(AH13,DT:DT,1,FALSE)),0,1)*AN13","v":0},{"$f":"IF(ISERROR(VLOOKUP(AF13,DT:DT,1,FALSE)),0,1)*IF(ISERROR(VLOOKUP(AH13,DT:DT,1,FALSE)),0,1)*AO13","v":0},{"$f":"IF(ISERROR(VLOOKUP(AF13,DT:DT,1,FALSE)),0,1)*IF(ISERROR(VLOOKUP(AH13,DT:DT,1,FALSE)),0,1)*AP13","v":0},{"$f":"IF(ISERROR(VLOOKUP(AF13,DT:DT,1,FALSE)),0,1)*IF(ISERROR(VLOOKUP(AH13,DT:DT,1,FALSE)),0,1)*AQ13","v":0},{"$f":"IF(ISERROR(VLOOKUP(AF13,DT:DT,1,FALSE)),0,1)*IF(ISERROR(VLOOKUP(AH13,DT:DT,1,FALSE)),0,1)*AR13","v":0},{"$f":"IF(ISERROR(VLOOKUP(AF13,DT:DT,1,FALSE)),0,1)*IF(ISERROR(VLOOKUP(AH13,DT:DT,1,FALSE)),0,1)*AS13","v":0},{"$f":"IF(ISERROR(VLOOKUP(AF13,EN:EN,1,FALSE)),0,1)*IF(ISERROR(VLOOKUP(AH13,EN:EN,1,FALSE)),0,1)*AN13","v":0},{"$f":"IF(ISERROR(VLOOKUP(AF13,EN:EN,1,FALSE)),0,1)*IF(ISERROR(VLOOKUP(AH13,EN:EN,1,FALSE)),0,1)*AO13","v":0},{"$f":"IF(ISERROR(VLOOKUP(AF13,EN:EN,1,FALSE)),0,1)*IF(ISERROR(VLOOKUP(AH13,EN:EN,1,FALSE)),0,1)*AP13","v":0},{"$f":"IF(ISERROR(VLOOKUP(AF13,EN:EN,1,FALSE)),0,1)*IF(ISERROR(VLOOKUP(AH13,EN:EN,1,FALSE)),0,1)*AQ13","v":0},{"$f":"IF(ISERROR(VLOOKUP(AF13,EN:EN,1,FALSE)),0,1)*IF(ISERROR(VLOOKUP(AH13,EN:EN,1,FALSE)),0,1)*AR13","v":0},{"$f":"IF(ISERROR(VLOOKUP(AF13,EN:EN,1,FALSE)),0,1)*IF(ISERROR(VLOOKUP(AH13,EN:EN,1,FALSE)),0,1)*AS13","v":0},null,null,"Spanien",{"$f":"(SUMIF(AF4:AF54,BT13,AN4:AN54)+SUMIF(AH4:AH54,BT13,AO4:AO54))","v":0},{"$f":"(SUMIF(AF4:AF54,BT13,AP4:AP54)+SUMIF(AH4:AH54,BT13,AQ4:AQ54))","v":0},{"$f":"(SUMIF(AF4:AF54,BT13,AR4:AR54)+SUMIF(AH4:AH54,BT13,AS4:AS54))","v":0},{"$f":"SUMIF(AF4:AF54,BT13,AI4:AI54)+SUMIF(AH4:AH54,BT13,AK4:AK54)","v":0},{"$f":"SUMIF(AF4:AF54,BT13,AK4:AK54)+SUMIF(AH4:AH54,BT13,AI4:AI54)","v":0},{"$f":"BX13-BY13","v":0},{"$f":"IFERROR(BU13*3+BV13*1,0)","v":0},"B",{"$f":"RANK(CA13,CA13:CA16)","v":1},{"$f":"SUMPRODUCT((CA13:CA16=CA13)*(BZ13:BZ16>BZ13))","v":0},null,{"$f":"IF(CC13=1,BT13,)","v":"Spanien"},{"$f":"(SUMIF(AF4:AF54,BT13,AT4:AT54)+SUMIF(AH4:AH54,BT13,AU4:AU54))","v":0},{"$f":"(SUMIF(AF4:AF54,BT13,AV4:AV54)+SUMIF(AH4:AH54,BT13,AW4:AW54))","v":0},{"$f":"(SUMIF(AF4:AF54,BT13,AX4:AX54)+SUMIF(AH4:AH54,BT13,AY4:AY54))","v":0},{"$f":"IFERROR(CG13*3+CH13*1,0)","v":0},{"$f":"CB13","v":"B"},{"$f":"IF(CF13>0,RANK(CJ13,CJ13:CJ16),)","v":1},{"$f":"IF(AND(CF13>0,COUNTIF(CL13:CL16,CL13)>1),SUMIFS($AI$4:$AI$54,$AF$4:$AF$54,$BT13,$L$4:$L$54,1)+SUMIFS($AK$4:$AK$54,$AH$4:$AH$54,$BT13,$L$4:$L$54,1)-SUMIFS($AK$4:$AK$54,$AF$4:$AF$54,$BT13,$L$4:$L$54,1)-SUMIFS($AI$4:$AI$54,$AH$4:$AH$54,$BT13,$L$4:$L$54,1),)","v":0},{"$f":"IF(AND(CF13>0,COUNTIF(CL13:CL16,CL13)>1),CL13+RANK(CM13,CM13:CM16)-1,CL13)","v":1},{"$f":"IF(AND(CF13>0,COUNTIF(CN13:CN16,CN13)>1),SUMIFS($AI$4:$AI$54,$AF$4:$AF$54,$BT13,$L$4:$L$54,1)+SUMIFS($AK$4:$AK$54,$AH$4:$AH$54,$BT13,$L$4:$L$54,1),)","v":0},{"$f":"IF(AND(CF13>0,COUNTIF(CN13:CN16,CN13)>1),CN13+RANK(CO13,CO13:CO16)-1,CN13)","v":1},{"$f":"IF(CP13=0,\"\",CP13)","v":1},{"$f":"IF(OR(CQ13=\"\",COUNTIF(CQ13:CQ16,CQ13)=1),\"\",$BZ13)","v":0},{"$f":"IF(CQ13=\"\",\"\",IF(COUNTIF(CQ13:CQ16,CQ13)=1,CQ13,CQ13+RANK(CR13,CR13:CR16,0)-1))","v":1},{"$f":"IF(OR(CS13=\"\",COUNTIF(CS13:CS16,CS13)=1),\"\",$BX13)","v":0},{"$f":"IF(CQ13=\"\",\"\",IF(COUNTIF(CS13:CS16,CS13)=1,CS13,CS13+RANK(CT13,CT13:CT16,0)-1))","v":1},{"$f":"IF(OR(CU13=\"\",COUNTIF(CU13:CU16,CU13)=1),\"\",$BU13)","v":0},{"$f":"IF(CQ13=\"\",\"\",IF(COUNTIF(CU13:CU16,CU13)=1,CU13,CU13+RANK(CV13,CV13:CV16,0)-1))","v":1},{"$f":"IF(CF13>0,BM11+RANK(CW13,CW13:CW16,1),)","v":1},null,{"$f":"IF(CC13=2,BT13,)","v":0},{"$f":"(SUMIF(AF4:AF54,BT13,AZ4:AZ54)+SUMIF(AH4:AH54,BT13,BA4:BA54))","v":0},{"$f":"(SUMIF(AF4:AF54,BT13,BB4:BB54)+SUMIF(AH4:AH54,BT13,BC4:BC54))","v":0},{"$f":"(SUMIF(AF4:AF54,BT13,BD4:BD54)+SUMIF(AH4:AH54,BT13,BE4:BE54))","v":0},{"$f":"IFERROR(DA13*3+DB13*1,0)","v":0},{"$f":"CB13","v":"B"},{"$f":"IF(CZ13>0,RANK(DD13,DD13:DD16)+CG11,)","v":0},{"$f":"IF(AND(CZ13>0,COUNTIF(DF13:DF16,DF13)>1),SUMIFS($AI$4:$AI$54,$AF$4:$AF$54,$BT13,$L$4:$L$54,2)+SUMIFS($AK$4:$AK$54,$AH$4:$AH$54,$BT13,$L$4:$L$54,2)-SUMIFS($AK$4:$AK$54,$AF$4:$AF$54,$BT13,$L$4:$L$54,2)-SUMIFS($AI$4:$AI$54,$AH$4:$AH$54,$BT13,$L$4:$L$54,2),)","v":0},{"$f":"IF(AND(CZ13>0,COUNTIF(DF13:DF16,DF13)>1),DF13+RANK(DG13,DG13:DG16)-1,DF13)","v":0},{"$f":"IF(AND(CZ13>0,COUNTIF(DH13:DH16,DH13)>1),SUMIFS($AI$4:$AI$54,$AF$4:$AF$54,$BT13,$L$4:$L$54,2)+SUMIFS($AK$4:$AK$54,$AH$4:$AH$54,$BT13,$L$4:$L$54,2),)","v":0},{"$f":"IF(AND(CZ13>0,COUNTIF(DH13:DH16,DH13)>1),DH13+RANK(DI13,DI13:DI16)-1,DH13)","v":0},{"$f":"IF(DJ13=0,\"\",DJ13)","v":""},{"$f":"IF(OR(DK13=\"\",COUNTIF(DK13:DK16,DK13)=1),\"\",$BZ13)","v":""},{"$f":"IF(DK13=\"\",\"\",IF(COUNTIF(DK13:DK16,DK13)=1,DK13,DK13+RANK(DL13,DL13:DL16,0)-1))","v":""},{"$f":"IF(OR(DM13=\"\",COUNTIF(DM13:DM16,DM13)=1),\"\",$BX13)","v":""},{"$f":"IF(DK13=\"\",\"\",IF(COUNTIF(DM13:DM16,DM13)=1,DM13,DM13+RANK(DN13,DN13:DN16,0)-1))","v":""},{"$f":"IF(OR(DO13=\"\",COUNTIF(DO13:DO16,DO13)=1),\"\",$BU13)","v":""},{"$f":"IF(DK13=\"\",\"\",IF(COUNTIF(DO13:DO16,DO13)=1,DO13,DO13+RANK(DP13,DP13:DP16,0)-1))","v":""},{"$f":"IF(CZ13>0,CG11+RANK(DQ13,DQ13:DQ16,1),)","v":0},null,{"$f":"IF(CC13=3,BT13,)","v":0},{"$f":"(SUMIF(AF4:AF54,BT13,BF4:BF54)+SUMIF(AH4:AH54,BT13,BG4:BG54))","v":0},{"$f":"(SUMIF(AF4:AF54,BT13,BH4:BH54)+SUMIF(AH4:AH54,BT13,BI4:BI54))","v":0},{"$f":"(SUMIF(AF4:AF54,BT13,BJ4:BJ54)+SUMIF(AH4:AH54,BT13,BK4:BK54))","v":0},{"$f":"IFERROR(DU13*3+DV13*1,0)","v":0},{"$f":"CB13","v":"B"},{"$f":"IF(DT13>0,RANK(DX13,DX13:DX16)+CG11+DA11,)","v":0},{"$f":"IF(AND(DT13>0,COUNTIF(DZ13:DZ16,DZ13)>1),SUMIFS($AI$4:$AI$54,$AF$4:$AF$54,$BT13,$L$4:$L$54,3)+SUMIFS($AK$4:$AK$54,$AH$4:$AH$54,$BT13,$L$4:$L$54,3)-SUMIFS($AK$4:$AK$54,$AF$4:$AF$54,$BT13,$L$4:$L$54,3)-SUMIFS($AI$4:$AI$54,$AH$4:$AH$54,$BT13,$L$4:$L$54,3),)","v":0},{"$f":"IF(AND(DT13>0,COUNTIF(DZ13:DZ16,DZ13)>1),DZ13+RANK(EA13,EA13:EA16)-1,DZ13)","v":0},{"$f":"IF(AND(DT13>0,COUNTIF(EB13:EB16,EB13)>1),SUMIFS($AI$4:$AI$54,$AF$4:$AF$54,$BT13,$L$4:$L$54,3)+SUMIFS($AK$4:$AK$54,$AH$4:$AH$54,$BT13,$L$4:$L$54,3),)","v":0},{"$f":"IF(AND(DT13>0,COUNTIF(EB13:EB16,EB13)>1),EB13+RANK(EC13,EC13:EC16)-1,EB13)","v":0},{"$f":"IF(ED13=0,\"\",ED13)","v":""},{"$f":"IF(OR(EE13=\"\",COUNTIF(EE13:EE16,EE13)=1),\"\",$BZ13)","v":""},{"$f":"IF(EE13=\"\",\"\",IF(COUNTIF(EE13:EE16,EE13)=1,EE13,EE13+RANK(EF13,EF13:EF16,0)-1))","v":""},{"$f":"IF(OR(EG13=\"\",COUNTIF(EG13:EG16,EG13)=1),\"\",$BX13)","v":""},{"$f":"IF(EE13=\"\",\"\",IF(COUNTIF(EG13:EG16,EG13)=1,EG13,EG13+RANK(EH13,EH13:EH16,0)-1))","v":""},{"$f":"IF(OR(EI13=\"\",COUNTIF(EI13:EI16,EI13)=1),\"\",$BU13)","v":""},{"$f":"IF(EE13=\"\",\"\",IF(COUNTIF(EI13:EI16,EI13)=1,EI13,EI13+RANK(EJ13,EJ13:EJ16,0)-1))","v":""},{"$f":"IF(DT13>0,CG11+DA11+RANK(EK13,EK13:EK16,1),)","v":0},null,{"$f":"IF(CC13=4,BT13,)","v":0},{"$f":"(SUMIF(AF4:AF54,BT13,BL4:BL54)+SUMIF(AH4:AH54,BT13,BM4:BM54))","v":0},{"$f":"(SUMIF(AF4:AF54,BT13,BN4:BN54)+SUMIF(AH4:AH54,BT13,BO4:BO54))","v":0},{"$f":"(SUMIF(AF4:AF54,BT13,BP4:BP54)+SUMIF(AH4:AH54,BT13,BQ4:BQ54))","v":0},{"$f":"IFERROR(EO13*3+EP13*1,0)","v":0},{"$f":"CB13","v":"B"},{"$f":"IF(EN13>0,RANK(ER13,ER13:ER16)+CG11+DA11+DU11,)","v":0},{"$f":"IF(AND(EN13>0,COUNTIF(ET13:ET16,ET13)>1),SUMIFS($AI$4:$AI$54,$AF$4:$AF$54,$BT13,$L$4:$L$54,4)+SUMIFS($AK$4:$AK$54,$AH$4:$AH$54,$BT13,$L$4:$L$54,4)-SUMIFS($AK$4:$AK$54,$AF$4:$AF$54,$BT13,$L$4:$L$54,4)-SUMIFS($AI$4:$AI$54,$AH$4:$AH$54,$BT13,$L$4:$L$54,4),)","v":0},{"$f":"IF(AND(EN13>0,COUNTIF(ET4:ET7,ET13)>1),ET13+RANK(EU13,EU4:EU7)-1,ET13)","v":0},{"$f":"IF(AND(EN13>0,COUNTIF(EV13:EV16,EV13)>1),SUMIFS($AI$4:$AI$54,$AF$4:$AF$54,$BT13,$L$4:$L$54,4)+SUMIFS($AK$4:$AK$54,$AH$4:$AH$54,$BT13,$L$4:$L$54,4),)","v":0},{"$f":"IF(AND(EN13>0,COUNTIF(EV13:EV16,EV13)>1),EV13+RANK(EW13,EW13:EW16)-1,EV13)","v":0},{"$f":"IF(EX13=0,\"\",EX13)","v":""},{"$f":"IF(OR(EY13=\"\",COUNTIF(EY13:EY16,EY13)=1),\"\",$BZ13)","v":""},{"$f":"IF(EY13=\"\",\"\",IF(COUNTIF(EY13:EY16,EY13)=1,EY13,EY13+RANK(EZ13,EZ13:EZ16,0)-1))","v":""},{"$f":"IF(OR(FA13=\"\",COUNTIF(FA13:FA16,FA13)=1),\"\",$BX13)","v":""},{"$f":"IF(EY13=\"\",\"\",IF(COUNTIF(FA13:FA16,FA13)=1,FA13,FA13+RANK(FB13,FB13:FB16,0)-1))","v":""},{"$f":"IF(OR(FC13=\"\",COUNTIF(FC13:FC16,FC13)=1),\"\",$BU13)","v":""},{"$f":"IF(EY13=\"\",\"\",IF(COUNTIF(FC13:FC16,FC13)=1,FC13,FC13+RANK(FD13,FD13:FD16,0)-1))","v":""},{"$f":"IF(EN13>0,CG11+DA11+DU11+RANK(FE13,FE13:FE16,1),)","v":0},null,{"$f":"IFERROR(VLOOKUP(FJ13,CF12:CX16,19,FALSE),IFERROR(VLOOKUP(FJ13,CZ12:DR16,19,FALSE),IFERROR(VLOOKUP(FJ13,DT12:EL16,19,FALSE),VLOOKUP(FJ13,EN12:FF16,19,FALSE))))","v":1},{"$f":"RANK(FH13,FH13:FH16,1)+COUNTIF(FH13:FH13,FH13)-1","v":1},{"$f":"BT13","v":"Spanien"},null,null,null,null,null,null,null,null,null,null,null,null,null,null,12,"BCDE","B","C","D","E",{"$f":"VLOOKUP(\"E\",FL3:FM9,2,FALSE)","v":"Belgien"},{"$f":"VLOOKUP(\"D\",FL3:FM9,2,FALSE)","v":"Polen"},{"$f":"VLOOKUP(\"B\",FL3:FM9,2,FALSE)","v":"Italien"},{"$f":"VLOOKUP(\"C\",FL3:FM9,2,FALSE)","v":"Serbien"},{"$f":"IFERROR(IF(AND(VLOOKUP(GA13,FW4:FW9,1,FALSE)=GA13,VLOOKUP(GB13,FW4:FW9,1,FALSE)=GB13,VLOOKUP(GC13,FW4:FW9,1,FALSE)=GC13,VLOOKUP(GD13,FW4:FW9,1,FALSE)=GD13),FY13,\"\"),\"\")","v":""}]
[null,null,"2024-06-15","Italien","-","Albanien",null,"-",null,{"$f":"IF(OR(ISBLANK(G14),ISBLANK(I14)),\"\",IF(G14>I14,1,IF(G14<I14,2,\"X\")))","v":""},{"$f":"IF(OR('Resultat & Tabell'!G14=\"\",'Resultat & Tabell'!I14=\"\",G14=\"\",I14=\"\"),0,IF(G14='Resultat & Tabell'!G14,2,0)+IF(I14='Resultat & Tabell'!I14,2,0)+IF(J14='Resultat & Tabell'!J14,3,0))","v":0},{"$f":"IF(VLOOKUP(D14,BT12:CC16,10,FALSE)=VLOOKUP(F14,BT12:CC16,10,FALSE),VLOOKUP(D14,BT12:CC16,10,FALSE),\"-\")","v":1},2,{"$f":"VLOOKUP(M14,FI13:FJ16,2,FALSE)","v":"Kroatien"},{"$f":"VLOOKUP(N14,BT13:CA16,2,FALSE)","v":0},{"$f":"VLOOKUP(N14,BT13:CA16,3,FALSE)","v":0},{"$f":"VLOOKUP(N14,BT13:CA16,4,FALSE)","v":0},{"$f":"VLOOKUP(N14,BT13:CA16,5,FALSE)","v":0},{"$f":"VLOOKUP(N14,BT13:CA16,6,FALSE)","v":0},{"$f":"VLOOKUP(N14,BT13:CA16,7,FALSE)","v":0},{"$f":"VLOOKUP(N14,BT13:CA16,8,FALSE)","v":0},null,null,"Åttondelsfinaler",{"$f":"SUM(K58:K65)","v":0},{"$f":"Q58","v":0},{"$f":"SUM(Y14:Z14)","v":0},null,null,null,"2024-06-15","Italien","-","Albanien","","-","","",null,0,0,0,0,0,0,0,0,0,0,0,0,0,0,0,0,0,0,0,0,0,0,0,0,0,0,0,0,0,0,null,null,"Kroatien",{"$f":"(SUMIF(AF4:AF54,BT14,AN4:AN54)+SUMIF(AH4:AH54,BT14,AO4:AO54))","v":0},{"$f":"(SUMIF(AF4:AF54,BT14,AP4:AP54)+SUMIF(AH4:AH54,BT14,AQ4:AQ54))","v":0},{"$f":"(SUMIF(AF4:AF54,BT14,AR4:AR54)+SUMIF(AH4:AH54,BT14,AS4:AS54))","v":0},{"$f":"SUMIF(AF4:AF54,BT14,AI4:AI54)+SUMIF(AH4:AH54,BT14,AK4:AK54)","v":0},{"$f":"SUMIF(AF4:AF54,BT14,AK4:AK54)+SUMIF(AH4:AH54,BT14,AI4:AI54)","v":0},{"$f":"BX14-BY14","v":0},{"$f":"IFERROR(BU14*3+BV14*1,0)","v":0},"B",{"$f":"RANK(CA14,CA13:CA16)","v":1},{"$f":"SUMPRODUCT((CA13:CA16=CA14)*(BZ13:BZ16>BZ14))","v":0},null,{"$f":"IF(CC14=1,BT14,)","v":"Kroatien"},{"$f":"(SUMIF(AF4:AF54,BT14,AT4:AT54)+SUMIF(AH4:AH54,BT14,AU4:AU54))","v":0},{"$f":"(SUMIF(AF4:AF54,BT14,AV4:AV54)+SUMIF(AH4:AH54,BT14,AW4:AW54))","v":0},{"$f":"(SUMIF(AF4:AF54,BT14,AX4:AX54)+SUMIF(AH4:AH54,BT14,AY4:AY54))","v":0},{"$f":"IFERROR(CG14*3+CH14*1,0)","v":0},{"$f":"CB14","v":"B"},{"$f":"IF(CF14>0,RANK(CJ14,CJ13:CJ16),)","v":1},{"$f":"IF(AND(CF14>0,COUNTIF(CL13:CL16,CL14)>1),SUMIFS($AI$4:$AI$54,$AF$4:$AF$54,BT14,$L$4:$L$54,1)+SUMIFS($AK$4:$AK$54,$AH$4:$AH$54,BT14,$L$4:$L$54,1)-SUMIFS($AK$4:$AK$54,$AF$4:$AF$54,BT14,$L$4:$L$54,1)-SUMIFS($AI$4:$AI$54,$AH$4:$AH$54,BT14,$L$4:$L$54,1),)","v":0},{"$f":"IF(AND(CF14>0,COUNTIF(CL13:CL16,CL14)>1),CL14+RANK(CM14,CM13:CM16)-1,CL14)","v":1},{"$f":"IF(AND(CF14>0,COUNTIF(CN13:CN16,CN14)>1),SUMIFS($AI$4:$AI$54,$AF$4:$AF$54,BT14,$L$4:$L$54,1)+SUMIFS($AK$4:$AK$54,$AH$4:$AH$54,BT14,$L$4:$L$54,1),)","v":0},{"$f":"IF(AND(CF14>0,COUNTIF(CN13:CN16,CN14)>1),CN14+RANK(CO14,CO13:CO16)-1,CN14)","v":1},{"$f":"IF(CP14=0,\"\",CP14)","v":1},{"$f":"IF(OR(CQ14=\"\",COUNTIF(CQ13:CQ16,CQ14)=1),\"\",$BZ14)","v":0},{"$f":"IF(CQ14=\"\",\"\",IF(COUNTIF(CQ13:CQ16,CQ14)=1,CQ14,CQ14+RANK(CR14,CR13:CR16,0)-1))","v":1},{"$f":"IF(OR(CS14=\"\",COUNTIF(CS13:CS16,CS14)=1),\"\",$BX14)","v":0},{"$f":"IF(CQ14=\"\",\"\",IF(COUNTIF(CS13:CS16,CS14)=1,CS14,CS14+RANK(CT14,CT13:CT16,0)-1))","v":1},{"$f":"IF(OR(CU14=\"\",COUNTIF(CU13:CU16,CU14)=1),\"\",$BU14)","v":0},{"$f":"IF(CQ14=\"\",\"\",IF(COUNTIF(CU13:CU16,CU14)=1,CU14,CU14+RANK(CV14,CV13:CV16,0)-1))","v":1},{"$f":"IF(CF14>0,BM11+RANK(CW14,CW13:CW16,1),)","v":1},null,{"$f":"IF(CC14=2,BT14,)","v":0},{"$f":"(SUMIF(AF4:AF54,BT14,AZ4:AZ54)+SUMIF(AH4:AH54,BT14,BA4:BA54))","v":0},{"$f":"(SUMIF(AF4:AF54,BT14,BB4:BB54)+SUMIF(AH4:AH54,BT14,BC4:BC54))","v":0},{"$f":"(SUMIF(AF4:AF54,BT14,BD4:BD54)+SUMIF(AH4:AH54,BT14,BE4:BE54))","v":0},{"$f":"IFERROR(DA14*3+DB14*1,0)","v":0},{"$f":"CB14","v":"B"},{"$f":"IF(CZ14>0,RANK(DD14,DD13:DD16)+CG11,)","v":0},{"$f":"IF(AND(CZ14>0,COUNTIF(DF13:DF16,DF14)>1),SUMIFS($AI$4:$AI$54,$AF$4:$AF$54,BT14,$L$4:$L$54,2)+SUMIFS($AK$4:$AK$54,$AH$4:$AH$54,BT14,$L$4:$L$54,2)-SUMIFS($AK$4:$AK$54,$AF$4:$AF$54,BT14,$L$4:$L$54,2)-SUMIFS($AI$4:$AI$54,$AH$4:$AH$54,BT14,$L$4:$L$54,2),)","v":0},{"$f":"IF(AND(CZ14>0,COUNTIF(DF13:DF16,DF14)>1),DF14+RANK(DG14,DG13:DG16)-1,DF14)","v":0},{"$f":"IF(AND(CZ14>0,COUNTIF(DH13:DH16,DH14)>1),SUMIFS($AI$4:$AI$54,$AF$4:$AF$54,BT14,$L$4:$L$54,2)+SUMIFS($AK$4:$AK$54,$AH$4:$AH$54,BT14,$L$4:$L$54,2),)","v":0},{"$f":"IF(AND(CZ14>0,COUNTIF(DH13:DH16,DH14)>1),DH14+RANK(DI14,DI13:DI16)-1,DH14)","v":0},{"$f":"IF(DJ14=0,\"\",DJ14)","v":""},{"$f":"IF(OR(DK14=\"\",COUNTIF(DK13:DK16,DK14)=1),\"\",$BZ14)","v":""},{"$f":"IF(DK14=\"\",\"\",IF(COUNTIF(DK13:DK16,DK14)=1,DK14,DK14+RANK(DL14,DL13:DL16,0)-1))","v":""},{"$f":"IF(OR(DM14=\"\",COUNTIF(DM13:DM16,DM14)=1),\"\",$BX14)","v":""},{"$f":"IF(DK14=\"\",\"\",IF(COUNTIF(DM13:DM16,DM14)=1,DM14,DM14+RANK(DN14,DN13:DN16,0)-1))","v":""},{"$f":"IF(OR(DO14=\"\",COUNTIF(DO13:DO16,DO14)=1),\"\",$BU14)","v":""},{"$f":"IF(DK14=\"\",\"\",IF(COUNTIF(DO13:DO16,DO14)=1,DO14,DO14+RANK(DP14,DP13:DP16,0)-1))","v":""},{"$f":"IF(CZ14>0,CG11+RANK(DQ14,DQ13:DQ16,1),)","v":0},null,{"$f":"IF(CC14=3,BT14,)","v":0},{"$f":"(SUMIF(AF4:AF54,BT14,BF4:BF54)+SUMIF(AH4:AH54,BT14,BG4:BG54))","v":0},{"$f":"(SUMIF(AF4:AF54,BT14,BH4:BH54)+SUMIF(AH4:AH54,BT14,BI4:BI54))","v":0},{"$f":"(SUMIF(AF4:AF54,BT14,BJ4:BJ54)+SUMIF(AH4:AH54,BT14,BK4:BK54))","v":0},{"$f":"IFERROR(DU14*3+DV14*1,0)","v":0},{"$f":"CB14","v":"B"},{"$f":"IF(DT14>0,RANK(DX14,DX13:DX16)+CG11+DA11,)","v":0},{"$f":"IF(AND(DT14>0,COUNTIF(DZ13:DZ16,DZ14)>1),SUMIFS($AI$4:$AI$54,$AF$4:$AF$54,BT14,$L$4:$L$54,3)+SUMIFS($AK$4:$AK$54,$AH$4:$AH$54,BT14,$L$4:$L$54,3)-SUMIFS($AK$4:$AK$54,$AF$4:$AF$54,BT14,$L$4:$L$54,3)-SUMIFS($AI$4:$AI$54,$AH$4:$AH$54,BT14,$L$4:$L$54,3),)","v":0},{"$f":"IF(AND(DT14>0,COUNTIF(DZ13:DZ16,DZ14)>1),DZ14+RANK(EA14,EA13:EA16)-1,DZ14)","v":0},{"$f":"IF(AND(DT14>0,COUNTIF(EB13:EB16,EB14)>1),SUMIFS($AI$4:$AI$54,$AF$4:$AF$54,BT14,$L$4:$L$54,3)+SUMIFS($AK$4:$AK$54,$AH$4:$AH$54,BT14,$L$4:$L$54,3),)","v":0},{"$f":"IF(AND(DT14>0,COUNTIF(EB13:EB16,EB14)>1),EB14+RANK(EC14,EC13:EC16)-1,EB14)","v":0},{"$f":"IF(ED14=0,\"\",ED14)","v":""},{"$f":"IF(OR(EE14=\"\",COUNTIF(EE13:EE16,EE14)=1),\"\",$BZ14)","v":""},{"$f":"IF(EE14=\"\",\"\",IF(COUNTIF(EE13:EE16,EE14)=1,EE14,EE14+RANK(EF14,EF13:EF16,0)-1))","v":""},{"$f":"IF(OR(EG14=\"\",COUNTIF(EG13:EG16,EG14)=1),\"\",$BX14)","v":""},{"$f":"IF(EE14=\"\",\"\",IF(COUNTIF(EG13:EG16,EG14)=1,EG14,EG14+RANK(EH14,EH13:EH16,0)-1))","v":""},{"$f":"IF(OR(EI14=\"\",COUNTIF(EI13:EI16,EI14)=1),\"\",$BU14)","v":""},{"$f":"IF(EE14=\"\",\"\",IF(COUNTIF(EI13:EI16,EI14)=1,EI14,EI14+RANK(EJ14,EJ13:EJ16,0)-1))","v":""},{"$f":"IF(DT14>0,CG11+DA11+RANK(EK14,EK13:EK16,1),)","v":0},null,{"$f":"IF(CC14=4,BT14,)","v":0},{"$f":"(SUMIF(AF4:AF54,BT14,BL4:BL54)+SUMIF(AH4:AH54,BT14,BM4:BM54))","v":0},{"$f":"(SUMIF(AF4:AF54,BT14,BN4:BN54)+SUMIF(AH4:AH54,BT14,BO4:BO54))","v":0},{"$f":"(SUMIF(AF4:AF54,BT14,BP4:BP54)+SUMIF(AH4:AH54,BT14,BQ4:BQ54))","v":0},{"$f":"IFERROR(EO14*3+EP14*1,0)","v":0},{"$f":"CB14","v":"B"},{"$f":"IF(EN14>0,RANK(ER14,ER13:ER16)+CG11+DA11+DU11,)","v":0},{"$f":"IF(AND(EN14>0,COUNTIF(ET13:ET16,ET14)>1),SUMIFS($AI$4:$AI$54,$AF$4:$AF$54,BT14,$L$4:$L$54,4)+SUMIFS($AK$4:$AK$54,$AH$4:$AH$54,BT14,$L$4:$L$54,4)-SUMIFS($AK$4:$AK$54,$AF$4:$AF$54,BT14,$L$4:$L$54,4)-SUMIFS($AI$4:$AI$54,$AH$4:$AH$54,BT14,$L$4:$L$54,4),)","v":0},{"$f":"IF(AND(EN14>0,COUNTIF(ET4:ET7,ET14)>1),ET14+RANK(EU14,EU4:EU7)-1,ET14)","v":0},{"$f":"IF(AND(EN14>0,COUNTIF(EV13:EV16,EV14)>1),SUMIFS($AI$4:$AI$54,$AF$4:$AF$54,BT14,$L$4:$L$54,4)+SUMIFS($AK$4:$AK$54,$AH$4:$AH$54,BT14,$L$4:$L$54,4),)","v":0},{"$f":"IF(AND(EN14>0,COUNTIF(EV13:EV16,EV14)>1),EV14+RANK(EW14,EW13:EW16)-1,EV14)","v":0},{"$f":"IF(EX14=0,\"\",EX14)","v":""},{"$f":"IF(OR(EY14=\"\",COUNTIF(EY13:EY16,EY14)=1),\"\",$BZ14)","v":""},{"$f":"IF(EY14=\"\",\"\",IF(COUNTIF(EY13:EY16,EY14)=1,EY14,EY14+RANK(EZ14,EZ13:EZ16,0)-1))","v":""},{"$f":"IF(OR(FA14=\"\",COUNTIF(FA13:FA16,FA14)=1),\"\",$BX14)","v":""},{"$f":"IF(EY14=\"\",\"\",IF(COUNTIF(FA13:FA16,FA14)=1,FA14,FA14+RANK(FB14,FB13:FB16,0)-1))","v":""},{"$f":"IF(OR(FC14=\"\",COUNTIF(FC13:FC16,FC14)=1),\"\",$BU14)","v":""},{"$f":"IF(EY14=\"\",\"\",IF(COUNTIF(FC13:FC16,FC14)=1,FC14,FC14+RANK(FD14,FD13:FD16,0)-1))","v":""},{"$f":"IF(EN14>0,CG11+DA11+DU11+RANK(FE14,FE13:FE16,1),)","v":0},null,{"$f":"IFERROR(VLOOKUP(FJ14,CF12:CX16,19,FALSE),IFERROR(VLOOKUP(FJ14,CZ12:DR16,19,FALSE),IFERROR(VLOOKUP(FJ14,DT12:EL16,19,FALSE),VLOOKUP(FJ14,EN12:FF16,19,FALSE))))","v":1},{"$f":"RANK(FH14,FH13:FH16,1)+COUNTIF(FH13:FH14,FH14)-1","v":2},{"$f":"BT14","v":"Kroatien"},null,null,null,null,null,null,null,null,null,null,null,null,null,null,13,"BCDF","B","C","D","F",{"$f":"VLOOKUP(\"F\",FL3:FM9,2,FALSE)","v":"Georgien"},{"$f":"VLOOKUP(\"D\",FL3:FM9,2,FALSE)","v":"Polen"},{"$f":"VLOOKUP(\"C\",FL3:FM9,2,FALSE)","v":"Serbien"},{"$f":"VLOOKUP(\"B\",FL3:FM9,2,FALSE)","v":"Italien"},{"$f":"IFERROR(IF(AND(VLOOKUP(GA14,FW4:FW9,1,FALSE)=GA14,VLOOKUP(GB14,FW4:FW9,1,FALSE)=GB14,VLOOKUP(GC14,FW4:FW9,1,FALSE)=GC14,VLOOKUP(GD14,FW4:FW9,1,FALSE)=GD14),FY14,\"\"),\"\")","v":""}]
[null,null,"2024-06-19","Kroatien","-","Albanien",null,"-",null,"",{"$f":"IF(OR('Resultat & Tabell'!G15=\"\",'Resultat & Tabell'!I15=\"\",G15=\"\",I15=\"\"),0,IF(G15='Resultat & Tabell'!G15,2,0)+IF(I15='Resultat & Tabell'!I15,2,0)+IF(J15='Resultat & Tabell'!J15,3,0))","v":0},{"$f":"IF(VLOOKUP(D15,BT12:CC16,10,FALSE)=VLOOKUP(F15,BT12:CC16,10,FALSE),VLOOKUP(D15,BT12:CC16,10,FALSE),\"-\")","v":1},3,{"$f":"VLOOKUP(M15,FI13:FJ16,2,FALSE)","v":"Italien"},{"$f":"VLOOKUP(N15,BT13:CA16,2,FALSE)","v":0},{"$f":"VLOOKUP(N15,BT13:CA16,3,FALSE)","v":0},{"$f":"VLOOKUP(N15,BT13:CA16,4,FALSE)","v":0},{"$f":"VLOOKUP(N15,BT13:CA16,5,FALSE)","v":0},{"$f":"VLOOKUP(N15,BT13:CA16,6,FALSE)","v":0},{"$f":"VLOOKUP(N15,BT13:CA16,7,FALSE)","v":0},{"$f":"VLOOKUP(N15,BT13:CA16,8,FALSE)","v":0},null,null,"Kvartsfinaler",{"$f":"SUM(K69:K72)","v":0},{"$f":"Q69","v":0},{"$f":"SUM(Y15:Z15)","v":0},null,null,null,"2024-06-19","Kroatien","-","Albanien","","-","","",null,0,0,0,0,0,0,0,0,0,0,0,0,0,0,0,0,0,0,0,0,0,0,0,0,0,0,0,0,0,0,null,null,"Italien",{"$f":"(SUMIF(AF4:AF54,BT15,AN4:AN54)+SUMIF(AH4:AH54,BT15,AO4:AO54))","v":0},{"$f":"(SUMIF(AF4:AF54,BT15,AP4:AP54)+SUMIF(AH4:AH54,BT15,AQ4:AQ54))","v":0},{"$f":"(SUMIF(AF4:AF54,BT15,AR4:AR54)+SUMIF(AH4:AH54,BT15,AS4:AS54))","v":0},{"$f":"SUMIF(AF4:AF54,BT15,AI4:AI54)+SUMIF(AH4:AH54,BT15,AK4:AK54)","v":0},{"$f":"SUMIF(AF4:AF54,BT15,AK4:AK54)+SUMIF(AH4:AH54,BT15,AI4:AI54)","v":0},{"$f":"BX15-BY15","v":0},{"$f":"IFERROR(BU15*3+BV15*1,0)","v":0},"B",{"$f":"RANK(CA15,CA13:CA16)","v":1},{"$f":"SUMPRODUCT((CA13:CA16=CA15)*(BZ13:BZ16>BZ15))","v":0},null,{"$f":"IF(CC15=1,BT15,)","v":"Italien"},{"$f":"(SUMIF(AF4:AF54,BT15,AT4:AT54)+SUMIF(AH4:AH54,BT15,AU4:AU54))","v":0},{"$f":"(SUMIF(AF4:AF54,BT15,AV4:AV54)+SUMIF(AH4:AH54,BT15,AW4:AW54))","v":0},{"$f":"(SUMIF(AF4:AF54,BT15,AX4:AX54)+SUMIF(AH4:AH54,BT15,AY4:AY54))","v":0},0,{"$f":"CB15","v":"B"},{"$f":"IF(CF15>0,RANK(CJ15,CJ13:CJ16),)","v":1},{"$f":"IF(AND(CF15>0,COUNTIF(CL13:CL16,CL15)>1),SUMIFS($AI$4:$AI$54,$AF$4:$AF$54,BT15,$L$4:$L$54,1)+SUMIFS($AK$4:$AK$54,$AH$4:$AH$54,BT15,$L$4:$L$54,1)-SUMIFS($AK$4:$AK$54,$AF$4:$AF$54,BT15,$L$4:$L$54,1)-SUMIFS($AI$4:$AI$54,$AH$4:$AH$54,BT15,$L$4:$L$54,1),)","v":0},{"$f":"IF(AND(CF15>0,COUNTIF(CL13:CL16,CL15)>1),CL15+RANK(CM15,CM13:CM16)-1,CL15)","v":1},{"$f":"IF(AND(CF15>0,COUNTIF(CN13:CN16,CN15)>1),SUMIFS($AI$4:$AI$54,$AF$4:$AF$54,BT15,$L$4:$L$54,1)+SUMIFS($AK$4:$AK$54,$AH$4:$AH$54,BT15,$L$4:$L$54,1),)","v":0},{"$f":"IF(AND(CF15>0,COUNTIF(CN13:CN16,CN15)>1),CN15+RANK(CO15,CO13:CO16)-1,CN15)","v":1},1,{"$f":"IF(OR(CQ15=\"\",COUNTIF(CQ13:CQ16,CQ15)=1),\"\",$BZ15)","v":0},{"$f":"IF(CQ15=\"\",\"\",IF(COUNTIF(CQ13:CQ16,CQ15)=1,CQ15,CQ15+RANK(CR15,CR13:CR16,0)-1))","v":1},{"$f":"IF(OR(CS15=\"\",COUNTIF(CS13:CS16,CS15)=1),\"\",$BX15)","v":0},{"$f":"IF(CQ15=\"\",\"\",IF(COUNTIF(CS13:CS16,CS15)=1,CS15,CS15+RANK(CT15,CT13:CT16,0)-1))","v":1},{"$f":"IF(OR(CU15=\"\",COUNTIF(CU13:CU16,CU15)=1),\"\",$BU15)","v":0},{"$f":"IF(CQ15=\"\",\"\",IF(COUNTIF(CU13:CU16,CU15)=1,CU15,CU15+RANK(CV15,CV13:CV16,0)-1))","v":1},{"$f":"IF(CF15>0,BM11+RANK(CW15,CW13:CW16,1),)","v":1},null,{"$f":"IF(CC15=2,BT15,)","v":0},{"$f":"(SUMIF(AF4:AF54,BT15,AZ4:AZ54)+SUMIF(AH4:AH54,BT15,BA4:BA54))","v":0},{"$f":"(SUMIF(AF4:AF54,BT15,BB4:BB54)+SUMIF(AH4:AH54,BT15,BC4:BC54))","v":0},{"$f":"(SUMIF(AF4:AF54,BT15,BD4:BD54)+SUMIF(AH4:AH54,BT15,BE4:BE54))","v":0},0,{"$f":"CB15","v":"B"},{"$f":"IF(CZ15>0,RANK(DD15,DD13:DD16)+CG11,)","v":0},{"$f":"IF(AND(CZ15>0,COUNTIF(DF13:DF16,DF15)>1),SUMIFS($AI$4:$AI$54,$AF$4:$AF$54,BT15,$L$4:$L$54,2)+SUMIFS($AK$4:$AK$54,$AH$4:$AH$54,BT15,$L$4:$L$54,2)-SUMIFS($AK$4:$AK$54,$AF$4:$AF$54,BT15,$L$4:$L$54,2)-SUMIFS($AI$4:$AI$54,$AH$4:$AH$54,BT15,$L$4:$L$54,2),)","v":0},{"$f":"IF(AND(CZ15>0,COUNTIF(DF13:DF16,DF15)>1),DF15+RANK(DG15,DG13:DG16)-1,DF15)","v":0},{"$f":"IF(AND(CZ15>0,COUNTIF(DH13:DH16,DH15)>1),SUMIFS($AI$4:$AI$54,$AF$4:$AF$54,BT15,$L$4:$L$54,2)+SUMIFS($AK$4:$AK$54,$AH$4:$AH$54,BT15,$L$4:$L$54,2),)","v":0},{"$f":"IF(AND(CZ15>0,COUNTIF(DH13:DH16,DH15)>1),DH15+RANK(DI15,DI13:DI16)-1,DH15)","v":0},"",{"$f":"IF(OR(DK15=\"\",COUNTIF(DK13:DK16,DK15)=1),\"\",$BZ15)","v":""},{"$f":"IF(DK15=\"\",\"\",IF(COUNTIF(DK13:DK16,DK15)=1,DK15,DK15+RANK(DL15,DL13:DL16,0)-1))","v":""},{"$f":"IF(OR(DM15=\"\",COUNTIF(DM13:DM16,DM15)=1),\"\",$BX15)","v":""},{"$f":"IF(DK15=\"\",\"\",IF(COUNTIF(DM13:DM16,DM15)=1,DM15,DM15+RANK(DN15,DN13:DN16,0)-1))","v":""},{"$f":"IF(OR(DO15=\"\",COUNTIF(DO13:DO16,DO15)=1),\"\",$BU15)","v":""},{"$f":"IF(DK15=\"\",\"\",IF(COUNTIF(DO13:DO16,DO15)=1,DO15,DO15+RANK(DP15,DP13:DP16,0)-1))","v":""},{"$f":"IF(CZ15>0,CG11+RANK(DQ15,DQ13:DQ16,1),)","v":0},null,{"$f":"IF(CC15=3,BT15,)","v":0},{"$f":"(SUMIF(AF4:AF54,BT15,BF4:BF54)+SUMIF(AH4:AH54,BT15,BG4:BG54))","v":0},{"$f":"(SUMIF(AF4:AF54,BT15,BH4:BH54)+SUMIF(AH4:AH54,BT15,BI4:BI54))","v":0},{"$f":"(SUMIF(AF4:AF54,BT15,BJ4:BJ54)+SUMIF(AH4:AH54,BT15,BK4:BK54))","v":0},0,{"$f":"CB15","v":"B"},{"$f":"IF(DT15>0,RANK(DX15,DX13:DX16)+CG11+DA11,)","v":0},{"$f":"IF(AND(DT15>0,COUNTIF(DZ13:DZ16,DZ15)>1),SUMIFS($AI$4:$AI$54,$AF$4:$AF$54,BT15,$L$4:$L$54,3)+SUMIFS($AK$4:$AK$54,$AH$4:$AH$54,BT15,$L$4:$L$54,3)-SUMIFS($AK$4:$AK$54,$AF$4:$AF$54,BT15,$L$4:$L$54,3)-SUMIFS($AI$4:$AI$54,$AH$4:$AH$54,BT15,$L$4:$L$54,3),)","v":0},{"$f":"IF(AND(DT15>0,COUNTIF(DZ13:DZ16,DZ15)>1),DZ15+RANK(EA15,EA13:EA16)-1,DZ15)","v":0},{"$f":"IF(AND(DT15>0,COUNTIF(EB13:EB16,EB15)>1),SUMIFS($AI$4:$AI$54,$AF$4:$AF$54,BT15,$L$4:$L$54,3)+SUMIFS($AK$4:$AK$54,$AH$4:$AH$54,BT15,$L$4:$L$54,3),)","v":0},{"$f":"IF(AND(DT15>0,COUNTIF(EB13:EB16,EB15)>1),EB15+RANK(EC15,EC13:EC16)-1,EB15)","v":0},"",{"$f":"IF(OR(EE15=\"\",COUNTIF(EE13:EE16,EE15)=1),\"\",$BZ15)","v":""},{"$f":"IF(EE15=\"\",\"\",IF(COUNTIF(EE13:EE16,EE15)=1,EE15,EE15+RANK(EF15,EF13:EF16,0)-1))","v":""},{"$f":"IF(OR(EG15=\"\",COUNTIF(EG13:EG16,EG15)=1),\"\",$BX15)","v":""},{"$f":"IF(EE15=\"\",\"\",IF(COUNTIF(EG13:EG16,EG15)=1,EG15,EG15+RANK(EH15,EH13:EH16,0)-1))","v":""},{"$f":"IF(OR(EI15=\"\",COUNTIF(EI13:EI16,EI15)=1),\"\",$BU15)","v":""},{"$f":"IF(EE15=\"\",\"\",IF(COUNTIF(EI13:EI16,EI15)=1,EI15,EI15+RANK(EJ15,EJ13:EJ16,0)-1))","v":""},{"$f":"IF(DT15>0,CG11+DA11+RANK(EK15,EK13:EK16,1),)","v":0},null,{"$f":"IF(CC15=4,BT15,)","v":0},{"$f":"(SUMIF(AF4:AF54,BT15,BL4:BL54)+SUMIF(AH4:AH54,BT15,BM4:BM54))","v":0},{"$f":"(SUMIF(AF4:AF54,BT15,BN4:BN54)+SUMIF(AH4:AH54,BT15,BO4:BO54))","v":0},{"$f":"(SUMIF(AF4:AF54,BT15,BP4:BP54)+SUMIF(AH4:AH54,BT15,BQ4:BQ54))","v":0},0,{"$f":"CB15","v":"B"},{"$f":"IF(EN15>0,RANK(ER15,ER13:ER16)+CG11+DA11+DU11,)","v":0},{"$f":"IF(AND(EN15>0,COUNTIF(ET13:ET16,ET15)>1),SUMIFS($AI$4:$AI$54,$AF$4:$AF$54,BT15,$L$4:$L$54,4)+SUMIFS($AK$4:$AK$54,$AH$4:$AH$54,BT15,$L$4:$L$54,4)-SUMIFS($AK$4:$AK$54,$AF$4:$AF$54,BT15,$L$4:$L$54,4)-SUMIFS($AI$4:$AI$54,$AH$4:$AH$54,BT15,$L$4:$L$54,4),)","v":0},{"$f":"IF(AND(EN15>0,COUNTIF(ET4:ET7,ET15)>1),ET15+RANK(EU15,EU4:EU7)-1,ET15)","v":0},{"$f":"IF(AND(EN15>0,COUNTIF(EV13:EV16,EV15)>1),SUMIFS($AI$4:$AI$54,$AF$4:$AF$54,BT15,$L$4:$L$54,4)+SUMIFS($AK$4:$AK$54,$AH$4:$AH$54,BT15,$L$4:$L$54,4),)","v":0},{"$f":"IF(AND(EN15>0,COUNTIF(EV13:EV16,EV15)>1),EV15+RANK(EW15,EW13:EW16)-1,EV15)","v":0},"",{"$f":"IF(OR(EY15=\"\",COUNTIF(EY13:EY16,EY15)=1),\"\",$BZ15)","v":""},{"$f":"IF(EY15=\"\",\"\",IF(COUNTIF(EY13:EY16,EY15)=1,EY15,EY15+RANK(EZ15,EZ13:EZ16,0)-1))","v":""},{"$f":"IF(OR(FA15=\"\",COUNTIF(FA13:FA16,FA15)=1),\"\",$BX15)","v":""},{"$f":"IF(EY15=\"\",\"\",IF(COUNTIF(FA13:FA16,FA15)=1,FA15,FA15+RANK(FB15,FB13:FB16,0)-1))","v":""},{"$f":"IF(OR(FC15=\"\",COUNTIF(FC13:FC16,FC15)=1),\"\",$BU15)","v":""},{"$f":"IF(EY15=\"\",\"\",IF(COUNTIF(FC13:FC16,FC15)=1,FC15,FC15+RANK(FD15,FD13:FD16,0)-1))","v":""},{"$f":"IF(EN15>0,CG11+DA11+DU11+RANK(FE15,FE13:FE16,1),)","v":0},null,{"$f":"IFERROR(VLOOKUP(FJ15,CF12:CX16,19,FALSE),IFERROR(VLOOKUP(FJ15,CZ12:DR16,19,FALSE),IFERROR(VLOOKUP(FJ15,DT12:EL16,19,FALSE),VLOOKUP(FJ15,EN12:FF16,19,FALSE))))","v":1},{"$f":"RANK(FH15,FH13:FH16,1)+COUNTIF(FH13:FH15,FH15)-1","v":3},{"$f":"BT15","v":"Italien"},null,null,null,null,null,null,null,null,null,null,null,null,null,null,14,"BCEF","B","C","E","F",{"$f":"VLOOKUP(\"F\",FL3:FM9,2,FALSE)","v":"Georgien"},{"$f":"VLOOKUP(\"E\",FL3:FM9,2,FALSE)","v":"Belgien"},{"$f":"VLOOKUP(\"C\",FL3:FM9,2,FALSE)","v":"Serbien"},{"$f":"VLOOKUP(\"B\",FL3:FM9,2,FALSE)","v":"Italien"},{"$f":"IFERROR(IF(AND(VLOOKUP(GA15,FW4:FW9,1,FALSE)=GA15,VLOOKUP(GB15,FW4:FW9,1,FALSE)=GB15,VLOOKUP(GC15,FW4:FW9,1,FALSE)=GC15,VLOOKUP(GD15,FW4:FW9,1,FALSE)=GD15),FY15,\"\"),\"\")","v":""}]
[null,null,"2024-06-20","Spanien","-","Italien",null,"-",null,"",{"$f":"IF(OR('Resultat & Tabell'!G16=\"\",'Resultat & Tabell'!I16=\"\",G16=\"\",I16=\"\"),0,IF(G16='Resultat & Tabell'!G16,2,0)+IF(I16='Resultat & Tabell'!I16,2,0)+IF(J16='Resultat & Tabell'!J16,3,0))","v":0},{"$f":"IF(VLOOKUP(D16,BT12:CC16,10,FALSE)=VLOOKUP(F16,BT12:CC16,10,FALSE),VLOOKUP(D16,BT12:CC16,10,FALSE),\"-\")","v":1},4,{"$f":"VLOOKUP(M16,FI13:FJ16,2,FALSE)","v":"Albanien"},{"$f":"VLOOKUP(N16,BT13:CA16,2,FALSE)","v":0},{"$f":"VLOOKUP(N16,BT13:CA16,3,FALSE)","v":0},{"$f":"VLOOKUP(N16,BT13:CA16,4,FALSE)","v":0},{"$f":"VLOOKUP(N16,BT13:CA16,5,FALSE)","v":0},{"$f":"VLOOKUP(N16,BT13:CA16,6,FALSE)","v":0},{"$f":"VLOOKUP(N16,BT13:CA16,7,FALSE)","v":0},{"$f":"VLOOKUP(N16,BT13:CA16,8,FALSE)","v":0},null,null,"Semifinaler",{"$f":"SUM(K76:K77)","v":0},{"$f":"Q76","v":0},0,null,null,null,"2024-06-20","Spanien","-","Italien","","-","","",null,0,0,0,0,0,0,0,0,0,0,0,0,0,0,0,0,0,0,0,0,0,0,0,0,0,0,0,0,0,0,null,null,"Albanien",{"$f":"(SUMIF(AF4:AF54,BT16,AN4:AN54)+SUMIF(AH4:AH54,BT16,AO4:AO54))","v":0},{"$f":"(SUMIF(AF4:AF54,BT16,AP4:AP54)+SUMIF(AH4:AH54,BT16,AQ4:AQ54))","v":0},{"$f":"(SUMIF(AF4:AF54,BT16,AR4:AR54)+SUMIF(AH4:AH54,BT16,AS4:AS54))","v":0},{"$f":"SUMIF(AF4:AF54,BT16,AI4:AI54)+SUMIF(AH4:AH54,BT16,AK4:AK54)","v":0},{"$f":"SUMIF(AF4:AF54,BT16,AK4:AK54)+SUMIF(AH4:AH54,BT16,AI4:AI54)","v":0},{"$f":"BX16-BY16","v":0},{"$f":"IFERROR(BU16*3+BV16*1,0)","v":0},"B",{"$f":"RANK(CA16,CA13:CA16)","v":1},{"$f":"SUMPRODUCT((CA13:CA16=CA16)*(BZ13:BZ16>BZ16))","v":0},null,{"$f":"IF(CC16=1,BT16,)","v":"Albanien"},{"$f":"(SUMIF(AF4:AF54,BT16,AT4:AT54)+SUMIF(AH4:AH54,BT16,AU4:AU54))","v":0},{"$f":"(SUMIF(AF4:AF54,BT16,AV4:AV54)+SUMIF(AH4:AH54,BT16,AW4:AW54))","v":0},{"$f":"(SUMIF(AF4:AF54,BT16,AX4:AX54)+SUMIF(AH4:AH54,BT16,AY4:AY54))","v":0},0,{"$f":"CB16","v":"B"},{"$f":"IF(CF16>0,RANK(CJ16,CJ13:CJ16),)","v":1},{"$f":"IF(AND(CF16>0,COUNTIF(CL13:CL16,CL16)>1),SUMIFS($AI$4:$AI$54,$AF$4:$AF$54,BT16,$L$4:$L$54,1)+SUMIFS($AK$4:$AK$54,$AH$4:$AH$54,BT16,$L$4:$L$54,1)-SUMIFS($AK$4:$AK$54,$AF$4:$AF$54,BT16,$L$4:$L$54,1)-SUMIFS($AI$4:$AI$54,$AH$4:$AH$54,BT16,$L$4:$L$54,1),)","v":0},{"$f":"IF(AND(CF16>0,COUNTIF(CL13:CL16,CL16)>1),CL16+RANK(CM16,CM13:CM16)-1,CL16)","v":1},{"$f":"IF(AND(CF16>0,COUNTIF(CN13:CN16,CN16)>1),SUMIFS($AI$4:$AI$54,$AF$4:$AF$54,BT16,$L$4:$L$54,1)+SUMIFS($AK$4:$AK$54,$AH$4:$AH$54,BT16,$L$4:$L$54,1),)","v":0},{"$f":"IF(AND(CF16>0,COUNTIF(CN13:CN16,CN16)>1),CN16+RANK(CO16,CO13:CO16)-1,CN16)","v":1},1,{"$f":"IF(OR(CQ16=\"\",COUNTIF(CQ13:CQ16,CQ16)=1),\"\",$BZ16)","v":0},{"$f":"IF(CQ16=\"\",\"\",IF(COUNTIF(CQ13:CQ16,CQ16)=1,CQ16,CQ16+RANK(CR16,CR13:CR16,0)-1))","v":1},{"$f":"IF(OR(CS16=\"\",COUNTIF(CS13:CS16,CS16)=1),\"\",$BX16)","v":0},{"$f":"IF(CQ16=\"\",\"\",IF(COUNTIF(CS13:CS16,CS16)=1,CS16,CS16+RANK(CT16,CT13:CT16,0)-1))","v":1},{"$f":"IF(OR(CU16=\"\",COUNTIF(CU13:CU16,CU16)=1),\"\",$BU16)","v":0},{"$f":"IF(CQ16=\"\",\"\",IF(COUNTIF(CU13:CU16,CU16)=1,CU16,CU16+RANK(CV16,CV13:CV16,0)-1))","v":1},{"$f":"IF(CF16>0,BM11+RANK(CW16,CW13:CW16,1),)","v":1},null,{"$f":"IF(CC16=2,BT16,)","v":0},{"$f":"(SUMIF(AF4:AF54,BT16,AZ4:AZ54)+SUMIF(AH4:AH54,BT16,BA4:BA54))","v":0},{"$f":"(SUMIF(AF4:AF54,BT16,BB4:BB54)+SUMIF(AH4:AH54,BT16,BC4:BC54))","v":0},{"$f":"(SUMIF(AF4:AF54,BT16,BD4:BD54)+SUMIF(AH4:AH54,BT16,BE4:BE54))","v":0},0,{"$f":"CB16","v":"B"},{"$f":"IF(CZ16>0,RANK(DD16,DD13:DD16)+CG11,)","v":0},{"$f":"IF(AND(CZ16>0,COUNTIF(DF13:DF16,DF16)>1),SUMIFS($AI$4:$AI$54,$AF$4:$AF$54,BT16,$L$4:$L$54,2)+SUMIFS($AK$4:$AK$54,$AH$4:$AH$54,BT16,$L$4:$L$54,2)-SUMIFS($AK$4:$AK$54,$AF$4:$AF$54,BT16,$L$4:$L$54,2)-SUMIFS($AI$4:$AI$54,$AH$4:$AH$54,BT16,$L$4:$L$54,2),)","v":0},{"$f":"IF(AND(CZ16>0,COUNTIF(DF13:DF16,DF16)>1),DF16+RANK(DG16,DG13:DG16)-1,DF16)","v":0},{"$f":"IF(AND(CZ16>0,COUNTIF(DH13:DH16,DH16)>1),SUMIFS($AI$4:$AI$54,$AF$4:$AF$54,BT16,$L$4:$L$54,2)+SUMIFS($AK$4:$AK$54,$AH$4:$AH$54,BT16,$L$4:$L$54,2),)","v":0},{"$f":"IF(AND(CZ16>0,COUNTIF(DH13:DH16,DH16)>1),DH16+RANK(DI16,DI13:DI16)-1,DH16)","v":0},"",{"$f":"IF(OR(DK16=\"\",COUNTIF(DK13:DK16,DK16)=1),\"\",$BZ16)","v":""},{"$f":"IF(DK16=\"\",\"\",IF(COUNTIF(DK13:DK16,DK16)=1,DK16,DK16+RANK(DL16,DL13:DL16,0)-1))","v":""},{"$f":"IF(OR(DM16=\"\",COUNTIF(DM13:DM16,DM16)=1),\"\",$BX16)","v":""},{"$f":"IF(DK16=\"\",\"\",IF(COUNTIF(DM14:DM17,DM16)=1,DM16,DM16+RANK(DN16,DN14:DN17,0)-1))","v":""},{"$f":"IF(OR(DO16=\"\",COUNTIF(DO13:DO16,DO16)=1),\"\",$BU16)","v":""},{"$f":"IF(DK16=\"\",\"\",IF(COUNTIF(DO13:DO16,DO16)=1,DO16,DO16+RANK(DP16,DP13:DP16,0)-1))","v":""},{"$f":"IF(CZ16>0,CG11+RANK(DQ16,DQ13:DQ16,1),)","v":0},null,{"$f":"IF(CC16=3,BT16,)","v":0},{"$f":"(SUMIF(AF4:AF54,BT16,BF4:BF54)+SUMIF(AH4:AH54,BT16,BG4:BG54))","v":0},{"$f":"(SUMIF(AF4:AF54,BT16,BH4:BH54)+SUMIF(AH4:AH54,BT16,BI4:BI54))","v":0},{"$f":"(SUMIF(AF4:AF54,BT16,BJ4:BJ54)+SUMIF(AH4:AH54,BT16,BK4:BK54))","v":0},0,{"$f":"CB16","v":"B"},{"$f":"IF(DT16>0,RANK(DX16,DX13:DX16)+CG11+DA11,)","v":0},{"$f":"IF(AND(DT16>0,COUNTIF(DZ13:DZ16,DZ16)>1),SUMIFS($AI$4:$AI$54,$AF$4:$AF$54,BT16,$L$4:$L$54,3)+SUMIFS($AK$4:$AK$54,$AH$4:$AH$54,BT16,$L$4:$L$54,3)-SUMIFS($AK$4:$AK$54,$AF$4:$AF$54,BT16,$L$4:$L$54,3)-SUMIFS($AI$4:$AI$54,$AH$4:$AH$54,BT16,$L$4:$L$54,3),)","v":0},{"$f":"IF(AND(DT16>0,COUNTIF(DZ13:DZ16,DZ16)>1),DZ16+RANK(EA16,EA13:EA16)-1,DZ16)","v":0},{"$f":"IF(AND(DT16>0,COUNTIF(EB13:EB16,EB16)>1),SUMIFS($AI$4:$AI$54,$AF$4:$AF$54,BT16,$L$4:$L$54,3)+SUMIFS($AK$4:$AK$54,$AH$4:$AH$54,BT16,$L$4:$L$54,3),)","v":0},{"$f":"IF(AND(DT16>0,COUNTIF(EB13:EB16,EB16)>1),EB16+RANK(EC16,EC13:EC16)-1,EB16)","v":0},"",{"$f":"IF(OR(EE16=\"\",COUNTIF(EE13:EE16,EE16)=1),\"\",$BZ16)","v":""},{"$f":"IF(EE16=\"\",\"\",IF(COUNTIF(EE13:EE16,EE16)=1,EE16,EE16+RANK(EF16,EF13:EF16,0)-1))","v":""},{"$f":"IF(OR(EG16=\"\",COUNTIF(EG13:EG16,EG16)=1),\"\",$BX16)","v":""},{"$f":"IF(EE16=\"\",\"\",IF(COUNTIF(EG13:EG16,EG16)=1,EG16,EG16+RANK(EH16,EH13:EH16,0)-1))","v":""},{"$f":"IF(OR(EI16=\"\",COUNTIF(EI13:EI16,EI16)=1),\"\",$BU16)","v":""},{"$f":"IF(EE16=\"\",\"\",IF(COUNTIF(EI13:EI16,EI16)=1,EI16,EI16+RANK(EJ16,EJ13:EJ16,0)-1))","v":""},{"$f":"IF(DT16>0,CG11+DA11+RANK(EK16,EK13:EK16,1),)","v":0},null,{"$f":"IF(CC16=4,BT16,)","v":0},{"$f":"(SUMIF(AF4:AF54,BT16,BL4:BL54)+SUMIF(AH4:AH54,BT16,BM4:BM54))","v":0},{"$f":"(SUMIF(AF4:AF54,BT16,BN4:BN54)+SUMIF(AH4:AH54,BT16,BO4:BO54))","v":0},{"$f":"(SUMIF(AF4:AF54,BT16,BP4:BP54)+SUMIF(AH4:AH54,BT16,BQ4:BQ54))","v":0},0,{"$f":"CB16","v":"B"},{"$f":"IF(EN16>0,RANK(ER16,ER13:ER16)+CG11+DA11+DU11,)","v":0},{"$f":"IF(AND(EN16>0,COUNTIF(ET13:ET16,ET16)>1),SUMIFS($AI$4:$AI$54,$AF$4:$AF$54,BT16,$L$4:$L$54,4)+SUMIFS($AK$4:$AK$54,$AH$4:$AH$54,BT16,$L$4:$L$54,4)-SUMIFS($AK$4:$AK$54,$AF$4:$AF$54,BT16,$L$4:$L$54,4)-SUMIFS($AI$4:$AI$54,$AH$4:$AH$54,BT16,$L$4:$L$54,4),)","v":0},{"$f":"IF(AND(EN16>0,COUNTIF(ET4:ET7,ET16)>1),ET16+RANK(EU16,EU4:EU7)-1,ET16)","v":0},{"$f":"IF(AND(EN16>0,COUNTIF(EV13:EV16,EV16)>1),SUMIFS($AI$4:$AI$54,$AF$4:$AF$54,BT16,$L$4:$L$54,4)+SUMIFS($AK$4:$AK$54,$AH$4:$AH$54,BT16,$L$4:$L$54,4),)","v":0},{"$f":"IF(AND(EN16>0,COUNTIF(EV13:EV16,EV16)>1),EV16+RANK(EW16,EW13:EW16)-1,EV16)","v":0},"",{"$f":"IF(OR(EY16=\"\",COUNTIF(EY13:EY16,EY16)=1),\"\",$BZ16)","v":""},{"$f":"IF(EY16=\"\",\"\",IF(COUNTIF(EY13:EY16,EY16)=1,EY16,EY16+RANK(EZ16,EZ13:EZ16,0)-1))","v":""},{"$f":"IF(OR(FA16=\"\",COUNTIF(FA13:FA16,FA16)=1),\"\",$BX16)","v":""},{"$f":"IF(EY16=\"\",\"\",IF(COUNTIF(FA13:FA16,FA16)=1,FA16,FA16+RANK(FB16,FB13:FB16,0)-1))","v":""},{"$f":"IF(OR(FC16=\"\",COUNTIF(FC13:FC16,FC16)=1),\"\",$BU16)","v":""},{"$f":"IF(EY16=\"\",\"\",IF(COUNTIF(FC13:FC16,FC16)=1,FC16,FC16+RANK(FD16,FD13:FD16,0)-1))","v":""},{"$f":"IF(EN16>0,CG11+DA11+DU11+RANK(FE16,FE13:FE16,1),)","v":0},null,{"$f":"IFERROR(VLOOKUP(FJ16,CF12:CX16,19,FALSE),IFERROR(VLOOKUP(FJ16,CZ12:DR16,19,FALSE),IFERROR(VLOOKUP(FJ16,DT12:EL16,19,FALSE),VLOOKUP(FJ16,EN12:FF16,19,FALSE))))","v":1},{"$f":"RANK(FH16,FH13:FH16,1)+COUNTIF(FH13:FH16,FH16)-1","v":4},{"$f":"BT16","v":"Albanien"},null,null,null,null,null,null,null,null,null,null,null,null,null,null,15,"BDEF","B","D","E","F",{"$f":"VLOOKUP(\"F\",FL3:FM9,2,FALSE)","v":"Georgien"},{"$f":"VLOOKUP(\"E\",FL3:FM9,2,FALSE)","v":"Belgien"},{"$f":"VLOOKUP(\"D\",FL3:FM9,2,FALSE)","v":"Polen"},{"$f":"VLOOKUP(\"B\",FL3:FM9,2,FALSE)","v":"Italien"},{"$f":"IFERROR(IF(AND(VLOOKUP(GA16,FW4:FW9,1,FALSE)=GA16,VLOOKUP(GB16,FW4:FW9,1,FALSE)=GB16,VLOOKUP(GC16,FW4:FW9,1,FALSE)=GC16,VLOOKUP(GD16,FW4:FW9,1,FALSE)=GD16),FY16,\"\"),\"\")","v":""}]
[null,null,"2024-06-24","Albanien","-","Spanien",null,"-",null,"",{"$f":"IF(OR('Resultat & Tabell'!G17=\"\",'Resultat & Tabell'!I17=\"\",G17=\"\",I17=\"\"),0,IF(G17='Resultat & Tabell'!G17,2,0)+IF(I17='Resultat & Tabell'!I17,2,0)+IF(J17='Resultat & Tabell'!J17,3,0))","v":0},{"$f":"IF(VLOOKUP(D17,BT12:CC16,10,FALSE)=VLOOKUP(F17,BT12:CC16,10,FALSE),VLOOKUP(D17,BT12:CC16,10,FALSE),\"-\")","v":1},null,{"$f":"IF(COUNTBLANK(G13:G18)+COUNTBLANK(I13:I18)=0,\"Resultat OK\",\"Fyll i resultat\")","v":"Fyll i resultat"},null,null,null,null,null,null,null,null,null,"Final",{"$f":"K81","v":0},{"$f":"Q81","v":0},0,null,null,null,"2024-06-24","Albanien","-","Spanien","","-","","",null,0,0,0,0,0,0,0,0,0,0,0,0,0,0,0,0,0,0,0,0,0,0,0,0,0,0,0,0,0,0,null,null,null,null,null,null,null,null,null,null,null,null,null,null,null,null,null,null,null,null,null,null,null,null,null,null,null,null,null,null,null,null,null,null,null,null,null,null,null,null,null,null,null,null,null,null,null,null,null,null,null,null,null,null,null,null,null,null,null,null,null,null,null,null,null,null,null,null,null,null,null,null,null,null,null,null,null,null,null,null,null,null,null,null,null,null,null,null,null,null,null,null,null,null,null,null,null,null,null,null,null,null,null,null,null,null,null,null,null,null,null,16,"CDEF","C","D","E","F",{"$f":"VLOOKUP(\"F\",FL3:FM9,2,FALSE)","v":"Georgien"},{"$f":"VLOOKUP(\"E\",FL3:FM9,2,FALSE)","v":"Belgien"},{"$f":"VLOOKUP(\"D\",FL3:FM9,2,FALSE)","v":"Polen"},{"$f":"VLOOKUP(\"C\",FL3:FM9,2,FALSE)","v":"Serbien"},{"$f":"IFERROR(IF(AND(VLOOKUP(GA17,FW4:FW9,1,FALSE)=GA17,VLOOKUP(GB17,FW4:FW9,1,FALSE)=GB17,VLOOKUP(GC17,FW4:FW9,1,FALSE)=GC17,VLOOKUP(GD17,FW4:FW9,1,FALSE)=GD17),FY17,\"\"),\"\")","v":""}]
[null,null,"2024-06-24","Kroatien","-","Italien",null,"-",null,"",{"$f":"IF(OR('Resultat & Tabell'!G18=\"\",'Resultat & Tabell'!I18=\"\",G18=\"\",I18=\"\"),0,IF(G18='Resultat & Tabell'!G18,2,0)+IF(I18='Resultat & Tabell'!I18,2,0)+IF(J18='Resultat & Tabell'!J18,3,0))","v":0},{"$f":"IF(VLOOKUP(D18,BT12:CC16,10,FALSE)=VLOOKUP(F18,BT12:CC16,10,FALSE),VLOOKUP(D18,BT12:CC16,10,FALSE),\"-\")","v":1},null,null,null,null,null,null,null,null,null,null,null,"Bonusfrågor",{"$f":"SUM(AC4:AC9)","v":0},0,0,null,null,null,"2024-06-24","Kroatien","-","Italien","","-","","",null,0,0,0,0,0,0,0,0,0,0,0,0,0,0,0,0,0,0,0,0,0,0,0,0,0,0,0,0,0,0]
[null,null,null,null,null,null,null,null,null,null,null,null,null,null,null,null,null,null,null,null,null,null,null,"Summa",null,null,{"$f":"SUM(AA13:AA18)","v":0}]
[null,null,"Grupp C",null,null,null,null,null,null,null,null,null,null,null,null,null,null,null,null,null,null,null,null,null,null,null,null,null,null,null,"Grupp C",null,null,null,null,null,null,null,null,null,null,null,null,null,null,null,null,null,null,null,null,null,null,null,null,null,null,null,null,null,null,null,null,null,null,null,null,null,null,null,null,"Rank 0",null,null,null,null,null,null,null,null,null,null,null,"Rank 1",{"$f":"COUNTIF(CC22:CC25,1)","v":4},null,null,null,null,null,null,null,null,null,null,null,null,null,null,null,null,null,null,"Rank 2",{"$f":"COUNTIF(CC22:CC25,2)","v":0},null,null,null,null,null,null,null,null,null,null,null,null,null,null,null,null,null,null,"Rank 3",{"$f":"COUNTIF(CC22:CC25,3)","v":0},null,null,null,null,null,null,null,null,null,null,null,null,null,null,null,null,null,null,"Rank 4",{"$f":"COUNTIF(CC22:CC25,4)","v":0}]
[null,null,"Datum","Match",null,null,"Resultat",null,null,"Tecken","Poäng",null,null,"Lag","V","O","F","GM","IM","+/-","P",null,null,null,null,null,null,null,null,null,"Datum","Match",null,null,"Resultat",null,null,"Tecken","Poäng","V1","V2","O1","O2","F1","F2","V1","V2","O1","O2","F1","F2","V1","V2","O1","O2","F1","F2","V1","V2","O1","O2","F1","F2","V1","V2","O1","O2","F1","F2",null,null,"Lag","V","O","F","GM","IM","+/-","P","Grupp","Rank P","Rank +/-",null,"Lag","V","O","F","P","Grupp","Rank P","+/-","+/- rank","GM","GM rank","Rank internal","+/- all","+/- rank all","GM all","GM rank all","V all","V rank all","Rank all",null,"Lag","V","O","F","P","Grupp","Rank P","+/-","+/- rank","GM","GM rank","Rank internal","+/- all","+/- rank all","GM all","GM rank all","V all","V rank all","Rank all",null,"Lag","V","O","F","P","Grupp","Rank P","+/-","+/- rank","GM","GM rank","Rank internal","+/- all","+/- rank all","GM all","GM rank all","V all","V rank all","Rank all",null,"Lag","V","O","F","P","Grupp","Rank P","+/-","+/- rank","GM","GM rank","Rank internal","+/- all","+/- rank all","GM all","GM rank all","V all","V rank all","Rank all",null,"Rank","Rank Ties"]
[null,null,"2024-06-16","Slovenien","-","Danmark",null,"-",null,{"$f":"IF(OR(ISBLANK(G22),ISBLANK(I22)),\"\",IF(G22>I22,1,IF(G22<I22,2,\"X\")))","v":""},{"$f":"IF(OR('Resultat & Tabell'!G22=\"\",'Resultat & Tabell'!I22=\"\",G22=\"\",I22=\"\"),0,IF(G22='Resultat & Tabell'!G22,2,0)+IF(I22='Resultat & Tabell'!I22,2,0)+IF(J22='Resultat & Tabell'!J22,3,0))","v":0},{"$f":"IF(VLOOKUP(D22,BT21:CC25,10,FALSE)=VLOOKUP(F22,BT21:CC25,10,FALSE),VLOOKUP(D22,BT21:CC25,10,FALSE),\"-\")","v":1},1,{"$f":"VLOOKUP(M22,FI22:FJ25,2,FALSE)","v":"Slovenien"},{"$f":"VLOOKUP(N22,BT22:CA25,2,FALSE)","v":0},{"$f":"VLOOKUP(N22,BT22:CA25,3,FALSE)","v":0},{"$f":"VLOOKUP(N22,BT22:CA25,4,FALSE)","v":0},{"$f":"VLOOKUP(N22,BT22:CA25,5,FALSE)","v":0},{"$f":"VLOOKUP(N22,BT22:CA25,6,FALSE)","v":0},{"$f":"VLOOKUP(N22,BT22:CA25,7,FALSE)","v":0},{"$f":"VLOOKUP(N22,BT22:CA25,8,FALSE)","v":0},null,null,null,null,null,null,null,null,null,{"$f":"C22","v":"2024-06-16"},"Slovenien","-","Danmark",{"$f":"IF(G22=\"\",\"\",G22)","v":""},"-",{"$f":"IF(I22=\"\",\"\",I22)","v":""},{"$f":"J22","v":""},null,{"$f":"IF(AI22>AK22,1,0)","v":0},{"$f":"IF(AK22>AI22,1,0)","v":0},{"$f":"IF(AND(AI22=AK22,AI22<>\"\"),1,0)","v":0},{"$f":"IF(AND(AI22=AK22,AI22<>\"\"),1,0)","v":0},{"$f":"IF(AI22<AK22,1,0)","v":0},{"$f":"IF(AK22<AI22,1,)","v":0},{"$f":"IF(ISERROR(VLOOKUP(AF22,CF:CF,1,FALSE)),0,1)*IF(ISERROR(VLOOKUP(AH22,CF:CF,1,FALSE)),0,1)*AN22","v":0},{"$f":"IF(ISERROR(VLOOKUP(AF22,CF:CF,1,FALSE)),0,1)*IF(ISERROR(VLOOKUP(AH22,CF:CF,1,FALSE)),0,1)*AO22","v":0},{"$f":"IF(ISERROR(VLOOKUP(AF22,CF:CF,1,FALSE)),0,1)*IF(ISERROR(VLOOKUP(AH22,CF:CF,1,FALSE)),0,1)*AP22","v":0},{"$f":"IF(ISERROR(VLOOKUP(AF22,CF:CF,1,FALSE)),0,1)*IF(ISERROR(VLOOKUP(AH22,CF:CF,1,FALSE)),0,1)*AQ22","v":0},{"$f":"IF(ISERROR(VLOOKUP(AF22,CF:CF,1,FALSE)),0,1)*IF(ISERROR(VLOOKUP(AH22,CF:CF,1,FALSE)),0,1)*AR22","v":0},{"$f":"IF(ISERROR(VLOOKUP(AF22,CF:CF,1,FALSE)),0,1)*IF(ISERROR(VLOOKUP(AH22,CF:CF,1,FALSE)),0,1)*AS22","v":0},{"$f":"IF(ISERROR(VLOOKUP(AF22,CZ:CZ,1,FALSE)),0,1)*IF(ISERROR(VLOOKUP(AH22,CZ:CZ,1,FALSE)),0,1)*AN22","v":0},{"$f":"IF(ISERROR(VLOOKUP(AF22,CZ:CZ,1,FALSE)),0,1)*IF(ISERROR(VLOOKUP(AH22,CZ:CZ,1,FALSE)),0,1)*AO22","v":0},{"$f":"IF(ISERROR(VLOOKUP(AF22,CZ:CZ,1,FALSE)),0,1)*IF(ISERROR(VLOOKUP(AH22,CZ:CZ,1,FALSE)),0,1)*AP22","v":0},{"$f":"IF(ISERROR(VLOOKUP(AF22,CZ:CZ,1,FALSE)),0,1)*IF(ISERROR(VLOOKUP(AH22,CZ:CZ,1,FALSE)),0,1)*AQ22","v":0},{"$f":"IF(ISERROR(VLOOKUP(AF22,CZ:CZ,1,FALSE)),0,1)*IF(ISERROR(VLOOKUP(AH22,CZ:CZ,1,FALSE)),0,1)*AR22","v":0},{"$f":"IF(ISERROR(VLOOKUP(AF22,CZ:CZ,1,FALSE)),0,1)*IF(ISERROR(VLOOKUP(AH22,CZ:CZ,1,FALSE)),0,1)*AS22","v":0},{"$f":"IF(ISERROR(VLOOKUP(AF22,DT:DT,1,FALSE)),0,1)*IF(ISERROR(VLOOKUP(AH22,DT:DT,1,FALSE)),0,1)*AN22","v":0},{"$f":"IF(ISERROR(VLOOKUP(AF22,DT:DT,1,FALSE)),0,1)*IF(ISERROR(VLOOKUP(AH22,DT:DT,1,FALSE)),0,1)*AO22","v":0},{"$f":"IF(ISERROR(VLOOKUP(AF22,DT:DT,1,FALSE)),0,1)*IF(ISERROR(VLOOKUP(AH22,DT:DT,1,FALSE)),0,1)*AP22","v":0},{"$f":"IF(ISERROR(VLOOKUP(AF22,DT:DT,1,FALSE)),0,1)*IF(ISERROR(VLOOKUP(AH22,DT:DT,1,FALSE)),0,1)*AQ22","v":0},{"$f":"IF(ISERROR(VLOOKUP(AF22,DT:DT,1,FALSE)),0,1)*IF(ISERROR(VLOOKUP(AH22,DT:DT,1,FALSE)),0,1)*AR22","v":0},{"$f":"IF(ISERROR(VLOOKUP(AF22,DT:DT,1,FALSE)),0,1)*IF(ISERROR(VLOOKUP(AH22,DT:DT,1,FALSE)),0,1)*AS22","v":0},{"$f":"IF(ISERROR(VLOOKUP(AF22,EN:EN,1,FALSE)),0,1)*IF(ISERROR(VLOOKUP(AH22,EN:EN,1,FALSE)),0,1)*AN22","v":0},{"$f":"IF(ISERROR(VLOOKUP(AF22,EN:EN,1,FALSE)),0,1)*IF(ISERROR(VLOOKUP(AH22,EN:EN,1,FALSE)),0,1)*AO22","v":0},{"$f":"IF(ISERROR(VLOOKUP(AF22,EN:EN,1,FALSE)),0,1)*IF(ISERROR(VLOOKUP(AH22,EN:EN,1,FALSE)),0,1)*AP22","v":0},{"$f":"IF(ISERROR(VLOOKUP(AF22,EN:EN,1,FALSE)),0,1)*IF(ISERROR(VLOOKUP(AH22,EN:EN,1,FALSE)),0,1)*AQ22","v":0},{"$f":"IF(ISERROR(VLOOKUP(AF22,EN:EN,1,FALSE)),0,1)*IF(ISERROR(VLOOKUP(AH22,EN:EN,1,FALSE)),0,1)*AR22","v":0},{"$f":"IF(ISERROR(VLOOKUP(AF22,EN:EN,1,FALSE)),0,1)*IF(ISERROR(VLOOKUP(AH22,EN:EN,1,FALSE)),0,1)*AS22","v":0},null,null,"Slovenien",{"$f":"(SUMIF(AF4:AF54,BT22,AN4:AN54)+SUMIF(AH4:AH54,BT22,AO4:AO54))","v":0},{"$f":"(SUMIF(AF4:AF54,BT22,AP4:AP54)+SUMIF(AH4:AH54,BT22,AQ4:AQ54))","v":0},{"$f":"(SUMIF(AF4:AF54,BT22,AR4:AR54)+SUMIF(AH4:AH54,BT22,AS4:AS54))","v":0},{"$f":"SUMIF(AF4:AF54,BT22,AI4:AI54)+SUMIF(AH4:AH54,BT22,AK4:AK54)","v":0},{"$f":"SUMIF(AF4:AF54,BT22,AK4:AK54)+SUMIF(AH4:AH54,BT22,AI4:AI54)","v":0},{"$f":"BX22-BY22","v":0},{"$f":"IFERROR(BU22*3+BV22*1,0)","v":0},"C",{"$f":"RANK(CA22,CA22:CA25)","v":1},{"$f":"SUMPRODUCT((CA22:CA25=CA22)*(BZ22:BZ25>BZ22))","v":0},null,{"$f":"IF(CC22=1,BT22,)","v":"Slovenien"},{"$f":"(SUMIF(AF4:AF54,BT22,AT4:AT54)+SUMIF(AH4:AH54,BT22,AU4:AU54))","v":0},{"$f":"(SUMIF(AF4:AF54,BT22,AV4:AV54)+SUMIF(AH4:AH54,BT22,AW4:AW54))","v":0},{"$f":"(SUMIF(AF4:AF54,BT22,AX4:AX54)+SUMIF(AH4:AH54,BT22,AY4:AY54))","v":0},{"$f":"IFERROR(CG22*3+CH22*1,0)","v":0},{"$f":"CB22","v":"C"},{"$f":"IF(CF22>0,RANK(CJ22,CJ22:CJ25),)","v":1},{"$f":"IF(AND(CF22>0,COUNTIF(CL22:CL25,CL22)>1),SUMIFS($AI$4:$AI$54,$AF$4:$AF$54,$BT22,$L$4:$L$54,1)+SUMIFS($AK$4:$AK$54,$AH$4:$AH$54,$BT22,$L$4:$L$54,1)-SUMIFS($AK$4:$AK$54,$AF$4:$AF$54,$BT22,$L$4:$L$54,1)-SUMIFS($AI$4:$AI$54,$AH$4:$AH$54,$BT22,$L$4:$L$54,1),)","v":0},{"$f":"IF(AND(CF22>0,COUNTIF(CL22:CL25,CL22)>1),CL22+RANK(CM22,CM22:CM25)-1,CL22)","v":1},{"$f":"IF(AND(CF22>0,COUNTIF(CN22:CN25,CN22)>1),SUMIFS($AI$4:$AI$54,$AF$4:$AF$54,$BT22,$L$4:$L$54,1)+SUMIFS($AK$4:$AK$54,$AH$4:$AH$54,$BT22,$L$4:$L$54,1),)","v":0},{"$f":"IF(AND(CF22>0,COUNTIF(CN22:CN25,CN22)>1),CN22+RANK(CO22,CO22:CO25)-1,CN22)","v":1},{"$f":"IF(CP22=0,\"\",CP22)","v":1},{"$f":"IF(OR(CQ22=\"\",COUNTIF(CQ22:CQ25,CQ22)=1),\"\",$BZ22)","v":0},{"$f":"IF(CQ22=\"\",\"\",IF(COUNTIF(CQ22:CQ25,CQ22)=1,CQ22,CQ22+RANK(CR22,CR22:CR25,0)-1))","v":1},{"$f":"IF(OR(CS22=\"\",COUNTIF(CS22:CS25,CS22)=1),\"\",$BX22)","v":0},{"$f":"IF(CQ22=\"\",\"\",IF(COUNTIF(CS22:CS25,CS22)=1,CS22,CS22+RANK(CT22,CT22:CT25,0)-1))","v":1},{"$f":"IF(OR(CU22=\"\",COUNTIF(CU22:CU25,CU22)=1),\"\",$BU22)","v":0},{"$f":"IF(CQ22=\"\",\"\",IF(COUNTIF(CU22:CU25,CU22)=1,CU22,CU22+RANK(CV22,CV22:CV25,0)-1))","v":1},{"$f":"IF(CF22>0,BM20+RANK(CW22,CW22:CW25,1),)","v":1},null,{"$f":"IF(CC22=2,BT22,)","v":0},{"$f":"(SUMIF(AF4:AF54,BT22,AZ4:AZ54)+SUMIF(AH4:AH54,BT22,BA4:BA54))","v":0},{"$f":"(SUMIF(AF4:AF54,BT22,BB4:BB54)+SUMIF(AH4:AH54,BT22,BC4:BC54))","v":0},{"$f":"(SUMIF(AF4:AF54,BT22,BD4:BD54)+SUMIF(AH4:AH54,BT22,BE4:BE54))","v":0},{"$f":"IFERROR(DA22*3+DB22*1,0)","v":0},{"$f":"CB22","v":"C"},{"$f":"IF(CZ22>0,RANK(DD22,DD22:DD25)+CG20,)","v":0},{"$f":"IF(AND(CZ22>0,COUNTIF(DF22:DF25,DF22)>1),SUMIFS($AI$4:$AI$54,$AF$4:$AF$54,$BT22,$L$4:$L$54,2)+SUMIFS($AK$4:$AK$54,$AH$4:$AH$54,$BT22,$L$4:$L$54,2)-SUMIFS($AK$4:$AK$54,$AF$4:$AF$54,$BT22,$L$4:$L$54,2)-SUMIFS($AI$4:$AI$54,$AH$4:$AH$54,$BT22,$L$4:$L$54,2),)","v":0},{"$f":"IF(AND(CZ22>0,COUNTIF(DF22:DF25,DF22)>1),DF22+RANK(DG22,DG22:DG25)-1,DF22)","v":0},{"$f":"IF(AND(CZ22>0,COUNTIF(DH22:DH25,DH22)>1),SUMIFS($AI$4:$AI$54,$AF$4:$AF$54,$BT22,$L$4:$L$54,2)+SUMIFS($AK$4:$AK$54,$AH$4:$AH$54,$BT22,$L$4:$L$54,2),)","v":0},{"$f":"IF(AND(CZ22>0,COUNTIF(DH22:DH25,DH22)>1),DH22+RANK(DI22,DI22:DI25)-1,DH22)","v":0},{"$f":"IF(DJ22=0,\"\",DJ22)","v":""},{"$f":"IF(OR(DK22=\"\",COUNTIF(DK22:DK25,DK22)=1),\"\",$BZ22)","v":""},{"$f":"IF(DK22=\"\",\"\",IF(COUNTIF(DK22:DK25,DK22)=1,DK22,DK22+RANK(DL22,DL22:DL25,0)-1))","v":""},{"$f":"IF(OR(DM22=\"\",COUNTIF(DM22:DM25,DM22)=1),\"\",$BX22)","v":""},{"$f":"IF(DK22=\"\",\"\",IF(COUNTIF(DM22:DM25,DM22)=1,DM22,DM22+RANK(DN22,DN22:DN25,0)-1))","v":""},{"$f":"IF(OR(DO22=\"\",COUNTIF(DO22:DO25,DO22)=1),\"\",$BU22)","v":""},{"$f":"IF(DK22=\"\",\"\",IF(COUNTIF(DO22:DO25,DO22)=1,DO22,DO22+RANK(DP22,DP22:DP25,0)-1))","v":""},{"$f":"IF(CZ22>0,CG20+RANK(DQ22,DQ22:DQ25,1),)","v":0},null,{"$f":"IF(CC22=3,BT22,)","v":0},{"$f":"(SUMIF(AF4:AF54,BT22,BF4:BF54)+SUMIF(AH4:AH54,BT22,BG4:BG54))","v":0},{"$f":"(SUMIF(AF4:AF54,BT22,BH4:BH54)+SUMIF(AH4:AH54,BT22,BI4:BI54))","v":0},{"$f":"(SUMIF(AF4:AF54,BT22,BJ4:BJ54)+SUMIF(AH4:AH54,BT22,BK4:BK54))","v":0},{"$f":"IFERROR(DU22*3+DV22*1,0)","v":0},{"$f":"CB22","v":"C"},{"$f":"IF(DT22>0,RANK(DX22,DX22:DX25)+CG20+DA20,)","v":0},{"$f":"IF(AND(DT22>0,COUNTIF(DZ22:DZ25,DZ22)>1),SUMIFS($AI$4:$AI$54,$AF$4:$AF$54,$BT22,$L$4:$L$54,3)+SUMIFS($AK$4:$AK$54,$AH$4:$AH$54,$BT22,$L$4:$L$54,3)-SUMIFS($AK$4:$AK$54,$AF$4:$AF$54,$BT22,$L$4:$L$54,3)-SUMIFS($AI$4:$AI$54,$AH$4:$AH$54,$BT22,$L$4:$L$54,3),)","v":0},{"$f":"IF(AND(DT22>0,COUNTIF(DZ22:DZ25,DZ22)>1),DZ22+RANK(EA22,EA22:EA25)-1,DZ22)","v":0},{"$f":"IF(AND(DT22>0,COUNTIF(EB22:EB25,EB22)>1),SUMIFS($AI$4:$AI$54,$AF$4:$AF$54,$BT22,$L$4:$L$54,3)+SUMIFS($AK$4:$AK$54,$AH$4:$AH$54,$BT22,$L$4:$L$54,3),)","v":0},{"$f":"IF(AND(DT22>0,COUNTIF(EB22:EB25,EB22)>1),EB22+RANK(EC22,EC22:EC25)-1,EB22)","v":0},{"$f":"IF(ED22=0,\"\",ED22)","v":""},{"$f":"IF(OR(EE22=\"\",COUNTIF(EE22:EE25,EE22)=1),\"\",$BZ22)","v":""},{"$f":"IF(EE22=\"\",\"\",IF(COUNTIF(EE22:EE25,EE22)=1,EE22,EE22+RANK(EF22,EF22:EF25,0)-1))","v":""},{"$f":"IF(OR(EG22=\"\",COUNTIF(EG22:EG25,EG22)=1),\"\",$BX22)","v":""},{"$f":"IF(EE22=\"\",\"\",IF(COUNTIF(EG22:EG25,EG22)=1,EG22,EG22+RANK(EH22,EH22:EH25,0)-1))","v":""},{"$f":"IF(OR(EI22=\"\",COUNTIF(EI22:EI25,EI22)=1),\"\",$BU22)","v":""},{"$f":"IF(EE22=\"\",\"\",IF(COUNTIF(EI22:EI25,EI22)=1,EI22,EI22+RANK(EJ22,EJ22:EJ25,0)-1))","v":""},{"$f":"IF(DT22>0,CG20+DA20+RANK(EK22,EK22:EK25,1),)","v":0},null,{"$f":"IF(CC22=4,BT22,)","v":0},{"$f":"(SUMIF(AF4:AF54,BT22,BL4:BL54)+SUMIF(AH4:AH54,BT22,BM4:BM54))","v":0},{"$f":"(SUMIF(AF4:AF54,BT22,BN4:BN54)+SUMIF(AH4:AH54,BT22,BO4:BO54))","v":0},{"$f":"(SUMIF(AF4:AF54,BT22,BP4:BP54)+SUMIF(AH4:AH54,BT22,BQ4:BQ54))","v":0},{"$f":"IFERROR(EO22*3+EP22*1,0)","v":0},{"$f":"CB22","v":"C"},{"$f":"IF(EN22>0,RANK(ER22,ER22:ER25)+CG20+DA20+DU20,)","v":0},{"$f":"IF(AND(EN22>0,COUNTIF(ET22:ET25,ET22)>1),SUMIFS($AI$4:$AI$54,$AF$4:$AF$54,$BT22,$L$4:$L$54,4)+SUMIFS($AK$4:$AK$54,$AH$4:$AH$54,$BT22,$L$4:$L$54,4)-SUMIFS($AK$4:$AK$54,$AF$4:$AF$54,$BT22,$L$4:$L$54,4)-SUMIFS($AI$4:$AI$54,$AH$4:$AH$54,$BT22,$L$4:$L$54,4),)","v":0},{"$f":"IF(AND(EN22>0,COUNTIF(ET4:ET7,ET22)>1),ET22+RANK(EU22,EU4:EU7)-1,ET22)","v":0},{"$f":"IF(AND(EN22>0,COUNTIF(EV22:EV25,EV22)>1),SUMIFS($AI$4:$AI$54,$AF$4:$AF$54,$BT22,$L$4:$L$54,4)+SUMIFS($AK$4:$AK$54,$AH$4:$AH$54,$BT22,$L$4:$L$54,4),)","v":0},{"$f":"IF(AND(EN22>0,COUNTIF(EV22:EV25,EV22)>1),EV22+RANK(EW22,EW22:EW25)-1,EV22)","v":0},{"$f":"IF(EX22=0,\"\",EX22)","v":""},{"$f":"IF(OR(EY22=\"\",COUNTIF(EY22:EY25,EY22)=1),\"\",$BZ22)","v":""},{"$f":"IF(EY22=\"\",\"\",IF(COUNTIF(EY22:EY25,EY22)=1,EY22,EY22+RANK(EZ22,EZ22:EZ25,0)-1))","v":""},{"$f":"IF(OR(FA22=\"\",COUNTIF(FA22:FA25,FA22)=1),\"\",$BX22)","v":""},{"$f":"IF(EY22=\"\",\"\",IF(COUNTIF(FA22:FA25,FA22)=1,FA22,FA22+RANK(FB22,FB22:FB25,0)-1))","v":""},{"$f":"IF(OR(FC22=\"\",COUNTIF(FC22:FC25,FC22)=1),\"\",$BU22)","v":""},{"$f":"IF(EY22=\"\",\"\",IF(COUNTIF(FC22:FC25,FC22)=1,FC22,FC22+RANK(FD22,FD22:FD25,0)-1))","v":""},{"$f":"IF(EN22>0,CG20+DA20+DU20+RANK(FE22,FE22:FE25,1),)","v":0},null,{"$f":"IFERROR(VLOOKUP(FJ22,CF21:CX25,19,FALSE),IFERROR(VLOOKUP(FJ22,CZ21:DR25,19,FALSE),IFERROR(VLOOKUP(FJ22,DT21:EL25,19,FALSE),VLOOKUP(FJ22,EN21:FF25,19,FALSE))))","v":1},{"$f":"RANK(FH22,FH22:FH25,1)+COUNTIF(FH22:FH22,FH22)-1","v":1},{"$f":"BT22","v":"Slovenien"}]
[null,null,"2024-06-16","Serbien","-","England",null,"-",null,{"$f":"IF(OR(ISBLANK(G23),ISBLANK(I23)),\"\",IF(G23>I23,1,IF(G23<I23,2,\"X\")))","v":""},{"$f":"IF(OR('Resultat & Tabell'!G23=\"\",'Resultat & Tabell'!I23=\"\",G23=\"\",I23=\"\"),0,IF(G23='Resultat & Tabell'!G23,2,0)+IF(I23='Resultat & Tabell'!I23,2,0)+IF(J23='Resultat & Tabell'!J23,3,0))","v":0},{"$f":"IF(VLOOKUP(D23,BT21:CC25,10,FALSE)=VLOOKUP(F23,BT21:CC25,10,FALSE),VLOOKUP(D23,BT21:CC25,10,FALSE),\"-\")","v":1},2,{"$f":"VLOOKUP(M23,FI22:FJ25,2,FALSE)","v":"Danmark"},{"$f":"VLOOKUP(N23,BT22:CA25,2,FALSE)","v":0},{"$f":"VLOOKUP(N23,BT22:CA25,3,FALSE)","v":0},{"$f":"VLOOKUP(N23,BT22:CA25,4,FALSE)","v":0},{"$f":"VLOOKUP(N23,BT22:CA25,5,FALSE)","v":0},{"$f":"VLOOKUP(N23,BT22:CA25,6,FALSE)","v":0},{"$f":"VLOOKUP(N23,BT22:CA25,7,FALSE)","v":0},{"$f":"VLOOKUP(N23,BT22:CA25,8,FALSE)","v":0},null,null,null,null,null,null,null,null,null,"2024-06-16","Serbien","-","England","","-","","",null,0,0,0,0,0,0,0,0,0,0,0,0,0,0,0,0,0,0,0,0,0,0,0,0,0,0,0,0,0,0,null,null,"Danmark",{"$f":"(SUMIF(AF4:AF54,BT23,AN4:AN54)+SUMIF(AH4:AH54,BT23,AO4:AO54))","v":0},{"$f":"(SUMIF(AF4:AF54,BT23,AP4:AP54)+SUMIF(AH4:AH54,BT23,AQ4:AQ54))","v":0},{"$f":"(SUMIF(AF4:AF54,BT23,AR4:AR54)+SUMIF(AH4:AH54,BT23,AS4:AS54))","v":0},{"$f":"SUMIF(AF4:AF54,BT23,AI4:AI54)+SUMIF(AH4:AH54,BT23,AK4:AK54)","v":0},{"$f":"SUMIF(AF4:AF54,BT23,AK4:AK54)+SUMIF(AH4:AH54,BT23,AI4:AI54)","v":0},{"$f":"BX23-BY23","v":0},{"$f":"IFERROR(BU23*3+BV23*1,0)","v":0},"C",{"$f":"RANK(CA23,CA22:CA25)","v":1},{"$f":"SUMPRODUCT((CA22:CA25=CA23)*(BZ22:BZ25>BZ23))","v":0},null,{"$f":"IF(CC23=1,BT23,)","v":"Danmark"},{"$f":"(SUMIF(AF4:AF54,BT23,AT4:AT54)+SUMIF(AH4:AH54,BT23,AU4:AU54))","v":0},{"$f":"(SUMIF(AF4:AF54,BT23,AV4:AV54)+SUMIF(AH4:AH54,BT23,AW4:AW54))","v":0},{"$f":"(SUMIF(AF4:AF54,BT23,AX4:AX54)+SUMIF(AH4:AH54,BT23,AY4:AY54))","v":0},{"$f":"IFERROR(CG23*3+CH23*1,0)","v":0},{"$f":"CB23","v":"C"},{"$f":"IF(CF23>0,RANK(CJ23,CJ22:CJ25),)","v":1},{"$f":"IF(AND(CF23>0,COUNTIF(CL22:CL25,CL23)>1),SUMIFS($AI$4:$AI$54,$AF$4:$AF$54,BT23,$L$4:$L$54,1)+SUMIFS($AK$4:$AK$54,$AH$4:$AH$54,BT23,$L$4:$L$54,1)-SUMIFS($AK$4:$AK$54,$AF$4:$AF$54,BT23,$L$4:$L$54,1)-SUMIFS($AI$4:$AI$54,$AH$4:$AH$54,BT23,$L$4:$L$54,1),)","v":0},{"$f":"IF(AND(CF23>0,COUNTIF(CL22:CL25,CL23)>1),CL23+RANK(CM23,CM22:CM25)-1,CL23)","v":1},{"$f":"IF(AND(CF23>0,COUNTIF(CN22:CN25,CN23)>1),SUMIFS($AI$4:$AI$54,$AF$4:$AF$54,BT23,$L$4:$L$54,1)+SUMIFS($AK$4:$AK$54,$AH$4:$AH$54,BT23,$L$4:$L$54,1),)","v":0},{"$f":"IF(AND(CF23>0,COUNTIF(CN22:CN25,CN23)>1),CN23+RANK(CO23,CO22:CO25)-1,CN23)","v":1},{"$f":"IF(CP23=0,\"\",CP23)","v":1},{"$f":"IF(OR(CQ23=\"\",COUNTIF(CQ22:CQ25,CQ23)=1),\"\",$BZ23)","v":0},{"$f":"IF(CQ23=\"\",\"\",IF(COUNTIF(CQ22:CQ25,CQ23)=1,CQ23,CQ23+RANK(CR23,CR22:CR25,0)-1))","v":1},{"$f":"IF(OR(CS23=\"\",COUNTIF(CS22:CS25,CS23)=1),\"\",$BX23)","v":0},{"$f":"IF(CQ23=\"\",\"\",IF(COUNTIF(CS22:CS25,CS23)=1,CS23,CS23+RANK(CT23,CT22:CT25,0)-1))","v":1},{"$f":"IF(OR(CU23=\"\",COUNTIF(CU22:CU25,CU23)=1),\"\",$BU23)","v":0},{"$f":"IF(CQ23=\"\",\"\",IF(COUNTIF(CU22:CU25,CU23)=1,CU23,CU23+RANK(CV23,CV22:CV25,0)-1))","v":1},{"$f":"IF(CF23>0,BM20+RANK(CW23,CW22:CW25,1),)","v":1},null,{"$f":"IF(CC23=2,BT23,)","v":0},{"$f":"(SUMIF(AF4:AF54,BT23,AZ4:AZ54)+SUMIF(AH4:AH54,BT23,BA4:BA54))","v":0},{"$f":"(SUMIF(AF4:AF54,BT23,BB4:BB54)+SUMIF(AH4:AH54,BT23,BC4:BC54))","v":0},{"$f":"(SUMIF(AF4:AF54,BT23,BD4:BD54)+SUMIF(AH4:AH54,BT23,BE4:BE54))","v":0},{"$f":"IFERROR(DA23*3+DB23*1,0)","v":0},{"$f":"CB23","v":"C"},{"$f":"IF(CZ23>0,RANK(DD23,DD22:DD25)+CG20,)","v":0},{"$f":"IF(AND(CZ23>0,COUNTIF(DF22:DF25,DF23)>1),SUMIFS($AI$4:$AI$54,$AF$4:$AF$54,BT23,$L$4:$L$54,2)+SUMIFS($AK$4:$AK$54,$AH$4:$AH$54,BT23,$L$4:$L$54,2)-SUMIFS($AK$4:$AK$54,$AF$4:$AF$54,BT23,$L$4:$L$54,2)-SUMIFS($AI$4:$AI$54,$AH$4:$AH$54,BT23,$L$4:$L$54,2),)","v":0},{"$f":"IF(AND(CZ23>0,COUNTIF(DF22:DF25,DF23)>1),DF23+RANK(DG23,DG22:DG25)-1,DF23)","v":0},{"$f":"IF(AND(CZ23>0,COUNTIF(DH22:DH25,DH23)>1),SUMIFS($AI$4:$AI$54,$AF$4:$AF$54,BT23,$L$4:$L$54,2)+SUMIFS($AK$4:$AK$54,$AH$4:$AH$54,BT23,$L$4:$L$54,2),)","v":0},{"$f":"IF(AND(CZ23>0,COUNTIF(DH22:DH25,DH23)>1),DH23+RANK(DI23,DI22:DI25)-1,DH23)","v":0},{"$f":"IF(DJ23=0,\"\",DJ23)","v":""},{"$f":"IF(OR(DK23=\"\",COUNTIF(DK22:DK25,DK23)=1),\"\",$BZ23)","v":""},{"$f":"IF(DK23=\"\",\"\",IF(COUNTIF(DK22:DK25,DK23)=1,DK23,DK23+RANK(DL23,DL22:DL25,0)-1))","v":""},{"$f":"IF(OR(DM23=\"\",COUNTIF(DM22:DM25,DM23)=1),\"\",$BX23)","v":""},{"$f":"IF(DK23=\"\",\"\",IF(COUNTIF(DM22:DM25,DM23)=1,DM23,DM23+RANK(DN23,DN22:DN25,0)-1))","v":""},{"$f":"IF(OR(DO23=\"\",COUNTIF(DO22:DO25,DO23)=1),\"\",$BU23)","v":""},{"$f":"IF(DK23=\"\",\"\",IF(COUNTIF(DO22:DO25,DO23)=1,DO23,DO23+RANK(DP23,DP22:DP25,0)-1))","v":""},{"$f":"IF(CZ23>0,CG20+RANK(DQ23,DQ22:DQ25,1),)","v":0},null,{"$f":"IF(CC23=3,BT23,)","v":0},{"$f":"(SUMIF(AF4:AF54,BT23,BF4:BF54)+SUMIF(AH4:AH54,BT23,BG4:BG54))","v":0},{"$f":"(SUMIF(AF4:AF54,BT23,BH4:BH54)+SUMIF(AH4:AH54,BT23,BI4:BI54))","v":0},{"$f":"(SUMIF(AF4:AF54,BT23,BJ4:BJ54)+SUMIF(AH4:AH54,BT23,BK4:BK54))","v":0},{"$f":"IFERROR(DU23*3+DV23*1,0)","v":0},{"$f":"CB23","v":"C"},{"$f":"IF(DT23>0,RANK(DX23,DX22:DX25)+CG20+DA20,)","v":0},{"$f":"IF(AND(DT23>0,COUNTIF(DZ22:DZ25,DZ23)>1),SUMIFS($AI$4:$AI$54,$AF$4:$AF$54,BT23,$L$4:$L$54,3)+SUMIFS($AK$4:$AK$54,$AH$4:$AH$54,BT23,$L$4:$L$54,3)-SUMIFS($AK$4:$AK$54,$AF$4:$AF$54,BT23,$L$4:$L$54,3)-SUMIFS($AI$4:$AI$54,$AH$4:$AH$54,BT23,$L$4:$L$54,3),)","v":0},{"$f":"IF(AND(DT23>0,COUNTIF(DZ22:DZ25,DZ23)>1),DZ23+RANK(EA23,EA22:EA25)-1,DZ23)","v":0},{"$f":"IF(AND(DT23>0,COUNTIF(EB22:EB25,EB23)>1),SUMIFS($AI$4:$AI$54,$AF$4:$AF$54,BT23,$L$4:$L$54,3)+SUMIFS($AK$4:$AK$54,$AH$4:$AH$54,BT23,$L$4:$L$54,3),)","v":0},{"$f":"IF(AND(DT23>0,COUNTIF(EB22:EB25,EB23)>1),EB23+RANK(EC23,EC22:EC25)-1,EB23)","v":0},{"$f":"IF(ED23=0,\"\",ED23)","v":""},{"$f":"IF(OR(EE23=\"\",COUNTIF(EE22:EE25,EE23)=1),\"\",$BZ23)","v":""},{"$f":"IF(EE23=\"\",\"\",IF(COUNTIF(EE22:EE25,EE23)=1,EE23,EE23+RANK(EF23,EF22:EF25,0)-1))","v":""},{"$f":"IF(OR(EG23=\"\",COUNTIF(EG22:EG25,EG23)=1),\"\",$BX23)","v":""},{"$f":"IF(EE23=\"\",\"\",IF(COUNTIF(EG22:EG25,EG23)=1,EG23,EG23+RANK(EH23,EH22:EH25,0)-1))","v":""},{"$f":"IF(OR(EI23=\"\",COUNTIF(EI22:EI25,EI23)=1),\"\",$BU23)","v":""},{"$f":"IF(EE23=\"\",\"\",IF(COUNTIF(EI22:EI25,EI23)=1,EI23,EI23+RANK(EJ23,EJ22:EJ25,0)-1))","v":""},{"$f":"IF(DT23>0,CG20+DA20+RANK(EK23,EK22:EK25,1),)","v":0},null,{"$f":"IF(CC23=4,BT23,)","v":0},{"$f":"(SUMIF(AF4:AF54,BT23,BL4:BL54)+SUMIF(AH4:AH54,BT23,BM4:BM54))","v":0},{"$f":"(SUMIF(AF4:AF54,BT23,BN4:BN54)+SUMIF(AH4:AH54,BT23,BO4:BO54))","v":0},{"$f":"(SUMIF(AF4:AF54,BT23,BP4:BP54)+SUMIF(AH4:AH54,BT23,BQ4:BQ54))","v":0},{"$f":"IFERROR(EO23*3+EP23*1,0)","v":0},{"$f":"CB23","v":"C"},{"$f":"IF(EN23>0,RANK(ER23,ER22:ER25)+CG20+DA20+DU20,)","v":0},{"$f":"IF(AND(EN23>0,COUNTIF(ET22:ET25,ET23)>1),SUMIFS($AI$4:$AI$54,$AF$4:$AF$54,BT23,$L$4:$L$54,4)+SUMIFS($AK$4:$AK$54,$AH$4:$AH$54,BT23,$L$4:$L$54,4)-SUMIFS($AK$4:$AK$54,$AF$4:$AF$54,BT23,$L$4:$L$54,4)-SUMIFS($AI$4:$AI$54,$AH$4:$AH$54,BT23,$L$4:$L$54,4),)","v":0},{"$f":"IF(AND(EN23>0,COUNTIF(ET4:ET7,ET23)>1),ET23+RANK(EU23,EU4:EU7)-1,ET23)","v":0},{"$f":"IF(AND(EN23>0,COUNTIF(EV22:EV25,EV23)>1),SUMIFS($AI$4:$AI$54,$AF$4:$AF$54,BT23,$L$4:$L$54,4)+SUMIFS($AK$4:$AK$54,$AH$4:$AH$54,BT23,$L$4:$L$54,4),)","v":0},{"$f":"IF(AND(EN23>0,COUNTIF(EV22:EV25,EV23)>1),EV23+RANK(EW23,EW22:EW25)-1,EV23)","v":0},{"$f":"IF(EX23=0,\"\",EX23)","v":""},{"$f":"IF(OR(EY23=\"\",COUNTIF(EY22:EY25,EY23)=1),\"\",$BZ23)","v":""},{"$f":"IF(EY23=\"\",\"\",IF(COUNTIF(EY22:EY25,EY23)=1,EY23,EY23+RANK(EZ23,EZ22:EZ25,0)-1))","v":""},{"$f":"IF(OR(FA23=\"\",COUNTIF(FA22:FA25,FA23)=1),\"\",$BX23)","v":""},{"$f":"IF(EY23=\"\",\"\",IF(COUNTIF(FA22:FA25,FA23)=1,FA23,FA23+RANK(FB23,FB22:FB25,0)-1))","v":""},{"$f":"IF(OR(FC23=\"\",COUNTIF(FC22:FC25,FC23)=1),\"\",$BU23)","v":""},{"$f":"IF(EY23=\"\",\"\",IF(COUNTIF(FC22:FC25,FC23)=1,FC23,FC23+RANK(FD23,FD22:FD25,0)-1))","v":""},{"$f":"IF(EN23>0,CG20+DA20+DU20+RANK(FE23,FE22:FE25,1),)","v":0},null,{"$f":"IFERROR(VLOOKUP(FJ23,CF21:CX25,19,FALSE),IFERROR(VLOOKUP(FJ23,CZ21:DR25,19,FALSE),IFERROR(VLOOKUP(FJ23,DT21:EL25,19,FALSE),VLOOKUP(FJ23,EN21:FF25,19,FALSE))))","v":1},{"$f":"RANK(FH23,FH22:FH25,1)+COUNTIF(FH22:FH23,FH23)-1","v":2},{"$f":"BT23","v":"Danmark"}]
[null,null,"2024-06-20","Slovenien","-","Serbien",null,"-",null,"",{"$f":"IF(OR('Resultat & Tabell'!G24=\"\",'Resultat & Tabell'!I24=\"\",G24=\"\",I24=\"\"),0,IF(G24='Resultat & Tabell'!G24,2,0)+IF(I24='Resultat & Tabell'!I24,2,0)+IF(J24='Resultat & Tabell'!J24,3,0))","v":0},{"$f":"IF(VLOOKUP(D24,BT21:CC25,10,FALSE)=VLOOKUP(F24,BT21:CC25,10,FALSE),VLOOKUP(D24,BT21:CC25,10,FALSE),\"-\")","v":1},3,{"$f":"VLOOKUP(M24,FI22:FJ25,2,FALSE)","v":"Serbien"},{"$f":"VLOOKUP(N24,BT22:CA25,2,FALSE)","v":0},{"$f":"VLOOKUP(N24,BT22:CA25,3,FALSE)","v":0},{"$f":"VLOOKUP(N24,BT22:CA25,4,FALSE)","v":0},{"$f":"VLOOKUP(N24,BT22:CA25,5,FALSE)","v":0},{"$f":"VLOOKUP(N24,BT22:CA25,6,FALSE)","v":0},{"$f":"VLOOKUP(N24,BT22:CA25,7,FALSE)","v":0},{"$f":"VLOOKUP(N24,BT22:CA25,8,FALSE)","v":0},null,null,null,null,null,null,null,null,null,"2024-06-20","Slovenien","-","Serbien","","-","","",null,0,0,0,0,0,0,0,0,0,0,0,0,0,0,0,0,0,0,0,0,0,0,0,0,0,0,0,0,0,0,null,null,"Serbien",{"$f":"(SUMIF(AF4:AF54,BT24,AN4:AN54)+SUMIF(AH4:AH54,BT24,AO4:AO54))","v":0},{"$f":"(SUMIF(AF4:AF54,BT24,AP4:AP54)+SUMIF(AH4:AH54,BT24,AQ4:AQ54))","v":0},{"$f":"(SUMIF(AF4:AF54,BT24,AR4:AR54)+SUMIF(AH4:AH54,BT24,AS4:AS54))","v":0},{"$f":"SUMIF(AF4:AF54,BT24,AI4:AI54)+SUMIF(AH4:AH54,BT24,AK4:AK54)","v":0},{"$f":"SUMIF(AF4:AF54,BT24,AK4:AK54)+SUMIF(AH4:AH54,BT24,AI4:AI54)","v":0},{"$f":"BX24-BY24","v":0},{"$f":"IFERROR(BU24*3+BV24*1,0)","v":0},"C",{"$f":"RANK(CA24,CA22:CA25)","v":1},{"$f":"SUMPRODUCT((CA22:CA25=CA24)*(BZ22:BZ25>BZ24))","v":0},null,{"$f":"IF(CC24=1,BT24,)","v":"Serbien"},{"$f":"(SUMIF(AF4:AF54,BT24,AT4:AT54)+SUMIF(AH4:AH54,BT24,AU4:AU54))","v":0},{"$f":"(SUMIF(AF4:AF54,BT24,AV4:AV54)+SUMIF(AH4:AH54,BT24,AW4:AW54))","v":0},{"$f":"(SUMIF(AF4:AF54,BT24,AX4:AX54)+SUMIF(AH4:AH54,BT24,AY4:AY54))","v":0},0,{"$f":"CB24","v":"C"},{"$f":"IF(CF24>0,RANK(CJ24,CJ22:CJ25),)","v":1},{"$f":"IF(AND(CF24>0,COUNTIF(CL22:CL25,CL24)>1),SUMIFS($AI$4:$AI$54,$AF$4:$AF$54,BT24,$L$4:$L$54,1)+SUMIFS($AK$4:$AK$54,$AH$4:$AH$54,BT24,$L$4:$L$54,1)-SUMIFS($AK$4:$AK$54,$AF$4:$AF$54,BT24,$L$4:$L$54,1)-SUMIFS($AI$4:$AI$54,$AH$4:$AH$54,BT24,$L$4:$L$54,1),)","v":0},{"$f":"IF(AND(CF24>0,COUNTIF(CL22:CL25,CL24)>1),CL24+RANK(CM24,CM22:CM25)-1,CL24)","v":1},{"$f":"IF(AND(CF24>0,COUNTIF(CN22:CN25,CN24)>1),SUMIFS($AI$4:$AI$54,$AF$4:$AF$54,BT24,$L$4:$L$54,1)+SUMIFS($AK$4:$AK$54,$AH$4:$AH$54,BT24,$L$4:$L$54,1),)","v":0},{"$f":"IF(AND(CF24>0,COUNTIF(CN22:CN25,CN24)>1),CN24+RANK(CO24,CO22:CO25)-1,CN24)","v":1},1,{"$f":"IF(OR(CQ24=\"\",COUNTIF(CQ22:CQ25,CQ24)=1),\"\",$BZ24)","v":0},{"$f":"IF(CQ24=\"\",\"\",IF(COUNTIF(CQ22:CQ25,CQ24)=1,CQ24,CQ24+RANK(CR24,CR22:CR25,0)-1))","v":1},{"$f":"IF(OR(CS24=\"\",COUNTIF(CS22:CS25,CS24)=1),\"\",$BX24)","v":0},{"$f":"IF(CQ24=\"\",\"\",IF(COUNTIF(CS22:CS25,CS24)=1,CS24,CS24+RANK(CT24,CT22:CT25,0)-1))","v":1},{"$f":"IF(OR(CU24=\"\",COUNTIF(CU22:CU25,CU24)=1),\"\",$BU24)","v":0},{"$f":"IF(CQ24=\"\",\"\",IF(COUNTIF(CU22:CU25,CU24)=1,CU24,CU24+RANK(CV24,CV22:CV25,0)-1))","v":1},{"$f":"IF(CF24>0,BM20+RANK(CW24,CW22:CW25,1),)","v":1},null,{"$f":"IF(CC24=2,BT24,)","v":0},{"$f":"(SUMIF(AF4:AF54,BT24,AZ4:AZ54)+SUMIF(AH4:AH54,BT24,BA4:BA54))","v":0},{"$f":"(SUMIF(AF4:AF54,BT24,BB4:BB54)+SUMIF(AH4:AH54,BT24,BC4:BC54))","v":0},{"$f":"(SUMIF(AF4:AF54,BT24,BD4:BD54)+SUMIF(AH4:AH54,BT24,BE4:BE54))","v":0},0,{"$f":"CB24","v":"C"},{"$f":"IF(CZ24>0,RANK(DD24,DD22:DD25)+CG20,)","v":0},{"$f":"IF(AND(CZ24>0,COUNTIF(DF22:DF25,DF24)>1),SUMIFS($AI$4:$AI$54,$AF$4:$AF$54,BT24,$L$4:$L$54,2)+SUMIFS($AK$4:$AK$54,$AH$4:$AH$54,BT24,$L$4:$L$54,2)-SUMIFS($AK$4:$AK$54,$AF$4:$AF$54,BT24,$L$4:$L$54,2)-SUMIFS($AI$4:$AI$54,$AH$4:$AH$54,BT24,$L$4:$L$54,2),)","v":0},{"$f":"IF(AND(CZ24>0,COUNTIF(DF22:DF25,DF24)>1),DF24+RANK(DG24,DG22:DG25)-1,DF24)","v":0},{"$f":"IF(AND(CZ24>0,COUNTIF(DH22:DH25,DH24)>1),SUMIFS($AI$4:$AI$54,$AF$4:$AF$54,BT24,$L$4:$L$54,2)+SUMIFS($AK$4:$AK$54,$AH$4:$AH$54,BT24,$L$4:$L$54,2),)","v":0},{"$f":"IF(AND(CZ24>0,COUNTIF(DH22:DH25,DH24)>1),DH24+RANK(DI24,DI22:DI25)-1,DH24)","v":0},"",{"$f":"IF(OR(DK24=\"\",COUNTIF(DK22:DK25,DK24)=1),\"\",$BZ24)","v":""},{"$f":"IF(DK24=\"\",\"\",IF(COUNTIF(DK22:DK25,DK24)=1,DK24,DK24+RANK(DL24,DL22:DL25,0)-1))","v":""},{"$f":"IF(OR(DM24=\"\",COUNTIF(DM22:DM25,DM24)=1),\"\",$BX24)","v":""},{"$f":"IF(DK24=\"\",\"\",IF(COUNTIF(DM22:DM25,DM24)=1,DM24,DM24+RANK(DN24,DN22:DN25,0)-1))","v":""},{"$f":"IF(OR(DO24=\"\",COUNTIF(DO22:DO25,DO24)=1),\"\",$BU24)","v":""},{"$f":"IF(DK24=\"\",\"\",IF(COUNTIF(DO22:DO25,DO24)=1,DO24,DO24+RANK(DP24,DP22:DP25,0)-1))","v":""},{"$f":"IF(CZ24>0,CG20+RANK(DQ24,DQ22:DQ25,1),)","v":0},null,{"$f":"IF(CC24=3,BT24,)","v":0},{"$f":"(SUMIF(AF4:AF54,BT24,BF4:BF54)+SUMIF(AH4:AH54,BT24,BG4:BG54))","v":0},{"$f":"(SUMIF(AF4:AF54,BT24,BH4:BH54)+SUMIF(AH4:AH54,BT24,BI4:BI54))","v":0},{"$f":"(SUMIF(AF4:AF54,BT24,BJ4:BJ54)+SUMIF(AH4:AH54,BT24,BK4:BK54))","v":0},0,{"$f":"CB24","v":"C"},{"$f":"IF(DT24>0,RANK(DX24,DX22:DX25)+CG20+DA20,)","v":0},{"$f":"IF(AND(DT24>0,COUNTIF(DZ22:DZ25,DZ24)>1),SUMIFS($AI$4:$AI$54,$AF$4:$AF$54,BT24,$L$4:$L$54,3)+SUMIFS($AK$4:$AK$54,$AH$4:$AH$54,BT24,$L$4:$L$54,3)-SUMIFS($AK$4:$AK$54,$AF$4:$AF$54,BT24,$L$4:$L$54,3)-SUMIFS($AI$4:$AI$54,$AH$4:$AH$54,BT24,$L$4:$L$54,3),)","v":0},{"$f":"IF(AND(DT24>0,COUNTIF(DZ22:DZ25,DZ24)>1),DZ24+RANK(EA24,EA22:EA25)-1,DZ24)","v":0},{"$f":"IF(AND(DT24>0,COUNTIF(EB22:EB25,EB24)>1),SUMIFS($AI$4:$AI$54,$AF$4:$AF$54,BT24,$L$4:$L$54,3)+SUMIFS($AK$4:$AK$54,$AH$4:$AH$54,BT24,$L$4:$L$54,3),)","v":0},{"$f":"IF(AND(DT24>0,COUNTIF(EB22:EB25,EB24)>1),EB24+RANK(EC24,EC22:EC25)-1,EB24)","v":0},"",{"$f":"IF(OR(EE24=\"\",COUNTIF(EE22:EE25,EE24)=1),\"\",$BZ24)","v":""},{"$f":"IF(EE24=\"\",\"\",IF(COUNTIF(EE22:EE25,EE24)=1,EE24,EE24+RANK(EF24,EF22:EF25,0)-1))","v":""},{"$f":"IF(OR(EG24=\"\",COUNTIF(EG22:EG25,EG24)=1),\"\",$BX24)","v":""},{"$f":"IF(EE24=\"\",\"\",IF(COUNTIF(EG22:EG25,EG24)=1,EG24,EG24+RANK(EH24,EH22:EH25,0)-1))","v":""},{"$f":"IF(OR(EI24=\"\",COUNTIF(EI22:EI25,EI24)=1),\"\",$BU24)","v":""},{"$f":"IF(EE24=\"\",\"\",IF(COUNTIF(EI22:EI25,EI24)=1,EI24,EI24+RANK(EJ24,EJ22:EJ25,0)-1))","v":""},{"$f":"IF(DT24>0,CG20+DA20+RANK(EK24,EK22:EK25,1),)","v":0},null,{"$f":"IF(CC24=4,BT24,)","v":0},{"$f":"(SUMIF(AF4:AF54,BT24,BL4:BL54)+SUMIF(AH4:AH54,BT24,BM4:BM54))","v":0},{"$f":"(SUMIF(AF4:AF54,BT24,BN4:BN54)+SUMIF(AH4:AH54,BT24,BO4:BO54))","v":0},{"$f":"(SUMIF(AF4:AF54,BT24,BP4:BP54)+SUMIF(AH4:AH54,BT24,BQ4:BQ54))","v":0},0,{"$f":"CB24","v":"C"},{"$f":"IF(EN24>0,RANK(ER24,ER22:ER25)+CG20+DA20+DU20,)","v":0},{"$f":"IF(AND(EN24>0,COUNTIF(ET22:ET25,ET24)>1),SUMIFS($AI$4:$AI$54,$AF$4:$AF$54,BT24,$L$4:$L$54,4)+SUMIFS($AK$4:$AK$54,$AH$4:$AH$54,BT24,$L$4:$L$54,4)-SUMIFS($AK$4:$AK$54,$AF$4:$AF$54,BT24,$L$4:$L$54,4)-SUMIFS($AI$4:$AI$54,$AH$4:$AH$54,BT24,$L$4:$L$54,4),)","v":0},{"$f":"IF(AND(EN24>0,COUNTIF(ET4:ET7,ET24)>1),ET24+RANK(EU24,EU4:EU7)-1,ET24)","v":0},{"$f":"IF(AND(EN24>0,COUNTIF(EV22:EV25,EV24)>1),SUMIFS($AI$4:$AI$54,$AF$4:$AF$54,BT24,$L$4:$L$54,4)+SUMIFS($AK$4:$AK$54,$AH$4:$AH$54,BT24,$L$4:$L$54,4),)","v":0},{"$f":"IF(AND(EN24>0,COUNTIF(EV22:EV25,EV24)>1),EV24+RANK(EW24,EW22:EW25)-1,EV24)","v":0},"",{"$f":"IF(OR(EY24=\"\",COUNTIF(EY22:EY25,EY24)=1),\"\",$BZ24)","v":""},{"$f":"IF(EY24=\"\",\"\",IF(COUNTIF(EY22:EY25,EY24)=1,EY24,EY24+RANK(EZ24,EZ22:EZ25,0)-1))","v":""},{"$f":"IF(OR(FA24=\"\",COUNTIF(FA22:FA25,FA24)=1),\"\",$BX24)","v":""},{"$f":"IF(EY24=\"\",\"\",IF(COUNTIF(FA22:FA25,FA24)=1,FA24,FA24+RANK(FB24,FB22:FB25,0)-1))","v":""},{"$f":"IF(OR(FC24=\"\",COUNTIF(FC22:FC25,FC24)=1),\"\",$BU24)","v":""},{"$f":"IF(EY24=\"\",\"\",IF(COUNTIF(FC22:FC25,FC24)=1,FC24,FC24+RANK(FD24,FD22:FD25,0)-1))","v":""},{"$f":"IF(EN24>0,CG20+DA20+DU20+RANK(FE24,FE22:FE25,1),)","v":0},null,{"$f":"IFERROR(VLOOKUP(FJ24,CF21:CX25,19,FALSE),IFERROR(VLOOKUP(FJ24,CZ21:DR25,19,FALSE),IFERROR(VLOOKUP(FJ24,DT21:EL25,19,FALSE),VLOOKUP(FJ24,EN21:FF25,19,FALSE))))","v":1},{"$f":"RANK(FH24,FH22:FH25,1)+COUNTIF(FH22:FH24,FH24)-1","v":3},{"$f":"BT24","v":"Serbien"}]
[null,null,"2024-06-20","Danmark","-","England",null,"-",null,"",{"$f":"IF(OR('Resultat & Tabell'!G25=\"\",'Resultat & Tabell'!I25=\"\",G25=\"\",I25=\"\"),0,IF(G25='Resultat & Tabell'!G25,2,0)+IF(I25='Resultat & Tabell'!I25,2,0)+IF(J25='Resultat & Tabell'!J25,3,0))","v":0},{"$f":"IF(VLOOKUP(D25,BT21:CC25,10,FALSE)=VLOOKUP(F25,BT21:CC25,10,FALSE),VLOOKUP(D25,BT21:CC25,10,FALSE),\"-\")","v":1},4,{"$f":"VLOOKUP(M25,FI22:FJ25,2,FALSE)","v":"England"},{"$f":"VLOOKUP(N25,BT22:CA25,2,FALSE)","v":0},{"$f":"VLOOKUP(N25,BT22:CA25,3,FALSE)","v":0},{"$f":"VLOOKUP(N25,BT22:CA25,4,FALSE)","v":0},{"$f":"VLOOKUP(N25,BT22:CA25,5,FALSE)","v":0},{"$f":"VLOOKUP(N25,BT22:CA25,6,FALSE)","v":0},{"$f":"VLOOKUP(N25,BT22:CA25,7,FALSE)","v":0},{"$f":"VLOOKUP(N25,BT22:CA25,8,FALSE)","v":0},null,null,null,null,null,null,null,null,null,"2024-06-20","Danmark","-","England","","-","","",null,0,0,0,0,0,0,0,0,0,0,0,0,0,0,0,0,0,0,0,0,0,0,0,0,0,0,0,0,0,0,null,null,"England",{"$f":"(SUMIF(AF4:AF54,BT25,AN4:AN54)+SUMIF(AH4:AH54,BT25,AO4:AO54))","v":0},{"$f":"(SUMIF(AF4:AF54,BT25,AP4:AP54)+SUMIF(AH4:AH54,BT25,AQ4:AQ54))","v":0},{"$f":"(SUMIF(AF4:AF54,BT25,AR4:AR54)+SUMIF(AH4:AH54,BT25,AS4:AS54))","v":0},{"$f":"SUMIF(AF4:AF54,BT25,AI4:AI54)+SUMIF(AH4:AH54,BT25,AK4:AK54)","v":0},{"$f":"SUMIF(AF4:AF54,BT25,AK4:AK54)+SUMIF(AH4:AH54,BT25,AI4:AI54)","v":0},{"$f":"BX25-BY25","v":0},{"$f":"IFERROR(BU25*3+BV25*1,0)","v":0},"C",{"$f":"RANK(CA25,CA22:CA25)","v":1},{"$f":"SUMPRODUCT((CA22:CA25=CA25)*(BZ22:BZ25>BZ25))","v":0},null,{"$f":"IF(CC25=1,BT25,)","v":"England"},{"$f":"(SUMIF(AF4:AF54,BT25,AT4:AT54)+SUMIF(AH4:AH54,BT25,AU4:AU54))","v":0},{"$f":"(SUMIF(AF4:AF54,BT25,AV4:AV54)+SUMIF(AH4:AH54,BT25,AW4:AW54))","v":0},{"$f":"(SUMIF(AF4:AF54,BT25,AX4:AX54)+SUMIF(AH4:AH54,BT25,AY4:AY54))","v":0},0,{"$f":"CB25","v":"C"},{"$f":"IF(CF25>0,RANK(CJ25,CJ22:CJ25),)","v":1},{"$f":"IF(AND(CF25>0,COUNTIF(CL22:CL25,CL25)>1),SUMIFS($AI$4:$AI$54,$AF$4:$AF$54,BT25,$L$4:$L$54,1)+SUMIFS($AK$4:$AK$54,$AH$4:$AH$54,BT25,$L$4:$L$54,1)-SUMIFS($AK$4:$AK$54,$AF$4:$AF$54,BT25,$L$4:$L$54,1)-SUMIFS($AI$4:$AI$54,$AH$4:$AH$54,BT25,$L$4:$L$54,1),)","v":0},{"$f":"IF(AND(CF25>0,COUNTIF(CL22:CL25,CL25)>1),CL25+RANK(CM25,CM22:CM25)-1,CL25)","v":1},{"$f":"IF(AND(CF25>0,COUNTIF(CN22:CN25,CN25)>1),SUMIFS($AI$4:$AI$54,$AF$4:$AF$54,BT25,$L$4:$L$54,1)+SUMIFS($AK$4:$AK$54,$AH$4:$AH$54,BT25,$L$4:$L$54,1),)","v":0},{"$f":"IF(AND(CF25>0,COUNTIF(CN22:CN25,CN25)>1),CN25+RANK(CO25,CO22:CO25)-1,CN25)","v":1},1,{"$f":"IF(OR(CQ25=\"\",COUNTIF(CQ22:CQ25,CQ25)=1),\"\",$BZ25)","v":0},{"$f":"IF(CQ25=\"\",\"\",IF(COUNTIF(CQ22:CQ25,CQ25)=1,CQ25,CQ25+RANK(CR25,CR22:CR25,0)-1))","v":1},{"$f":"IF(OR(CS25=\"\",COUNTIF(CS22:CS25,CS25)=1),\"\",$BX25)","v":0},{"$f":"IF(CQ25=\"\",\"\",IF(COUNTIF(CS22:CS25,CS25)=1,CS25,CS25+RANK(CT25,CT22:CT25,0)-1))","v":1},{"$f":"IF(OR(CU25=\"\",COUNTIF(CU22:CU25,CU25)=1),\"\",$BU25)","v":0},{"$f":"IF(CQ25=\"\",\"\",IF(COUNTIF(CU22:CU25,CU25)=1,CU25,CU25+RANK(CV25,CV22:CV25,0)-1))","v":1},{"$f":"IF(CF25>0,BM20+RANK(CW25,CW22:CW25,1),)","v":1},null,{"$f":"IF(CC25=2,BT25,)","v":0},{"$f":"(SUMIF(AF4:AF54,BT25,AZ4:AZ54)+SUMIF(AH4:AH54,BT25,BA4:BA54))","v":0},{"$f":"(SUMIF(AF4:AF54,BT25,BB4:BB54)+SUMIF(AH4:AH54,BT25,BC4:BC54))","v":0},{"$f":"(SUMIF(AF4:AF54,BT25,BD4:BD54)+SUMIF(AH4:AH54,BT25,BE4:BE54))","v":0},0,{"$f":"CB25","v":"C"},{"$f":"IF(CZ25>0,RANK(DD25,DD22:DD25)+CG20,)","v":0},{"$f":"IF(AND(CZ25>0,COUNTIF(DF22:DF25,DF25)>1),SUMIFS($AI$4:$AI$54,$AF$4:$AF$54,BT25,$L$4:$L$54,2)+SUMIFS($AK$4:$AK$54,$AH$4:$AH$54,BT25,$L$4:$L$54,2)-SUMIFS($AK$4:$AK$54,$AF$4:$AF$54,BT25,$L$4:$L$54,2)-SUMIFS($AI$4:$AI$54,$AH$4:$AH$54,BT25,$L$4:$L$54,2),)","v":0},{"$f":"IF(AND(CZ25>0,COUNTIF(DF22:DF25,DF25)>1),DF25+RANK(DG25,DG22:DG25)-1,DF25)","v":0},{"$f":"IF(AND(CZ25>0,COUNTIF(DH22:DH25,DH25)>1),SUMIFS($AI$4:$AI$54,$AF$4:$AF$54,BT25,$L$4:$L$54,2)+SUMIFS($AK$4:$AK$54,$AH$4:$AH$54,BT25,$L$4:$L$54,2),)","v":0},{"$f":"IF(AND(CZ25>0,COUNTIF(DH22:DH25,DH25)>1),DH25+RANK(DI25,DI22:DI25)-1,DH25)","v":0},"",{"$f":"IF(OR(DK25=\"\",COUNTIF(DK22:DK25,DK25)=1),\"\",$BZ25)","v":""},{"$f":"IF(DK25=\"\",\"\",IF(COUNTIF(DK22:DK25,DK25)=1,DK25,DK25+RANK(DL25,DL22:DL25,0)-1))","v":""},{"$f":"IF(OR(DM25=\"\",COUNTIF(DM22:DM25,DM25)=1),\"\",$BX25)","v":""},{"$f":"IF(DK25=\"\",\"\",IF(COUNTIF(DM22:DM25,DM25)=1,DM25,DM25+RANK(DN25,DN22:DN25,0)-1))","v":""},{"$f":"IF(OR(DO25=\"\",COUNTIF(DO22:DO25,DO25)=1),\"\",$BU25)","v":""},{"$f":"IF(DK25=\"\",\"\",IF(COUNTIF(DO22:DO25,DO25)=1,DO25,DO25+RANK(DP25,DP22:DP25,0)-1))","v":""},{"$f":"IF(CZ25>0,CG20+RANK(DQ25,DQ22:DQ25,1),)","v":0},null,{"$f":"IF(CC25=3,BT25,)","v":0},{"$f":"(SUMIF(AF4:AF54,BT25,BF4:BF54)+SUMIF(AH4:AH54,BT25,BG4:BG54))","v":0},{"$f":"(SUMIF(AF4:AF54,BT25,BH4:BH54)+SUMIF(AH4:AH54,BT25,BI4:BI54))","v":0},{"$f":"(SUMIF(AF4:AF54,BT25,BJ4:BJ54)+SUMIF(AH4:AH54,BT25,BK4:BK54))","v":0},0,{"$f":"CB25","v":"C"},{"$f":"IF(DT25>0,RANK(DX25,DX22:DX25)+CG20+DA20,)","v":0},{"$f":"IF(AND(DT25>0,COUNTIF(DZ22:DZ25,DZ25)>1),SUMIFS($AI$4:$AI$54,$AF$4:$AF$54,BT25,$L$4:$L$54,3)+SUMIFS($AK$4:$AK$54,$AH$4:$AH$54,BT25,$L$4:$L$54,3)-SUMIFS($AK$4:$AK$54,$AF$4:$AF$54,BT25,$L$4:$L$54,3)-SUMIFS($AI$4:$AI$54,$AH$4:$AH$54,BT25,$L$4:$L$54,3),)","v":0},{"$f":"IF(AND(DT25>0,COUNTIF(DZ22:DZ25,DZ25)>1),DZ25+RANK(EA25,EA22:EA25)-1,DZ25)","v":0},{"$f":"IF(AND(DT25>0,COUNTIF(EB22:EB25,EB25)>1),SUMIFS($AI$4:$AI$54,$AF$4:$AF$54,BT25,$L$4:$L$54,3)+SUMIFS($AK$4:$AK$54,$AH$4:$AH$54,BT25,$L$4:$L$54,3),)","v":0},{"$f":"IF(AND(DT25>0,COUNTIF(EB22:EB25,EB25)>1),EB25+RANK(EC25,EC22:EC25)-1,EB25)","v":0},"",{"$f":"IF(OR(EE25=\"\",COUNTIF(EE22:EE25,EE25)=1),\"\",$BZ25)","v":""},{"$f":"IF(EE25=\"\",\"\",IF(COUNTIF(EE22:EE25,EE25)=1,EE25,EE25+RANK(EF25,EF22:EF25,0)-1))","v":""},{"$f":"IF(OR(EG25=\"\",COUNTIF(EG22:EG25,EG25)=1),\"\",$BX25)","v":""},{"$f":"IF(EE25=\"\",\"\",IF(COUNTIF(EG22:EG25,EG25)=1,EG25,EG25+RANK(EH25,EH22:EH25,0)-1))","v":""},{"$f":"IF(OR(EI25=\"\",COUNTIF(EI22:EI25,EI25)=1),\"\",$BU25)","v":""},{"$f":"IF(EE25=\"\",\"\",IF(COUNTIF(EI22:EI25,EI25)=1,EI25,EI25+RANK(EJ25,EJ22:EJ25,0)-1))","v":""},{"$f":"IF(DT25>0,CG20+DA20+RANK(EK25,EK22:EK25,1),)","v":0},null,{"$f":"IF(CC25=4,BT25,)","v":0},{"$f":"(SUMIF(AF4:AF54,BT25,BL4:BL54)+SUMIF(AH4:AH54,BT25,BM4:BM54))","v":0},{"$f":"(SUMIF(AF4:AF54,BT25,BN4:BN54)+SUMIF(AH4:AH54,BT25,BO4:BO54))","v":0},{"$f":"(SUMIF(AF4:AF54,BT25,BP4:BP54)+SUMIF(AH4:AH54,BT25,BQ4:BQ54))","v":0},0,{"$f":"CB25","v":"C"},{"$f":"IF(EN25>0,RANK(ER25,ER22:ER25)+CG20+DA20+DU20,)","v":0},{"$f":"IF(AND(EN25>0,COUNTIF(ET22:ET25,ET25)>1),SUMIFS($AI$4:$AI$54,$AF$4:$AF$54,BT25,$L$4:$L$54,4)+SUMIFS($AK$4:$AK$54,$AH$4:$AH$54,BT25,$L$4:$L$54,4)-SUMIFS($AK$4:$AK$54,$AF$4:$AF$54,BT25,$L$4:$L$54,4)-SUMIFS($AI$4:$AI$54,$AH$4:$AH$54,BT25,$L$4:$L$54,4),)","v":0},{"$f":"IF(AND(EN25>0,COUNTIF(ET4:ET7,ET25)>1),ET25+RANK(EU25,EU4:EU7)-1,ET25)","v":0},{"$f":"IF(AND(EN25>0,COUNTIF(EV22:EV25,EV25)>1),SUMIFS($AI$4:$AI$54,$AF$4:$AF$54,BT25,$L$4:$L$54,4)+SUMIFS($AK$4:$AK$54,$AH$4:$AH$54,BT25,$L$4:$L$54,4),)","v":0},{"$f":"IF(AND(EN25>0,COUNTIF(EV22:EV25,EV25)>1),EV25+RANK(EW25,EW22:EW25)-1,EV25)","v":0},"",{"$f":"IF(OR(EY25=\"\",COUNTIF(EY22:EY25,EY25)=1),\"\",$BZ25)","v":""},{"$f":"IF(EY25=\"\",\"\",IF(COUNTIF(EY22:EY25,EY25)=1,EY25,EY25+RANK(EZ25,EZ22:EZ25,0)-1))","v":""},{"$f":"IF(OR(FA25=\"\",COUNTIF(FA22:FA25,FA25)=1),\"\",$BX25)","v":""},{"$f":"IF(EY25=\"\",\"\",IF(COUNTIF(FA22:FA25,FA25)=1,FA25,FA25+RANK(FB25,FB22:FB25,0)-1))","v":""},{"$f":"IF(OR(FC25=\"\",COUNTIF(FC22:FC25,FC25)=1),\"\",$BU25)","v":""},{"$f":"IF(EY25=\"\",\"\",IF(COUNTIF(FC22:FC25,FC25)=1,FC25,FC25+RANK(FD25,FD22:FD25,0)-1))","v":""},{"$f":"IF(EN25>0,CG20+DA20+DU20+RANK(FE25,FE22:FE25,1),)","v":0},null,{"$f":"IFERROR(VLOOKUP(FJ25,CF21:CX25,19,FALSE),IFERROR(VLOOKUP(FJ25,CZ21:DR25,19,FALSE),IFERROR(VLOOKUP(FJ25,DT21:EL25,19,FALSE),VLOOKUP(FJ25,EN21:FF25,19,FALSE))))","v":1},{"$f":"RANK(FH25,FH22:FH25,1)+COUNTIF(FH22:FH25,FH25)-1","v":4},{"$f":"BT25","v":"England"}]
[null,null,"2024-06-25","England","-","Slovenien",null,"-",null,"",{"$f":"IF(OR('Resultat & Tabell'!G26=\"\",'Resultat & Tabell'!I26=\"\",G26=\"\",I26=\"\"),0,IF(G26='Resultat & Tabell'!G26,2,0)+IF(I26='Resultat & Tabell'!I26,2,0)+IF(J26='Resultat & Tabell'!J26,3,0))","v":0},{"$f":"IF(VLOOKUP(D26,BT21:CC25,10,FALSE)=VLOOKUP(F26,BT21:CC25,10,FALSE),VLOOKUP(D26,BT21:CC25,10,FALSE),\"-\")","v":1},null,{"$f":"IF(COUNTBLANK(G22:G27)+COUNTBLANK(I22:I27)=0,\"Resultat OK\",\"Fyll i resultat\")","v":"Fyll i resultat"},null,null,null,null,null,null,null,null,null,null,null,null,null,null,null,null,"2024-06-25","England","-","Slovenien","","-","","",null,0,0,0,0,0,0,0,0,0,0,0,0,0,0,0,0,0,0,0,0,0,0,0,0,0,0,0,0,0,0]
[null,null,"2024-06-25","Danmark","-","Serbien",null,"-",null,"",{"$f":"IF(OR('Resultat & Tabell'!G27=\"\",'Resultat & Tabell'!I27=\"\",G27=\"\",I27=\"\"),0,IF(G27='Resultat & Tabell'!G27,2,0)+IF(I27='Resultat & Tabell'!I27,2,0)+IF(J27='Resultat & Tabell'!J27,3,0))","v":0},{"$f":"IF(VLOOKUP(D27,BT21:CC25,10,FALSE)=VLOOKUP(F27,BT21:CC25,10,FALSE),VLOOKUP(D27,BT21:CC25,10,FALSE),\"-\")","v":1},null,null,null,null,null,null,null,null,null,null,null,null,null,null,null,null,null,null,"2024-06-25","Danmark","-","Serbien","","-","","",null,0,0,0,0,0,0,0,0,0,0,0,0,0,0,0,0,0,0,0,0,0,0,0,0,0,0,0,0,0,0]
[]
[null,null,"Grupp D",null,null,null,null,null,null,null,null,null,null,null,null,null,null,null,null,null,null,null,null,null,null,null,null,null,null,null,"Grupp D",null,null,null,null,null,null,null,null,null,null,null,null,null,null,null,null,null,null,null,null,null,null,null,null,null,null,null,null,null,null,null,null,null,null,null,null,null,null,null,null,"Rank 0",null,null,null,null,null,null,null,null,null,null,null,"Rank 1",{"$f":"COUNTIF(CC31:CC34,1)","v":4},null,null,null,null,null,null,null,null,null,null,null,null,null,null,null,null,null,null,"Rank 2",{"$f":"COUNTIF(CC31:CC34,2)","v":0},null,null,null,null,null,null,null,null,null,null,null,null,null,null,null,null,null,null,"Rank 3",{"$f":"COUNTIF(CC31:CC34,3)","v":0},null,null,null,null,null,null,null,null,null,null,null,null,null,null,null,null,null,null,"Rank 4",{"$f":"COUNTIF(CC31:CC34,4)","v":0}]
[null,null,"Datum","Match",null,null,"Resultat",null,null,"Tecken","Poäng",null,null,"Lag","V","O","F","GM","IM","+/-","P",null,null,null,null,null,null,null,null,null,"Datum","Match",null,null,"Resultat",null,null,"Tecken","Poäng","V1","V2","O1","O2","F1","F2","V1","V2","O1","O2","F1","F2","V1","V2","O1","O2","F1","F2","V1","V2","O1","O2","F1","F2","V1","V2","O1","O2","F1","F2",null,null,"Lag","V","O","F","GM","IM","+/-","P","Grupp","Rank P","Rank +/-",null,"Lag","V","O","F","P","Grupp","Rank P","+/-","+/- rank","GM","GM rank","Rank internal","+/- all","+/- rank all","GM all","GM rank all","V all","V rank all","Rank all",null,"Lag","V","O","F","P","Grupp","Rank P","+/-","+/- rank","GM","GM rank","Rank internal","+/- all","+/- rank all","GM all","GM rank all","V all","V rank all","Rank all",null,"Lag","V","O","F","P","Grupp","Rank P","+/-","+/- rank","GM","GM rank","Rank internal","+/- all","+/- rank all","GM all","GM rank all","V all","V rank all","Rank all",null,"Lag","V","O","F","P","Grupp","Rank P","+/-","+/- rank","GM","GM rank","Rank internal","+/- all","+/- rank all","GM all","GM rank all","V all","V rank all","Rank all",null,"Rank","Rank Ties"]
[null,null,"2024-06-16","Polen","-","Nederländerna",null,"-",null,{"$f":"IF(OR(ISBLANK(G31),ISBLANK(I31)),\"\",IF(G31>I31,1,IF(G31<I31,2,\"X\")))","v":""},{"$f":"IF(OR('Resultat & Tabell'!G31=\"\",'Resultat & Tabell'!I31=\"\",G31=\"\",I31=\"\"),0,IF(G31='Resultat & Tabell'!G31,2,0)+IF(I31='Resultat & Tabell'!I31,2,0)+IF(J31='Resultat & Tabell'!J31,3,0))","v":0},{"$f":"IF(VLOOKUP(D31,BT30:CC34,10,FALSE)=VLOOKUP(F31,BT30:CC34,10,FALSE),VLOOKUP(D31,BT30:CC34,10,FALSE),\"-\")","v":1},1,{"$f":"VLOOKUP(M31,FI31:FJ34,2,FALSE)","v":"Nederländerna"},{"$f":"VLOOKUP(N31,BT31:CA34,2,FALSE)","v":0},{"$f":"VLOOKUP(N31,BT31:CA34,3,FALSE)","v":0},{"$f":"VLOOKUP(N31,BT31:CA34,4,FALSE)","v":0},{"$f":"VLOOKUP(N31,BT31:CA34,5,FALSE)","v":0},{"$f":"VLOOKUP(N31,BT31:CA34,6,FALSE)","v":0},{"$f":"VLOOKUP(N31,BT31:CA34,7,FALSE)","v":0},{"$f":"VLOOKUP(N31,BT31:CA34,8,FALSE)","v":0},null,null,null,null,null,null,null,null,null,{"$f":"C31","v":"2024-06-16"},"Polen","-","Nederländerna",{"$f":"IF(G31=\"\",\"\",G31)","v":""},"-",{"$f":"IF(I31=\"\",\"\",I31)","v":""},{"$f":"J31","v":""},null,{"$f":"IF(AI31>AK31,1,0)","v":0},{"$f":"IF(AK31>AI31,1,0)","v":0},{"$f":"IF(AND(AI31=AK31,AI31<>\"\"),1,0)","v":0},{"$f":"IF(AND(AI31=AK31,AI31<>\"\"),1,0)","v":0},{"$f":"IF(AI31<AK31,1,0)","v":0},{"$f":"IF(AK31<AI31,1,)","v":0},{"$f":"IF(ISERROR(VLOOKUP(AF31,CF:CF,1,FALSE)),0,1)*IF(ISERROR(VLOOKUP(AH31,CF:CF,1,FALSE)),0,1)*AN31","v":0},{"$f":"IF(ISERROR(VLOOKUP(AF31,CF:CF,1,FALSE)),0,1)*IF(ISERROR(VLOOKUP(AH31,CF:CF,1,FALSE)),0,1)*AO31","v":0},{"$f":"IF(ISERROR(VLOOKUP(AF31,CF:CF,1,FALSE)),0,1)*IF(ISERROR(VLOOKUP(AH31,CF:CF,1,FALSE)),0,1)*AP31","v":0},{"$f":"IF(ISERROR(VLOOKUP(AF31,CF:CF,1,FALSE)),0,1)*IF(ISERROR(VLOOKUP(AH31,CF:CF,1,FALSE)),0,1)*AQ31","v":0},{"$f":"IF(ISERROR(VLOOKUP(AF31,CF:CF,1,FALSE)),0,1)*IF(ISERROR(VLOOKUP(AH31,CF:CF,1,FALSE)),0,1)*AR31","v":0},{"$f":"IF(ISERROR(VLOOKUP(AF31,CF:CF,1,FALSE)),0,1)*IF(ISERROR(VLOOKUP(AH31,CF:CF,1,FALSE)),0,1)*AS31","v":0},{"$f":"IF(ISERROR(VLOOKUP(AF31,CZ:CZ,1,FALSE)),0,1)*IF(ISERROR(VLOOKUP(AH31,CZ:CZ,1,FALSE)),0,1)*AN31","v":0},{"$f":"IF(ISERROR(VLOOKUP(AF31,CZ:CZ,1,FALSE)),0,1)*IF(ISERROR(VLOOKUP(AH31,CZ:CZ,1,FALSE)),0,1)*AO31","v":0},{"$f":"IF(ISERROR(VLOOKUP(AF31,CZ:CZ,1,FALSE)),0,1)*IF(ISERROR(VLOOKUP(AH31,CZ:CZ,1,FALSE)),0,1)*AP31","v":0},{"$f":"IF(ISERROR(VLOOKUP(AF31,CZ:CZ,1,FALSE)),0,1)*IF(ISERROR(VLOOKUP(AH31,CZ:CZ,1,FALSE)),0,1)*AQ31","v":0},{"$f":"IF(ISERROR(VLOOKUP(AF31,CZ:CZ,1,FALSE)),0,1)*IF(ISERROR(VLOOKUP(AH31,CZ:CZ,1,FALSE)),0,1)*AR31","v":0},{"$f":"IF(ISERROR(VLOOKUP(AF31,CZ:CZ,1,FALSE)),0,1)*IF(ISERROR(VLOOKUP(AH31,CZ:CZ,1,FALSE)),0,1)*AS31","v":0},{"$f":"IF(ISERROR(VLOOKUP(AF31,DT:DT,1,FALSE)),0,1)*IF(ISERROR(VLOOKUP(AH31,DT:DT,1,FALSE)),0,1)*AN31","v":0},{"$f":"IF(ISERROR(VLOOKUP(AF31,DT:DT,1,FALSE)),0,1)*IF(ISERROR(VLOOKUP(AH31,DT:DT,1,FALSE)),0,1)*AO31","v":0},{"$f":"IF(ISERROR(VLOOKUP(AF31,DT:DT,1,FALSE)),0,1)*IF(ISERROR(VLOOKUP(AH31,DT:DT,1,FALSE)),0,1)*AP31","v":0},{"$f":"IF(ISERROR(VLOOKUP(AF31,DT:DT,1,FALSE)),0,1)*IF(ISERROR(VLOOKUP(AH31,DT:DT,1,FALSE)),0,1)*AQ31","v":0},{"$f":"IF(ISERROR(VLOOKUP(AF31,DT:DT,1,FALSE)),0,1)*IF(ISERROR(VLOOKUP(AH31,DT:DT,1,FALSE)),0,1)*AR31","v":0},{"$f":"IF(ISERROR(VLOOKUP(AF31,DT:DT,1,FALSE)),0,1)*IF(ISERROR(VLOOKUP(AH31,DT:DT,1,FALSE)),0,1)*AS31","v":0},{"$f":"IF(ISERROR(VLOOKUP(AF31,EN:EN,1,FALSE)),0,1)*IF(ISERROR(VLOOKUP(AH31,EN:EN,1,FALSE)),0,1)*AN31","v":0},{"$f":"IF(ISERROR(VLOOKUP(AF31,EN:EN,1,FALSE)),0,1)*IF(ISERROR(VLOOKUP(AH31,EN:EN,1,FALSE)),0,1)*AO31","v":0},{"$f":"IF(ISERROR(VLOOKUP(AF31,EN:EN,1,FALSE)),0,1)*IF(ISERROR(VLOOKUP(AH31,EN:EN,1,FALSE)),0,1)*AP31","v":0},{"$f":"IF(ISERROR(VLOOKUP(AF31,EN:EN,1,FALSE)),0,1)*IF(ISERROR(VLOOKUP(AH31,EN:EN,1,FALSE)),0,1)*AQ31","v":0},{"$f":"IF(ISERROR(VLOOKUP(AF31,EN:EN,1,FALSE)),0,1)*IF(ISERROR(VLOOKUP(AH31,EN:EN,1,FALSE)),0,1)*AR31","v":0},{"$f":"IF(ISERROR(VLOOKUP(AF31,EN:EN,1,FALSE)),0,1)*IF(ISERROR(VLOOKUP(AH31,EN:EN,1,FALSE)),0,1)*AS31","v":0},null,null,"Nederländerna",{"$f":"(SUMIF(AF4:AF54,BT31,AN4:AN54)+SUMIF(AH4:AH54,BT31,AO4:AO54))","v":0},{"$f":"(SUMIF(AF4:AF54,BT31,AP4:AP54)+SUMIF(AH4:AH54,BT31,AQ4:AQ54))","v":0},{"$f":"(SUMIF(AF4:AF54,BT31,AR4:AR54)+SUMIF(AH4:AH54,BT31,AS4:AS54))","v":0},{"$f":"SUMIF(AF4:AF54,BT31,AI4:AI54)+SUMIF(AH4:AH54,BT31,AK4:AK54)","v":0},{"$f":"SUMIF(AF4:AF54,BT31,AK4:AK54)+SUMIF(AH4:AH54,BT31,AI4:AI54)","v":0},{"$f":"BX31-BY31","v":0},{"$f":"IFERROR(BU31*3+BV31*1,0)","v":0},"D",{"$f":"RANK(CA31,CA31:CA34)","v":1},{"$f":"SUMPRODUCT((CA31:CA34=CA31)*(BZ31:BZ34>BZ31))","v":0},null,{"$f":"IF(CC31=1,BT31,)","v":"Nederländerna"},{"$f":"(SUMIF(AF4:AF54,BT31,AT4:AT54)+SUMIF(AH4:AH54,BT31,AU4:AU54))","v":0},{"$f":"(SUMIF(AF4:AF54,BT31,AV4:AV54)+SUMIF(AH4:AH54,BT31,AW4:AW54))","v":0},{"$f":"(SUMIF(AF4:AF54,BT31,AX4:AX54)+SUMIF(AH4:AH54,BT31,AY4:AY54))","v":0},{"$f":"IFERROR(CG31*3+CH31*1,0)","v":0},{"$f":"CB31","v":"D"},{"$f":"IF(CF31>0,RANK(CJ31,CJ31:CJ34),)","v":1},{"$f":"IF(AND(CF31>0,COUNTIF(CL31:CL34,CL31)>1),SUMIFS($AI$4:$AI$54,$AF$4:$AF$54,$BT31,$L$4:$L$54,1)+SUMIFS($AK$4:$AK$54,$AH$4:$AH$54,$BT31,$L$4:$L$54,1)-SUMIFS($AK$4:$AK$54,$AF$4:$AF$54,$BT31,$L$4:$L$54,1)-SUMIFS($AI$4:$AI$54,$AH$4:$AH$54,$BT31,$L$4:$L$54,1),)","v":0},{"$f":"IF(AND(CF31>0,COUNTIF(CL31:CL34,CL31)>1),CL31+RANK(CM31,CM31:CM34)-1,CL31)","v":1},{"$f":"IF(AND(CF31>0,COUNTIF(CN31:CN34,CN31)>1),SUMIFS($AI$4:$AI$54,$AF$4:$AF$54,$BT31,$L$4:$L$54,1)+SUMIFS($AK$4:$AK$54,$AH$4:$AH$54,$BT31,$L$4:$L$54,1),)","v":0},{"$f":"IF(AND(CF31>0,COUNTIF(CN31:CN34,CN31)>1),CN31+RANK(CO31,CO31:CO34)-1,CN31)","v":1},{"$f":"IF(CP31=0,\"\",CP31)","v":1},{"$f":"IF(OR(CQ31=\"\",COUNTIF(CQ31:CQ34,CQ31)=1),\"\",$BZ31)","v":0},{"$f":"IF(CQ31=\"\",\"\",IF(COUNTIF(CQ31:CQ34,CQ31)=1,CQ31,CQ31+RANK(CR31,CR31:CR34,0)-1))","v":1},{"$f":"IF(OR(CS31=\"\",COUNTIF(CS31:CS34,CS31)=1),\"\",$BX31)","v":0},{"$f":"IF(CQ31=\"\",\"\",IF(COUNTIF(CS31:CS34,CS31)=1,CS31,CS31+RANK(CT31,CT31:CT34,0)-1))","v":1},{"$f":"IF(OR(CU31=\"\",COUNTIF(CU31:CU34,CU31)=1),\"\",$BU31)","v":0},{"$f":"IF(CQ31=\"\",\"\",IF(COUNTIF(CU31:CU34,CU31)=1,CU31,CU31+RANK(CV31,CV31:CV34,0)-1))","v":1},{"$f":"IF(CF31>0,BM29+RANK(CW31,CW31:CW34,1),)","v":1},null,{"$f":"IF(CC31=2,BT31,)","v":0},{"$f":"(SUMIF(AF4:AF54,BT31,AZ4:AZ54)+SUMIF(AH4:AH54,BT31,BA4:BA54))","v":0},{"$f":"(SUMIF(AF4:AF54,BT31,BB4:BB54)+SUMIF(AH4:AH54,BT31,BC4:BC54))","v":0},{"$f":"(SUMIF(AF4:AF54,BT31,BD4:BD54)+SUMIF(AH4:AH54,BT31,BE4:BE54))","v":0},{"$f":"IFERROR(DA31*3+DB31*1,0)","v":0},{"$f":"CB31","v":"D"},{"$f":"IF(CZ31>0,RANK(DD31,DD31:DD34)+CG29,)","v":0},{"$f":"IF(AND(CZ31>0,COUNTIF(DF31:DF34,DF31)>1),SUMIFS($AI$4:$AI$54,$AF$4:$AF$54,$BT31,$L$4:$L$54,2)+SUMIFS($AK$4:$AK$54,$AH$4:$AH$54,$BT31,$L$4:$L$54,2)-SUMIFS($AK$4:$AK$54,$AF$4:$AF$54,$BT31,$L$4:$L$54,2)-SUMIFS($AI$4:$AI$54,$AH$4:$AH$54,$BT31,$L$4:$L$54,2),)","v":0},{"$f":"IF(AND(CZ31>0,COUNTIF(DF31:DF34,DF31)>1),DF31+RANK(DG31,DG31:DG34)-1,DF31)","v":0},{"$f":"IF(AND(CZ31>0,COUNTIF(DH31:DH34,DH31)>1),SUMIFS($AI$4:$AI$54,$AF$4:$AF$54,$BT31,$L$4:$L$54,2)+SUMIFS($AK$4:$AK$54,$AH$4:$AH$54,$BT31,$L$4:$L$54,2),)","v":0},{"$f":"IF(AND(CZ31>0,COUNTIF(DH31:DH34,DH31)>1),DH31+RANK(DI31,DI31:DI34)-1,DH31)","v":0},{"$f":"IF(DJ31=0,\"\",DJ31)","v":""},{"$f":"IF(OR(DK31=\"\",COUNTIF(DK31:DK34,DK31)=1),\"\",$BZ31)","v":""},{"$f":"IF(DK31=\"\",\"\",IF(COUNTIF(DK31:DK34,DK31)=1,DK31,DK31+RANK(DL31,DL31:DL34,0)-1))","v":""},{"$f":"IF(OR(DM31=\"\",COUNTIF(DM31:DM34,DM31)=1),\"\",$BX31)","v":""},{"$f":"IF(DK31=\"\",\"\",IF(COUNTIF(DM31:DM34,DM31)=1,DM31,DM31+RANK(DN31,DN31:DN34,0)-1))","v":""},{"$f":"IF(OR(DO31=\"\",COUNTIF(DO31:DO34,DO31)=1),\"\",$BU31)","v":""},{"$f":"IF(DK31=\"\",\"\",IF(COUNTIF(DO31:DO34,DO31)=1,DO31,DO31+RANK(DP31,DP31:DP34,0)-1))","v":""},{"$f":"IF(CZ31>0,CG29+RANK(DQ31,DQ31:DQ34,1),)","v":0},null,{"$f":"IF(CC31=3,BT31,)","v":0},{"$f":"(SUMIF(AF4:AF54,BT31,BF4:BF54)+SUMIF(AH4:AH54,BT31,BG4:BG54))","v":0},{"$f":"(SUMIF(AF4:AF54,BT31,BH4:BH54)+SUMIF(AH4:AH54,BT31,BI4:BI54))","v":0},{"$f":"(SUMIF(AF4:AF54,BT31,BJ4:BJ54)+SUMIF(AH4:AH54,BT31,BK4:BK54))","v":0},{"$f":"IFERROR(DU31*3+DV31*1,0)","v":0},{"$f":"CB31","v":"D"},{"$f":"IF(DT31>0,RANK(DX31,DX31:DX34)+CG29+DA29,)","v":0},{"$f":"IF(AND(DT31>0,COUNTIF(DZ31:DZ34,DZ31)>1),SUMIFS($AI$4:$AI$54,$AF$4:$AF$54,$BT31,$L$4:$L$54,3)+SUMIFS($AK$4:$AK$54,$AH$4:$AH$54,$BT31,$L$4:$L$54,3)-SUMIFS($AK$4:$AK$54,$AF$4:$AF$54,$BT31,$L$4:$L$54,3)-SUMIFS($AI$4:$AI$54,$AH$4:$AH$54,$BT31,$L$4:$L$54,3),)","v":0},{"$f":"IF(AND(DT31>0,COUNTIF(DZ31:DZ34,DZ31)>1),DZ31+RANK(EA31,EA31:EA34)-1,DZ31)","v":0},{"$f":"IF(AND(DT31>0,COUNTIF(EB31:EB34,EB31)>1),SUMIFS($AI$4:$AI$54,$AF$4:$AF$54,$BT31,$L$4:$L$54,3)+SUMIFS($AK$4:$AK$54,$AH$4:$AH$54,$BT31,$L$4:$L$54,3),)","v":0},{"$f":"IF(AND(DT31>0,COUNTIF(EB31:EB34,EB31)>1),EB31+RANK(EC31,EC31:EC34)-1,EB31)","v":0},{"$f":"IF(ED31=0,\"\",ED31)","v":""},{"$f":"IF(OR(EE31=\"\",COUNTIF(EE31:EE34,EE31)=1),\"\",$BZ31)","v":""},{"$f":"IF(EE31=\"\",\"\",IF(COUNTIF(EE31:EE34,EE31)=1,EE31,EE31+RANK(EF31,EF31:EF34,0)-1))","v":""},{"$f":"IF(OR(EG31=\"\",COUNTIF(EG31:EG34,EG31)=1),\"\",$BX31)","v":""},{"$f":"IF(EE31=\"\",\"\",IF(COUNTIF(EG31:EG34,EG31)=1,EG31,EG31+RANK(EH31,EH31:EH34,0)-1))","v":""},{"$f":"IF(OR(EI31=\"\",COUNTIF(EI31:EI34,EI31)=1),\"\",$BU31)","v":""},{"$f":"IF(EE31=\"\",\"\",IF(COUNTIF(EI31:EI34,EI31)=1,EI31,EI31+RANK(EJ31,EJ31:EJ34,0)-1))","v":""},{"$f":"IF(DT31>0,CG29+DA29+RANK(EK31,EK31:EK34,1),)","v":0},null,{"$f":"IF(CC31=4,BT31,)","v":0},{"$f":"(SUMIF(AF4:AF54,BT31,BL4:BL54)+SUMIF(AH4:AH54,BT31,BM4:BM54))","v":0},{"$f":"(SUMIF(AF4:AF54,BT31,BN4:BN54)+SUMIF(AH4:AH54,BT31,BO4:BO54))","v":0},{"$f":"(SUMIF(AF4:AF54,BT31,BP4:BP54)+SUMIF(AH4:AH54,BT31,BQ4:BQ54))","v":0},{"$f":"IFERROR(EO31*3+EP31*1,0)","v":0},{"$f":"CB31","v":"D"},{"$f":"IF(EN31>0,RANK(ER31,ER31:ER34)+CG29+DA29+DU29,)","v":0},{"$f":"IF(AND(EN31>0,COUNTIF(ET31:ET34,ET31)>1),SUMIFS($AI$4:$AI$54,$AF$4:$AF$54,$BT31,$L$4:$L$54,4)+SUMIFS($AK$4:$AK$54,$AH$4:$AH$54,$BT31,$L$4:$L$54,4)-SUMIFS($AK$4:$AK$54,$AF$4:$AF$54,$BT31,$L$4:$L$54,4)-SUMIFS($AI$4:$AI$54,$AH$4:$AH$54,$BT31,$L$4:$L$54,4),)","v":0},{"$f":"IF(AND(EN31>0,COUNTIF(ET4:ET7,ET31)>1),ET31+RANK(EU31,EU4:EU7)-1,ET31)","v":0},{"$f":"IF(AND(EN31>0,COUNTIF(EV31:EV34,EV31)>1),SUMIFS($AI$4:$AI$54,$AF$4:$AF$54,$BT31,$L$4:$L$54,4)+SUMIFS($AK$4:$AK$54,$AH$4:$AH$54,$BT31,$L$4:$L$54,4),)","v":0},{"$f":"IF(AND(EN31>0,COUNTIF(EV31:EV34,EV31)>1),EV31+RANK(EW31,EW31:EW34)-1,EV31)","v":0},{"$f":"IF(EX31=0,\"\",EX31)","v":""},{"$f":"IF(OR(EY31=\"\",COUNTIF(EY31:EY34,EY31)=1),\"\",$BZ31)","v":""},{"$f":"IF(EY31=\"\",\"\",IF(COUNTIF(EY31:EY34,EY31)=1,EY31,EY31+RANK(EZ31,EZ31:EZ34,0)-1))","v":""},{"$f":"IF(OR(FA31=\"\",COUNTIF(FA31:FA34,FA31)=1),\"\",$BX31)","v":""},{"$f":"IF(EY31=\"\",\"\",IF(COUNTIF(FA31:FA34,FA31)=1,FA31,FA31+RANK(FB31,FB31:FB34,0)-1))","v":""},{"$f":"IF(OR(FC31=\"\",COUNTIF(FC31:FC34,FC31)=1),\"\",$BU31)","v":""},{"$f":"IF(EY31=\"\",\"\",IF(COUNTIF(FC31:FC34,FC31)=1,FC31,FC31+RANK(FD31,FD31:FD34,0)-1))","v":""},{"$f":"IF(EN31>0,CG29+DA29+DU29+RANK(FE31,FE31:FE34,1),)","v":0},null,{"$f":"IFERROR(VLOOKUP(FJ31,CF30:CX34,19,FALSE),IFERROR(VLOOKUP(FJ31,CZ30:DR34,19,FALSE),IFERROR(VLOOKUP(FJ31,DT30:EL34,19,FALSE),VLOOKUP(FJ31,EN30:FF34,19,FALSE))))","v":1},{"$f":"RANK(FH31,FH31:FH34,1)+COUNTIF(FH31:FH31,FH31)-1","v":1},{"$f":"BT31","v":"Nederländerna"}]
[null,null,"2024-06-17","Österrike","-","Frankrike",null,"-",null,{"$f":"IF(OR(ISBLANK(G32),ISBLANK(I32)),\"\",IF(G32>I32,1,IF(G32<I32,2,\"X\")))","v":""},{"$f":"IF(OR('Resultat & Tabell'!G32=\"\",'Resultat & Tabell'!I32=\"\",G32=\"\",I32=\"\"),0,IF(G32='Resultat & Tabell'!G32,2,0)+IF(I32='Resultat & Tabell'!I32,2,0)+IF(J32='Resultat & Tabell'!J32,3,0))","v":0},{"$f":"IF(VLOOKUP(D32,BT30:CC34,10,FALSE)=VLOOKUP(F32,BT30:CC34,10,FALSE),VLOOKUP(D32,BT30:CC34,10,FALSE),\"-\")","v":1},2,{"$f":"VLOOKUP(M32,FI31:FJ34,2,FALSE)","v":"Frankrike"},{"$f":"VLOOKUP(N32,BT31:CA34,2,FALSE)","v":0},{"$f":"VLOOKUP(N32,BT31:CA34,3,FALSE)","v":0},{"$f":"VLOOKUP(N32,BT31:CA34,4,FALSE)","v":0},{"$f":"VLOOKUP(N32,BT31:CA34,5,FALSE)","v":0},{"$f":"VLOOKUP(N32,BT31:CA34,6,FALSE)","v":0},{"$f":"VLOOKUP(N32,BT31:CA34,7,FALSE)","v":0},{"$f":"VLOOKUP(N32,BT31:CA34,8,FALSE)","v":0},null,null,null,null,null,null,null,null,null,"2024-06-17","Österrike","-","Frankrike","","-","","",null,0,0,0,0,0,0,0,0,0,0,0,0,0,0,0,0,0,0,0,0,0,0,0,0,0,0,0,0,0,0,null,null,"Frankrike",{"$f":"(SUMIF(AF4:AF54,BT32,AN4:AN54)+SUMIF(AH4:AH54,BT32,AO4:AO54))","v":0},{"$f":"(SUMIF(AF4:AF54,BT32,AP4:AP54)+SUMIF(AH4:AH54,BT32,AQ4:AQ54))","v":0},{"$f":"(SUMIF(AF4:AF54,BT32,AR4:AR54)+SUMIF(AH4:AH54,BT32,AS4:AS54))","v":0},{"$f":"SUMIF(AF4:AF54,BT32,AI4:AI54)+SUMIF(AH4:AH54,BT32,AK4:AK54)","v":0},{"$f":"SUMIF(AF4:AF54,BT32,AK4:AK54)+SUMIF(AH4:AH54,BT32,AI4:AI54)","v":0},{"$f":"BX32-BY32","v":0},{"$f":"IFERROR(BU32*3+BV32*1,0)","v":0},"D",{"$f":"RANK(CA32,CA31:CA34)","v":1},{"$f":"SUMPRODUCT((CA31:CA34=CA32)*(BZ31:BZ34>BZ32))","v":0},null,{"$f":"IF(CC32=1,BT32,)","v":"Frankrike"},{"$f":"(SUMIF(AF4:AF54,BT32,AT4:AT54)+SUMIF(AH4:AH54,BT32,AU4:AU54))","v":0},{"$f":"(SUMIF(AF4:AF54,BT32,AV4:AV54)+SUMIF(AH4:AH54,BT32,AW4:AW54))","v":0},{"$f":"(SUMIF(AF4:AF54,BT32,AX4:AX54)+SUMIF(AH4:AH54,BT32,AY4:AY54))","v":0},{"$f":"IFERROR(CG32*3+CH32*1,0)","v":0},{"$f":"CB32","v":"D"},{"$f":"IF(CF32>0,RANK(CJ32,CJ31:CJ34),)","v":1},{"$f":"IF(AND(CF32>0,COUNTIF(CL31:CL34,CL32)>1),SUMIFS($AI$4:$AI$54,$AF$4:$AF$54,BT32,$L$4:$L$54,1)+SUMIFS($AK$4:$AK$54,$AH$4:$AH$54,BT32,$L$4:$L$54,1)-SUMIFS($AK$4:$AK$54,$AF$4:$AF$54,BT32,$L$4:$L$54,1)-SUMIFS($AI$4:$AI$54,$AH$4:$AH$54,BT32,$L$4:$L$54,1),)","v":0},{"$f":"IF(AND(CF32>0,COUNTIF(CL31:CL34,CL32)>1),CL32+RANK(CM32,CM31:CM34)-1,CL32)","v":1},{"$f":"IF(AND(CF32>0,COUNTIF(CN31:CN34,CN32)>1),SUMIFS($AI$4:$AI$54,$AF$4:$AF$54,BT32,$L$4:$L$54,1)+SUMIFS($AK$4:$AK$54,$AH$4:$AH$54,BT32,$L$4:$L$54,1),)","v":0},{"$f":"IF(AND(CF32>0,COUNTIF(CN31:CN34,CN32)>1),CN32+RANK(CO32,CO31:CO34)-1,CN32)","v":1},{"$f":"IF(CP32=0,\"\",CP32)","v":1},{"$f":"IF(OR(CQ32=\"\",COUNTIF(CQ31:CQ34,CQ32)=1),\"\",$BZ32)","v":0},{"$f":"IF(CQ32=\"\",\"\",IF(COUNTIF(CQ31:CQ34,CQ32)=1,CQ32,CQ32+RANK(CR32,CR31:CR34,0)-1))","v":1},{"$f":"IF(OR(CS32=\"\",COUNTIF(CS31:CS34,CS32)=1),\"\",$BX32)","v":0},{"$f":"IF(CQ32=\"\",\"\",IF(COUNTIF(CS31:CS34,CS32)=1,CS32,CS32+RANK(CT32,CT31:CT34,0)-1))","v":1},{"$f":"IF(OR(CU32=\"\",COUNTIF(CU31:CU34,CU32)=1),\"\",$BU32)","v":0},{"$f":"IF(CQ32=\"\",\"\",IF(COUNTIF(CU31:CU34,CU32)=1,CU32,CU32+RANK(CV32,CV31:CV34,0)-1))","v":1},{"$f":"IF(CF32>0,BM29+RANK(CW32,CW31:CW34,1),)","v":1},null,{"$f":"IF(CC32=2,BT32,)","v":0},{"$f":"(SUMIF(AF4:AF54,BT32,AZ4:AZ54)+SUMIF(AH4:AH54,BT32,BA4:BA54))","v":0},{"$f":"(SUMIF(AF4:AF54,BT32,BB4:BB54)+SUMIF(AH4:AH54,BT32,BC4:BC54))","v":0},{"$f":"(SUMIF(AF4:AF54,BT32,BD4:BD54)+SUMIF(AH4:AH54,BT32,BE4:BE54))","v":0},{"$f":"IFERROR(DA32*3+DB32*1,0)","v":0},{"$f":"CB32","v":"D"},{"$f":"IF(CZ32>0,RANK(DD32,DD31:DD34)+CG29,)","v":0},{"$f":"IF(AND(CZ32>0,COUNTIF(DF31:DF34,DF32)>1),SUMIFS($AI$4:$AI$54,$AF$4:$AF$54,BT32,$L$4:$L$54,2)+SUMIFS($AK$4:$AK$54,$AH$4:$AH$54,BT32,$L$4:$L$54,2)-SUMIFS($AK$4:$AK$54,$AF$4:$AF$54,BT32,$L$4:$L$54,2)-SUMIFS($AI$4:$AI$54,$AH$4:$AH$54,BT32,$L$4:$L$54,2),)","v":0},{"$f":"IF(AND(CZ32>0,COUNTIF(DF31:DF34,DF32)>1),DF32+RANK(DG32,DG31:DG34)-1,DF32)","v":0},{"$f":"IF(AND(CZ32>0,COUNTIF(DH31:DH34,DH32)>1),SUMIFS($AI$4:$AI$54,$AF$4:$AF$54,BT32,$L$4:$L$54,2)+SUMIFS($AK$4:$AK$54,$AH$4:$AH$54,BT32,$L$4:$L$54,2),)","v":0},{"$f":"IF(AND(CZ32>0,COUNTIF(DH31:DH34,DH32)>1),DH32+RANK(DI32,DI31:DI34)-1,DH32)","v":0},{"$f":"IF(DJ32=0,\"\",DJ32)","v":""},{"$f":"IF(OR(DK32=\"\",COUNTIF(DK31:DK34,DK32)=1),\"\",$BZ32)","v":""},{"$f":"IF(DK32=\"\",\"\",IF(COUNTIF(DK31:DK34,DK32)=1,DK32,DK32+RANK(DL32,DL31:DL34,0)-1))","v":""},{"$f":"IF(OR(DM32=\"\",COUNTIF(DM31:DM34,DM32)=1),\"\",$BX32)","v":""},{"$f":"IF(DK32=\"\",\"\",IF(COUNTIF(DM31:DM34,DM32)=1,DM32,DM32+RANK(DN32,DN31:DN34,0)-1))","v":""},{"$f":"IF(OR(DO32=\"\",COUNTIF(DO31:DO34,DO32)=1),\"\",$BU32)","v":""},{"$f":"IF(DK32=\"\",\"\",IF(COUNTIF(DO31:DO34,DO32)=1,DO32,DO32+RANK(DP32,DP31:DP34,0)-1))","v":""},{"$f":"IF(CZ32>0,CG29+RANK(DQ32,DQ31:DQ34,1),)","v":0},null,{"$f":"IF(CC32=3,BT32,)","v":0},{"$f":"(SUMIF(AF4:AF54,BT32,BF4:BF54)+SUMIF(AH4:AH54,BT32,BG4:BG54))","v":0},{"$f":"(SUMIF(AF4:AF54,BT32,BH4:BH54)+SUMIF(AH4:AH54,BT32,BI4:BI54))","v":0},{"$f":"(SUMIF(AF4:AF54,BT32,BJ4:BJ54)+SUMIF(AH4:AH54,BT32,BK4:BK54))","v":0},{"$f":"IFERROR(DU32*3+DV32*1,0)","v":0},{"$f":"CB32","v":"D"},{"$f":"IF(DT32>0,RANK(DX32,DX31:DX34)+CG29+DA29,)","v":0},{"$f":"IF(AND(DT32>0,COUNTIF(DZ31:DZ34,DZ32)>1),SUMIFS($AI$4:$AI$54,$AF$4:$AF$54,BT32,$L$4:$L$54,3)+SUMIFS($AK$4:$AK$54,$AH$4:$AH$54,BT32,$L$4:$L$54,3)-SUMIFS($AK$4:$AK$54,$AF$4:$AF$54,BT32,$L$4:$L$54,3)-SUMIFS($AI$4:$AI$54,$AH$4:$AH$54,BT32,$L$4:$L$54,3),)","v":0},{"$f":"IF(AND(DT32>0,COUNTIF(DZ31:DZ34,DZ32)>1),DZ32+RANK(EA32,EA31:EA34)-1,DZ32)","v":0},{"$f":"IF(AND(DT32>0,COUNTIF(EB31:EB34,EB32)>1),SUMIFS($AI$4:$AI$54,$AF$4:$AF$54,BT32,$L$4:$L$54,3)+SUMIFS($AK$4:$AK$54,$AH$4:$AH$54,BT32,$L$4:$L$54,3),)","v":0},{"$f":"IF(AND(DT32>0,COUNTIF(EB31:EB34,EB32)>1),EB32+RANK(EC32,EC31:EC34)-1,EB32)","v":0},{"$f":"IF(ED32=0,\"\",ED32)","v":""},{"$f":"IF(OR(EE32=\"\",COUNTIF(EE31:EE34,EE32)=1),\"\",$BZ32)","v":""},{"$f":"IF(EE32=\"\",\"\",IF(COUNTIF(EE31:EE34,EE32)=1,EE32,EE32+RANK(EF32,EF31:EF34,0)-1))","v":""},{"$f":"IF(OR(EG32=\"\",COUNTIF(EG31:EG34,EG32)=1),\"\",$BX32)","v":""},{"$f":"IF(EE32=\"\",\"\",IF(COUNTIF(EG31:EG34,EG32)=1,EG32,EG32+RANK(EH32,EH31:EH34,0)-1))","v":""},{"$f":"IF(OR(EI32=\"\",COUNTIF(EI31:EI34,EI32)=1),\"\",$BU32)","v":""},{"$f":"IF(EE32=\"\",\"\",IF(COUNTIF(EI31:EI34,EI32)=1,EI32,EI32+RANK(EJ32,EJ31:EJ34,0)-1))","v":""},{"$f":"IF(DT32>0,CG29+DA29+RANK(EK32,EK31:EK34,1),)","v":0},null,{"$f":"IF(CC32=4,BT32,)","v":0},{"$f":"(SUMIF(AF4:AF54,BT32,BL4:BL54)+SUMIF(AH4:AH54,BT32,BM4:BM54))","v":0},{"$f":"(SUMIF(AF4:AF54,BT32,BN4:BN54)+SUMIF(AH4:AH54,BT32,BO4:BO54))","v":0},{"$f":"(SUMIF(AF4:AF54,BT32,BP4:BP54)+SUMIF(AH4:AH54,BT32,BQ4:BQ54))","v":0},{"$f":"IFERROR(EO32*3+EP32*1,0)","v":0},{"$f":"CB32","v":"D"},{"$f":"IF(EN32>0,RANK(ER32,ER31:ER34)+CG29+DA29+DU29,)","v":0},{"$f":"IF(AND(EN32>0,COUNTIF(ET31:ET34,ET32)>1),SUMIFS($AI$4:$AI$54,$AF$4:$AF$54,BT32,$L$4:$L$54,4)+SUMIFS($AK$4:$AK$54,$AH$4:$AH$54,BT32,$L$4:$L$54,4)-SUMIFS($AK$4:$AK$54,$AF$4:$AF$54,BT32,$L$4:$L$54,4)-SUMIFS($AI$4:$AI$54,$AH$4:$AH$54,BT32,$L$4:$L$54,4),)","v":0},{"$f":"IF(AND(EN32>0,COUNTIF(ET4:ET7,ET32)>1),ET32+RANK(EU32,EU4:EU7)-1,ET32)","v":0},{"$f":"IF(AND(EN32>0,COUNTIF(EV31:EV34,EV32)>1),SUMIFS($AI$4:$AI$54,$AF$4:$AF$54,BT32,$L$4:$L$54,4)+SUMIFS($AK$4:$AK$54,$AH$4:$AH$54,BT32,$L$4:$L$54,4),)","v":0},{"$f":"IF(AND(EN32>0,COUNTIF(EV31:EV34,EV32)>1),EV32+RANK(EW32,EW31:EW34)-1,EV32)","v":0},{"$f":"IF(EX32=0,\"\",EX32)","v":""},{"$f":"IF(OR(EY32=\"\",COUNTIF(EY31:EY34,EY32)=1),\"\",$BZ32)","v":""},{"$f":"IF(EY32=\"\",\"\",IF(COUNTIF(EY31:EY34,EY32)=1,EY32,EY32+RANK(EZ32,EZ31:EZ34,0)-1))","v":""},{"$f":"IF(OR(FA32=\"\",COUNTIF(FA31:FA34,FA32)=1),\"\",$BX32)","v":""},{"$f":"IF(EY32=\"\",\"\",IF(COUNTIF(FA31:FA34,FA32)=1,FA32,FA32+RANK(FB32,FB31:FB34,0)-1))","v":""},{"$f":"IF(OR(FC32=\"\",COUNTIF(FC31:FC34,FC32)=1),\"\",$BU32)","v":""},{"$f":"IF(EY32=\"\",\"\",IF(COUNTIF(FC31:FC34,FC32)=1,FC32,FC32+RANK(FD32,FD31:FD34,0)-1))","v":""},{"$f":"IF(EN32>0,CG29+DA29+DU29+RANK(FE32,FE31:FE34,1),)","v":0},null,{"$f":"IFERROR(VLOOKUP(FJ32,CF30:CX34,19,FALSE),IFERROR(VLOOKUP(FJ32,CZ30:DR34,19,FALSE),IFERROR(VLOOKUP(FJ32,DT30:EL34,19,FALSE),VLOOKUP(FJ32,EN30:FF34,19,FALSE))))","v":1},{"$f":"RANK(FH32,FH31:FH34,1)+COUNTIF(FH31:FH32,FH32)-1","v":2},{"$f":"BT32","v":"Frankrike"}]
[null,null,"2024-06-21","Polen","-","Österrike",null,"-",null,"",{"$f":"IF(OR('Resultat & Tabell'!G33=\"\",'Resultat & Tabell'!I33=\"\",G33=\"\",I33=\"\"),0,IF(G33='Resultat & Tabell'!G33,2,0)+IF(I33='Resultat & Tabell'!I33,2,0)+IF(J33='Resultat & Tabell'!J33,3,0))","v":0},{"$f":"IF(VLOOKUP(D33,BT30:CC34,10,FALSE)=VLOOKUP(F33,BT30:CC34,10,FALSE),VLOOKUP(D33,BT30:CC34,10,FALSE),\"-\")","v":1},3,{"$f":"VLOOKUP(M33,FI31:FJ34,2,FALSE)","v":"Polen"},{"$f":"VLOOKUP(N33,BT31:CA34,2,FALSE)","v":0},{"$f":"VLOOKUP(N33,BT31:CA34,3,FALSE)","v":0},{"$f":"VLOOKUP(N33,BT31:CA34,4,FALSE)","v":0},{"$f":"VLOOKUP(N33,BT31:CA34,5,FALSE)","v":0},{"$f":"VLOOKUP(N33,BT31:CA34,6,FALSE)","v":0},{"$f":"VLOOKUP(N33,BT31:CA34,7,FALSE)","v":0},{"$f":"VLOOKUP(N33,BT31:CA34,8,FALSE)","v":0},null,null,null,null,null,null,null,null,null,"2024-06-21","Polen","-","Österrike","","-","","",null,0,0,0,0,0,0,0,0,0,0,0,0,0,0,0,0,0,0,0,0,0,0,0,0,0,0,0,0,0,0,null,null,"Polen",{"$f":"(SUMIF(AF4:AF54,BT33,AN4:AN54)+SUMIF(AH4:AH54,BT33,AO4:AO54))","v":0},{"$f":"(SUMIF(AF4:AF54,BT33,AP4:AP54)+SUMIF(AH4:AH54,BT33,AQ4:AQ54))","v":0},{"$f":"(SUMIF(AF4:AF54,BT33,AR4:AR54)+SUMIF(AH4:AH54,BT33,AS4:AS54))","v":0},{"$f":"SUMIF(AF4:AF54,BT33,AI4:AI54)+SUMIF(AH4:AH54,BT33,AK4:AK54)","v":0},{"$f":"SUMIF(AF4:AF54,BT33,AK4:AK54)+SUMIF(AH4:AH54,BT33,AI4:AI54)","v":0},{"$f":"BX33-BY33","v":0},{"$f":"IFERROR(BU33*3+BV33*1,0)","v":0},"D",{"$f":"RANK(CA33,CA31:CA34)","v":1},{"$f":"SUMPRODUCT((CA31:CA34=CA33)*(BZ31:BZ34>BZ33))","v":0},null,{"$f":"IF(CC33=1,BT33,)","v":"Polen"},{"$f":"(SUMIF(AF4:AF54,BT33,AT4:AT54)+SUMIF(AH4:AH54,BT33,AU4:AU54))","v":0},{"$f":"(SUMIF(AF4:AF54,BT33,AV4:AV54)+SUMIF(AH4:AH54,BT33,AW4:AW54))","v":0},{"$f":"(SUMIF(AF4:AF54,BT33,AX4:AX54)+SUMIF(AH4:AH54,BT33,AY4:AY54))","v":0},0,{"$f":"CB33","v":"D"},{"$f":"IF(CF33>0,RANK(CJ33,CJ31:CJ34),)","v":1},{"$f":"IF(AND(CF33>0,COUNTIF(CL31:CL34,CL33)>1),SUMIFS($AI$4:$AI$54,$AF$4:$AF$54,BT33,$L$4:$L$54,1)+SUMIFS($AK$4:$AK$54,$AH$4:$AH$54,BT33,$L$4:$L$54,1)-SUMIFS($AK$4:$AK$54,$AF$4:$AF$54,BT33,$L$4:$L$54,1)-SUMIFS($AI$4:$AI$54,$AH$4:$AH$54,BT33,$L$4:$L$54,1),)","v":0},{"$f":"IF(AND(CF33>0,COUNTIF(CL31:CL34,CL33)>1),CL33+RANK(CM33,CM31:CM34)-1,CL33)","v":1},{"$f":"IF(AND(CF33>0,COUNTIF(CN31:CN34,CN33)>1),SUMIFS($AI$4:$AI$54,$AF$4:$AF$54,BT33,$L$4:$L$54,1)+SUMIFS($AK$4:$AK$54,$AH$4:$AH$54,BT33,$L$4:$L$54,1),)","v":0},{"$f":"IF(AND(CF33>0,COUNTIF(CN31:CN34,CN33)>1),CN33+RANK(CO33,CO31:CO34)-1,CN33)","v":1},1,{"$f":"IF(OR(CQ33=\"\",COUNTIF(CQ31:CQ34,CQ33)=1),\"\",$BZ33)","v":0},{"$f":"IF(CQ33=\"\",\"\",IF(COUNTIF(CQ31:CQ34,CQ33)=1,CQ33,CQ33+RANK(CR33,CR31:CR34,0)-1))","v":1},{"$f":"IF(OR(CS33=\"\",COUNTIF(CS31:CS34,CS33)=1),\"\",$BX33)","v":0},{"$f":"IF(CQ33=\"\",\"\",IF(COUNTIF(CS31:CS34,CS33)=1,CS33,CS33+RANK(CT33,CT31:CT34,0)-1))","v":1},{"$f":"IF(OR(CU33=\"\",COUNTIF(CU31:CU34,CU33)=1),\"\",$BU33)","v":0},{"$f":"IF(CQ33=\"\",\"\",IF(COUNTIF(CU31:CU34,CU33)=1,CU33,CU33+RANK(CV33,CV31:CV34,0)-1))","v":1},{"$f":"IF(CF33>0,BM29+RANK(CW33,CW31:CW34,1),)","v":1},null,{"$f":"IF(CC33=2,BT33,)","v":0},{"$f":"(SUMIF(AF4:AF54,BT33,AZ4:AZ54)+SUMIF(AH4:AH54,BT33,BA4:BA54))","v":0},{"$f":"(SUMIF(AF4:AF54,BT33,BB4:BB54)+SUMIF(AH4:AH54,BT33,BC4:BC54))","v":0},{"$f":"(SUMIF(AF4:AF54,BT33,BD4:BD54)+SUMIF(AH4:AH54,BT33,BE4:BE54))","v":0},0,{"$f":"CB33","v":"D"},{"$f":"IF(CZ33>0,RANK(DD33,DD31:DD34)+CG29,)","v":0},{"$f":"IF(AND(CZ33>0,COUNTIF(DF31:DF34,DF33)>1),SUMIFS($AI$4:$AI$54,$AF$4:$AF$54,BT33,$L$4:$L$54,2)+SUMIFS($AK$4:$AK$54,$AH$4:$AH$54,BT33,$L$4:$L$54,2)-SUMIFS($AK$4:$AK$54,$AF$4:$AF$54,BT33,$L$4:$L$54,2)-SUMIFS($AI$4:$AI$54,$AH$4:$AH$54,BT33,$L$4:$L$54,2),)","v":0},{"$f":"IF(AND(CZ33>0,COUNTIF(DF31:DF34,DF33)>1),DF33+RANK(DG33,DG31:DG34)-1,DF33)","v":0},{"$f":"IF(AND(CZ33>0,COUNTIF(DH31:DH34,DH33)>1),SUMIFS($AI$4:$AI$54,$AF$4:$AF$54,BT33,$L$4:$L$54,2)+SUMIFS($AK$4:$AK$54,$AH$4:$AH$54,BT33,$L$4:$L$54,2),)","v":0},{"$f":"IF(AND(CZ33>0,COUNTIF(DH31:DH34,DH33)>1),DH33+RANK(DI33,DI31:DI34)-1,DH33)","v":0},"",{"$f":"IF(OR(DK33=\"\",COUNTIF(DK31:DK34,DK33)=1),\"\",$BZ33)","v":""},{"$f":"IF(DK33=\"\",\"\",IF(COUNTIF(DK31:DK34,DK33)=1,DK33,DK33+RANK(DL33,DL31:DL34,0)-1))","v":""},{"$f":"IF(OR(DM33=\"\",COUNTIF(DM31:DM34,DM33)=1),\"\",$BX33)","v":""},{"$f":"IF(DK33=\"\",\"\",IF(COUNTIF(DM31:DM34,DM33)=1,DM33,DM33+RANK(DN33,DN31:DN34,0)-1))","v":""},{"$f":"IF(OR(DO33=\"\",COUNTIF(DO31:DO34,DO33)=1),\"\",$BU33)","v":""},{"$f":"IF(DK33=\"\",\"\",IF(COUNTIF(DO31:DO34,DO33)=1,DO33,DO33+RANK(DP33,DP31:DP34,0)-1))","v":""},{"$f":"IF(CZ33>0,CG29+RANK(DQ33,DQ31:DQ34,1),)","v":0},null,{"$f":"IF(CC33=3,BT33,)","v":0},{"$f":"(SUMIF(AF4:AF54,BT33,BF4:BF54)+SUMIF(AH4:AH54,BT33,BG4:BG54))","v":0},{"$f":"(SUMIF(AF4:AF54,BT33,BH4:BH54)+SUMIF(AH4:AH54,BT33,BI4:BI54))","v":0},{"$f":"(SUMIF(AF4:AF54,BT33,BJ4:BJ54)+SUMIF(AH4:AH54,BT33,BK4:BK54))","v":0},0,{"$f":"CB33","v":"D"},{"$f":"IF(DT33>0,RANK(DX33,DX31:DX34)+CG29+DA29,)","v":0},{"$f":"IF(AND(DT33>0,COUNTIF(DZ31:DZ34,DZ33)>1),SUMIFS($AI$4:$AI$54,$AF$4:$AF$54,BT33,$L$4:$L$54,3)+SUMIFS($AK$4:$AK$54,$AH$4:$AH$54,BT33,$L$4:$L$54,3)-SUMIFS($AK$4:$AK$54,$AF$4:$AF$54,BT33,$L$4:$L$54,3)-SUMIFS($AI$4:$AI$54,$AH$4:$AH$54,BT33,$L$4:$L$54,3),)","v":0},{"$f":"IF(AND(DT33>0,COUNTIF(DZ31:DZ34,DZ33)>1),DZ33+RANK(EA33,EA31:EA34)-1,DZ33)","v":0},{"$f":"IF(AND(DT33>0,COUNTIF(EB31:EB34,EB33)>1),SUMIFS($AI$4:$AI$54,$AF$4:$AF$54,BT33,$L$4:$L$54,3)+SUMIFS($AK$4:$AK$54,$AH$4:$AH$54,BT33,$L$4:$L$54,3),)","v":0},{"$f":"IF(AND(DT33>0,COUNTIF(EB31:EB34,EB33)>1),EB33+RANK(EC33,EC31:EC34)-1,EB33)","v":0},"",{"$f":"IF(OR(EE33=\"\",COUNTIF(EE31:EE34,EE33)=1),\"\",$BZ33)","v":""},{"$f":"IF(EE33=\"\",\"\",IF(COUNTIF(EE31:EE34,EE33)=1,EE33,EE33+RANK(EF33,EF31:EF34,0)-1))","v":""},{"$f":"IF(OR(EG33=\"\",COUNTIF(EG31:EG34,EG33)=1),\"\",$BX33)","v":""},{"$f":"IF(EE33=\"\",\"\",IF(COUNTIF(EG31:EG34,EG33)=1,EG33,EG33+RANK(EH33,EH31:EH34,0)-1))","v":""},{"$f":"IF(OR(EI33=\"\",COUNTIF(EI31:EI34,EI33)=1),\"\",$BU33)","v":""},{"$f":"IF(EE33=\"\",\"\",IF(COUNTIF(EI31:EI34,EI33)=1,EI33,EI33+RANK(EJ33,EJ31:EJ34,0)-1))","v":""},{"$f":"IF(DT33>0,CG29+DA29+RANK(EK33,EK31:EK34,1),)","v":0},null,{"$f":"IF(CC33=4,BT33,)","v":0},{"$f":"(SUMIF(AF4:AF54,BT33,BL4:BL54)+SUMIF(AH4:AH54,BT33,BM4:BM54))","v":0},{"$f":"(SUMIF(AF4:AF54,BT33,BN4:BN54)+SUMIF(AH4:AH54,BT33,BO4:BO54))","v":0},{"$f":"(SUMIF(AF4:AF54,BT33,BP4:BP54)+SUMIF(AH4:AH54,BT33,BQ4:BQ54))","v":0},0,{"$f":"CB33","v":"D"},{"$f":"IF(EN33>0,RANK(ER33,ER31:ER34)+CG29+DA29+DU29,)","v":0},{"$f":"IF(AND(EN33>0,COUNTIF(ET31:ET34,ET33)>1),SUMIFS($AI$4:$AI$54,$AF$4:$AF$54,BT33,$L$4:$L$54,4)+SUMIFS($AK$4:$AK$54,$AH$4:$AH$54,BT33,$L$4:$L$54,4)-SUMIFS($AK$4:$AK$54,$AF$4:$AF$54,BT33,$L$4:$L$54,4)-SUMIFS($AI$4:$AI$54,$AH$4:$AH$54,BT33,$L$4:$L$54,4),)","v":0},{"$f":"IF(AND(EN33>0,COUNTIF(ET4:ET7,ET33)>1),ET33+RANK(EU33,EU4:EU7)-1,ET33)","v":0},{"$f":"IF(AND(EN33>0,COUNTIF(EV31:EV34,EV33)>1),SUMIFS($AI$4:$AI$54,$AF$4:$AF$54,BT33,$L$4:$L$54,4)+SUMIFS($AK$4:$AK$54,$AH$4:$AH$54,BT33,$L$4:$L$54,4),)","v":0},{"$f":"IF(AND(EN33>0,COUNTIF(EV31:EV34,EV33)>1),EV33+RANK(EW33,EW31:EW34)-1,EV33)","v":0},"",{"$f":"IF(OR(EY33=\"\",COUNTIF(EY31:EY34,EY33)=1),\"\",$BZ33)","v":""},{"$f":"IF(EY33=\"\",\"\",IF(COUNTIF(EY31:EY34,EY33)=1,EY33,EY33+RANK(EZ33,EZ31:EZ34,0)-1))","v":""},{"$f":"IF(OR(FA33=\"\",COUNTIF(FA31:FA34,FA33)=1),\"\",$BX33)","v":""},{"$f":"IF(EY33=\"\",\"\",IF(COUNTIF(FA31:FA34,FA33)=1,FA33,FA33+RANK(FB33,FB31:FB34,0)-1))","v":""},{"$f":"IF(OR(FC33=\"\",COUNTIF(FC31:FC34,FC33)=1),\"\",$BU33)","v":""},{"$f":"IF(EY33=\"\",\"\",IF(COUNTIF(FC31:FC34,FC33)=1,FC33,FC33+RANK(FD33,FD31:FD34,0)-1))","v":""},{"$f":"IF(EN33>0,CG29+DA29+DU29+RANK(FE33,FE31:FE34,1),)","v":0},null,{"$f":"IFERROR(VLOOKUP(FJ33,CF30:CX34,19,FALSE),IFERROR(VLOOKUP(FJ33,CZ30:DR34,19,FALSE),IFERROR(VLOOKUP(FJ33,DT30:EL34,19,FALSE),VLOOKUP(FJ33,EN30:FF34,19,FALSE))))","v":1},{"$f":"RANK(FH33,FH31:FH34,1)+COUNTIF(FH31:FH33,FH33)-1","v":3},{"$f":"BT33","v":"Polen"}]
[null,null,"2024-06-21","Nederländerna","-","Frankrike",null,"-",null,"",{"$f":"IF(OR('Resultat & Tabell'!G34=\"\",'Resultat & Tabell'!I34=\"\",G34=\"\",I34=\"\"),0,IF(G34='Resultat & Tabell'!G34,2,0)+IF(I34='Resultat & Tabell'!I34,2,0)+IF(J34='Resultat & Tabell'!J34,3,0))","v":0},{"$f":"IF(VLOOKUP(D34,BT30:CC34,10,FALSE)=VLOOKUP(F34,BT30:CC34,10,FALSE),VLOOKUP(D34,BT30:CC34,10,FALSE),\"-\")","v":1},4,{"$f":"VLOOKUP(M34,FI31:FJ34,2,FALSE)","v":"Österrike"},{"$f":"VLOOKUP(N34,BT31:CA34,2,FALSE)","v":0},{"$f":"VLOOKUP(N34,BT31:CA34,3,FALSE)","v":0},{"$f":"VLOOKUP(N34,BT31:CA34,4,FALSE)","v":0},{"$f":"VLOOKUP(N34,BT31:CA34,5,FALSE)","v":0},{"$f":"VLOOKUP(N34,BT31:CA34,6,FALSE)","v":0},{"$f":"VLOOKUP(N34,BT31:CA34,7,FALSE)","v":0},{"$f":"VLOOKUP(N34,BT31:CA34,8,FALSE)","v":0},null,null,null,null,null,null,null,null,null,"2024-06-21","Nederländerna","-","Frankrike","","-","","",null,0,0,0,0,0,0,0,0,0,0,0,0,0,0,0,0,0,0,0,0,0,0,0,0,0,0,0,0,0,0,null,null,"Österrike",{"$f":"(SUMIF(AF4:AF54,BT34,AN4:AN54)+SUMIF(AH4:AH54,BT34,AO4:AO54))","v":0},{"$f":"(SUMIF(AF4:AF54,BT34,AP4:AP54)+SUMIF(AH4:AH54,BT34,AQ4:AQ54))","v":0},{"$f":"(SUMIF(AF4:AF54,BT34,AR4:AR54)+SUMIF(AH4:AH54,BT34,AS4:AS54))","v":0},{"$f":"SUMIF(AF4:AF54,BT34,AI4:AI54)+SUMIF(AH4:AH54,BT34,AK4:AK54)","v":0},{"$f":"SUMIF(AF4:AF54,BT34,AK4:AK54)+SUMIF(AH4:AH54,BT34,AI4:AI54)","v":0},{"$f":"BX34-BY34","v":0},{"$f":"IFERROR(BU34*3+BV34*1,0)","v":0},"D",{"$f":"RANK(CA34,CA31:CA34)","v":1},{"$f":"SUMPRODUCT((CA31:CA34=CA34)*(BZ31:BZ34>BZ34))","v":0},null,{"$f":"IF(CC34=1,BT34,)","v":"Österrike"},{"$f":"(SUMIF(AF4:AF54,BT34,AT4:AT54)+SUMIF(AH4:AH54,BT34,AU4:AU54))","v":0},{"$f":"(SUMIF(AF4:AF54,BT34,AV4:AV54)+SUMIF(AH4:AH54,BT34,AW4:AW54))","v":0},{"$f":"(SUMIF(AF4:AF54,BT34,AX4:AX54)+SUMIF(AH4:AH54,BT34,AY4:AY54))","v":0},0,{"$f":"CB34","v":"D"},{"$f":"IF(CF34>0,RANK(CJ34,CJ31:CJ34),)","v":1},{"$f":"IF(AND(CF34>0,COUNTIF(CL31:CL34,CL34)>1),SUMIFS($AI$4:$AI$54,$AF$4:$AF$54,BT34,$L$4:$L$54,1)+SUMIFS($AK$4:$AK$54,$AH$4:$AH$54,BT34,$L$4:$L$54,1)-SUMIFS($AK$4:$AK$54,$AF$4:$AF$54,BT34,$L$4:$L$54,1)-SUMIFS($AI$4:$AI$54,$AH$4:$AH$54,BT34,$L$4:$L$54,1),)","v":0},{"$f":"IF(AND(CF34>0,COUNTIF(CL31:CL34,CL34)>1),CL34+RANK(CM34,CM31:CM34)-1,CL34)","v":1},{"$f":"IF(AND(CF34>0,COUNTIF(CN31:CN34,CN34)>1),SUMIFS($AI$4:$AI$54,$AF$4:$AF$54,BT34,$L$4:$L$54,1)+SUMIFS($AK$4:$AK$54,$AH$4:$AH$54,BT34,$L$4:$L$54,1),)","v":0},{"$f":"IF(AND(CF34>0,COUNTIF(CN31:CN34,CN34)>1),CN34+RANK(CO34,CO31:CO34)-1,CN34)","v":1},1,{"$f":"IF(OR(CQ34=\"\",COUNTIF(CQ31:CQ34,CQ34)=1),\"\",$BZ34)","v":0},{"$f":"IF(CQ34=\"\",\"\",IF(COUNTIF(CQ31:CQ34,CQ34)=1,CQ34,CQ34+RANK(CR34,CR31:CR34,0)-1))","v":1},{"$f":"IF(OR(CS34=\"\",COUNTIF(CS31:CS34,CS34)=1),\"\",$BX34)","v":0},{"$f":"IF(CQ34=\"\",\"\",IF(COUNTIF(CS31:CS34,CS34)=1,CS34,CS34+RANK(CT34,CT31:CT34,0)-1))","v":1},{"$f":"IF(OR(CU34=\"\",COUNTIF(CU31:CU34,CU34)=1),\"\",$BU34)","v":0},{"$f":"IF(CQ34=\"\",\"\",IF(COUNTIF(CU31:CU34,CU34)=1,CU34,CU34+RANK(CV34,CV31:CV34,0)-1))","v":1},{"$f":"IF(CF34>0,BM29+RANK(CW34,CW31:CW34,1),)","v":1},null,{"$f":"IF(CC34=2,BT34,)","v":0},{"$f":"(SUMIF(AF4:AF54,BT34,AZ4:AZ54)+SUMIF(AH4:AH54,BT34,BA4:BA54))","v":0},{"$f":"(SUMIF(AF4:AF54,BT34,BB4:BB54)+SUMIF(AH4:AH54,BT34,BC4:BC54))","v":0},{"$f":"(SUMIF(AF4:AF54,BT34,BD4:BD54)+SUMIF(AH4:AH54,BT34,BE4:BE54))","v":0},0,{"$f":"CB34","v":"D"},{"$f":"IF(CZ34>0,RANK(DD34,DD31:DD34)+CG29,)","v":0},{"$f":"IF(AND(CZ34>0,COUNTIF(DF31:DF34,DF34)>1),SUMIFS($AI$4:$AI$54,$AF$4:$AF$54,BT34,$L$4:$L$54,2)+SUMIFS($AK$4:$AK$54,$AH$4:$AH$54,BT34,$L$4:$L$54,2)-SUMIFS($AK$4:$AK$54,$AF$4:$AF$54,BT34,$L$4:$L$54,2)-SUMIFS($AI$4:$AI$54,$AH$4:$AH$54,BT34,$L$4:$L$54,2),)","v":0},{"$f":"IF(AND(CZ34>0,COUNTIF(DF31:DF34,DF34)>1),DF34+RANK(DG34,DG31:DG34)-1,DF34)","v":0},{"$f":"IF(AND(CZ34>0,COUNTIF(DH31:DH34,DH34)>1),SUMIFS($AI$4:$AI$54,$AF$4:$AF$54,BT34,$L$4:$L$54,2)+SUMIFS($AK$4:$AK$54,$AH$4:$AH$54,BT34,$L$4:$L$54,2),)","v":0},{"$f":"IF(AND(CZ34>0,COUNTIF(DH31:DH34,DH34)>1),DH34+RANK(DI34,DI31:DI34)-1,DH34)","v":0},"",{"$f":"IF(OR(DK34=\"\",COUNTIF(DK31:DK34,DK34)=1),\"\",$BZ34)","v":""},{"$f":"IF(DK34=\"\",\"\",IF(COUNTIF(DK31:DK34,DK34)=1,DK34,DK34+RANK(DL34,DL31:DL34,0)-1))","v":""},{"$f":"IF(OR(DM34=\"\",COUNTIF(DM31:DM34,DM34)=1),\"\",$BX34)","v":""},{"$f":"IF(DK34=\"\",\"\",IF(COUNTIF(DM31:DM34,DM34)=1,DM34,DM34+RANK(DN34,DN31:DN34,0)-1))","v":""},{"$f":"IF(OR(DO34=\"\",COUNTIF(DO31:DO34,DO34)=1),\"\",$BU34)","v":""},{"$f":"IF(DK34=\"\",\"\",IF(COUNTIF(DO31:DO34,DO34)=1,DO34,DO34+RANK(DP34,DP31:DP34,0)-1))","v":""},{"$f":"IF(CZ34>0,CG29+RANK(DQ34,DQ31:DQ34,1),)","v":0},null,{"$f":"IF(CC34=3,BT34,)","v":0},{"$f":"(SUMIF(AF4:AF54,BT34,BF4:BF54)+SUMIF(AH4:AH54,BT34,BG4:BG54))","v":0},{"$f":"(SUMIF(AF4:AF54,BT34,BH4:BH54)+SUMIF(AH4:AH54,BT34,BI4:BI54))","v":0},{"$f":"(SUMIF(AF4:AF54,BT34,BJ4:BJ54)+SUMIF(AH4:AH54,BT34,BK4:BK54))","v":0},0,{"$f":"CB34","v":"D"},{"$f":"IF(DT34>0,RANK(DX34,DX31:DX34)+CG29+DA29,)","v":0},{"$f":"IF(AND(DT34>0,COUNTIF(DZ31:DZ34,DZ34)>1),SUMIFS($AI$4:$AI$54,$AF$4:$AF$54,BT34,$L$4:$L$54,3)+SUMIFS($AK$4:$AK$54,$AH$4:$AH$54,BT34,$L$4:$L$54,3)-SUMIFS($AK$4:$AK$54,$AF$4:$AF$54,BT34,$L$4:$L$54,3)-SUMIFS($AI$4:$AI$54,$AH$4:$AH$54,BT34,$L$4:$L$54,3),)","v":0},{"$f":"IF(AND(DT34>0,COUNTIF(DZ31:DZ34,DZ34)>1),DZ34+RANK(EA34,EA31:EA34)-1,DZ34)","v":0},{"$f":"IF(AND(DT34>0,COUNTIF(EB31:EB34,EB34)>1),SUMIFS($AI$4:$AI$54,$AF$4:$AF$54,BT34,$L$4:$L$54,3)+SUMIFS($AK$4:$AK$54,$AH$4:$AH$54,BT34,$L$4:$L$54,3),)","v":0},{"$f":"IF(AND(DT34>0,COUNTIF(EB31:EB34,EB34)>1),EB34+RANK(EC34,EC31:EC34)-1,EB34)","v":0},"",{"$f":"IF(OR(EE34=\"\",COUNTIF(EE31:EE34,EE34)=1),\"\",$BZ34)","v":""},{"$f":"IF(EE34=\"\",\"\",IF(COUNTIF(EE31:EE34,EE34)=1,EE34,EE34+RANK(EF34,EF31:EF34,0)-1))","v":""},{"$f":"IF(OR(EG34=\"\",COUNTIF(EG31:EG34,EG34)=1),\"\",$BX34)","v":""},{"$f":"IF(EE34=\"\",\"\",IF(COUNTIF(EG31:EG34,EG34)=1,EG34,EG34+RANK(EH34,EH31:EH34,0)-1))","v":""},{"$f":"IF(OR(EI34=\"\",COUNTIF(EI31:EI34,EI34)=1),\"\",$BU34)","v":""},{"$f":"IF(EE34=\"\",\"\",IF(COUNTIF(EI31:EI34,EI34)=1,EI34,EI34+RANK(EJ34,EJ31:EJ34,0)-1))","v":""},{"$f":"IF(DT34>0,CG29+DA29+RANK(EK34,EK31:EK34,1),)","v":0},null,{"$f":"IF(CC34=4,BT34,)","v":0},{"$f":"(SUMIF(AF4:AF54,BT34,BL4:BL54)+SUMIF(AH4:AH54,BT34,BM4:BM54))","v":0},{"$f":"(SUMIF(AF4:AF54,BT34,BN4:BN54)+SUMIF(AH4:AH54,BT34,BO4:BO54))","v":0},{"$f":"(SUMIF(AF4:AF54,BT34,BP4:BP54)+SUMIF(AH4:AH54,BT34,BQ4:BQ54))","v":0},0,{"$f":"CB34","v":"D"},{"$f":"IF(EN34>0,RANK(ER34,ER31:ER34)+CG29+DA29+DU29,)","v":0},{"$f":"IF(AND(EN34>0,COUNTIF(ET31:ET34,ET34)>1),SUMIFS($AI$4:$AI$54,$AF$4:$AF$54,BT34,$L$4:$L$54,4)+SUMIFS($AK$4:$AK$54,$AH$4:$AH$54,BT34,$L$4:$L$54,4)-SUMIFS($AK$4:$AK$54,$AF$4:$AF$54,BT34,$L$4:$L$54,4)-SUMIFS($AI$4:$AI$54,$AH$4:$AH$54,BT34,$L$4:$L$54,4),)","v":0},{"$f":"IF(AND(EN34>0,COUNTIF(ET4:ET7,ET34)>1),ET34+RANK(EU34,EU4:EU7)-1,ET34)","v":0},{"$f":"IF(AND(EN34>0,COUNTIF(EV31:EV34,EV34)>1),SUMIFS($AI$4:$AI$54,$AF$4:$AF$54,BT34,$L$4:$L$54,4)+SUMIFS($AK$4:$AK$54,$AH$4:$AH$54,BT34,$L$4:$L$54,4),)","v":0},{"$f":"IF(AND(EN34>0,COUNTIF(EV31:EV34,EV34)>1),EV34+RANK(EW34,EW31:EW34)-1,EV34)","v":0},"",{"$f":"IF(OR(EY34=\"\",COUNTIF(EY31:EY34,EY34)=1),\"\",$BZ34)","v":""},{"$f":"IF(EY34=\"\",\"\",IF(COUNTIF(EY31:EY34,EY34)=1,EY34,EY34+RANK(EZ34,EZ31:EZ34,0)-1))","v":""},{"$f":"IF(OR(FA34=\"\",COUNTIF(FA31:FA34,FA34)=1),\"\",$BX34)","v":""},{"$f":"IF(EY34=\"\",\"\",IF(COUNTIF(FA31:FA34,FA34)=1,FA34,FA34+RANK(FB34,FB31:FB34,0)-1))","v":""},{"$f":"IF(OR(FC34=\"\",COUNTIF(FC31:FC34,FC34)=1),\"\",$BU34)","v":""},{"$f":"IF(EY34=\"\",\"\",IF(COUNTIF(FC31:FC34,FC34)=1,FC34,FC34+RANK(FD34,FD31:FD34,0)-1))","v":""},{"$f":"IF(EN34>0,CG29+DA29+DU29+RANK(FE34,FE31:FE34,1),)","v":0},null,{"$f":"IFERROR(VLOOKUP(FJ34,CF30:CX34,19,FALSE),IFERROR(VLOOKUP(FJ34,CZ30:DR34,19,FALSE),IFERROR(VLOOKUP(FJ34,DT30:EL34,19,FALSE),VLOOKUP(FJ34,EN30:FF34,19,FALSE))))","v":1},{"$f":"RANK(FH34,FH31:FH34,1)+COUNTIF(FH31:FH34,FH34)-1","v":4},{"$f":"BT34","v":"Österrike"}]
[null,null,"2024-06-25","Nederländerna","-","Österrike",null,"-",null,"",{"$f":"IF(OR('Resultat & Tabell'!G35=\"\",'Resultat & Tabell'!I35=\"\",G35=\"\",I35=\"\"),0,IF(G35='Resultat & Tabell'!G35,2,0)+IF(I35='Resultat & Tabell'!I35,2,0)+IF(J35='Resultat & Tabell'!J35,3,0))","v":0},{"$f":"IF(VLOOKUP(D35,BT30:CC34,10,FALSE)=VLOOKUP(F35,BT30:CC34,10,FALSE),VLOOKUP(D35,BT30:CC34,10,FALSE),\"-\")","v":1},null,{"$f":"IF(COUNTBLANK(G31:G36)+COUNTBLANK(I31:I36)=0,\"Resultat OK\",\"Fyll i resultat\")","v":"Fyll i resultat"},null,null,null,null,null,null,null,null,null,null,null,null,null,null,null,null,"2024-06-25","Nederländerna","-","Österrike","","-","","",null,0,0,0,0,0,0,0,0,0,0,0,0,0,0,0,0,0,0,0,0,0,0,0,0,0,0,0,0,0,0]
[null,null,"2024-06-25","Frankrike","-","Polen",null,"-",null,"",{"$f":"IF(OR('Resultat & Tabell'!G36=\"\",'Resultat & Tabell'!I36=\"\",G36=\"\",I36=\"\"),0,IF(G36='Resultat & Tabell'!G36,2,0)+IF(I36='Resultat & Tabell'!I36,2,0)+IF(J36='Resultat & Tabell'!J36,3,0))","v":0},{"$f":"IF(VLOOKUP(D36,BT30:CC34,10,FALSE)=VLOOKUP(F36,BT30:CC34,10,FALSE),VLOOKUP(D36,BT30:CC34,10,FALSE),\"-\")","v":1},null,null,null,null,null,null,null,null,null,null,null,null,null,null,null,null,null,null,"2024-06-25","Frankrike","-","Polen","","-","","",null,0,0,0,0,0,0,0,0,0,0,0,0,0,0,0,0,0,0,0,0,0,0,0,0,0,0,0,0,0,0]
[]
[null,null,"Grupp E",null,null,null,null,null,null,null,null,null,null,null,null,null,null,null,null,null,null,null,null,null,null,null,null,null,null,null,"Grupp E",null,null,null,null,null,null,null,null,null,null,null,null,null,null,null,null,null,null,null,null,null,null,null,null,null,null,null,null,null,null,null,null,null,null,null,null,null,null,null,null,"Rank 0",null,null,null,null,null,null,null,null,null,null,null,"Rank 1",{"$f":"COUNTIF(CC40:CC43,1)","v":4},null,null,null,null,null,null,null,null,null,null,null,null,null,null,null,null,null,null,"Rank 2",{"$f":"COUNTIF(CC40:CC43,2)","v":0},null,null,null,null,null,null,null,null,null,null,null,null,null,null,null,null,null,null,"Rank 3",{"$f":"COUNTIF(CC40:CC43,3)","v":0},null,null,null,null,null,null,null,null,null,null,null,null,null,null,null,null,null,null,"Rank 4",{"$f":"COUNTIF(CC40:CC43,4)","v":0}]
[null,null,"Datum","Match",null,null,"Resultat",null,null,"Tecken","Poäng",null,null,"Lag","V","O","F","GM","IM","+/-","P",null,null,null,null,null,null,null,null,null,"Datum","Match",null,null,"Resultat",null,null,"Tecken","Poäng","V1","V2","O1","O2","F1","F2","V1","V2","O1","O2","F1","F2","V1","V2","O1","O2","F1","F2","V1","V2","O1","O2","F1","F2","V1","V2","O1","O2","F1","F2",null,null,"Lag","V","O","F","GM","IM","+/-","P","Grupp","Rank P","Rank +/-",null,"Lag","V","O","F","P","Grupp","Rank P","+/-","+/- rank","GM","GM rank","Rank internal","+/- all","+/- rank all","GM all","GM rank all","V all","V rank all","Rank all",null,"Lag","V","O","F","P","Grupp","Rank P","+/-","+/- rank","GM","GM rank","Rank internal","+/- all","+/- rank all","GM all","GM rank all","V all","V rank all","Rank all",null,"Lag","V","O","F","P","Grupp","Rank P","+/-","+/- rank","GM","GM rank","Rank internal","+/- all","+/- rank all","GM all","GM rank all","V all","V rank all","Rank all",null,"Lag","V","O","F","P","Grupp","Rank P","+/-","+/- rank","GM","GM rank","Rank internal","+/- all","+/- rank all","GM all","GM rank all","V all","V rank all","Rank all",null,"Rank","Rank Ties"]
[null,null,"2024-06-17","Rumänien","-","Ukraina",null,"-",null,{"$f":"IF(OR(ISBLANK(G40),ISBLANK(I40)),\"\",IF(G40>I40,1,IF(G40<I40,2,\"X\")))","v":""},{"$f":"IF(OR('Resultat & Tabell'!G40=\"\",'Resultat & Tabell'!I40=\"\",G40=\"\",I40=\"\"),0,IF(G40='Resultat & Tabell'!G40,2,0)+IF(I40='Resultat & Tabell'!I40,2,0)+IF(J40='Resultat & Tabell'!J40,3,0))","v":0},{"$f":"IF(VLOOKUP(D40,BT39:CC43,10,FALSE)=VLOOKUP(F40,BT39:CC43,10,FALSE),VLOOKUP(D40,BT39:CC43,10,FALSE),\"-\")","v":1},1,{"$f":"VLOOKUP(M40,FI40:FJ43,2,FALSE)","v":"Ukraina"},{"$f":"VLOOKUP(N40,BT40:CA43,2,FALSE)","v":0},{"$f":"VLOOKUP(N40,BT40:CA43,3,FALSE)","v":0},{"$f":"VLOOKUP(N40,BT40:CA43,4,FALSE)","v":0},{"$f":"VLOOKUP(N40,BT40:CA43,5,FALSE)","v":0},{"$f":"VLOOKUP(N40,BT40:CA43,6,FALSE)","v":0},{"$f":"VLOOKUP(N40,BT40:CA43,7,FALSE)","v":0},{"$f":"VLOOKUP(N40,BT40:CA43,8,FALSE)","v":0},null,null,null,null,null,null,null,null,null,{"$f":"C40","v":"2024-06-17"},"Rumänien","-","Ukraina",{"$f":"IF(G40=\"\",\"\",G40)","v":""},"-",{"$f":"IF(I40=\"\",\"\",I40)","v":""},{"$f":"J40","v":""},null,{"$f":"IF(AI40>AK40,1,0)","v":0},{"$f":"IF(AK40>AI40,1,0)","v":0},{"$f":"IF(AND(AI40=AK40,AI40<>\"\"),1,0)","v":0},{"$f":"IF(AND(AI40=AK40,AI40<>\"\"),1,0)","v":0},{"$f":"IF(AI40<AK40,1,0)","v":0},{"$f":"IF(AK40<AI40,1,)","v":0},{"$f":"IF(ISERROR(VLOOKUP(AF40,CF:CF,1,FALSE)),0,1)*IF(ISERROR(VLOOKUP(AH40,CF:CF,1,FALSE)),0,1)*AN40","v":0},{"$f":"IF(ISERROR(VLOOKUP(AF40,CF:CF,1,FALSE)),0,1)*IF(ISERROR(VLOOKUP(AH40,CF:CF,1,FALSE)),0,1)*AO40","v":0},{"$f":"IF(ISERROR(VLOOKUP(AF40,CF:CF,1,FALSE)),0,1)*IF(ISERROR(VLOOKUP(AH40,CF:CF,1,FALSE)),0,1)*AP40","v":0},{"$f":"IF(ISERROR(VLOOKUP(AF40,CF:CF,1,FALSE)),0,1)*IF(ISERROR(VLOOKUP(AH40,CF:CF,1,FALSE)),0,1)*AQ40","v":0},{"$f":"IF(ISERROR(VLOOKUP(AF40,CF:CF,1,FALSE)),0,1)*IF(ISERROR(VLOOKUP(AH40,CF:CF,1,FALSE)),0,1)*AR40","v":0},{"$f":"IF(ISERROR(VLOOKUP(AF40,CF:CF,1,FALSE)),0,1)*IF(ISERROR(VLOOKUP(AH40,CF:CF,1,FALSE)),0,1)*AS40","v":0},{"$f":"IF(ISERROR(VLOOKUP(AF40,CZ:CZ,1,FALSE)),0,1)*IF(ISERROR(VLOOKUP(AH40,CZ:CZ,1,FALSE)),0,1)*AN40","v":0},{"$f":"IF(ISERROR(VLOOKUP(AF40,CZ:CZ,1,FALSE)),0,1)*IF(ISERROR(VLOOKUP(AH40,CZ:CZ,1,FALSE)),0,1)*AO40","v":0},{"$f":"IF(ISERROR(VLOOKUP(AF40,CZ:CZ,1,FALSE)),0,1)*IF(ISERROR(VLOOKUP(AH40,CZ:CZ,1,FALSE)),0,1)*AP40","v":0},{"$f":"IF(ISERROR(VLOOKUP(AF40,CZ:CZ,1,FALSE)),0,1)*IF(ISERROR(VLOOKUP(AH40,CZ:CZ,1,FALSE)),0,1)*AQ40","v":0},{"$f":"IF(ISERROR(VLOOKUP(AF40,CZ:CZ,1,FALSE)),0,1)*IF(ISERROR(VLOOKUP(AH40,CZ:CZ,1,FALSE)),0,1)*AR40","v":0},{"$f":"IF(ISERROR(VLOOKUP(AF40,CZ:CZ,1,FALSE)),0,1)*IF(ISERROR(VLOOKUP(AH40,CZ:CZ,1,FALSE)),0,1)*AS40","v":0},{"$f":"IF(ISERROR(VLOOKUP(AF40,DT:DT,1,FALSE)),0,1)*IF(ISERROR(VLOOKUP(AH40,DT:DT,1,FALSE)),0,1)*AN40","v":0},{"$f":"IF(ISERROR(VLOOKUP(AF40,DT:DT,1,FALSE)),0,1)*IF(ISERROR(VLOOKUP(AH40,DT:DT,1,FALSE)),0,1)*AO40","v":0},{"$f":"IF(ISERROR(VLOOKUP(AF40,DT:DT,1,FALSE)),0,1)*IF(ISERROR(VLOOKUP(AH40,DT:DT,1,FALSE)),0,1)*AP40","v":0},{"$f":"IF(ISERROR(VLOOKUP(AF40,DT:DT,1,FALSE)),0,1)*IF(ISERROR(VLOOKUP(AH40,DT:DT,1,FALSE)),0,1)*AQ40","v":0},{"$f":"IF(ISERROR(VLOOKUP(AF40,DT:DT,1,FALSE)),0,1)*IF(ISERROR(VLOOKUP(AH40,DT:DT,1,FALSE)),0,1)*AR40","v":0},{"$f":"IF(ISERROR(VLOOKUP(AF40,DT:DT,1,FALSE)),0,1)*IF(ISERROR(VLOOKUP(AH40,DT:DT,1,FALSE)),0,1)*AS40","v":0},{"$f":"IF(ISERROR(VLOOKUP(AF40,EN:EN,1,FALSE)),0,1)*IF(ISERROR(VLOOKUP(AH40,EN:EN,1,FALSE)),0,1)*AN40","v":0},{"$f":"IF(ISERROR(VLOOKUP(AF40,EN:EN,1,FALSE)),0,1)*IF(ISERROR(VLOOKUP(AH40,EN:EN,1,FALSE)),0,1)*AO40","v":0},{"$f":"IF(ISERROR(VLOOKUP(AF40,EN:EN,1,FALSE)),0,1)*IF(ISERROR(VLOOKUP(AH40,EN:EN,1,FALSE)),0,1)*AP40","v":0},{"$f":"IF(ISERROR(VLOOKUP(AF40,EN:EN,1,FALSE)),0,1)*IF(ISERROR(VLOOKUP(AH40,EN:EN,1,FALSE)),0,1)*AQ40","v":0},{"$f":"IF(ISERROR(VLOOKUP(AF40,EN:EN,1,FALSE)),0,1)*IF(ISERROR(VLOOKUP(AH40,EN:EN,1,FALSE)),0,1)*AR40","v":0},{"$f":"IF(ISERROR(VLOOKUP(AF40,EN:EN,1,FALSE)),0,1)*IF(ISERROR(VLOOKUP(AH40,EN:EN,1,FALSE)),0,1)*AS40","v":0},null,null,"Ukraina",{"$f":"(SUMIF(AF4:AF54,BT40,AN4:AN54)+SUMIF(AH4:AH54,BT40,AO4:AO54))","v":0},{"$f":"(SUMIF(AF4:AF54,BT40,AP4:AP54)+SUMIF(AH4:AH54,BT40,AQ4:AQ54))","v":0},{"$f":"(SUMIF(AF4:AF54,BT40,AR4:AR54)+SUMIF(AH4:AH54,BT40,AS4:AS54))","v":0},{"$f":"SUMIF(AF4:AF54,BT40,AI4:AI54)+SUMIF(AH4:AH54,BT40,AK4:AK54)","v":0},{"$f":"SUMIF(AF4:AF54,BT40,AK4:AK54)+SUMIF(AH4:AH54,BT40,AI4:AI54)","v":0},{"$f":"BX40-BY40","v":0},{"$f":"IFERROR(BU40*3+BV40*1,0)","v":0},"E",{"$f":"RANK(CA40,CA40:CA43)","v":1},{"$f":"SUMPRODUCT((CA40:CA43=CA40)*(BZ40:BZ43>BZ40))","v":0},null,{"$f":"IF(CC40=1,BT40,)","v":"Ukraina"},{"$f":"(SUMIF(AF4:AF54,BT40,AT4:AT54)+SUMIF(AH4:AH54,BT40,AU4:AU54))","v":0},{"$f":"(SUMIF(AF4:AF54,BT40,AV4:AV54)+SUMIF(AH4:AH54,BT40,AW4:AW54))","v":0},{"$f":"(SUMIF(AF4:AF54,BT40,AX4:AX54)+SUMIF(AH4:AH54,BT40,AY4:AY54))","v":0},{"$f":"IFERROR(CG40*3+CH40*1,0)","v":0},{"$f":"CB40","v":"E"},{"$f":"IF(CF40>0,RANK(CJ40,CJ40:CJ43),)","v":1},{"$f":"IF(AND(CF40>0,COUNTIF(CL40:CL43,CL40)>1),SUMIFS($AI$4:$AI$54,$AF$4:$AF$54,$BT40,$L$4:$L$54,1)+SUMIFS($AK$4:$AK$54,$AH$4:$AH$54,$BT40,$L$4:$L$54,1)-SUMIFS($AK$4:$AK$54,$AF$4:$AF$54,$BT40,$L$4:$L$54,1)-SUMIFS($AI$4:$AI$54,$AH$4:$AH$54,$BT40,$L$4:$L$54,1),)","v":0},{"$f":"IF(AND(CF40>0,COUNTIF(CL40:CL43,CL40)>1),CL40+RANK(CM40,CM40:CM43)-1,CL40)","v":1},{"$f":"IF(AND(CF40>0,COUNTIF(CN40:CN43,CN40)>1),SUMIFS($AI$4:$AI$54,$AF$4:$AF$54,$BT40,$L$4:$L$54,1)+SUMIFS($AK$4:$AK$54,$AH$4:$AH$54,$BT40,$L$4:$L$54,1),)","v":0},{"$f":"IF(AND(CF40>0,COUNTIF(CN40:CN43,CN40)>1),CN40+RANK(CO40,CO40:CO43)-1,CN40)","v":1},{"$f":"IF(CP40=0,\"\",CP40)","v":1},{"$f":"IF(OR(CQ40=\"\",COUNTIF(CQ40:CQ43,CQ40)=1),\"\",$BZ40)","v":0},{"$f":"IF(CQ40=\"\",\"\",IF(COUNTIF(CQ40:CQ43,CQ40)=1,CQ40,CQ40+RANK(CR40,CR40:CR43,0)-1))","v":1},{"$f":"IF(OR(CS40=\"\",COUNTIF(CS40:CS43,CS40)=1),\"\",$BX40)","v":0},{"$f":"IF(CQ40=\"\",\"\",IF(COUNTIF(CS40:CS43,CS40)=1,CS40,CS40+RANK(CT40,CT40:CT43,0)-1))","v":1},{"$f":"IF(OR(CU40=\"\",COUNTIF(CU40:CU43,CU40)=1),\"\",$BU40)","v":0},{"$f":"IF(CQ40=\"\",\"\",IF(COUNTIF(CU40:CU43,CU40)=1,CU40,CU40+RANK(CV40,CV40:CV43,0)-1))","v":1},{"$f":"IF(CF40>0,BM38+RANK(CW40,CW40:CW43,1),)","v":1},null,{"$f":"IF(CC40=2,BT40,)","v":0},{"$f":"(SUMIF(AF4:AF54,BT40,AZ4:AZ54)+SUMIF(AH4:AH54,BT40,BA4:BA54))","v":0},{"$f":"(SUMIF(AF4:AF54,BT40,BB4:BB54)+SUMIF(AH4:AH54,BT40,BC4:BC54))","v":0},{"$f":"(SUMIF(AF4:AF54,BT40,BD4:BD54)+SUMIF(AH4:AH54,BT40,BE4:BE54))","v":0},{"$f":"IFERROR(DA40*3+DB40*1,0)","v":0},{"$f":"CB40","v":"E"},{"$f":"IF(CZ40>0,RANK(DD40,DD40:DD43)+CG38,)","v":0},{"$f":"IF(AND(CZ40>0,COUNTIF(DF40:DF43,DF40)>1),SUMIFS($AI$4:$AI$54,$AF$4:$AF$54,$BT40,$L$4:$L$54,2)+SUMIFS($AK$4:$AK$54,$AH$4:$AH$54,$BT40,$L$4:$L$54,2)-SUMIFS($AK$4:$AK$54,$AF$4:$AF$54,$BT40,$L$4:$L$54,2)-SUMIFS($AI$4:$AI$54,$AH$4:$AH$54,$BT40,$L$4:$L$54,2),)","v":0},{"$f":"IF(AND(CZ40>0,COUNTIF(DF40:DF43,DF40)>1),DF40+RANK(DG40,DG40:DG43)-1,DF40)","v":0},{"$f":"IF(AND(CZ40>0,COUNTIF(DH40:DH43,DH40)>1),SUMIFS($AI$4:$AI$54,$AF$4:$AF$54,$BT40,$L$4:$L$54,2)+SUMIFS($AK$4:$AK$54,$AH$4:$AH$54,$BT40,$L$4:$L$54,2),)","v":0},{"$f":"IF(AND(CZ40>0,COUNTIF(DH40:DH43,DH40)>1),DH40+RANK(DI40,DI40:DI43)-1,DH40)","v":0},{"$f":"IF(DJ40=0,\"\",DJ40)","v":""},{"$f":"IF(OR(DK40=\"\",COUNTIF(DK40:DK43,DK40)=1),\"\",$BZ40)","v":""},{"$f":"IF(DK40=\"\",\"\",IF(COUNTIF(DK40:DK43,DK40)=1,DK40,DK40+RANK(DL40,DL40:DL43,0)-1))","v":""},{"$f":"IF(OR(DM40=\"\",COUNTIF(DM40:DM43,DM40)=1),\"\",$BX40)","v":""},{"$f":"IF(DK40=\"\",\"\",IF(COUNTIF(DM40:DM43,DM40)=1,DM40,DM40+RANK(DN40,DN40:DN43,0)-1))","v":""},{"$f":"IF(OR(DO40=\"\",COUNTIF(DO40:DO43,DO40)=1),\"\",$BU40)","v":""},{"$f":"IF(DK40=\"\",\"\",IF(COUNTIF(DO40:DO43,DO40)=1,DO40,DO40+RANK(DP40,DP40:DP43,0)-1))","v":""},{"$f":"IF(CZ40>0,CG38+RANK(DQ40,DQ40:DQ43,1),)","v":0},null,{"$f":"IF(CC40=3,BT40,)","v":0},{"$f":"(SUMIF(AF4:AF54,BT40,BF4:BF54)+SUMIF(AH4:AH54,BT40,BG4:BG54))","v":0},{"$f":"(SUMIF(AF4:AF54,BT40,BH4:BH54)+SUMIF(AH4:AH54,BT40,BI4:BI54))","v":0},{"$f":"(SUMIF(AF4:AF54,BT40,BJ4:BJ54)+SUMIF(AH4:AH54,BT40,BK4:BK54))","v":0},{"$f":"IFERROR(DU40*3+DV40*1,0)","v":0},{"$f":"CB40","v":"E"},{"$f":"IF(DT40>0,RANK(DX40,DX40:DX43)+CG38+DA38,)","v":0},{"$f":"IF(AND(DT40>0,COUNTIF(DZ40:DZ43,DZ40)>1),SUMIFS($AI$4:$AI$54,$AF$4:$AF$54,$BT40,$L$4:$L$54,3)+SUMIFS($AK$4:$AK$54,$AH$4:$AH$54,$BT40,$L$4:$L$54,3)-SUMIFS($AK$4:$AK$54,$AF$4:$AF$54,$BT40,$L$4:$L$54,3)-SUMIFS($AI$4:$AI$54,$AH$4:$AH$54,$BT40,$L$4:$L$54,3),)","v":0},{"$f":"IF(AND(DT40>0,COUNTIF(DZ40:DZ43,DZ40)>1),DZ40+RANK(EA40,EA40:EA43)-1,DZ40)","v":0},{"$f":"IF(AND(DT40>0,COUNTIF(EB40:EB43,EB40)>1),SUMIFS($AI$4:$AI$54,$AF$4:$AF$54,$BT40,$L$4:$L$54,3)+SUMIFS($AK$4:$AK$54,$AH$4:$AH$54,$BT40,$L$4:$L$54,3),)","v":0},{"$f":"IF(AND(DT40>0,COUNTIF(EB40:EB43,EB40)>1),EB40+RANK(EC40,EC40:EC43)-1,EB40)","v":0},{"$f":"IF(ED40=0,\"\",ED40)","v":""},{"$f":"IF(OR(EE40=\"\",COUNTIF(EE40:EE43,EE40)=1),\"\",$BZ40)","v":""},{"$f":"IF(EE40=\"\",\"\",IF(COUNTIF(EE40:EE43,EE40)=1,EE40,EE40+RANK(EF40,EF40:EF43,0)-1))","v":""},{"$f":"IF(OR(EG40=\"\",COUNTIF(EG40:EG43,EG40)=1),\"\",$BX40)","v":""},{"$f":"IF(EE40=\"\",\"\",IF(COUNTIF(EG40:EG43,EG40)=1,EG40,EG40+RANK(EH40,EH40:EH43,0)-1))","v":""},{"$f":"IF(OR(EI40=\"\",COUNTIF(EI40:EI43,EI40)=1),\"\",$BU40)","v":""},{"$f":"IF(EE40=\"\",\"\",IF(COUNTIF(EI40:EI43,EI40)=1,EI40,EI40+RANK(EJ40,EJ40:EJ43,0)-1))","v":""},{"$f":"IF(DT40>0,CG38+DA38+RANK(EK40,EK40:EK43,1),)","v":0},null,{"$f":"IF(CC40=4,BT40,)","v":0},{"$f":"(SUMIF(AF4:AF54,BT40,BL4:BL54)+SUMIF(AH4:AH54,BT40,BM4:BM54))","v":0},{"$f":"(SUMIF(AF4:AF54,BT40,BN4:BN54)+SUMIF(AH4:AH54,BT40,BO4:BO54))","v":0},{"$f":"(SUMIF(AF4:AF54,BT40,BP4:BP54)+SUMIF(AH4:AH54,BT40,BQ4:BQ54))","v":0},{"$f":"IFERROR(EO40*3+EP40*1,0)","v":0},{"$f":"CB40","v":"E"},{"$f":"IF(EN40>0,RANK(ER40,ER40:ER43)+CG38+DA38+DU38,)","v":0},{"$f":"IF(AND(EN40>0,COUNTIF(ET40:ET43,ET40)>1),SUMIFS($AI$4:$AI$54,$AF$4:$AF$54,$BT40,$L$4:$L$54,4)+SUMIFS($AK$4:$AK$54,$AH$4:$AH$54,$BT40,$L$4:$L$54,4)-SUMIFS($AK$4:$AK$54,$AF$4:$AF$54,$BT40,$L$4:$L$54,4)-SUMIFS($AI$4:$AI$54,$AH$4:$AH$54,$BT40,$L$4:$L$54,4),)","v":0},{"$f":"IF(AND(EN40>0,COUNTIF(ET4:ET7,ET40)>1),ET40+RANK(EU40,EU4:EU7)-1,ET40)","v":0},{"$f":"IF(AND(EN40>0,COUNTIF(EV40:EV43,EV40)>1),SUMIFS($AI$4:$AI$54,$AF$4:$AF$54,$BT40,$L$4:$L$54,4)+SUMIFS($AK$4:$AK$54,$AH$4:$AH$54,$BT40,$L$4:$L$54,4),)","v":0},{"$f":"IF(AND(EN40>0,COUNTIF(EV40:EV43,EV40)>1),EV40+RANK(EW40,EW40:EW43)-1,EV40)","v":0},{"$f":"IF(EX40=0,\"\",EX40)","v":""},{"$f":"IF(OR(EY40=\"\",COUNTIF(EY40:EY43,EY40)=1),\"\",$BZ40)","v":""},{"$f":"IF(EY40=\"\",\"\",IF(COUNTIF(EY40:EY43,EY40)=1,EY40,EY40+RANK(EZ40,EZ40:EZ43,0)-1))","v":""},{"$f":"IF(OR(FA40=\"\",COUNTIF(FA40:FA43,FA40)=1),\"\",$BX40)","v":""},{"$f":"IF(EY40=\"\",\"\",IF(COUNTIF(FA40:FA43,FA40)=1,FA40,FA40+RANK(FB40,FB40:FB43,0)-1))","v":""},{"$f":"IF(OR(FC40=\"\",COUNTIF(FC40:FC43,FC40)=1),\"\",$BU40)","v":""},{"$f":"IF(EY40=\"\",\"\",IF(COUNTIF(FC40:FC43,FC40)=1,FC40,FC40+RANK(FD40,FD40:FD43,0)-1))","v":""},{"$f":"IF(EN40>0,CG38+DA38+DU38+RANK(FE40,FE40:FE43,1),)","v":0},null,{"$f":"IFERROR(VLOOKUP(FJ40,CF39:CX43,19,FALSE),IFERROR(VLOOKUP(FJ40,CZ39:DR43,19,FALSE),IFERROR(VLOOKUP(FJ40,DT39:EL43,19,FALSE),VLOOKUP(FJ40,EN39:FF43,19,FALSE))))","v":1},{"$f":"RANK(FH40,FH40:FH43,1)+COUNTIF(FH40:FH40,FH40)-1","v":1},{"$f":"BT40","v":"Ukraina"}]
[null,null,"2024-06-17","Belgien","-","Slovakien",null,"-",null,{"$f":"IF(OR(ISBLANK(G41),ISBLANK(I41)),\"\",IF(G41>I41,1,IF(G41<I41,2,\"X\")))","v":""},{"$f":"IF(OR('Resultat & Tabell'!G41=\"\",'Resultat & Tabell'!I41=\"\",G41=\"\",I41=\"\"),0,IF(G41='Resultat & Tabell'!G41,2,0)+IF(I41='Resultat & Tabell'!I41,2,0)+IF(J41='Resultat & Tabell'!J41,3,0))","v":0},{"$f":"IF(VLOOKUP(D41,BT39:CC43,10,FALSE)=VLOOKUP(F41,BT39:CC43,10,FALSE),VLOOKUP(D41,BT39:CC43,10,FALSE),\"-\")","v":1},2,{"$f":"VLOOKUP(M41,FI40:FJ43,2,FALSE)","v":"Slovakien"},{"$f":"VLOOKUP(N41,BT40:CA43,2,FALSE)","v":0},{"$f":"VLOOKUP(N41,BT40:CA43,3,FALSE)","v":0},{"$f":"VLOOKUP(N41,BT40:CA43,4,FALSE)","v":0},{"$f":"VLOOKUP(N41,BT40:CA43,5,FALSE)","v":0},{"$f":"VLOOKUP(N41,BT40:CA43,6,FALSE)","v":0},{"$f":"VLOOKUP(N41,BT40:CA43,7,FALSE)","v":0},{"$f":"VLOOKUP(N41,BT40:CA43,8,FALSE)","v":0},null,null,null,null,null,null,null,null,null,"2024-06-17","Belgien","-","Slovakien","","-","","",null,0,0,0,0,0,0,0,0,0,0,0,0,0,0,0,0,0,0,0,0,0,0,0,0,0,0,0,0,0,0,null,null,"Slovakien",{"$f":"(SUMIF(AF4:AF54,BT41,AN4:AN54)+SUMIF(AH4:AH54,BT41,AO4:AO54))","v":0},{"$f":"(SUMIF(AF4:AF54,BT41,AP4:AP54)+SUMIF(AH4:AH54,BT41,AQ4:AQ54))","v":0},{"$f":"(SUMIF(AF4:AF54,BT41,AR4:AR54)+SUMIF(AH4:AH54,BT41,AS4:AS54))","v":0},{"$f":"SUMIF(AF4:AF54,BT41,AI4:AI54)+SUMIF(AH4:AH54,BT41,AK4:AK54)","v":0},{"$f":"SUMIF(AF4:AF54,BT41,AK4:AK54)+SUMIF(AH4:AH54,BT41,AI4:AI54)","v":0},{"$f":"BX41-BY41","v":0},{"$f":"IFERROR(BU41*3+BV41*1,0)","v":0},"E",{"$f":"RANK(CA41,CA40:CA43)","v":1},{"$f":"SUMPRODUCT((CA40:CA43=CA41)*(BZ40:BZ43>BZ41))","v":0},null,{"$f":"IF(CC41=1,BT41,)","v":"Slovakien"},{"$f":"(SUMIF(AF4:AF54,BT41,AT4:AT54)+SUMIF(AH4:AH54,BT41,AU4:AU54))","v":0},{"$f":"(SUMIF(AF4:AF54,BT41,AV4:AV54)+SUMIF(AH4:AH54,BT41,AW4:AW54))","v":0},{"$f":"(SUMIF(AF4:AF54,BT41,AX4:AX54)+SUMIF(AH4:AH54,BT41,AY4:AY54))","v":0},{"$f":"IFERROR(CG41*3+CH41*1,0)","v":0},{"$f":"CB41","v":"E"},{"$f":"IF(CF41>0,RANK(CJ41,CJ40:CJ43),)","v":1},{"$f":"IF(AND(CF41>0,COUNTIF(CL40:CL43,CL41)>1),SUMIFS($AI$4:$AI$54,$AF$4:$AF$54,BT41,$L$4:$L$54,1)+SUMIFS($AK$4:$AK$54,$AH$4:$AH$54,BT41,$L$4:$L$54,1)-SUMIFS($AK$4:$AK$54,$AF$4:$AF$54,BT41,$L$4:$L$54,1)-SUMIFS($AI$4:$AI$54,$AH$4:$AH$54,BT41,$L$4:$L$54,1),)","v":0},{"$f":"IF(AND(CF41>0,COUNTIF(CL40:CL43,CL41)>1),CL41+RANK(CM41,CM40:CM43)-1,CL41)","v":1},{"$f":"IF(AND(CF41>0,COUNTIF(CN40:CN43,CN41)>1),SUMIFS($AI$4:$AI$54,$AF$4:$AF$54,BT41,$L$4:$L$54,1)+SUMIFS($AK$4:$AK$54,$AH$4:$AH$54,BT41,$L$4:$L$54,1),)","v":0},{"$f":"IF(AND(CF41>0,COUNTIF(CN40:CN43,CN41)>1),CN41+RANK(CO41,CO40:CO43)-1,CN41)","v":1},{"$f":"IF(CP41=0,\"\",CP41)","v":1},{"$f":"IF(OR(CQ41=\"\",COUNTIF(CQ40:CQ43,CQ41)=1),\"\",$BZ41)","v":0},{"$f":"IF(CQ41=\"\",\"\",IF(COUNTIF(CQ40:CQ43,CQ41)=1,CQ41,CQ41+RANK(CR41,CR40:CR43,0)-1))","v":1},{"$f":"IF(OR(CS41=\"\",COUNTIF(CS40:CS43,CS41)=1),\"\",$BX41)","v":0},{"$f":"IF(CQ41=\"\",\"\",IF(COUNTIF(CS40:CS43,CS41)=1,CS41,CS41+RANK(CT41,CT40:CT43,0)-1))","v":1},{"$f":"IF(OR(CU41=\"\",COUNTIF(CU40:CU43,CU41)=1),\"\",$BU41)","v":0},{"$f":"IF(CQ41=\"\",\"\",IF(COUNTIF(CU40:CU43,CU41)=1,CU41,CU41+RANK(CV41,CV40:CV43,0)-1))","v":1},{"$f":"IF(CF41>0,BM38+RANK(CW41,CW40:CW43,1),)","v":1},null,{"$f":"IF(CC41=2,BT41,)","v":0},{"$f":"(SUMIF(AF4:AF54,BT41,AZ4:AZ54)+SUMIF(AH4:AH54,BT41,BA4:BA54))","v":0},{"$f":"(SUMIF(AF4:AF54,BT41,BB4:BB54)+SUMIF(AH4:AH54,BT41,BC4:BC54))","v":0},{"$f":"(SUMIF(AF4:AF54,BT41,BD4:BD54)+SUMIF(AH4:AH54,BT41,BE4:BE54))","v":0},{"$f":"IFERROR(DA41*3+DB41*1,0)","v":0},{"$f":"CB41","v":"E"},{"$f":"IF(CZ41>0,RANK(DD41,DD40:DD43)+CG38,)","v":0},{"$f":"IF(AND(CZ41>0,COUNTIF(DF40:DF43,DF41)>1),SUMIFS($AI$4:$AI$54,$AF$4:$AF$54,BT41,$L$4:$L$54,2)+SUMIFS($AK$4:$AK$54,$AH$4:$AH$54,BT41,$L$4:$L$54,2)-SUMIFS($AK$4:$AK$54,$AF$4:$AF$54,BT41,$L$4:$L$54,2)-SUMIFS($AI$4:$AI$54,$AH$4:$AH$54,BT41,$L$4:$L$54,2),)","v":0},{"$f":"IF(AND(CZ41>0,COUNTIF(DF40:DF43,DF41)>1),DF41+RANK(DG41,DG40:DG43)-1,DF41)","v":0},{"$f":"IF(AND(CZ41>0,COUNTIF(DH40:DH43,DH41)>1),SUMIFS($AI$4:$AI$54,$AF$4:$AF$54,BT41,$L$4:$L$54,2)+SUMIFS($AK$4:$AK$54,$AH$4:$AH$54,BT41,$L$4:$L$54,2),)","v":0},{"$f":"IF(AND(CZ41>0,COUNTIF(DH40:DH43,DH41)>1),DH41+RANK(DI41,DI40:DI43)-1,DH41)","v":0},{"$f":"IF(DJ41=0,\"\",DJ41)","v":""},{"$f":"IF(OR(DK41=\"\",COUNTIF(DK40:DK43,DK41)=1),\"\",$BZ41)","v":""},{"$f":"IF(DK41=\"\",\"\",IF(COUNTIF(DK40:DK43,DK41)=1,DK41,DK41+RANK(DL41,DL40:DL43,0)-1))","v":""},{"$f":"IF(OR(DM41=\"\",COUNTIF(DM40:DM43,DM41)=1),\"\",$BX41)","v":""},{"$f":"IF(DK41=\"\",\"\",IF(COUNTIF(DM40:DM43,DM41)=1,DM41,DM41+RANK(DN41,DN40:DN43,0)-1))","v":""},{"$f":"IF(OR(DO41=\"\",COUNTIF(DO40:DO43,DO41)=1),\"\",$BU41)","v":""},{"$f":"IF(DK41=\"\",\"\",IF(COUNTIF(DO40:DO43,DO41)=1,DO41,DO41+RANK(DP41,DP40:DP43,0)-1))","v":""},{"$f":"IF(CZ41>0,CG38+RANK(DQ41,DQ40:DQ43,1),)","v":0},null,{"$f":"IF(CC41=3,BT41,)","v":0},{"$f":"(SUMIF(AF4:AF54,BT41,BF4:BF54)+SUMIF(AH4:AH54,BT41,BG4:BG54))","v":0},{"$f":"(SUMIF(AF4:AF54,BT41,BH4:BH54)+SUMIF(AH4:AH54,BT41,BI4:BI54))","v":0},{"$f":"(SUMIF(AF4:AF54,BT41,BJ4:BJ54)+SUMIF(AH4:AH54,BT41,BK4:BK54))","v":0},{"$f":"IFERROR(DU41*3+DV41*1,0)","v":0},{"$f":"CB41","v":"E"},{"$f":"IF(DT41>0,RANK(DX41,DX40:DX43)+CG38+DA38,)","v":0},{"$f":"IF(AND(DT41>0,COUNTIF(DZ40:DZ43,DZ41)>1),SUMIFS($AI$4:$AI$54,$AF$4:$AF$54,BT41,$L$4:$L$54,3)+SUMIFS($AK$4:$AK$54,$AH$4:$AH$54,BT41,$L$4:$L$54,3)-SUMIFS($AK$4:$AK$54,$AF$4:$AF$54,BT41,$L$4:$L$54,3)-SUMIFS($AI$4:$AI$54,$AH$4:$AH$54,BT41,$L$4:$L$54,3),)","v":0},{"$f":"IF(AND(DT41>0,COUNTIF(DZ40:DZ43,DZ41)>1),DZ41+RANK(EA41,EA40:EA43)-1,DZ41)","v":0},{"$f":"IF(AND(DT41>0,COUNTIF(EB40:EB43,EB41)>1),SUMIFS($AI$4:$AI$54,$AF$4:$AF$54,BT41,$L$4:$L$54,3)+SUMIFS($AK$4:$AK$54,$AH$4:$AH$54,BT41,$L$4:$L$54,3),)","v":0},{"$f":"IF(AND(DT41>0,COUNTIF(EB40:EB43,EB41)>1),EB41+RANK(EC41,EC40:EC43)-1,EB41)","v":0},{"$f":"IF(ED41=0,\"\",ED41)","v":""},{"$f":"IF(OR(EE41=\"\",COUNTIF(EE40:EE43,EE41)=1),\"\",$BZ41)","v":""},{"$f":"IF(EE41=\"\",\"\",IF(COUNTIF(EE40:EE43,EE41)=1,EE41,EE41+RANK(EF41,EF40:EF43,0)-1))","v":""},{"$f":"IF(OR(EG41=\"\",COUNTIF(EG40:EG43,EG41)=1),\"\",$BX41)","v":""},{"$f":"IF(EE41=\"\",\"\",IF(COUNTIF(EG40:EG43,EG41)=1,EG41,EG41+RANK(EH41,EH40:EH43,0)-1))","v":""},{"$f":"IF(OR(EI41=\"\",COUNTIF(EI40:EI43,EI41)=1),\"\",$BU41)","v":""},{"$f":"IF(EE41=\"\",\"\",IF(COUNTIF(EI40:EI43,EI41)=1,EI41,EI41+RANK(EJ41,EJ40:EJ43,0)-1))","v":""},{"$f":"IF(DT41>0,CG38+DA38+RANK(EK41,EK40:EK43,1),)","v":0},null,{"$f":"IF(CC41=4,BT41,)","v":0},{"$f":"(SUMIF(AF4:AF54,BT41,BL4:BL54)+SUMIF(AH4:AH54,BT41,BM4:BM54))","v":0},{"$f":"(SUMIF(AF4:AF54,BT41,BN4:BN54)+SUMIF(AH4:AH54,BT41,BO4:BO54))","v":0},{"$f":"(SUMIF(AF4:AF54,BT41,BP4:BP54)+SUMIF(AH4:AH54,BT41,BQ4:BQ54))","v":0},{"$f":"IFERROR(EO41*3+EP41*1,0)","v":0},{"$f":"CB41","v":"E"},{"$f":"IF(EN41>0,RANK(ER41,ER40:ER43)+CG38+DA38+DU38,)","v":0},{"$f":"IF(AND(EN41>0,COUNTIF(ET40:ET43,ET41)>1),SUMIFS($AI$4:$AI$54,$AF$4:$AF$54,BT41,$L$4:$L$54,4)+SUMIFS($AK$4:$AK$54,$AH$4:$AH$54,BT41,$L$4:$L$54,4)-SUMIFS($AK$4:$AK$54,$AF$4:$AF$54,BT41,$L$4:$L$54,4)-SUMIFS($AI$4:$AI$54,$AH$4:$AH$54,BT41,$L$4:$L$54,4),)","v":0},{"$f":"IF(AND(EN41>0,COUNTIF(ET4:ET7,ET41)>1),ET41+RANK(EU41,EU4:EU7)-1,ET41)","v":0},{"$f":"IF(AND(EN41>0,COUNTIF(EV40:EV43,EV41)>1),SUMIFS($AI$4:$AI$54,$AF$4:$AF$54,BT41,$L$4:$L$54,4)+SUMIFS($AK$4:$AK$54,$AH$4:$AH$54,BT41,$L$4:$L$54,4),)","v":0},{"$f":"IF(AND(EN41>0,COUNTIF(EV40:EV43,EV41)>1),EV41+RANK(EW41,EW40:EW43)-1,EV41)","v":0},{"$f":"IF(EX41=0,\"\",EX41)","v":""},{"$f":"IF(OR(EY41=\"\",COUNTIF(EY40:EY43,EY41)=1),\"\",$BZ41)","v":""},{"$f":"IF(EY41=\"\",\"\",IF(COUNTIF(EY40:EY43,EY41)=1,EY41,EY41+RANK(EZ41,EZ40:EZ43,0)-1))","v":""},{"$f":"IF(OR(FA41=\"\",COUNTIF(FA40:FA43,FA41)=1),\"\",$BX41)","v":""},{"$f":"IF(EY41=\"\",\"\",IF(COUNTIF(FA40:FA43,FA41)=1,FA41,FA41+RANK(FB41,FB40:FB43,0)-1))","v":""},{"$f":"IF(OR(FC41=\"\",COUNTIF(FC40:FC43,FC41)=1),\"\",$BU41)","v":""},{"$f":"IF(EY41=\"\",\"\",IF(COUNTIF(FC40:FC43,FC41)=1,FC41,FC41+RANK(FD41,FD40:FD43,0)-1))","v":""},{"$f":"IF(EN41>0,CG38+DA38+DU38+RANK(FE41,FE40:FE43,1),)","v":0},null,{"$f":"IFERROR(VLOOKUP(FJ41,CF39:CX43,19,FALSE),IFERROR(VLOOKUP(FJ41,CZ39:DR43,19,FALSE),IFERROR(VLOOKUP(FJ41,DT39:EL43,19,FALSE),VLOOKUP(FJ41,EN39:FF43,19,FALSE))))","v":1},{"$f":"RANK(FH41,FH40:FH43,1)+COUNTIF(FH40:FH41,FH41)-1","v":2},{"$f":"BT41","v":"Slovakien"}]
[null,null,"2024-06-21","Slovakien","-","Ukraina",null,"-",null,"",{"$f":"IF(OR('Resultat & Tabell'!G42=\"\",'Resultat & Tabell'!I42=\"\",G42=\"\",I42=\"\"),0,IF(G42='Resultat & Tabell'!G42,2,0)+IF(I42='Resultat & Tabell'!I42,2,0)+IF(J42='Resultat & Tabell'!J42,3,0))","v":0},{"$f":"IF(VLOOKUP(D42,BT39:CC43,10,FALSE)=VLOOKUP(F42,BT39:CC43,10,FALSE),VLOOKUP(D42,BT39:CC43,10,FALSE),\"-\")","v":1},3,{"$f":"VLOOKUP(M42,FI40:FJ43,2,FALSE)","v":"Belgien"},{"$f":"VLOOKUP(N42,BT40:CA43,2,FALSE)","v":0},{"$f":"VLOOKUP(N42,BT40:CA43,3,FALSE)","v":0},{"$f":"VLOOKUP(N42,BT40:CA43,4,FALSE)","v":0},{"$f":"VLOOKUP(N42,BT40:CA43,5,FALSE)","v":0},{"$f":"VLOOKUP(N42,BT40:CA43,6,FALSE)","v":0},{"$f":"VLOOKUP(N42,BT40:CA43,7,FALSE)","v":0},{"$f":"VLOOKUP(N42,BT40:CA43,8,FALSE)","v":0},null,null,null,null,null,null,null,null,null,"2024-06-21","Slovakien","-","Ukraina","","-","","",null,0,0,0,0,0,0,0,0,0,0,0,0,0,0,0,0,0,0,0,0,0,0,0,0,0,0,0,0,0,0,null,null,"Belgien",{"$f":"(SUMIF(AF4:AF54,BT42,AN4:AN54)+SUMIF(AH4:AH54,BT42,AO4:AO54))","v":0},{"$f":"(SUMIF(AF4:AF54,BT42,AP4:AP54)+SUMIF(AH4:AH54,BT42,AQ4:AQ54))","v":0},{"$f":"(SUMIF(AF4:AF54,BT42,AR4:AR54)+SUMIF(AH4:AH54,BT42,AS4:AS54))","v":0},{"$f":"SUMIF(AF4:AF54,BT42,AI4:AI54)+SUMIF(AH4:AH54,BT42,AK4:AK54)","v":0},{"$f":"SUMIF(AF4:AF54,BT42,AK4:AK54)+SUMIF(AH4:AH54,BT42,AI4:AI54)","v":0},{"$f":"BX42-BY42","v":0},{"$f":"IFERROR(BU42*3+BV42*1,0)","v":0},"E",{"$f":"RANK(CA42,CA40:CA43)","v":1},{"$f":"SUMPRODUCT((CA40:CA43=CA42)*(BZ40:BZ43>BZ42))","v":0},null,{"$f":"IF(CC42=1,BT42,)","v":"Belgien"},{"$f":"(SUMIF(AF4:AF54,BT42,AT4:AT54)+SUMIF(AH4:AH54,BT42,AU4:AU54))","v":0},{"$f":"(SUMIF(AF4:AF54,BT42,AV4:AV54)+SUMIF(AH4:AH54,BT42,AW4:AW54))","v":0},{"$f":"(SUMIF(AF4:AF54,BT42,AX4:AX54)+SUMIF(AH4:AH54,BT42,AY4:AY54))","v":0},0,{"$f":"CB42","v":"E"},{"$f":"IF(CF42>0,RANK(CJ42,CJ40:CJ43),)","v":1},{"$f":"IF(AND(CF42>0,COUNTIF(CL40:CL43,CL42)>1),SUMIFS($AI$4:$AI$54,$AF$4:$AF$54,BT42,$L$4:$L$54,1)+SUMIFS($AK$4:$AK$54,$AH$4:$AH$54,BT42,$L$4:$L$54,1)-SUMIFS($AK$4:$AK$54,$AF$4:$AF$54,BT42,$L$4:$L$54,1)-SUMIFS($AI$4:$AI$54,$AH$4:$AH$54,BT42,$L$4:$L$54,1),)","v":0},{"$f":"IF(AND(CF42>0,COUNTIF(CL40:CL43,CL42)>1),CL42+RANK(CM42,CM40:CM43)-1,CL42)","v":1},{"$f":"IF(AND(CF42>0,COUNTIF(CN40:CN43,CN42)>1),SUMIFS($AI$4:$AI$54,$AF$4:$AF$54,BT42,$L$4:$L$54,1)+SUMIFS($AK$4:$AK$54,$AH$4:$AH$54,BT42,$L$4:$L$54,1),)","v":0},{"$f":"IF(AND(CF42>0,COUNTIF(CN40:CN43,CN42)>1),CN42+RANK(CO42,CO40:CO43)-1,CN42)","v":1},1,{"$f":"IF(OR(CQ42=\"\",COUNTIF(CQ40:CQ43,CQ42)=1),\"\",$BZ42)","v":0},{"$f":"IF(CQ42=\"\",\"\",IF(COUNTIF(CQ40:CQ43,CQ42)=1,CQ42,CQ42+RANK(CR42,CR40:CR43,0)-1))","v":1},{"$f":"IF(OR(CS42=\"\",COUNTIF(CS40:CS43,CS42)=1),\"\",$BX42)","v":0},{"$f":"IF(CQ42=\"\",\"\",IF(COUNTIF(CS40:CS43,CS42)=1,CS42,CS42+RANK(CT42,CT40:CT43,0)-1))","v":1},{"$f":"IF(OR(CU42=\"\",COUNTIF(CU40:CU43,CU42)=1),\"\",$BU42)","v":0},{"$f":"IF(CQ42=\"\",\"\",IF(COUNTIF(CU40:CU43,CU42)=1,CU42,CU42+RANK(CV42,CV40:CV43,0)-1))","v":1},{"$f":"IF(CF42>0,BM38+RANK(CW42,CW40:CW43,1),)","v":1},null,{"$f":"IF(CC42=2,BT42,)","v":0},{"$f":"(SUMIF(AF4:AF54,BT42,AZ4:AZ54)+SUMIF(AH4:AH54,BT42,BA4:BA54))","v":0},{"$f":"(SUMIF(AF4:AF54,BT42,BB4:BB54)+SUMIF(AH4:AH54,BT42,BC4:BC54))","v":0},{"$f":"(SUMIF(AF4:AF54,BT42,BD4:BD54)+SUMIF(AH4:AH54,BT42,BE4:BE54))","v":0},{"$f":"IFERROR(DA42*3+DB42*1,0)","v":0},{"$f":"CB42","v":"E"},{"$f":"IF(CZ42>0,RANK(DD42,DD40:DD43)+CG38,)","v":0},{"$f":"IF(AND(CZ42>0,COUNTIF(DF40:DF43,DF42)>1),SUMIFS($AI$4:$AI$54,$AF$4:$AF$54,BT42,$L$4:$L$54,2)+SUMIFS($AK$4:$AK$54,$AH$4:$AH$54,BT42,$L$4:$L$54,2)-SUMIFS($AK$4:$AK$54,$AF$4:$AF$54,BT42,$L$4:$L$54,2)-SUMIFS($AI$4:$AI$54,$AH$4:$AH$54,BT42,$L$4:$L$54,2),)","v":0},{"$f":"IF(AND(CZ42>0,COUNTIF(DF40:DF43,DF42)>1),DF42+RANK(DG42,DG40:DG43)-1,DF42)","v":0},{"$f":"IF(AND(CZ42>0,COUNTIF(DH40:DH43,DH42)>1),SUMIFS($AI$4:$AI$54,$AF$4:$AF$54,BT42,$L$4:$L$54,2)+SUMIFS($AK$4:$AK$54,$AH$4:$AH$54,BT42,$L$4:$L$54,2),)","v":0},{"$f":"IF(AND(CZ42>0,COUNTIF(DH40:DH43,DH42)>1),DH42+RANK(DI42,DI40:DI43)-1,DH42)","v":0},"",{"$f":"IF(OR(DK42=\"\",COUNTIF(DK40:DK43,DK42)=1),\"\",$BZ42)","v":""},{"$f":"IF(DK42=\"\",\"\",IF(COUNTIF(DK40:DK43,DK42)=1,DK42,DK42+RANK(DL42,DL40:DL43,0)-1))","v":""},{"$f":"IF(OR(DM42=\"\",COUNTIF(DM40:DM43,DM42)=1),\"\",$BX42)","v":""},{"$f":"IF(DK42=\"\",\"\",IF(COUNTIF(DM40:DM43,DM42)=1,DM42,DM42+RANK(DN42,DN40:DN43,0)-1))","v":""},{"$f":"IF(OR(DO42=\"\",COUNTIF(DO40:DO43,DO42)=1),\"\",$BU42)","v":""},{"$f":"IF(DK42=\"\",\"\",IF(COUNTIF(DO40:DO43,DO42)=1,DO42,DO42+RANK(DP42,DP40:DP43,0)-1))","v":""},{"$f":"IF(CZ42>0,CG38+RANK(DQ42,DQ40:DQ43,1),)","v":0},null,{"$f":"IF(CC42=3,BT42,)","v":0},{"$f":"(SUMIF(AF4:AF54,BT42,BF4:BF54)+SUMIF(AH4:AH54,BT42,BG4:BG54))","v":0},{"$f":"(SUMIF(AF4:AF54,BT42,BH4:BH54)+SUMIF(AH4:AH54,BT42,BI4:BI54))","v":0},{"$f":"(SUMIF(AF4:AF54,BT42,BJ4:BJ54)+SUMIF(AH4:AH54,BT42,BK4:BK54))","v":0},0,{"$f":"CB42","v":"E"},{"$f":"IF(DT42>0,RANK(DX42,DX40:DX43)+CG38+DA38,)","v":0},{"$f":"IF(AND(DT42>0,COUNTIF(DZ40:DZ43,DZ42)>1),SUMIFS($AI$4:$AI$54,$AF$4:$AF$54,BT42,$L$4:$L$54,3)+SUMIFS($AK$4:$AK$54,$AH$4:$AH$54,BT42,$L$4:$L$54,3)-SUMIFS($AK$4:$AK$54,$AF$4:$AF$54,BT42,$L$4:$L$54,3)-SUMIFS($AI$4:$AI$54,$AH$4:$AH$54,BT42,$L$4:$L$54,3),)","v":0},{"$f":"IF(AND(DT42>0,COUNTIF(DZ40:DZ43,DZ42)>1),DZ42+RANK(EA42,EA40:EA43)-1,DZ42)","v":0},{"$f":"IF(AND(DT42>0,COUNTIF(EB40:EB43,EB42)>1),SUMIFS($AI$4:$AI$54,$AF$4:$AF$54,BT42,$L$4:$L$54,3)+SUMIFS($AK$4:$AK$54,$AH$4:$AH$54,BT42,$L$4:$L$54,3),)","v":0},{"$f":"IF(AND(DT42>0,COUNTIF(EB40:EB43,EB42)>1),EB42+RANK(EC42,EC40:EC43)-1,EB42)","v":0},"",{"$f":"IF(OR(EE42=\"\",COUNTIF(EE40:EE43,EE42)=1),\"\",$BZ42)","v":""},{"$f":"IF(EE42=\"\",\"\",IF(COUNTIF(EE40:EE43,EE42)=1,EE42,EE42+RANK(EF42,EF40:EF43,0)-1))","v":""},{"$f":"IF(OR(EG42=\"\",COUNTIF(EG40:EG43,EG42)=1),\"\",$BX42)","v":""},{"$f":"IF(EE42=\"\",\"\",IF(COUNTIF(EG40:EG43,EG42)=1,EG42,EG42+RANK(EH42,EH40:EH43,0)-1))","v":""},{"$f":"IF(OR(EI42=\"\",COUNTIF(EI40:EI43,EI42)=1),\"\",$BU42)","v":""},{"$f":"IF(EE42=\"\",\"\",IF(COUNTIF(EI40:EI43,EI42)=1,EI42,EI42+RANK(EJ42,EJ40:EJ43,0)-1))","v":""},{"$f":"IF(DT42>0,CG38+DA38+RANK(EK42,EK40:EK43,1),)","v":0},null,{"$f":"IF(CC42=4,BT42,)","v":0},{"$f":"(SUMIF(AF4:AF54,BT42,BL4:BL54)+SUMIF(AH4:AH54,BT42,BM4:BM54))","v":0},{"$f":"(SUMIF(AF4:AF54,BT42,BN4:BN54)+SUMIF(AH4:AH54,BT42,BO4:BO54))","v":0},{"$f":"(SUMIF(AF4:AF54,BT42,BP4:BP54)+SUMIF(AH4:AH54,BT42,BQ4:BQ54))","v":0},0,{"$f":"CB42","v":"E"},{"$f":"IF(EN42>0,RANK(ER42,ER40:ER43)+CG38+DA38+DU38,)","v":0},{"$f":"IF(AND(EN42>0,COUNTIF(ET40:ET43,ET42)>1),SUMIFS($AI$4:$AI$54,$AF$4:$AF$54,BT42,$L$4:$L$54,4)+SUMIFS($AK$4:$AK$54,$AH$4:$AH$54,BT42,$L$4:$L$54,4)-SUMIFS($AK$4:$AK$54,$AF$4:$AF$54,BT42,$L$4:$L$54,4)-SUMIFS($AI$4:$AI$54,$AH$4:$AH$54,BT42,$L$4:$L$54,4),)","v":0},{"$f":"IF(AND(EN42>0,COUNTIF(ET4:ET7,ET42)>1),ET42+RANK(EU42,EU4:EU7)-1,ET42)","v":0},{"$f":"IF(AND(EN42>0,COUNTIF(EV40:EV43,EV42)>1),SUMIFS($AI$4:$AI$54,$AF$4:$AF$54,BT42,$L$4:$L$54,4)+SUMIFS($AK$4:$AK$54,$AH$4:$AH$54,BT42,$L$4:$L$54,4),)","v":0},{"$f":"IF(AND(EN42>0,COUNTIF(EV40:EV43,EV42)>1),EV42+RANK(EW42,EW40:EW43)-1,EV42)","v":0},"",{"$f":"IF(OR(EY42=\"\",COUNTIF(EY40:EY43,EY42)=1),\"\",$BZ42)","v":""},{"$f":"IF(EY42=\"\",\"\",IF(COUNTIF(EY40:EY43,EY42)=1,EY42,EY42+RANK(EZ42,EZ40:EZ43,0)-1))","v":""},{"$f":"IF(OR(FA42=\"\",COUNTIF(FA40:FA43,FA42)=1),\"\",$BX42)","v":""},{"$f":"IF(EY42=\"\",\"\",IF(COUNTIF(FA40:FA43,FA42)=1,FA42,FA42+RANK(FB42,FB40:FB43,0)-1))","v":""},{"$f":"IF(OR(FC42=\"\",COUNTIF(FC40:FC43,FC42)=1),\"\",$BU42)","v":""},{"$f":"IF(EY42=\"\",\"\",IF(COUNTIF(FC40:FC43,FC42)=1,FC42,FC42+RANK(FD42,FD40:FD43,0)-1))","v":""},{"$f":"IF(EN42>0,CG38+DA38+DU38+RANK(FE42,FE40:FE43,1),)","v":0},null,{"$f":"IFERROR(VLOOKUP(FJ42,CF39:CX43,19,FALSE),IFERROR(VLOOKUP(FJ42,CZ39:DR43,19,FALSE),IFERROR(VLOOKUP(FJ42,DT39:EL43,19,FALSE),VLOOKUP(FJ42,EN39:FF43,19,FALSE))))","v":1},{"$f":"RANK(FH42,FH40:FH43,1)+COUNTIF(FH40:FH42,FH42)-1","v":3},{"$f":"BT42","v":"Belgien"}]
[null,null,"2024-06-22","Belgien",null,"Rumänien",null,"-",null,"",{"$f":"IF(OR('Resultat & Tabell'!G43=\"\",'Resultat & Tabell'!I43=\"\",G43=\"\",I43=\"\"),0,IF(G43='Resultat & Tabell'!G43,2,0)+IF(I43='Resultat & Tabell'!I43,2,0)+IF(J43='Resultat & Tabell'!J43,3,0))","v":0},{"$f":"IF(VLOOKUP(D43,BT39:CC43,10,FALSE)=VLOOKUP(F43,BT39:CC43,10,FALSE),VLOOKUP(D43,BT39:CC43,10,FALSE),\"-\")","v":1},4,{"$f":"VLOOKUP(M43,FI40:FJ43,2,FALSE)","v":"Rumänien"},{"$f":"VLOOKUP(N43,BT40:CA43,2,FALSE)","v":0},{"$f":"VLOOKUP(N43,BT40:CA43,3,FALSE)","v":0},{"$f":"VLOOKUP(N43,BT40:CA43,4,FALSE)","v":0},{"$f":"VLOOKUP(N43,BT40:CA43,5,FALSE)","v":0},{"$f":"VLOOKUP(N43,BT40:CA43,6,FALSE)","v":0},{"$f":"VLOOKUP(N43,BT40:CA43,7,FALSE)","v":0},{"$f":"VLOOKUP(N43,BT40:CA43,8,FALSE)","v":0},null,null,null,null,null,null,null,null,null,"2024-06-22","Belgien",0,"Rumänien","","-","","",null,0,0,0,0,0,0,0,0,0,0,0,0,0,0,0,0,0,0,0,0,0,0,0,0,0,0,0,0,0,0,null,null,"Rumänien",{"$f":"(SUMIF(AF4:AF54,BT43,AN4:AN54)+SUMIF(AH4:AH54,BT43,AO4:AO54))","v":0},{"$f":"(SUMIF(AF4:AF54,BT43,AP4:AP54)+SUMIF(AH4:AH54,BT43,AQ4:AQ54))","v":0},{"$f":"(SUMIF(AF4:AF54,BT43,AR4:AR54)+SUMIF(AH4:AH54,BT43,AS4:AS54))","v":0},{"$f":"SUMIF(AF4:AF54,BT43,AI4:AI54)+SUMIF(AH4:AH54,BT43,AK4:AK54)","v":0},{"$f":"SUMIF(AF4:AF54,BT43,AK4:AK54)+SUMIF(AH4:AH54,BT43,AI4:AI54)","v":0},{"$f":"BX43-BY43","v":0},{"$f":"IFERROR(BU43*3+BV43*1,0)","v":0},"E",{"$f":"RANK(CA43,CA40:CA43)","v":1},{"$f":"SUMPRODUCT((CA40:CA43=CA43)*(BZ40:BZ43>BZ43))","v":0},null,{"$f":"IF(CC43=1,BT43,)","v":"Rumänien"},{"$f":"(SUMIF(AF4:AF54,BT43,AT4:AT54)+SUMIF(AH4:AH54,BT43,AU4:AU54))","v":0},{"$f":"(SUMIF(AF4:AF54,BT43,AV4:AV54)+SUMIF(AH4:AH54,BT43,AW4:AW54))","v":0},{"$f":"(SUMIF(AF4:AF54,BT43,AX4:AX54)+SUMIF(AH4:AH54,BT43,AY4:AY54))","v":0},0,{"$f":"CB43","v":"E"},{"$f":"IF(CF43>0,RANK(CJ43,CJ40:CJ43),)","v":1},{"$f":"IF(AND(CF43>0,COUNTIF(CL40:CL43,CL43)>1),SUMIFS($AI$4:$AI$54,$AF$4:$AF$54,BT43,$L$4:$L$54,1)+SUMIFS($AK$4:$AK$54,$AH$4:$AH$54,BT43,$L$4:$L$54,1)-SUMIFS($AK$4:$AK$54,$AF$4:$AF$54,BT43,$L$4:$L$54,1)-SUMIFS($AI$4:$AI$54,$AH$4:$AH$54,BT43,$L$4:$L$54,1),)","v":0},{"$f":"IF(AND(CF43>0,COUNTIF(CL40:CL43,CL43)>1),CL43+RANK(CM43,CM40:CM43)-1,CL43)","v":1},{"$f":"IF(AND(CF43>0,COUNTIF(CN40:CN43,CN43)>1),SUMIFS($AI$4:$AI$54,$AF$4:$AF$54,BT43,$L$4:$L$54,1)+SUMIFS($AK$4:$AK$54,$AH$4:$AH$54,BT43,$L$4:$L$54,1),)","v":0},{"$f":"IF(AND(CF43>0,COUNTIF(CN40:CN43,CN43)>1),CN43+RANK(CO43,CO40:CO43)-1,CN43)","v":1},1,{"$f":"IF(OR(CQ43=\"\",COUNTIF(CQ40:CQ43,CQ43)=1),\"\",$BZ43)","v":0},{"$f":"IF(CQ43=\"\",\"\",IF(COUNTIF(CQ40:CQ43,CQ43)=1,CQ43,CQ43+RANK(CR43,CR40:CR43,0)-1))","v":1},{"$f":"IF(OR(CS43=\"\",COUNTIF(CS40:CS43,CS43)=1),\"\",$BX43)","v":0},{"$f":"IF(CQ43=\"\",\"\",IF(COUNTIF(CS40:CS43,CS43)=1,CS43,CS43+RANK(CT43,CT40:CT43,0)-1))","v":1},{"$f":"IF(OR(CU43=\"\",COUNTIF(CU40:CU43,CU43)=1),\"\",$BU43)","v":0},{"$f":"IF(CQ43=\"\",\"\",IF(COUNTIF(CU40:CU43,CU43)=1,CU43,CU43+RANK(CV43,CV40:CV43,0)-1))","v":1},{"$f":"IF(CF43>0,BM38+RANK(CW43,CW40:CW43,1),)","v":1},null,{"$f":"IF(CC43=2,BT43,)","v":0},{"$f":"(SUMIF(AF4:AF54,BT43,AZ4:AZ54)+SUMIF(AH4:AH54,BT43,BA4:BA54))","v":0},{"$f":"(SUMIF(AF4:AF54,BT43,BB4:BB54)+SUMIF(AH4:AH54,BT43,BC4:BC54))","v":0},{"$f":"(SUMIF(AF4:AF54,BT43,BD4:BD54)+SUMIF(AH4:AH54,BT43,BE4:BE54))","v":0},0,{"$f":"CB43","v":"E"},{"$f":"IF(CZ43>0,RANK(DD43,DD40:DD43)+CG38,)","v":0},{"$f":"IF(AND(CZ43>0,COUNTIF(DF40:DF43,DF43)>1),SUMIFS($AI$4:$AI$54,$AF$4:$AF$54,BT43,$L$4:$L$54,2)+SUMIFS($AK$4:$AK$54,$AH$4:$AH$54,BT43,$L$4:$L$54,2)-SUMIFS($AK$4:$AK$54,$AF$4:$AF$54,BT43,$L$4:$L$54,2)-SUMIFS($AI$4:$AI$54,$AH$4:$AH$54,BT43,$L$4:$L$54,2),)","v":0},{"$f":"IF(AND(CZ43>0,COUNTIF(DF40:DF43,DF43)>1),DF43+RANK(DG43,DG40:DG43)-1,DF43)","v":0},{"$f":"IF(AND(CZ43>0,COUNTIF(DH40:DH43,DH43)>1),SUMIFS($AI$4:$AI$54,$AF$4:$AF$54,BT43,$L$4:$L$54,2)+SUMIFS($AK$4:$AK$54,$AH$4:$AH$54,BT43,$L$4:$L$54,2),)","v":0},{"$f":"IF(AND(CZ43>0,COUNTIF(DH40:DH43,DH43)>1),DH43+RANK(DI43,DI40:DI43)-1,DH43)","v":0},"",{"$f":"IF(OR(DK43=\"\",COUNTIF(DK40:DK43,DK43)=1),\"\",$BZ43)","v":""},{"$f":"IF(DK43=\"\",\"\",IF(COUNTIF(DK40:DK43,DK43)=1,DK43,DK43+RANK(DL43,DL40:DL43,0)-1))","v":""},{"$f":"IF(OR(DM43=\"\",COUNTIF(DM40:DM43,DM43)=1),\"\",$BX43)","v":""},{"$f":"IF(DK43=\"\",\"\",IF(COUNTIF(DM40:DM43,DM43)=1,DM43,DM43+RANK(DN43,DN40:DN43,0)-1))","v":""},{"$f":"IF(OR(DO43=\"\",COUNTIF(DO40:DO43,DO43)=1),\"\",$BU43)","v":""},{"$f":"IF(DK43=\"\",\"\",IF(COUNTIF(DO40:DO43,DO43)=1,DO43,DO43+RANK(DP43,DP40:DP43,0)-1))","v":""},{"$f":"IF(CZ43>0,CG38+RANK(DQ43,DQ40:DQ43,1),)","v":0},null,{"$f":"IF(CC43=3,BT43,)","v":0},{"$f":"(SUMIF(AF4:AF54,BT43,BF4:BF54)+SUMIF(AH4:AH54,BT43,BG4:BG54))","v":0},{"$f":"(SUMIF(AF4:AF54,BT43,BH4:BH54)+SUMIF(AH4:AH54,BT43,BI4:BI54))","v":0},{"$f":"(SUMIF(AF4:AF54,BT43,BJ4:BJ54)+SUMIF(AH4:AH54,BT43,BK4:BK54))","v":0},0,{"$f":"CB43","v":"E"},{"$f":"IF(DT43>0,RANK(DX43,DX40:DX43)+CG38+DA38,)","v":0},{"$f":"IF(AND(DT43>0,COUNTIF(DZ40:DZ43,DZ43)>1),SUMIFS($AI$4:$AI$54,$AF$4:$AF$54,BT43,$L$4:$L$54,3)+SUMIFS($AK$4:$AK$54,$AH$4:$AH$54,BT43,$L$4:$L$54,3)-SUMIFS($AK$4:$AK$54,$AF$4:$AF$54,BT43,$L$4:$L$54,3)-SUMIFS($AI$4:$AI$54,$AH$4:$AH$54,BT43,$L$4:$L$54,3),)","v":0},{"$f":"IF(AND(DT43>0,COUNTIF(DZ40:DZ43,DZ43)>1),DZ43+RANK(EA43,EA40:EA43)-1,DZ43)","v":0},{"$f":"IF(AND(DT43>0,COUNTIF(EB40:EB43,EB43)>1),SUMIFS($AI$4:$AI$54,$AF$4:$AF$54,BT43,$L$4:$L$54,3)+SUMIFS($AK$4:$AK$54,$AH$4:$AH$54,BT43,$L$4:$L$54,3),)","v":0},{"$f":"IF(AND(DT43>0,COUNTIF(EB40:EB43,EB43)>1),EB43+RANK(EC43,EC40:EC43)-1,EB43)","v":0},"",{"$f":"IF(OR(EE43=\"\",COUNTIF(EE40:EE43,EE43)=1),\"\",$BZ43)","v":""},{"$f":"IF(EE43=\"\",\"\",IF(COUNTIF(EE40:EE43,EE43)=1,EE43,EE43+RANK(EF43,EF40:EF43,0)-1))","v":""},{"$f":"IF(OR(EG43=\"\",COUNTIF(EG40:EG43,EG43)=1),\"\",$BX43)","v":""},{"$f":"IF(EE43=\"\",\"\",IF(COUNTIF(EG40:EG43,EG43)=1,EG43,EG43+RANK(EH43,EH40:EH43,0)-1))","v":""},{"$f":"IF(OR(EI43=\"\",COUNTIF(EI40:EI43,EI43)=1),\"\",$BU43)","v":""},{"$f":"IF(EE43=\"\",\"\",IF(COUNTIF(EI40:EI43,EI43)=1,EI43,EI43+RANK(EJ43,EJ40:EJ43,0)-1))","v":""},{"$f":"IF(DT43>0,CG38+DA38+RANK(EK43,EK40:EK43,1),)","v":0},null,{"$f":"IF(CC43=4,BT43,)","v":0},{"$f":"(SUMIF(AF4:AF54,BT43,BL4:BL54)+SUMIF(AH4:AH54,BT43,BM4:BM54))","v":0},{"$f":"(SUMIF(AF4:AF54,BT43,BN4:BN54)+SUMIF(AH4:AH54,BT43,BO4:BO54))","v":0},{"$f":"(SUMIF(AF4:AF54,BT43,BP4:BP54)+SUMIF(AH4:AH54,BT43,BQ4:BQ54))","v":0},0,{"$f":"CB43","v":"E"},{"$f":"IF(EN43>0,RANK(ER43,ER40:ER43)+CG38+DA38+DU38,)","v":0},{"$f":"IF(AND(EN43>0,COUNTIF(ET40:ET43,ET43)>1),SUMIFS($AI$4:$AI$54,$AF$4:$AF$54,BT43,$L$4:$L$54,4)+SUMIFS($AK$4:$AK$54,$AH$4:$AH$54,BT43,$L$4:$L$54,4)-SUMIFS($AK$4:$AK$54,$AF$4:$AF$54,BT43,$L$4:$L$54,4)-SUMIFS($AI$4:$AI$54,$AH$4:$AH$54,BT43,$L$4:$L$54,4),)","v":0},{"$f":"IF(AND(EN43>0,COUNTIF(ET4:ET7,ET43)>1),ET43+RANK(EU43,EU4:EU7)-1,ET43)","v":0},{"$f":"IF(AND(EN43>0,COUNTIF(EV40:EV43,EV43)>1),SUMIFS($AI$4:$AI$54,$AF$4:$AF$54,BT43,$L$4:$L$54,4)+SUMIFS($AK$4:$AK$54,$AH$4:$AH$54,BT43,$L$4:$L$54,4),)","v":0},{"$f":"IF(AND(EN43>0,COUNTIF(EV40:EV43,EV43)>1),EV43+RANK(EW43,EW40:EW43)-1,EV43)","v":0},"",{"$f":"IF(OR(EY43=\"\",COUNTIF(EY40:EY43,EY43)=1),\"\",$BZ43)","v":""},{"$f":"IF(EY43=\"\",\"\",IF(COUNTIF(EY40:EY43,EY43)=1,EY43,EY43+RANK(EZ43,EZ40:EZ43,0)-1))","v":""},{"$f":"IF(OR(FA43=\"\",COUNTIF(FA40:FA43,FA43)=1),\"\",$BX43)","v":""},{"$f":"IF(EY43=\"\",\"\",IF(COUNTIF(FA40:FA43,FA43)=1,FA43,FA43+RANK(FB43,FB40:FB43,0)-1))","v":""},{"$f":"IF(OR(FC43=\"\",COUNTIF(FC40:FC43,FC43)=1),\"\",$BU43)","v":""},{"$f":"IF(EY43=\"\",\"\",IF(COUNTIF(FC40:FC43,FC43)=1,FC43,FC43+RANK(FD43,FD40:FD43,0)-1))","v":""},{"$f":"IF(EN43>0,CG38+DA38+DU38+RANK(FE43,FE40:FE43,1),)","v":0},null,{"$f":"IFERROR(VLOOKUP(FJ43,CF39:CX43,19,FALSE),IFERROR(VLOOKUP(FJ43,CZ39:DR43,19,FALSE),IFERROR(VLOOKUP(FJ43,DT39:EL43,19,FALSE),VLOOKUP(FJ43,EN39:FF43,19,FALSE))))","v":1},{"$f":"RANK(FH43,FH40:FH43,1)+COUNTIF(FH40:FH43,FH43)-1","v":4},{"$f":"BT43","v":"Rumänien"}]
[null,null,"2024-06-26","Slovakien","-","Rumänien",null,"-",null,"",{"$f":"IF(OR('Resultat & Tabell'!G44=\"\",'Resultat & Tabell'!I44=\"\",G44=\"\",I44=\"\"),0,IF(G44='Resultat & Tabell'!G44,2,0)+IF(I44='Resultat & Tabell'!I44,2,0)+IF(J44='Resultat & Tabell'!J44,3,0))","v":0},{"$f":"IF(VLOOKUP(D44,BT39:CC43,10,FALSE)=VLOOKUP(F44,BT39:CC43,10,FALSE),VLOOKUP(D44,BT39:CC43,10,FALSE),\"-\")","v":1},null,{"$f":"IF(COUNTBLANK(G40:G45)+COUNTBLANK(I40:I45)=0,\"Resultat OK\",\"Fyll i resultat\")","v":"Fyll i resultat"},null,null,null,null,null,null,null,null,null,null,null,null,null,null,null,null,"2024-06-26","Slovakien","-","Rumänien","","-","","",null,0,0,0,0,0,0,0,0,0,0,0,0,0,0,0,0,0,0,0,0,0,0,0,0,0,0,0,0,0,0]
[null,null,"2024-06-26","Ukraina","-","Belgien",null,"-",null,"",{"$f":"IF(OR('Resultat & Tabell'!G45=\"\",'Resultat & Tabell'!I45=\"\",G45=\"\",I45=\"\"),0,IF(G45='Resultat & Tabell'!G45,2,0)+IF(I45='Resultat & Tabell'!I45,2,0)+IF(J45='Resultat & Tabell'!J45,3,0))","v":0},{"$f":"IF(VLOOKUP(D45,BT39:CC43,10,FALSE)=VLOOKUP(F45,BT39:CC43,10,FALSE),VLOOKUP(D45,BT39:CC43,10,FALSE),\"-\")","v":1},null,null,null,null,null,null,null,null,null,null,null,null,null,null,null,null,null,null,"2024-06-26","Ukraina","-","Belgien","","-","","",null,0,0,0,0,0,0,0,0,0,0,0,0,0,0,0,0,0,0,0,0,0,0,0,0,0,0,0,0,0,0]
[]
[null,null,"Grupp F",null,null,null,null,null,null,null,null,null,null,null,null,null,null,null,null,null,null,null,null,null,null,null,null,null,null,null,"Grupp F",null,null,null,null,null,null,null,null,null,null,null,null,null,null,null,null,null,null,null,null,null,null,null,null,null,null,null,null,null,null,null,null,null,null,null,null,null,null,null,null,"Rank 0",null,null,null,null,null,null,null,null,null,null,null,"Rank 1",{"$f":"COUNTIF(CC49:CC52,1)","v":4},null,null,null,null,null,null,null,null,null,null,null,null,null,null,null,null,null,null,"Rank 2",{"$f":"COUNTIF(CC49:CC52,2)","v":0},null,null,null,null,null,null,null,null,null,null,null,null,null,null,null,null,null,null,"Rank 3",{"$f":"COUNTIF(CC49:CC52,3)","v":0},null,null,null,null,null,null,null,null,null,null,null,null,null,null,null,null,null,null,"Rank 4",{"$f":"COUNTIF(CC49:CC52,4)","v":0}]
[null,null,"Datum","Match",null,null,"Resultat",null,null,"Tecken","Poäng",null,null,"Lag","V","O","F","GM","IM","+/-","P",null,null,null,null,null,null,null,null,null,"Datum","Match",null,null,"Resultat",null,null,"Tecken","Poäng","V1","V2","O1","O2","F1","F2","V1","V2","O1","O2","F1","F2","V1","V2","O1","O2","F1","F2","V1","V2","O1","O2","F1","F2","V1","V2","O1","O2","F1","F2",null,null,"Lag","V","O","F","GM","IM","+/-","P","Grupp","Rank P","Rank +/-",null,"Lag","V","O","F","P","Grupp","Rank P","+/-","+/- rank","GM","GM rank","Rank internal","+/- all","+/- rank all","GM all","GM rank all","V all","V rank all","Rank all",null,"Lag","V","O","F","P","Grupp","Rank P","+/-","+/- rank","GM","GM rank","Rank internal","+/- all","+/- rank all","GM all","GM rank all","V all","V rank all","Rank all",null,"Lag","V","O","F","P","Grupp","Rank P","+/-","+/- rank","GM","GM rank","Rank internal","+/- all","+/- rank all","GM all","GM rank all","V all","V rank all","Rank all",null,"Lag","V","O","F","P","Grupp","Rank P","+/-","+/- rank","GM","GM rank","Rank internal","+/- all","+/- rank all","GM all","GM rank all","V all","V rank all","Rank all",null,"Rank","Rank Ties"]
[null,null,"2024-06-18","Turkiet","-","Georgien",null,"-",null,{"$f":"IF(OR(ISBLANK(G49),ISBLANK(I49)),\"\",IF(G49>I49,1,IF(G49<I49,2,\"X\")))","v":""},{"$f":"IF(OR('Resultat & Tabell'!G49=\"\",'Resultat & Tabell'!I49=\"\",G49=\"\",I49=\"\"),0,IF(G49='Resultat & Tabell'!G49,2,0)+IF(I49='Resultat & Tabell'!I49,2,0)+IF(J49='Resultat & Tabell'!J49,3,0))","v":0},{"$f":"IF(VLOOKUP(D49,BT48:CC52,10,FALSE)=VLOOKUP(F49,BT48:CC52,10,FALSE),VLOOKUP(D49,BT48:CC52,10,FALSE),\"-\")","v":1},1,{"$f":"VLOOKUP(M49,FI49:FJ52,2,FALSE)","v":"Portugal"},{"$f":"VLOOKUP(N49,BT49:CA52,2,FALSE)","v":0},{"$f":"VLOOKUP(N49,BT49:CA52,3,FALSE)","v":0},{"$f":"VLOOKUP(N49,BT49:CA52,4,FALSE)","v":0},{"$f":"VLOOKUP(N49,BT49:CA52,5,FALSE)","v":0},{"$f":"VLOOKUP(N49,BT49:CA52,6,FALSE)","v":0},{"$f":"VLOOKUP(N49,BT49:CA52,7,FALSE)","v":0},{"$f":"VLOOKUP(N49,BT49:CA52,8,FALSE)","v":0},null,null,null,null,null,null,null,null,null,{"$f":"C49","v":"2024-06-18"},"Turkiet","-","Georgien",{"$f":"IF(G49=\"\",\"\",G49)","v":""},"-",{"$f":"IF(I49=\"\",\"\",I49)","v":""},{"$f":"J49","v":""},null,{"$f":"IF(AI49>AK49,1,0)","v":0},{"$f":"IF(AK49>AI49,1,0)","v":0},{"$f":"IF(AND(AI49=AK49,AI49<>\"\"),1,0)","v":0},{"$f":"IF(AND(AI49=AK49,AI49<>\"\"),1,0)","v":0},{"$f":"IF(AI49<AK49,1,0)","v":0},{"$f":"IF(AK49<AI49,1,)","v":0},{"$f":"IF(ISERROR(VLOOKUP(AF49,CF:CF,1,FALSE)),0,1)*IF(ISERROR(VLOOKUP(AH49,CF:CF,1,FALSE)),0,1)*AN49","v":0},{"$f":"IF(ISERROR(VLOOKUP(AF49,CF:CF,1,FALSE)),0,1)*IF(ISERROR(VLOOKUP(AH49,CF:CF,1,FALSE)),0,1)*AO49","v":0},{"$f":"IF(ISERROR(VLOOKUP(AF49,CF:CF,1,FALSE)),0,1)*IF(ISERROR(VLOOKUP(AH49,CF:CF,1,FALSE)),0,1)*AP49","v":0},{"$f":"IF(ISERROR(VLOOKUP(AF49,CF:CF,1,FALSE)),0,1)*IF(ISERROR(VLOOKUP(AH49,CF:CF,1,FALSE)),0,1)*AQ49","v":0},{"$f":"IF(ISERROR(VLOOKUP(AF49,CF:CF,1,FALSE)),0,1)*IF(ISERROR(VLOOKUP(AH49,CF:CF,1,FALSE)),0,1)*AR49","v":0},{"$f":"IF(ISERROR(VLOOKUP(AF49,CF:CF,1,FALSE)),0,1)*IF(ISERROR(VLOOKUP(AH49,CF:CF,1,FALSE)),0,1)*AS49","v":0},{"$f":"IF(ISERROR(VLOOKUP(AF49,CZ:CZ,1,FALSE)),0,1)*IF(ISERROR(VLOOKUP(AH49,CZ:CZ,1,FALSE)),0,1)*AN49","v":0},{"$f":"IF(ISERROR(VLOOKUP(AF49,CZ:CZ,1,FALSE)),0,1)*IF(ISERROR(VLOOKUP(AH49,CZ:CZ,1,FALSE)),0,1)*AO49","v":0},{"$f":"IF(ISERROR(VLOOKUP(AF49,CZ:CZ,1,FALSE)),0,1)*IF(ISERROR(VLOOKUP(AH49,CZ:CZ,1,FALSE)),0,1)*AP49","v":0},{"$f":"IF(ISERROR(VLOOKUP(AF49,CZ:CZ,1,FALSE)),0,1)*IF(ISERROR(VLOOKUP(AH49,CZ:CZ,1,FALSE)),0,1)*AQ49","v":0},{"$f":"IF(ISERROR(VLOOKUP(AF49,CZ:CZ,1,FALSE)),0,1)*IF(ISERROR(VLOOKUP(AH49,CZ:CZ,1,FALSE)),0,1)*AR49","v":0},{"$f":"IF(ISERROR(VLOOKUP(AF49,CZ:CZ,1,FALSE)),0,1)*IF(ISERROR(VLOOKUP(AH49,CZ:CZ,1,FALSE)),0,1)*AS49","v":0},{"$f":"IF(ISERROR(VLOOKUP(AF49,DT:DT,1,FALSE)),0,1)*IF(ISERROR(VLOOKUP(AH49,DT:DT,1,FALSE)),0,1)*AN49","v":0},{"$f":"IF(ISERROR(VLOOKUP(AF49,DT:DT,1,FALSE)),0,1)*IF(ISERROR(VLOOKUP(AH49,DT:DT,1,FALSE)),0,1)*AO49","v":0},{"$f":"IF(ISERROR(VLOOKUP(AF49,DT:DT,1,FALSE)),0,1)*IF(ISERROR(VLOOKUP(AH49,DT:DT,1,FALSE)),0,1)*AP49","v":0},{"$f":"IF(ISERROR(VLOOKUP(AF49,DT:DT,1,FALSE)),0,1)*IF(ISERROR(VLOOKUP(AH49,DT:DT,1,FALSE)),0,1)*AQ49","v":0},{"$f":"IF(ISERROR(VLOOKUP(AF49,DT:DT,1,FALSE)),0,1)*IF(ISERROR(VLOOKUP(AH49,DT:DT,1,FALSE)),0,1)*AR49","v":0},{"$f":"IF(ISERROR(VLOOKUP(AF49,DT:DT,1,FALSE)),0,1)*IF(ISERROR(VLOOKUP(AH49,DT:DT,1,FALSE)),0,1)*AS49","v":0},{"$f":"IF(ISERROR(VLOOKUP(AF49,EN:EN,1,FALSE)),0,1)*IF(ISERROR(VLOOKUP(AH49,EN:EN,1,FALSE)),0,1)*AN49","v":0},{"$f":"IF(ISERROR(VLOOKUP(AF49,EN:EN,1,FALSE)),0,1)*IF(ISERROR(VLOOKUP(AH49,EN:EN,1,FALSE)),0,1)*AO49","v":0},{"$f":"IF(ISERROR(VLOOKUP(AF49,EN:EN,1,FALSE)),0,1)*IF(ISERROR(VLOOKUP(AH49,EN:EN,1,FALSE)),0,1)*AP49","v":0},{"$f":"IF(ISERROR(VLOOKUP(AF49,EN:EN,1,FALSE)),0,1)*IF(ISERROR(VLOOKUP(AH49,EN:EN,1,FALSE)),0,1)*AQ49","v":0},{"$f":"IF(ISERROR(VLOOKUP(AF49,EN:EN,1,FALSE)),0,1)*IF(ISERROR(VLOOKUP(AH49,EN:EN,1,FALSE)),0,1)*AR49","v":0},{"$f":"IF(ISERROR(VLOOKUP(AF49,EN:EN,1,FALSE)),0,1)*IF(ISERROR(VLOOKUP(AH49,EN:EN,1,FALSE)),0,1)*AS49","v":0},null,null,"Portugal",{"$f":"(SUMIF(AF4:AF54,BT49,AN4:AN54)+SUMIF(AH4:AH54,BT49,AO4:AO54))","v":0},{"$f":"(SUMIF(AF4:AF54,BT49,AP4:AP54)+SUMIF(AH4:AH54,BT49,AQ4:AQ54))","v":0},{"$f":"(SUMIF(AF4:AF54,BT49,AR4:AR54)+SUMIF(AH4:AH54,BT49,AS4:AS54))","v":0},{"$f":"SUMIF(AF4:AF54,BT49,AI4:AI54)+SUMIF(AH4:AH54,BT49,AK4:AK54)","v":0},{"$f":"SUMIF(AF4:AF54,BT49,AK4:AK54)+SUMIF(AH4:AH54,BT49,AI4:AI54)","v":0},{"$f":"BX49-BY49","v":0},{"$f":"IFERROR(BU49*3+BV49*1,0)","v":0},"F",{"$f":"RANK(CA49,CA49:CA52)","v":1},{"$f":"SUMPRODUCT((CA49:CA52=CA49)*(BZ49:BZ52>BZ49))","v":0},null,{"$f":"IF(CC49=1,BT49,)","v":"Portugal"},{"$f":"(SUMIF(AF4:AF54,BT49,AT4:AT54)+SUMIF(AH4:AH54,BT49,AU4:AU54))","v":0},{"$f":"(SUMIF(AF4:AF54,BT49,AV4:AV54)+SUMIF(AH4:AH54,BT49,AW4:AW54))","v":0},{"$f":"(SUMIF(AF4:AF54,BT49,AX4:AX54)+SUMIF(AH4:AH54,BT49,AY4:AY54))","v":0},{"$f":"IFERROR(CG49*3+CH49*1,0)","v":0},{"$f":"CB49","v":"F"},{"$f":"IF(CF49>0,RANK(CJ49,CJ49:CJ52),)","v":1},{"$f":"IF(AND(CF49>0,COUNTIF(CL49:CL52,CL49)>1),SUMIFS($AI$4:$AI$54,$AF$4:$AF$54,$BT49,$L$4:$L$54,1)+SUMIFS($AK$4:$AK$54,$AH$4:$AH$54,$BT49,$L$4:$L$54,1)-SUMIFS($AK$4:$AK$54,$AF$4:$AF$54,$BT49,$L$4:$L$54,1)-SUMIFS($AI$4:$AI$54,$AH$4:$AH$54,$BT49,$L$4:$L$54,1),)","v":0},{"$f":"IF(AND(CF49>0,COUNTIF(CL49:CL52,CL49)>1),CL49+RANK(CM49,CM49:CM52)-1,CL49)","v":1},{"$f":"IF(AND(CF49>0,COUNTIF(CN49:CN52,CN49)>1),SUMIFS($AI$4:$AI$54,$AF$4:$AF$54,$BT49,$L$4:$L$54,1)+SUMIFS($AK$4:$AK$54,$AH$4:$AH$54,$BT49,$L$4:$L$54,1),)","v":0},{"$f":"IF(AND(CF49>0,COUNTIF(CN49:CN52,CN49)>1),CN49+RANK(CO49,CO49:CO52)-1,CN49)","v":1},{"$f":"IF(CP49=0,\"\",CP49)","v":1},{"$f":"IF(OR(CQ49=\"\",COUNTIF(CQ49:CQ52,CQ49)=1),\"\",$BZ49)","v":0},{"$f":"IF(CQ49=\"\",\"\",IF(COUNTIF(CQ49:CQ52,CQ49)=1,CQ49,CQ49+RANK(CR49,CR49:CR52,0)-1))","v":1},{"$f":"IF(OR(CS49=\"\",COUNTIF(CS49:CS52,CS49)=1),\"\",$BX49)","v":0},{"$f":"IF(CQ49=\"\",\"\",IF(COUNTIF(CS49:CS52,CS49)=1,CS49,CS49+RANK(CT49,CT49:CT52,0)-1))","v":1},{"$f":"IF(OR(CU49=\"\",COUNTIF(CU49:CU52,CU49)=1),\"\",$BU49)","v":0},{"$f":"IF(CQ49=\"\",\"\",IF(COUNTIF(CU49:CU52,CU49)=1,CU49,CU49+RANK(CV49,CV49:CV52,0)-1))","v":1},{"$f":"IF(CF49>0,BM47+RANK(CW49,CW49:CW52,1),)","v":1},null,{"$f":"IF(CC49=2,BT49,)","v":0},{"$f":"(SUMIF(AF4:AF54,BT49,AZ4:AZ54)+SUMIF(AH4:AH54,BT49,BA4:BA54))","v":0},{"$f":"(SUMIF(AF4:AF54,BT49,BB4:BB54)+SUMIF(AH4:AH54,BT49,BC4:BC54))","v":0},{"$f":"(SUMIF(AF4:AF54,BT49,BD4:BD54)+SUMIF(AH4:AH54,BT49,BE4:BE54))","v":0},{"$f":"IFERROR(DA49*3+DB49*1,0)","v":0},{"$f":"CB49","v":"F"},{"$f":"IF(CZ49>0,RANK(DD49,DD49:DD52)+CG47,)","v":0},{"$f":"IF(AND(CZ49>0,COUNTIF(DF49:DF52,DF49)>1),SUMIFS($AI$4:$AI$54,$AF$4:$AF$54,$BT49,$L$4:$L$54,2)+SUMIFS($AK$4:$AK$54,$AH$4:$AH$54,$BT49,$L$4:$L$54,2)-SUMIFS($AK$4:$AK$54,$AF$4:$AF$54,$BT49,$L$4:$L$54,2)-SUMIFS($AI$4:$AI$54,$AH$4:$AH$54,$BT49,$L$4:$L$54,2),)","v":0},{"$f":"IF(AND(CZ49>0,COUNTIF(DF49:DF52,DF49)>1),DF49+RANK(DG49,DG49:DG52)-1,DF49)","v":0},{"$f":"IF(AND(CZ49>0,COUNTIF(DH49:DH52,DH49)>1),SUMIFS($AI$4:$AI$54,$AF$4:$AF$54,$BT49,$L$4:$L$54,2)+SUMIFS($AK$4:$AK$54,$AH$4:$AH$54,$BT49,$L$4:$L$54,2),)","v":0},{"$f":"IF(AND(CZ49>0,COUNTIF(DH49:DH52,DH49)>1),DH49+RANK(DI49,DI49:DI52)-1,DH49)","v":0},{"$f":"IF(DJ49=0,\"\",DJ49)","v":""},{"$f":"IF(OR(DK49=\"\",COUNTIF(DK49:DK52,DK49)=1),\"\",$BZ49)","v":""},{"$f":"IF(DK49=\"\",\"\",IF(COUNTIF(DK49:DK52,DK49)=1,DK49,DK49+RANK(DL49,DL49:DL52,0)-1))","v":""},{"$f":"IF(OR(DM49=\"\",COUNTIF(DM49:DM52,DM49)=1),\"\",$BX49)","v":""},{"$f":"IF(DK49=\"\",\"\",IF(COUNTIF(DM49:DM52,DM49)=1,DM49,DM49+RANK(DN49,DN49:DN52,0)-1))","v":""},{"$f":"IF(OR(DO49=\"\",COUNTIF(DO49:DO52,DO49)=1),\"\",$BU49)","v":""},{"$f":"IF(DK49=\"\",\"\",IF(COUNTIF(DO49:DO52,DO49)=1,DO49,DO49+RANK(DP49,DP49:DP52,0)-1))","v":""},{"$f":"IF(CZ49>0,CG47+RANK(DQ49,DQ49:DQ52,1),)","v":0},null,{"$f":"IF(CC49=3,BT49,)","v":0},{"$f":"(SUMIF(AF4:AF54,BT49,BF4:BF54)+SUMIF(AH4:AH54,BT49,BG4:BG54))","v":0},{"$f":"(SUMIF(AF4:AF54,BT49,BH4:BH54)+SUMIF(AH4:AH54,BT49,BI4:BI54))","v":0},{"$f":"(SUMIF(AF4:AF54,BT49,BJ4:BJ54)+SUMIF(AH4:AH54,BT49,BK4:BK54))","v":0},{"$f":"IFERROR(DU49*3+DV49*1,0)","v":0},{"$f":"CB49","v":"F"},{"$f":"IF(DT49>0,RANK(DX49,DX49:DX52)+CG47+DA47,)","v":0},{"$f":"IF(AND(DT49>0,COUNTIF(DZ49:DZ52,DZ49)>1),SUMIFS($AI$4:$AI$54,$AF$4:$AF$54,$BT49,$L$4:$L$54,3)+SUMIFS($AK$4:$AK$54,$AH$4:$AH$54,$BT49,$L$4:$L$54,3)-SUMIFS($AK$4:$AK$54,$AF$4:$AF$54,$BT49,$L$4:$L$54,3)-SUMIFS($AI$4:$AI$54,$AH$4:$AH$54,$BT49,$L$4:$L$54,3),)","v":0},{"$f":"IF(AND(DT49>0,COUNTIF(DZ49:DZ52,DZ49)>1),DZ49+RANK(EA49,EA49:EA52)-1,DZ49)","v":0},{"$f":"IF(AND(DT49>0,COUNTIF(EB49:EB52,EB49)>1),SUMIFS($AI$4:$AI$54,$AF$4:$AF$54,$BT49,$L$4:$L$54,3)+SUMIFS($AK$4:$AK$54,$AH$4:$AH$54,$BT49,$L$4:$L$54,3),)","v":0},{"$f":"IF(AND(DT49>0,COUNTIF(EB49:EB52,EB49)>1),EB49+RANK(EC49,EC49:EC52)-1,EB49)","v":0},{"$f":"IF(ED49=0,\"\",ED49)","v":""},{"$f":"IF(OR(EE49=\"\",COUNTIF(EE49:EE52,EE49)=1),\"\",$BZ49)","v":""},{"$f":"IF(EE49=\"\",\"\",IF(COUNTIF(EE49:EE52,EE49)=1,EE49,EE49+RANK(EF49,EF49:EF52,0)-1))","v":""},{"$f":"IF(OR(EG49=\"\",COUNTIF(EG49:EG52,EG49)=1),\"\",$BX49)","v":""},{"$f":"IF(EE49=\"\",\"\",IF(COUNTIF(EG49:EG52,EG49)=1,EG49,EG49+RANK(EH49,EH49:EH52,0)-1))","v":""},{"$f":"IF(OR(EI49=\"\",COUNTIF(EI49:EI52,EI49)=1),\"\",$BU49)","v":""},{"$f":"IF(EE49=\"\",\"\",IF(COUNTIF(EI49:EI52,EI49)=1,EI49,EI49+RANK(EJ49,EJ49:EJ52,0)-1))","v":""},{"$f":"IF(DT49>0,CG47+DA47+RANK(EK49,EK49:EK52,1),)","v":0},null,{"$f":"IF(CC49=4,BT49,)","v":0},{"$f":"(SUMIF(AF4:AF54,BT49,BL4:BL54)+SUMIF(AH4:AH54,BT49,BM4:BM54))","v":0},{"$f":"(SUMIF(AF4:AF54,BT49,BN4:BN54)+SUMIF(AH4:AH54,BT49,BO4:BO54))","v":0},{"$f":"(SUMIF(AF4:AF54,BT49,BP4:BP54)+SUMIF(AH4:AH54,BT49,BQ4:BQ54))","v":0},{"$f":"IFERROR(EO49*3+EP49*1,0)","v":0},{"$f":"CB49","v":"F"},{"$f":"IF(EN49>0,RANK(ER49,ER49:ER52)+CG47+DA47+DU47,)","v":0},{"$f":"IF(AND(EN49>0,COUNTIF(ET49:ET52,ET49)>1),SUMIFS($AI$4:$AI$54,$AF$4:$AF$54,$BT49,$L$4:$L$54,4)+SUMIFS($AK$4:$AK$54,$AH$4:$AH$54,$BT49,$L$4:$L$54,4)-SUMIFS($AK$4:$AK$54,$AF$4:$AF$54,$BT49,$L$4:$L$54,4)-SUMIFS($AI$4:$AI$54,$AH$4:$AH$54,$BT49,$L$4:$L$54,4),)","v":0},{"$f":"IF(AND(EN49>0,COUNTIF(ET4:ET7,ET49)>1),ET49+RANK(EU49,EU4:EU7)-1,ET49)","v":0},{"$f":"IF(AND(EN49>0,COUNTIF(EV49:EV52,EV49)>1),SUMIFS($AI$4:$AI$54,$AF$4:$AF$54,$BT49,$L$4:$L$54,4)+SUMIFS($AK$4:$AK$54,$AH$4:$AH$54,$BT49,$L$4:$L$54,4),)","v":0},{"$f":"IF(AND(EN49>0,COUNTIF(EV49:EV52,EV49)>1),EV49+RANK(EW49,EW49:EW52)-1,EV49)","v":0},{"$f":"IF(EX49=0,\"\",EX49)","v":""},{"$f":"IF(OR(EY49=\"\",COUNTIF(EY49:EY52,EY49)=1),\"\",$BZ49)","v":""},{"$f":"IF(EY49=\"\",\"\",IF(COUNTIF(EY49:EY52,EY49)=1,EY49,EY49+RANK(EZ49,EZ49:EZ52,0)-1))","v":""},{"$f":"IF(OR(FA49=\"\",COUNTIF(FA49:FA52,FA49)=1),\"\",$BX49)","v":""},{"$f":"IF(EY49=\"\",\"\",IF(COUNTIF(FA49:FA52,FA49)=1,FA49,FA49+RANK(FB49,FB49:FB52,0)-1))","v":""},{"$f":"IF(OR(FC49=\"\",COUNTIF(FC49:FC52,FC49)=1),\"\",$BU49)","v":""},{"$f":"IF(EY49=\"\",\"\",IF(COUNTIF(FC49:FC52,FC49)=1,FC49,FC49+RANK(FD49,FD49:FD52,0)-1))","v":""},{"$f":"IF(EN49>0,CG47+DA47+DU47+RANK(FE49,FE49:FE52,1),)","v":0},null,{"$f":"IFERROR(VLOOKUP(FJ49,CF48:CX52,19,FALSE),IFERROR(VLOOKUP(FJ49,CZ48:DR52,19,FALSE),IFERROR(VLOOKUP(FJ49,DT48:EL52,19,FALSE),VLOOKUP(FJ49,EN48:FF52,19,FALSE))))","v":1},{"$f":"RANK(FH49,FH49:FH52,1)+COUNTIF(FH49:FH49,FH49)-1","v":1},{"$f":"BT49","v":"Portugal"}]
[null,null,"2024-06-18","Portugal","-","Tjeckien",null,"-",null,{"$f":"IF(OR(ISBLANK(G50),ISBLANK(I50)),\"\",IF(G50>I50,1,IF(G50<I50,2,\"X\")))","v":""},{"$f":"IF(OR('Resultat & Tabell'!G50=\"\",'Resultat & Tabell'!I50=\"\",G50=\"\",I50=\"\"),0,IF(G50='Resultat & Tabell'!G50,2,0)+IF(I50='Resultat & Tabell'!I50,2,0)+IF(J50='Resultat & Tabell'!J50,3,0))","v":0},{"$f":"IF(VLOOKUP(D50,BT48:CC52,10,FALSE)=VLOOKUP(F50,BT48:CC52,10,FALSE),VLOOKUP(D50,BT48:CC52,10,FALSE),\"-\")","v":1},2,{"$f":"VLOOKUP(M50,FI49:FJ52,2,FALSE)","v":"Tjeckien"},{"$f":"VLOOKUP(N50,BT49:CA52,2,FALSE)","v":0},{"$f":"VLOOKUP(N50,BT49:CA52,3,FALSE)","v":0},{"$f":"VLOOKUP(N50,BT49:CA52,4,FALSE)","v":0},{"$f":"VLOOKUP(N50,BT49:CA52,5,FALSE)","v":0},{"$f":"VLOOKUP(N50,BT49:CA52,6,FALSE)","v":0},{"$f":"VLOOKUP(N50,BT49:CA52,7,FALSE)","v":0},{"$f":"VLOOKUP(N50,BT49:CA52,8,FALSE)","v":0},null,null,null,null,null,null,null,null,null,"2024-06-18","Portugal","-","Tjeckien","","-","","",null,0,0,0,0,0,0,0,0,0,0,0,0,0,0,0,0,0,0,0,0,0,0,0,0,0,0,0,0,0,0,null,null,"Tjeckien",{"$f":"(SUMIF(AF4:AF54,BT50,AN4:AN54)+SUMIF(AH4:AH54,BT50,AO4:AO54))","v":0},{"$f":"(SUMIF(AF4:AF54,BT50,AP4:AP54)+SUMIF(AH4:AH54,BT50,AQ4:AQ54))","v":0},{"$f":"(SUMIF(AF4:AF54,BT50,AR4:AR54)+SUMIF(AH4:AH54,BT50,AS4:AS54))","v":0},{"$f":"SUMIF(AF4:AF54,BT50,AI4:AI54)+SUMIF(AH4:AH54,BT50,AK4:AK54)","v":0},{"$f":"SUMIF(AF4:AF54,BT50,AK4:AK54)+SUMIF(AH4:AH54,BT50,AI4:AI54)","v":0},{"$f":"BX50-BY50","v":0},{"$f":"IFERROR(BU50*3+BV50*1,0)","v":0},"F",{"$f":"RANK(CA50,CA49:CA52)","v":1},{"$f":"SUMPRODUCT((CA49:CA52=CA50)*(BZ49:BZ52>BZ50))","v":0},null,{"$f":"IF(CC50=1,BT50,)","v":"Tjeckien"},{"$f":"(SUMIF(AF4:AF54,BT50,AT4:AT54)+SUMIF(AH4:AH54,BT50,AU4:AU54))","v":0},{"$f":"(SUMIF(AF4:AF54,BT50,AV4:AV54)+SUMIF(AH4:AH54,BT50,AW4:AW54))","v":0},{"$f":"(SUMIF(AF4:AF54,BT50,AX4:AX54)+SUMIF(AH4:AH54,BT50,AY4:AY54))","v":0},{"$f":"IFERROR(CG50*3+CH50*1,0)","v":0},{"$f":"CB50","v":"F"},{"$f":"IF(CF50>0,RANK(CJ50,CJ49:CJ52),)","v":1},{"$f":"IF(AND(CF50>0,COUNTIF(CL49:CL52,CL50)>1),SUMIFS($AI$4:$AI$54,$AF$4:$AF$54,BT50,$L$4:$L$54,1)+SUMIFS($AK$4:$AK$54,$AH$4:$AH$54,BT50,$L$4:$L$54,1)-SUMIFS($AK$4:$AK$54,$AF$4:$AF$54,BT50,$L$4:$L$54,1)-SUMIFS($AI$4:$AI$54,$AH$4:$AH$54,BT50,$L$4:$L$54,1),)","v":0},{"$f":"IF(AND(CF50>0,COUNTIF(CL49:CL52,CL50)>1),CL50+RANK(CM50,CM49:CM52)-1,CL50)","v":1},{"$f":"IF(AND(CF50>0,COUNTIF(CN49:CN52,CN50)>1),SUMIFS($AI$4:$AI$54,$AF$4:$AF$54,BT50,$L$4:$L$54,1)+SUMIFS($AK$4:$AK$54,$AH$4:$AH$54,BT50,$L$4:$L$54,1),)","v":0},{"$f":"IF(AND(CF50>0,COUNTIF(CN49:CN52,CN50)>1),CN50+RANK(CO50,CO49:CO52)-1,CN50)","v":1},{"$f":"IF(CP50=0,\"\",CP50)","v":1},{"$f":"IF(OR(CQ50=\"\",COUNTIF(CQ49:CQ52,CQ50)=1),\"\",$BZ50)","v":0},{"$f":"IF(CQ50=\"\",\"\",IF(COUNTIF(CQ49:CQ52,CQ50)=1,CQ50,CQ50+RANK(CR50,CR49:CR52,0)-1))","v":1},{"$f":"IF(OR(CS50=\"\",COUNTIF(CS49:CS52,CS50)=1),\"\",$BX50)","v":0},{"$f":"IF(CQ50=\"\",\"\",IF(COUNTIF(CS49:CS52,CS50)=1,CS50,CS50+RANK(CT50,CT49:CT52,0)-1))","v":1},{"$f":"IF(OR(CU50=\"\",COUNTIF(CU49:CU52,CU50)=1),\"\",$BU50)","v":0},{"$f":"IF(CQ50=\"\",\"\",IF(COUNTIF(CU49:CU52,CU50)=1,CU50,CU50+RANK(CV50,CV49:CV52,0)-1))","v":1},{"$f":"IF(CF50>0,BM47+RANK(CW50,CW49:CW52,1),)","v":1},null,{"$f":"IF(CC50=2,BT50,)","v":0},{"$f":"(SUMIF(AF4:AF54,BT50,AZ4:AZ54)+SUMIF(AH4:AH54,BT50,BA4:BA54))","v":0},{"$f":"(SUMIF(AF4:AF54,BT50,BB4:BB54)+SUMIF(AH4:AH54,BT50,BC4:BC54))","v":0},{"$f":"(SUMIF(AF4:AF54,BT50,BD4:BD54)+SUMIF(AH4:AH54,BT50,BE4:BE54))","v":0},{"$f":"IFERROR(DA50*3+DB50*1,0)","v":0},{"$f":"CB50","v":"F"},{"$f":"IF(CZ50>0,RANK(DD50,DD49:DD52)+CG47,)","v":0},{"$f":"IF(AND(CZ50>0,COUNTIF(DF49:DF52,DF50)>1),SUMIFS($AI$4:$AI$54,$AF$4:$AF$54,BT50,$L$4:$L$54,2)+SUMIFS($AK$4:$AK$54,$AH$4:$AH$54,BT50,$L$4:$L$54,2)-SUMIFS($AK$4:$AK$54,$AF$4:$AF$54,BT50,$L$4:$L$54,2)-SUMIFS($AI$4:$AI$54,$AH$4:$AH$54,BT50,$L$4:$L$54,2),)","v":0},{"$f":"IF(AND(CZ50>0,COUNTIF(DF49:DF52,DF50)>1),DF50+RANK(DG50,DG49:DG52)-1,DF50)","v":0},{"$f":"IF(AND(CZ50>0,COUNTIF(DH49:DH52,DH50)>1),SUMIFS($AI$4:$AI$54,$AF$4:$AF$54,BT50,$L$4:$L$54,2)+SUMIFS($AK$4:$AK$54,$AH$4:$AH$54,BT50,$L$4:$L$54,2),)","v":0},{"$f":"IF(AND(CZ50>0,COUNTIF(DH49:DH52,DH50)>1),DH50+RANK(DI50,DI49:DI52)-1,DH50)","v":0},{"$f":"IF(DJ50=0,\"\",DJ50)","v":""},{"$f":"IF(OR(DK50=\"\",COUNTIF(DK49:DK52,DK50)=1),\"\",$BZ50)","v":""},{"$f":"IF(DK50=\"\",\"\",IF(COUNTIF(DK49:DK52,DK50)=1,DK50,DK50+RANK(DL50,DL49:DL52,0)-1))","v":""},{"$f":"IF(OR(DM50=\"\",COUNTIF(DM49:DM52,DM50)=1),\"\",$BX50)","v":""},{"$f":"IF(DK50=\"\",\"\",IF(COUNTIF(DM49:DM52,DM50)=1,DM50,DM50+RANK(DN50,DN49:DN52,0)-1))","v":""},{"$f":"IF(OR(DO50=\"\",COUNTIF(DO49:DO52,DO50)=1),\"\",$BU50)","v":""},{"$f":"IF(DK50=\"\",\"\",IF(COUNTIF(DO49:DO52,DO50)=1,DO50,DO50+RANK(DP50,DP49:DP52,0)-1))","v":""},{"$f":"IF(CZ50>0,CG47+RANK(DQ50,DQ49:DQ52,1),)","v":0},null,{"$f":"IF(CC50=3,BT50,)","v":0},{"$f":"(SUMIF(AF4:AF54,BT50,BF4:BF54)+SUMIF(AH4:AH54,BT50,BG4:BG54))","v":0},{"$f":"(SUMIF(AF4:AF54,BT50,BH4:BH54)+SUMIF(AH4:AH54,BT50,BI4:BI54))","v":0},{"$f":"(SUMIF(AF4:AF54,BT50,BJ4:BJ54)+SUMIF(AH4:AH54,BT50,BK4:BK54))","v":0},{"$f":"IFERROR(DU50*3+DV50*1,0)","v":0},{"$f":"CB50","v":"F"},{"$f":"IF(DT50>0,RANK(DX50,DX49:DX52)+CG47+DA47,)","v":0},{"$f":"IF(AND(DT50>0,COUNTIF(DZ49:DZ52,DZ50)>1),SUMIFS($AI$4:$AI$54,$AF$4:$AF$54,BT50,$L$4:$L$54,3)+SUMIFS($AK$4:$AK$54,$AH$4:$AH$54,BT50,$L$4:$L$54,3)-SUMIFS($AK$4:$AK$54,$AF$4:$AF$54,BT50,$L$4:$L$54,3)-SUMIFS($AI$4:$AI$54,$AH$4:$AH$54,BT50,$L$4:$L$54,3),)","v":0},{"$f":"IF(AND(DT50>0,COUNTIF(DZ49:DZ52,DZ50)>1),DZ50+RANK(EA50,EA49:EA52)-1,DZ50)","v":0},{"$f":"IF(AND(DT50>0,COUNTIF(EB49:EB52,EB50)>1),SUMIFS($AI$4:$AI$54,$AF$4:$AF$54,BT50,$L$4:$L$54,3)+SUMIFS($AK$4:$AK$54,$AH$4:$AH$54,BT50,$L$4:$L$54,3),)","v":0},{"$f":"IF(AND(DT50>0,COUNTIF(EB49:EB52,EB50)>1),EB50+RANK(EC50,EC49:EC52)-1,EB50)","v":0},{"$f":"IF(ED50=0,\"\",ED50)","v":""},{"$f":"IF(OR(EE50=\"\",COUNTIF(EE49:EE52,EE50)=1),\"\",$BZ50)","v":""},{"$f":"IF(EE50=\"\",\"\",IF(COUNTIF(EE49:EE52,EE50)=1,EE50,EE50+RANK(EF50,EF49:EF52,0)-1))","v":""},{"$f":"IF(OR(EG50=\"\",COUNTIF(EG49:EG52,EG50)=1),\"\",$BX50)","v":""},{"$f":"IF(EE50=\"\",\"\",IF(COUNTIF(EG49:EG52,EG50)=1,EG50,EG50+RANK(EH50,EH49:EH52,0)-1))","v":""},{"$f":"IF(OR(EI50=\"\",COUNTIF(EI49:EI52,EI50)=1),\"\",$BU50)","v":""},{"$f":"IF(EE50=\"\",\"\",IF(COUNTIF(EI49:EI52,EI50)=1,EI50,EI50+RANK(EJ50,EJ49:EJ52,0)-1))","v":""},{"$f":"IF(DT50>0,CG47+DA47+RANK(EK50,EK49:EK52,1),)","v":0},null,{"$f":"IF(CC50=4,BT50,)","v":0},{"$f":"(SUMIF(AF4:AF54,BT50,BL4:BL54)+SUMIF(AH4:AH54,BT50,BM4:BM54))","v":0},{"$f":"(SUMIF(AF4:AF54,BT50,BN4:BN54)+SUMIF(AH4:AH54,BT50,BO4:BO54))","v":0},{"$f":"(SUMIF(AF4:AF54,BT50,BP4:BP54)+SUMIF(AH4:AH54,BT50,BQ4:BQ54))","v":0},{"$f":"IFERROR(EO50*3+EP50*1,0)","v":0},{"$f":"CB50","v":"F"},{"$f":"IF(EN50>0,RANK(ER50,ER49:ER52)+CG47+DA47+DU47,)","v":0},{"$f":"IF(AND(EN50>0,COUNTIF(ET49:ET52,ET50)>1),SUMIFS($AI$4:$AI$54,$AF$4:$AF$54,BT50,$L$4:$L$54,4)+SUMIFS($AK$4:$AK$54,$AH$4:$AH$54,BT50,$L$4:$L$54,4)-SUMIFS($AK$4:$AK$54,$AF$4:$AF$54,BT50,$L$4:$L$54,4)-SUMIFS($AI$4:$AI$54,$AH$4:$AH$54,BT50,$L$4:$L$54,4),)","v":0},{"$f":"IF(AND(EN50>0,COUNTIF(ET4:ET7,ET50)>1),ET50+RANK(EU50,EU4:EU7)-1,ET50)","v":0},{"$f":"IF(AND(EN50>0,COUNTIF(EV49:EV52,EV50)>1),SUMIFS($AI$4:$AI$54,$AF$4:$AF$54,BT50,$L$4:$L$54,4)+SUMIFS($AK$4:$AK$54,$AH$4:$AH$54,BT50,$L$4:$L$54,4),)","v":0},{"$f":"IF(AND(EN50>0,COUNTIF(EV49:EV52,EV50)>1),EV50+RANK(EW50,EW49:EW52)-1,EV50)","v":0},{"$f":"IF(EX50=0,\"\",EX50)","v":""},{"$f":"IF(OR(EY50=\"\",COUNTIF(EY49:EY52,EY50)=1),\"\",$BZ50)","v":""},{"$f":"IF(EY50=\"\",\"\",IF(COUNTIF(EY49:EY52,EY50)=1,EY50,EY50+RANK(EZ50,EZ49:EZ52,0)-1))","v":""},{"$f":"IF(OR(FA50=\"\",COUNTIF(FA49:FA52,FA50)=1),\"\",$BX50)","v":""},{"$f":"IF(EY50=\"\",\"\",IF(COUNTIF(FA49:FA52,FA50)=1,FA50,FA50+RANK(FB50,FB49:FB52,0)-1))","v":""},{"$f":"IF(OR(FC50=\"\",COUNTIF(FC49:FC52,FC50)=1),\"\",$BU50)","v":""},{"$f":"IF(EY50=\"\",\"\",IF(COUNTIF(FC49:FC52,FC50)=1,FC50,FC50+RANK(FD50,FD49:FD52,0)-1))","v":""},{"$f":"IF(EN50>0,CG47+DA47+DU47+RANK(FE50,FE49:FE52,1),)","v":0},null,{"$f":"IFERROR(VLOOKUP(FJ50,CF48:CX52,19,FALSE),IFERROR(VLOOKUP(FJ50,CZ48:DR52,19,FALSE),IFERROR(VLOOKUP(FJ50,DT48:EL52,19,FALSE),VLOOKUP(FJ50,EN48:FF52,19,FALSE))))","v":1},{"$f":"RANK(FH50,FH49:FH52,1)+COUNTIF(FH49:FH50,FH50)-1","v":2},{"$f":"BT50","v":"Tjeckien"}]
[null,null,"2024-06-22","Georgien","-","Tjeckien",null,"-",null,"",{"$f":"IF(OR('Resultat & Tabell'!G51=\"\",'Resultat & Tabell'!I51=\"\",G51=\"\",I51=\"\"),0,IF(G51='Resultat & Tabell'!G51,2,0)+IF(I51='Resultat & Tabell'!I51,2,0)+IF(J51='Resultat & Tabell'!J51,3,0))","v":0},{"$f":"IF(VLOOKUP(D51,BT48:CC52,10,FALSE)=VLOOKUP(F51,BT48:CC52,10,FALSE),VLOOKUP(D51,BT48:CC52,10,FALSE),\"-\")","v":1},3,{"$f":"VLOOKUP(M51,FI49:FJ52,2,FALSE)","v":"Georgien"},{"$f":"VLOOKUP(N51,BT49:CA52,2,FALSE)","v":0},{"$f":"VLOOKUP(N51,BT49:CA52,3,FALSE)","v":0},{"$f":"VLOOKUP(N51,BT49:CA52,4,FALSE)","v":0},{"$f":"VLOOKUP(N51,BT49:CA52,5,FALSE)","v":0},{"$f":"VLOOKUP(N51,BT49:CA52,6,FALSE)","v":0},{"$f":"VLOOKUP(N51,BT49:CA52,7,FALSE)","v":0},{"$f":"VLOOKUP(N51,BT49:CA52,8,FALSE)","v":0},null,null,null,null,null,null,null,null,null,"2024-06-22","Georgien","-","Tjeckien","","-","","",null,0,0,0,0,0,0,0,0,0,0,0,0,0,0,0,0,0,0,0,0,0,0,0,0,0,0,0,0,0,0,null,null,"Georgien",{"$f":"(SUMIF(AF4:AF54,BT51,AN4:AN54)+SUMIF(AH4:AH54,BT51,AO4:AO54))","v":0},{"$f":"(SUMIF(AF4:AF54,BT51,AP4:AP54)+SUMIF(AH4:AH54,BT51,AQ4:AQ54))","v":0},{"$f":"(SUMIF(AF4:AF54,BT51,AR4:AR54)+SUMIF(AH4:AH54,BT51,AS4:AS54))","v":0},{"$f":"SUMIF(AF4:AF54,BT51,AI4:AI54)+SUMIF(AH4:AH54,BT51,AK4:AK54)","v":0},{"$f":"SUMIF(AF4:AF54,BT51,AK4:AK54)+SUMIF(AH4:AH54,BT51,AI4:AI54)","v":0},{"$f":"BX51-BY51","v":0},{"$f":"IFERROR(BU51*3+BV51*1,0)","v":0},"F",{"$f":"RANK(CA51,CA49:CA52)","v":1},{"$f":"SUMPRODUCT((CA49:CA52=CA51)*(BZ49:BZ52>BZ51))","v":0},null,{"$f":"IF(CC51=1,BT51,)","v":"Georgien"},{"$f":"(SUMIF(AF4:AF54,BT51,AT4:AT54)+SUMIF(AH4:AH54,BT51,AU4:AU54))","v":0},{"$f":"(SUMIF(AF4:AF54,BT51,AV4:AV54)+SUMIF(AH4:AH54,BT51,AW4:AW54))","v":0},{"$f":"(SUMIF(AF4:AF54,BT51,AX4:AX54)+SUMIF(AH4:AH54,BT51,AY4:AY54))","v":0},0,{"$f":"CB51","v":"F"},{"$f":"IF(CF51>0,RANK(CJ51,CJ49:CJ52),)","v":1},{"$f":"IF(AND(CF51>0,COUNTIF(CL49:CL52,CL51)>1),SUMIFS($AI$4:$AI$54,$AF$4:$AF$54,BT51,$L$4:$L$54,1)+SUMIFS($AK$4:$AK$54,$AH$4:$AH$54,BT51,$L$4:$L$54,1)-SUMIFS($AK$4:$AK$54,$AF$4:$AF$54,BT51,$L$4:$L$54,1)-SUMIFS($AI$4:$AI$54,$AH$4:$AH$54,BT51,$L$4:$L$54,1),)","v":0},{"$f":"IF(AND(CF51>0,COUNTIF(CL49:CL52,CL51)>1),CL51+RANK(CM51,CM49:CM52)-1,CL51)","v":1},{"$f":"IF(AND(CF51>0,COUNTIF(CN49:CN52,CN51)>1),SUMIFS($AI$4:$AI$54,$AF$4:$AF$54,BT51,$L$4:$L$54,1)+SUMIFS($AK$4:$AK$54,$AH$4:$AH$54,BT51,$L$4:$L$54,1),)","v":0},{"$f":"IF(AND(CF51>0,COUNTIF(CN49:CN52,CN51)>1),CN51+RANK(CO51,CO49:CO52)-1,CN51)","v":1},1,{"$f":"IF(OR(CQ51=\"\",COUNTIF(CQ49:CQ52,CQ51)=1),\"\",$BZ51)","v":0},{"$f":"IF(CQ51=\"\",\"\",IF(COUNTIF(CQ49:CQ52,CQ51)=1,CQ51,CQ51+RANK(CR51,CR49:CR52,0)-1))","v":1},{"$f":"IF(OR(CS51=\"\",COUNTIF(CS49:CS52,CS51)=1),\"\",$BX51)","v":0},{"$f":"IF(CQ51=\"\",\"\",IF(COUNTIF(CS49:CS52,CS51)=1,CS51,CS51+RANK(CT51,CT49:CT52,0)-1))","v":1},{"$f":"IF(OR(CU51=\"\",COUNTIF(CU49:CU52,CU51)=1),\"\",$BU51)","v":0},{"$f":"IF(CQ51=\"\",\"\",IF(COUNTIF(CU49:CU52,CU51)=1,CU51,CU51+RANK(CV51,CV49:CV52,0)-1))","v":1},{"$f":"IF(CF51>0,BM47+RANK(CW51,CW49:CW52,1),)","v":1},null,{"$f":"IF(CC51=2,BT51,)","v":0},{"$f":"(SUMIF(AF4:AF54,BT51,AZ4:AZ54)+SUMIF(AH4:AH54,BT51,BA4:BA54))","v":0},{"$f":"(SUMIF(AF4:AF54,BT51,BB4:BB54)+SUMIF(AH4:AH54,BT51,BC4:BC54))","v":0},{"$f":"(SUMIF(AF4:AF54,BT51,BD4:BD54)+SUMIF(AH4:AH54,BT51,BE4:BE54))","v":0},0,{"$f":"CB51","v":"F"},{"$f":"IF(CZ51>0,RANK(DD51,DD49:DD52)+CG47,)","v":0},{"$f":"IF(AND(CZ51>0,COUNTIF(DF49:DF52,DF51)>1),SUMIFS($AI$4:$AI$54,$AF$4:$AF$54,BT51,$L$4:$L$54,2)+SUMIFS($AK$4:$AK$54,$AH$4:$AH$54,BT51,$L$4:$L$54,2)-SUMIFS($AK$4:$AK$54,$AF$4:$AF$54,BT51,$L$4:$L$54,2)-SUMIFS($AI$4:$AI$54,$AH$4:$AH$54,BT51,$L$4:$L$54,2),)","v":0},{"$f":"IF(AND(CZ51>0,COUNTIF(DF49:DF52,DF51)>1),DF51+RANK(DG51,DG49:DG52)-1,DF51)","v":0},{"$f":"IF(AND(CZ51>0,COUNTIF(DH49:DH52,DH51)>1),SUMIFS($AI$4:$AI$54,$AF$4:$AF$54,BT51,$L$4:$L$54,2)+SUMIFS($AK$4:$AK$54,$AH$4:$AH$54,BT51,$L$4:$L$54,2),)","v":0},{"$f":"IF(AND(CZ51>0,COUNTIF(DH49:DH52,DH51)>1),DH51+RANK(DI51,DI49:DI52)-1,DH51)","v":0},"",{"$f":"IF(OR(DK51=\"\",COUNTIF(DK49:DK52,DK51)=1),\"\",$BZ51)","v":""},{"$f":"IF(DK51=\"\",\"\",IF(COUNTIF(DK49:DK52,DK51)=1,DK51,DK51+RANK(DL51,DL49:DL52,0)-1))","v":""},{"$f":"IF(OR(DM51=\"\",COUNTIF(DM49:DM52,DM51)=1),\"\",$BX51)","v":""},{"$f":"IF(DK51=\"\",\"\",IF(COUNTIF(DM49:DM52,DM51)=1,DM51,DM51+RANK(DN51,DN49:DN52,0)-1))","v":""},{"$f":"IF(OR(DO51=\"\",COUNTIF(DO49:DO52,DO51)=1),\"\",$BU51)","v":""},{"$f":"IF(DK51=\"\",\"\",IF(COUNTIF(DO49:DO52,DO51)=1,DO51,DO51+RANK(DP51,DP49:DP52,0)-1))","v":""},{"$f":"IF(CZ51>0,CG47+RANK(DQ51,DQ49:DQ52,1),)","v":0},null,{"$f":"IF(CC51=3,BT51,)","v":0},{"$f":"(SUMIF(AF4:AF54,BT51,BF4:BF54)+SUMIF(AH4:AH54,BT51,BG4:BG54))","v":0},{"$f":"(SUMIF(AF4:AF54,BT51,BH4:BH54)+SUMIF(AH4:AH54,BT51,BI4:BI54))","v":0},{"$f":"(SUMIF(AF4:AF54,BT51,BJ4:BJ54)+SUMIF(AH4:AH54,BT51,BK4:BK54))","v":0},0,{"$f":"CB51","v":"F"},{"$f":"IF(DT51>0,RANK(DX51,DX49:DX52)+CG47+DA47,)","v":0},{"$f":"IF(AND(DT51>0,COUNTIF(DZ49:DZ52,DZ51)>1),SUMIFS($AI$4:$AI$54,$AF$4:$AF$54,BT51,$L$4:$L$54,3)+SUMIFS($AK$4:$AK$54,$AH$4:$AH$54,BT51,$L$4:$L$54,3)-SUMIFS($AK$4:$AK$54,$AF$4:$AF$54,BT51,$L$4:$L$54,3)-SUMIFS($AI$4:$AI$54,$AH$4:$AH$54,BT51,$L$4:$L$54,3),)","v":0},{"$f":"IF(AND(DT51>0,COUNTIF(DZ49:DZ52,DZ51)>1),DZ51+RANK(EA51,EA49:EA52)-1,DZ51)","v":0},{"$f":"IF(AND(DT51>0,COUNTIF(EB49:EB52,EB51)>1),SUMIFS($AI$4:$AI$54,$AF$4:$AF$54,BT51,$L$4:$L$54,3)+SUMIFS($AK$4:$AK$54,$AH$4:$AH$54,BT51,$L$4:$L$54,3),)","v":0},{"$f":"IF(AND(DT51>0,COUNTIF(EB49:EB52,EB51)>1),EB51+RANK(EC51,EC49:EC52)-1,EB51)","v":0},"",{"$f":"IF(OR(EE51=\"\",COUNTIF(EE49:EE52,EE51)=1),\"\",$BZ51)","v":""},{"$f":"IF(EE51=\"\",\"\",IF(COUNTIF(EE49:EE52,EE51)=1,EE51,EE51+RANK(EF51,EF49:EF52,0)-1))","v":""},{"$f":"IF(OR(EG51=\"\",COUNTIF(EG49:EG52,EG51)=1),\"\",$BX51)","v":""},{"$f":"IF(EE51=\"\",\"\",IF(COUNTIF(EG49:EG52,EG51)=1,EG51,EG51+RANK(EH51,EH49:EH52,0)-1))","v":""},{"$f":"IF(OR(EI51=\"\",COUNTIF(EI49:EI52,EI51)=1),\"\",$BU51)","v":""},{"$f":"IF(EE51=\"\",\"\",IF(COUNTIF(EI49:EI52,EI51)=1,EI51,EI51+RANK(EJ51,EJ49:EJ52,0)-1))","v":""},{"$f":"IF(DT51>0,CG47+DA47+RANK(EK51,EK49:EK52,1),)","v":0},null,{"$f":"IF(CC51=4,BT51,)","v":0},{"$f":"(SUMIF(AF4:AF54,BT51,BL4:BL54)+SUMIF(AH4:AH54,BT51,BM4:BM54))","v":0},{"$f":"(SUMIF(AF4:AF54,BT51,BN4:BN54)+SUMIF(AH4:AH54,BT51,BO4:BO54))","v":0},{"$f":"(SUMIF(AF4:AF54,BT51,BP4:BP54)+SUMIF(AH4:AH54,BT51,BQ4:BQ54))","v":0},0,{"$f":"CB51","v":"F"},{"$f":"IF(EN51>0,RANK(ER51,ER49:ER52)+CG47+DA47+DU47,)","v":0},{"$f":"IF(AND(EN51>0,COUNTIF(ET49:ET52,ET51)>1),SUMIFS($AI$4:$AI$54,$AF$4:$AF$54,BT51,$L$4:$L$54,4)+SUMIFS($AK$4:$AK$54,$AH$4:$AH$54,BT51,$L$4:$L$54,4)-SUMIFS($AK$4:$AK$54,$AF$4:$AF$54,BT51,$L$4:$L$54,4)-SUMIFS($AI$4:$AI$54,$AH$4:$AH$54,BT51,$L$4:$L$54,4),)","v":0},{"$f":"IF(AND(EN51>0,COUNTIF(ET4:ET7,ET51)>1),ET51+RANK(EU51,EU4:EU7)-1,ET51)","v":0},{"$f":"IF(AND(EN51>0,COUNTIF(EV49:EV52,EV51)>1),SUMIFS($AI$4:$AI$54,$AF$4:$AF$54,BT51,$L$4:$L$54,4)+SUMIFS($AK$4:$AK$54,$AH$4:$AH$54,BT51,$L$4:$L$54,4),)","v":0},{"$f":"IF(AND(EN51>0,COUNTIF(EV49:EV52,EV51)>1),EV51+RANK(EW51,EW49:EW52)-1,EV51)","v":0},"",{"$f":"IF(OR(EY51=\"\",COUNTIF(EY49:EY52,EY51)=1),\"\",$BZ51)","v":""},{"$f":"IF(EY51=\"\",\"\",IF(COUNTIF(EY49:EY52,EY51)=1,EY51,EY51+RANK(EZ51,EZ49:EZ52,0)-1))","v":""},{"$f":"IF(OR(FA51=\"\",COUNTIF(FA49:FA52,FA51)=1),\"\",$BX51)","v":""},{"$f":"IF(EY51=\"\",\"\",IF(COUNTIF(FA49:FA52,FA51)=1,FA51,FA51+RANK(FB51,FB49:FB52,0)-1))","v":""},{"$f":"IF(OR(FC51=\"\",COUNTIF(FC49:FC52,FC51)=1),\"\",$BU51)","v":""},{"$f":"IF(EY51=\"\",\"\",IF(COUNTIF(FC49:FC52,FC51)=1,FC51,FC51+RANK(FD51,FD49:FD52,0)-1))","v":""},{"$f":"IF(EN51>0,CG47+DA47+DU47+RANK(FE51,FE49:FE52,1),)","v":0},null,{"$f":"IFERROR(VLOOKUP(FJ51,CF48:CX52,19,FALSE),IFERROR(VLOOKUP(FJ51,CZ48:DR52,19,FALSE),IFERROR(VLOOKUP(FJ51,DT48:EL52,19,FALSE),VLOOKUP(FJ51,EN48:FF52,19,FALSE))))","v":1},{"$f":"RANK(FH51,FH49:FH52,1)+COUNTIF(FH49:FH51,FH51)-1","v":3},{"$f":"BT51","v":"Georgien"}]
[null,null,"2024-06-22","Turkiet","-","Portugal",null,"-",null,"",{"$f":"IF(OR('Resultat & Tabell'!G52=\"\",'Resultat & Tabell'!I52=\"\",G52=\"\",I52=\"\"),0,IF(G52='Resultat & Tabell'!G52,2,0)+IF(I52='Resultat & Tabell'!I52,2,0)+IF(J52='Resultat & Tabell'!J52,3,0))","v":0},{"$f":"IF(VLOOKUP(D52,BT48:CC52,10,FALSE)=VLOOKUP(F52,BT48:CC52,10,FALSE),VLOOKUP(D52,BT48:CC52,10,FALSE),\"-\")","v":1},4,{"$f":"VLOOKUP(M52,FI49:FJ52,2,FALSE)","v":"Turkiet"},{"$f":"VLOOKUP(N52,BT49:CA52,2,FALSE)","v":0},{"$f":"VLOOKUP(N52,BT49:CA52,3,FALSE)","v":0},{"$f":"VLOOKUP(N52,BT49:CA52,4,FALSE)","v":0},{"$f":"VLOOKUP(N52,BT49:CA52,5,FALSE)","v":0},{"$f":"VLOOKUP(N52,BT49:CA52,6,FALSE)","v":0},{"$f":"VLOOKUP(N52,BT49:CA52,7,FALSE)","v":0},{"$f":"VLOOKUP(N52,BT49:CA52,8,FALSE)","v":0},null,null,null,null,null,null,null,null,null,"2024-06-22","Turkiet","-","Portugal","","-","","",null,0,0,0,0,0,0,0,0,0,0,0,0,0,0,0,0,0,0,0,0,0,0,0,0,0,0,0,0,0,0,null,null,"Turkiet",{"$f":"(SUMIF(AF4:AF54,BT52,AN4:AN54)+SUMIF(AH4:AH54,BT52,AO4:AO54))","v":0},{"$f":"(SUMIF(AF4:AF54,BT52,AP4:AP54)+SUMIF(AH4:AH54,BT52,AQ4:AQ54))","v":0},{"$f":"(SUMIF(AF4:AF54,BT52,AR4:AR54)+SUMIF(AH4:AH54,BT52,AS4:AS54))","v":0},{"$f":"SUMIF(AF4:AF54,BT52,AI4:AI54)+SUMIF(AH4:AH54,BT52,AK4:AK54)","v":0},{"$f":"SUMIF(AF4:AF54,BT52,AK4:AK54)+SUMIF(AH4:AH54,BT52,AI4:AI54)","v":0},{"$f":"BX52-BY52","v":0},{"$f":"IFERROR(BU52*3+BV52*1,0)","v":0},"F",{"$f":"RANK(CA52,CA49:CA52)","v":1},{"$f":"SUMPRODUCT((CA49:CA52=CA52)*(BZ49:BZ52>BZ52))","v":0},null,{"$f":"IF(CC52=1,BT52,)","v":"Turkiet"},{"$f":"(SUMIF(AF4:AF54,BT52,AT4:AT54)+SUMIF(AH4:AH54,BT52,AU4:AU54))","v":0},{"$f":"(SUMIF(AF4:AF54,BT52,AV4:AV54)+SUMIF(AH4:AH54,BT52,AW4:AW54))","v":0},{"$f":"(SUMIF(AF4:AF54,BT52,AX4:AX54)+SUMIF(AH4:AH54,BT52,AY4:AY54))","v":0},0,{"$f":"CB52","v":"F"},{"$f":"IF(CF52>0,RANK(CJ52,CJ49:CJ52),)","v":1},{"$f":"IF(AND(CF52>0,COUNTIF(CL49:CL52,CL52)>1),SUMIFS($AI$4:$AI$54,$AF$4:$AF$54,BT52,$L$4:$L$54,1)+SUMIFS($AK$4:$AK$54,$AH$4:$AH$54,BT52,$L$4:$L$54,1)-SUMIFS($AK$4:$AK$54,$AF$4:$AF$54,BT52,$L$4:$L$54,1)-SUMIFS($AI$4:$AI$54,$AH$4:$AH$54,BT52,$L$4:$L$54,1),)","v":0},{"$f":"IF(AND(CF52>0,COUNTIF(CL49:CL52,CL52)>1),CL52+RANK(CM52,CM49:CM52)-1,CL52)","v":1},{"$f":"IF(AND(CF52>0,COUNTIF(CN49:CN52,CN52)>1),SUMIFS($AI$4:$AI$54,$AF$4:$AF$54,BT52,$L$4:$L$54,1)+SUMIFS($AK$4:$AK$54,$AH$4:$AH$54,BT52,$L$4:$L$54,1),)","v":0},{"$f":"IF(AND(CF52>0,COUNTIF(CN49:CN52,CN52)>1),CN52+RANK(CO52,CO49:CO52)-1,CN52)","v":1},1,{"$f":"IF(OR(CQ52=\"\",COUNTIF(CQ49:CQ52,CQ52)=1),\"\",$BZ52)","v":0},{"$f":"IF(CQ52=\"\",\"\",IF(COUNTIF(CQ49:CQ52,CQ52)=1,CQ52,CQ52+RANK(CR52,CR49:CR52,0)-1))","v":1},{"$f":"IF(OR(CS52=\"\",COUNTIF(CS49:CS52,CS52)=1),\"\",$BX52)","v":0},{"$f":"IF(CQ52=\"\",\"\",IF(COUNTIF(CS49:CS52,CS52)=1,CS52,CS52+RANK(CT52,CT49:CT52,0)-1))","v":1},{"$f":"IF(OR(CU52=\"\",COUNTIF(CU49:CU52,CU52)=1),\"\",$BU52)","v":0},{"$f":"IF(CQ52=\"\",\"\",IF(COUNTIF(CU49:CU52,CU52)=1,CU52,CU52+RANK(CV52,CV49:CV52,0)-1))","v":1},{"$f":"IF(CF52>0,BM47+RANK(CW52,CW49:CW52,1),)","v":1},null,{"$f":"IF(CC52=2,BT52,)","v":0},{"$f":"(SUMIF(AF4:AF54,BT52,AZ4:AZ54)+SUMIF(AH4:AH54,BT52,BA4:BA54))","v":0},{"$f":"(SUMIF(AF4:AF54,BT52,BB4:BB54)+SUMIF(AH4:AH54,BT52,BC4:BC54))","v":0},{"$f":"(SUMIF(AF4:AF54,BT52,BD4:BD54)+SUMIF(AH4:AH54,BT52,BE4:BE54))","v":0},0,{"$f":"CB52","v":"F"},{"$f":"IF(CZ52>0,RANK(DD52,DD49:DD52)+CG47,)","v":0},{"$f":"IF(AND(CZ52>0,COUNTIF(DF49:DF52,DF52)>1),SUMIFS($AI$4:$AI$54,$AF$4:$AF$54,BT52,$L$4:$L$54,2)+SUMIFS($AK$4:$AK$54,$AH$4:$AH$54,BT52,$L$4:$L$54,2)-SUMIFS($AK$4:$AK$54,$AF$4:$AF$54,BT52,$L$4:$L$54,2)-SUMIFS($AI$4:$AI$54,$AH$4:$AH$54,BT52,$L$4:$L$54,2),)","v":0},{"$f":"IF(AND(CZ52>0,COUNTIF(DF49:DF52,DF52)>1),DF52+RANK(DG52,DG49:DG52)-1,DF52)","v":0},{"$f":"IF(AND(CZ52>0,COUNTIF(DH49:DH52,DH52)>1),SUMIFS($AI$4:$AI$54,$AF$4:$AF$54,BT52,$L$4:$L$54,2)+SUMIFS($AK$4:$AK$54,$AH$4:$AH$54,BT52,$L$4:$L$54,2),)","v":0},{"$f":"IF(AND(CZ52>0,COUNTIF(DH49:DH52,DH52)>1),DH52+RANK(DI52,DI49:DI52)-1,DH52)","v":0},"",{"$f":"IF(OR(DK52=\"\",COUNTIF(DK49:DK52,DK52)=1),\"\",$BZ52)","v":""},{"$f":"IF(DK52=\"\",\"\",IF(COUNTIF(DK49:DK52,DK52)=1,DK52,DK52+RANK(DL52,DL49:DL52,0)-1))","v":""},{"$f":"IF(OR(DM52=\"\",COUNTIF(DM49:DM52,DM52)=1),\"\",$BX52)","v":""},{"$f":"IF(DK52=\"\",\"\",IF(COUNTIF(DM49:DM52,DM52)=1,DM52,DM52+RANK(DN52,DN49:DN52,0)-1))","v":""},{"$f":"IF(OR(DO52=\"\",COUNTIF(DO49:DO52,DO52)=1),\"\",$BU52)","v":""},{"$f":"IF(DK52=\"\",\"\",IF(COUNTIF(DO49:DO52,DO52)=1,DO52,DO52+RANK(DP52,DP49:DP52,0)-1))","v":""},{"$f":"IF(CZ52>0,CG47+RANK(DQ52,DQ49:DQ52,1),)","v":0},null,{"$f":"IF(CC52=3,BT52,)","v":0},{"$f":"(SUMIF(AF4:AF54,BT52,BF4:BF54)+SUMIF(AH4:AH54,BT52,BG4:BG54))","v":0},{"$f":"(SUMIF(AF4:AF54,BT52,BH4:BH54)+SUMIF(AH4:AH54,BT52,BI4:BI54))","v":0},{"$f":"(SUMIF(AF4:AF54,BT52,BJ4:BJ54)+SUMIF(AH4:AH54,BT52,BK4:BK54))","v":0},0,{"$f":"CB52","v":"F"},{"$f":"IF(DT52>0,RANK(DX52,DX49:DX52)+CG47+DA47,)","v":0},{"$f":"IF(AND(DT52>0,COUNTIF(DZ49:DZ52,DZ52)>1),SUMIFS($AI$4:$AI$54,$AF$4:$AF$54,BT52,$L$4:$L$54,3)+SUMIFS($AK$4:$AK$54,$AH$4:$AH$54,BT52,$L$4:$L$54,3)-SUMIFS($AK$4:$AK$54,$AF$4:$AF$54,BT52,$L$4:$L$54,3)-SUMIFS($AI$4:$AI$54,$AH$4:$AH$54,BT52,$L$4:$L$54,3),)","v":0},{"$f":"IF(AND(DT52>0,COUNTIF(DZ49:DZ52,DZ52)>1),DZ52+RANK(EA52,EA49:EA52)-1,DZ52)","v":0},{"$f":"IF(AND(DT52>0,COUNTIF(EB49:EB52,EB52)>1),SUMIFS($AI$4:$AI$54,$AF$4:$AF$54,BT52,$L$4:$L$54,3)+SUMIFS($AK$4:$AK$54,$AH$4:$AH$54,BT52,$L$4:$L$54,3),)","v":0},{"$f":"IF(AND(DT52>0,COUNTIF(EB49:EB52,EB52)>1),EB52+RANK(EC52,EC49:EC52)-1,EB52)","v":0},"",{"$f":"IF(OR(EE52=\"\",COUNTIF(EE49:EE52,EE52)=1),\"\",$BZ52)","v":""},{"$f":"IF(EE52=\"\",\"\",IF(COUNTIF(EE49:EE52,EE52)=1,EE52,EE52+RANK(EF52,EF49:EF52,0)-1))","v":""},{"$f":"IF(OR(EG52=\"\",COUNTIF(EG49:EG52,EG52)=1),\"\",$BX52)","v":""},{"$f":"IF(EE52=\"\",\"\",IF(COUNTIF(EG49:EG52,EG52)=1,EG52,EG52+RANK(EH52,EH49:EH52,0)-1))","v":""},{"$f":"IF(OR(EI52=\"\",COUNTIF(EI49:EI52,EI52)=1),\"\",$BU52)","v":""},{"$f":"IF(EE52=\"\",\"\",IF(COUNTIF(EI49:EI52,EI52)=1,EI52,EI52+RANK(EJ52,EJ49:EJ52,0)-1))","v":""},{"$f":"IF(DT52>0,CG47+DA47+RANK(EK52,EK49:EK52,1),)","v":0},null,{"$f":"IF(CC52=4,BT52,)","v":0},{"$f":"(SUMIF(AF4:AF54,BT52,BL4:BL54)+SUMIF(AH4:AH54,BT52,BM4:BM54))","v":0},{"$f":"(SUMIF(AF4:AF54,BT52,BN4:BN54)+SUMIF(AH4:AH54,BT52,BO4:BO54))","v":0},{"$f":"(SUMIF(AF4:AF54,BT52,BP4:BP54)+SUMIF(AH4:AH54,BT52,BQ4:BQ54))","v":0},0,{"$f":"CB52","v":"F"},{"$f":"IF(EN52>0,RANK(ER52,ER49:ER52)+CG47+DA47+DU47,)","v":0},{"$f":"IF(AND(EN52>0,COUNTIF(ET49:ET52,ET52)>1),SUMIFS($AI$4:$AI$54,$AF$4:$AF$54,BT52,$L$4:$L$54,4)+SUMIFS($AK$4:$AK$54,$AH$4:$AH$54,BT52,$L$4:$L$54,4)-SUMIFS($AK$4:$AK$54,$AF$4:$AF$54,BT52,$L$4:$L$54,4)-SUMIFS($AI$4:$AI$54,$AH$4:$AH$54,BT52,$L$4:$L$54,4),)","v":0},{"$f":"IF(AND(EN52>0,COUNTIF(ET4:ET7,ET52)>1),ET52+RANK(EU52,EU4:EU7)-1,ET52)","v":0},{"$f":"IF(AND(EN52>0,COUNTIF(EV49:EV52,EV52)>1),SUMIFS($AI$4:$AI$54,$AF$4:$AF$54,BT52,$L$4:$L$54,4)+SUMIFS($AK$4:$AK$54,$AH$4:$AH$54,BT52,$L$4:$L$54,4),)","v":0},{"$f":"IF(AND(EN52>0,COUNTIF(EV49:EV52,EV52)>1),EV52+RANK(EW52,EW49:EW52)-1,EV52)","v":0},"",{"$f":"IF(OR(EY52=\"\",COUNTIF(EY49:EY52,EY52)=1),\"\",$BZ52)","v":""},{"$f":"IF(EY52=\"\",\"\",IF(COUNTIF(EY49:EY52,EY52)=1,EY52,EY52+RANK(EZ52,EZ49:EZ52,0)-1))","v":""},{"$f":"IF(OR(FA52=\"\",COUNTIF(FA49:FA52,FA52)=1),\"\",$BX52)","v":""},{"$f":"IF(EY52=\"\",\"\",IF(COUNTIF(FA49:FA52,FA52)=1,FA52,FA52+RANK(FB52,FB49:FB52,0)-1))","v":""},{"$f":"IF(OR(FC52=\"\",COUNTIF(FC49:FC52,FC52)=1),\"\",$BU52)","v":""},{"$f":"IF(EY52=\"\",\"\",IF(COUNTIF(FC50:FC53,FC52)=1,FC52,FC52+RANK(FD52,FD50:FD53,0)-1))","v":""},{"$f":"IF(EN52>0,CG47+DA47+DU47+RANK(FE52,FE49:FE52,1),)","v":0},null,{"$f":"IFERROR(VLOOKUP(FJ52,CF48:CX52,19,FALSE),IFERROR(VLOOKUP(FJ52,CZ48:DR52,19,FALSE),IFERROR(VLOOKUP(FJ52,DT48:EL52,19,FALSE),VLOOKUP(FJ52,EN48:FF52,19,FALSE))))","v":1},{"$f":"RANK(FH52,FH49:FH52,1)+COUNTIF(FH49:FH52,FH52)-1","v":4},{"$f":"BT52","v":"Turkiet"}]
[null,null,"2024-06-26","Georgien","-","Portugal",null,"-",null,"",{"$f":"IF(OR('Resultat & Tabell'!G53=\"\",'Resultat & Tabell'!I53=\"\",G53=\"\",I53=\"\"),0,IF(G53='Resultat & Tabell'!G53,2,0)+IF(I53='Resultat & Tabell'!I53,2,0)+IF(J53='Resultat & Tabell'!J53,3,0))","v":0},{"$f":"IF(VLOOKUP(D53,BT48:CC52,10,FALSE)=VLOOKUP(F53,BT48:CC52,10,FALSE),VLOOKUP(D53,BT48:CC52,10,FALSE),\"-\")","v":1},null,{"$f":"IF(COUNTBLANK(G49:G54)+COUNTBLANK(I49:I54)=0,\"Resultat OK\",\"Fyll i resultat\")","v":"Fyll i resultat"},{"$f":"IF(COUNTBLANK(G49:G54)+COUNTBLANK(I49:I54)=0,\"Resultat OK\",\"Fyll i resultat\")","v":"Fyll i resultat"},null,null,null,null,null,null,null,null,null,null,null,null,null,null,null,"2024-06-26","Georgien","-","Portugal","","-","","",null,0,0,0,0,0,0,0,0,0,0,0,0,0,0,0,0,0,0,0,0,0,0,0,0,0,0,0,0,0,0]
[null,null,"2024-06-26","Tjeckien","-","Turkiet",null,"-",null,"",{"$f":"IF(OR('Resultat & Tabell'!G54=\"\",'Resultat & Tabell'!I54=\"\",G54=\"\",I54=\"\"),0,IF(G54='Resultat & Tabell'!G54,2,0)+IF(I54='Resultat & Tabell'!I54,2,0)+IF(J54='Resultat & Tabell'!J54,3,0))","v":0},{"$f":"IF(VLOOKUP(D54,BT48:CC52,10,FALSE)=VLOOKUP(F54,BT48:CC52,10,FALSE),VLOOKUP(D54,BT48:CC52,10,FALSE),\"-\")","v":1},null,null,null,null,null,null,null,null,null,null,null,null,null,null,null,null,null,null,"2024-06-26","Tjeckien","-","Turkiet","","-","","",null,0,0,0,0,0,0,0,0,0,0,0,0,0,0,0,0,0,0,0,0,0,0,0,0,0,0,0,0,0,0]
[]
[null,null,"Åttondelsfinaler",null,null,null,null,null,null,null,null,null,null,null,null,null,null,null,null,null,null,null,null,null,null,null,null,null,null,null,"Åttondelsfinaler"]
["#","#","Datum","Match",null,null,"Resultat",null,null,"Tecken","Poäng",null,null,"Vinnare åttondelsfinal",null,null,"Bonuspoäng",null,null,null,null,null,null,null,null,null,null,null,null,null,"Datum","Match",null,null,"Resultat",null,null,"Tecken","Poäng",null,null,null,null,null,null,"Åttondelsfinaler",null,null,null,null,"List"]
[38,8,"2024-06-29",{"$f":"IF($N$8=\"Resultat OK\",$N$5,\"Tvåa grupp A\")","v":"Tvåa grupp A"},"-",{"$f":"IF($N$17=\"Resultat OK\",$N$14,\"Tvåa grupp B\")","v":"Tvåa grupp B"},null,"-",null,{"$f":"IF(OR(ISBLANK(G58),ISBLANK(I58)),\"\",IF(G58>I58,1,IF(G58<I58,2,\"X\")))","v":""},{"$f":"IF(OR('Resultat & Tabell'!G58=\"\",'Resultat & Tabell'!I58=\"\",G58=\"\",I58=\"\"),0,IF(G58='Resultat & Tabell'!G58,2,0)+IF(I58='Resultat & Tabell'!I58,2,0)+IF(J58='Resultat & Tabell'!J58,3,0))","v":0},null,null,null,{"$f":"IF(OR(ISBLANK(D58),ISBLANK(F58),J58=\"\",N58=\"\"),\"\",IF(OR(AND(J58=1,N58=D58),AND(J58=2,F58=N58),AND(J58=\"X\",OR(N58=D58,N58=F58))),\"\",\"Ej OK\"))","v":""},null,{"$f":"AW75","v":0},null,null,null,null,{"$f":"IF(OR(ISBLANK(D76),ISBLANK(F76),J76=\"\",M76=\"\"),\"\",IF(OR(AND(J76=1,M76=D76),AND(J76=2,M76=F76),AND(J76=\"X\",OR(M76=D76,M76=F76))),\"\",\"Ej OK\"))","v":""},null,null,null,null,null,null,null,null,{"$f":"C58","v":"2024-06-29"},"Tvåa grupp A","-","Tvåa grupp B",{"$f":"IF(G58=\"\",\"\",G58)","v":""},"-",{"$f":"IF(I58=\"\",\"\",I58)","v":""},{"$f":"J58","v":""},null,null,null,null,null,null,null,"Mitt tips","Resultat & tabell","Utfall","Poäng",null,{"$f":"D58","v":"Tvåa grupp A"},{"$f":"F58","v":"Tvåa grupp B"}]
[37,2,"2024-06-29",{"$f":"IF($N$8=\"Resultat OK\",$N$4,\"Vinnare grupp A\")","v":"Vinnare grupp A"},"-",{"$f":"IF($N$26=\"Resultat OK\",$N$23,\"Tvåa grupp C\")","v":"Tvåa grupp C"},null,"-",null,{"$f":"IF(OR(ISBLANK(G59),ISBLANK(I59)),\"\",IF(G59>I59,1,IF(G59<I59,2,\"X\")))","v":""},{"$f":"IF(OR('Resultat & Tabell'!G59=\"\",'Resultat & Tabell'!I59=\"\",G59=\"\",I59=\"\"),0,IF(G59='Resultat & Tabell'!G59,2,0)+IF(I59='Resultat & Tabell'!I59,2,0)+IF(J59='Resultat & Tabell'!J59,3,0))","v":0},null,null,null,{"$f":"IF(OR(ISBLANK(D59),ISBLANK(F59),J59=\"\",N59=\"\"),\"\",IF(OR(AND(J59=1,N59=D59),AND(J59=2,F59=N59),AND(J59=\"X\",OR(N59=D59,N59=F59))),\"\",\"Ej OK\"))","v":""},null,null,null,null,null,null,null,null,null,null,null,null,null,null,null,"2024-06-29","Vinnare grupp A","-","Tvåa grupp C","","-","","",null,null,null,null,null,null,null,{"$f":"D58","v":"Tvåa grupp A"},{"$f":"IF(OR('Resultat & Tabell'!G58=\"\",'Resultat & Tabell'!I58=\"\"),\"\",'Resultat & Tabell'!D58)","v":""},{"$f":"IF(ISERROR(VLOOKUP(AT59,AU59:AU74,1,FALSE)),0,1)","v":0},{"$f":"2*AV59","v":0},null,"Vinnare grupp A","Tvåa grupp C"]
[40,7,"2024-06-30",{"$f":"IF($N$26=\"Resultat OK\",$N$22,\"Vinnare grupp C\")","v":"Vinnare grupp C"},"-",{"$f":"IF(FM12=\"Resultat OK\",HLOOKUP(\"C\",GF2:GF17,FZ2),\"Trea D/E/F\")","v":"Trea D/E/F"},null,"-",null,"",{"$f":"IF(OR('Resultat & Tabell'!G60=\"\",'Resultat & Tabell'!I60=\"\",G60=\"\",I60=\"\"),0,IF(G60='Resultat & Tabell'!G60,2,0)+IF(I60='Resultat & Tabell'!I60,2,0)+IF(J60='Resultat & Tabell'!J60,3,0))","v":0},null,null,null,{"$f":"IF(OR(ISBLANK(D60),ISBLANK(F60),J60=\"\",N60=\"\"),\"\",IF(OR(AND(J60=1,N60=D60),AND(J60=2,F60=N60),AND(J60=\"X\",OR(N60=D60,N60=F60))),\"\",\"Ej OK\"))","v":""},null,null,null,null,null,null,null,null,null,null,null,null,null,null,null,"2024-06-30","Vinnare grupp C","-","Trea D/E/F","","-","","",null,null,null,null,null,null,null,"Vinnare grupp A",{"$f":"IF(OR('Resultat & Tabell'!G59=\"\",'Resultat & Tabell'!I59=\"\"),\"\",'Resultat & Tabell'!D59)","v":""},{"$f":"IF(ISERROR(VLOOKUP(AT60,AU59:AU74,1,FALSE)),0,1)","v":0},{"$f":"2*AV60","v":0},null,"Vinnare grupp C","Trea D/E/F"]
[39,1,"2024-06-30",{"$f":"IF($N$17=\"Resultat OK\",$N$13,\"Vinnare grupp B\")","v":"Vinnare grupp B"},"-",{"$f":"IF(FM12=\"Resultat OK\",HLOOKUP(\"B\",GE2:GE17,FZ2),\"Trea A/D/E/F\")","v":"Trea A/D/E/F"},null,"-",null,"",{"$f":"IF(OR('Resultat & Tabell'!G61=\"\",'Resultat & Tabell'!I61=\"\",G61=\"\",I61=\"\"),0,IF(G61='Resultat & Tabell'!G61,2,0)+IF(I61='Resultat & Tabell'!I61,2,0)+IF(J61='Resultat & Tabell'!J61,3,0))","v":0},null,null,null,"",null,null,null,null,null,null,null,null,null,null,null,null,null,null,null,"2024-06-30","Vinnare grupp B","-","Trea A/D/E/F","","-","","",null,null,null,null,null,null,null,"Vinnare grupp C",{"$f":"IF(OR('Resultat & Tabell'!G60=\"\",'Resultat & Tabell'!I60=\"\"),\"\",'Resultat & Tabell'!D60)","v":""},{"$f":"IF(ISERROR(VLOOKUP(AT61,AU59:AU74,1,FALSE)),0,1)","v":0},0,null,"Vinnare grupp B","Trea A/D/E/F"]
[42,4,"2024-07-01",{"$f":"IF($N$35=\"Resultat OK\",$N$32,\"Tvåa grupp D\")","v":"Tvåa grupp D"},"-",{"$f":"IF($N$44=\"Resultat OK\",$N$41,\"Tvåa grupp E\")","v":"Tvåa grupp E"},null,"-",null,"",{"$f":"IF(OR('Resultat & Tabell'!G62=\"\",'Resultat & Tabell'!I62=\"\",G62=\"\",I62=\"\"),0,IF(G62='Resultat & Tabell'!G62,2,0)+IF(I62='Resultat & Tabell'!I62,2,0)+IF(J62='Resultat & Tabell'!J62,3,0))","v":0},null,null,null,"",null,null,null,null,null,null,null,null,null,null,null,null,null,null,null,"2024-07-01","Tvåa grupp D","-","Tvåa grupp E","","-","","",null,null,null,null,null,null,null,"Vinnare grupp B",{"$f":"IF(OR('Resultat & Tabell'!G61=\"\",'Resultat & Tabell'!I61=\"\"),\"\",'Resultat & Tabell'!D61)","v":""},{"$f":"IF(ISERROR(VLOOKUP(AT62,AU59:AU74,1,FALSE)),0,1)","v":0},0,null,"Tvåa grupp D","Tvåa grupp E"]
[41,3,"2024-07-01",{"$f":"IF($N$53=\"Resultat OK\",$N$49,\"Vinnare grupp F\")","v":"Vinnare grupp F"},"-",{"$f":"IF(FM12=\"Resultat OK\",HLOOKUP(\"F\",GH2:GH17,FZ2),\"Trea A/B/C\")","v":"Trea A/B/C"},null,"-",null,"",{"$f":"IF(OR('Resultat & Tabell'!G63=\"\",'Resultat & Tabell'!I63=\"\",G63=\"\",I63=\"\"),0,IF(G63='Resultat & Tabell'!G63,2,0)+IF(I63='Resultat & Tabell'!I63,2,0)+IF(J63='Resultat & Tabell'!J63,3,0))","v":0},null,null,null,"",null,null,null,null,null,null,null,null,null,null,null,null,null,null,null,"2024-07-01","Vinnare grupp F","-","Trea A/B/C","","-","","",null,null,null,null,null,null,null,"Tvåa grupp D",{"$f":"IF(OR('Resultat & Tabell'!G62=\"\",'Resultat & Tabell'!I62=\"\"),\"\",'Resultat & Tabell'!D62)","v":""},{"$f":"IF(ISERROR(VLOOKUP(AT63,AU59:AU74,1,FALSE)),0,1)","v":0},0,null,"Vinnare grupp F","Trea A/B/C"]
[43,5,"2024-07-02",{"$f":"IF($N$44=\"Resultat OK\",$N$40,\"Vinnare grupp E\")","v":"Vinnare grupp E"},"-",{"$f":"IF(FM12=\"Resultat OK\",HLOOKUP(\"E\",GG2:GG17,FZ2),\"Trea A/B/C/D\")","v":"Trea A/B/C/D"},null,"-",null,{"$f":"IF(OR(ISBLANK(G64),ISBLANK(I64)),\"\",IF(G64>I64,1,IF(G64<I64,2,\"X\")))","v":""},{"$f":"IF(OR('Resultat & Tabell'!G64=\"\",'Resultat & Tabell'!I64=\"\",G64=\"\",I64=\"\"),0,IF(G64='Resultat & Tabell'!G64,2,0)+IF(I64='Resultat & Tabell'!I64,2,0)+IF(J64='Resultat & Tabell'!J64,3,0))","v":0},null,null,null,"",null,null,null,null,null,null,null,null,null,null,null,null,null,null,null,"2024-07-02","Vinnare grupp E","-","Trea A/B/C/D","","-","","",null,null,null,null,null,null,null,"Vinnare grupp F",{"$f":"IF(OR('Resultat & Tabell'!G63=\"\",'Resultat & Tabell'!I63=\"\"),\"\",'Resultat & Tabell'!D63)","v":""},{"$f":"IF(ISERROR(VLOOKUP(AT64,AU59:AU74,1,FALSE)),0,1)","v":0},0,null,"Vinnare grupp E","Trea A/B/C/D"]
[44,6,"2024-07-02",{"$f":"IF($N$35=\"Resultat OK\",$N$31,\"Vinnare grupp D\")","v":"Vinnare grupp D"},"-",{"$f":"IF($N$53=\"Resultat OK\",$N$50,\"Tvåa grupp F\")","v":"Tvåa grupp F"},null,"-",null,"",{"$f":"IF(OR('Resultat & Tabell'!G65=\"\",'Resultat & Tabell'!I65=\"\",G65=\"\",I65=\"\"),0,IF(G65='Resultat & Tabell'!G65,2,0)+IF(I65='Resultat & Tabell'!I65,2,0)+IF(J65='Resultat & Tabell'!J65,3,0))","v":0},null,null,null,"",null,null,null,null,null,null,null,null,null,null,null,null,null,null,null,"2024-07-02","Vinnare grupp D","-","Tvåa grupp F","","-","","",null,null,null,null,null,null,null,"Vinnare grupp E",{"$f":"IF(OR('Resultat & Tabell'!G64=\"\",'Resultat & Tabell'!I64=\"\"),\"\",'Resultat & Tabell'!D64)","v":""},{"$f":"IF(ISERROR(VLOOKUP(AT65,AU59:AU74,1,FALSE)),0,1)","v":0},0,null,"Vinnare grupp D","Tvåa grupp F"]
[null,null,null,null,null,null,null,null,null,null,null,null,null,null,null,null,null,null,null,null,null,null,null,null,null,null,null,null,null,null,null,null,null,null,null,null,null,null,null,null,null,null,null,null,null,"Vinnare grupp D",{"$f":"IF(OR('Resultat & Tabell'!G65=\"\",'Resultat & Tabell'!I65=\"\"),\"\",'Resultat & Tabell'!D65)","v":""},{"$f":"IF(ISERROR(VLOOKUP(AT66,AU59:AU74,1,FALSE)),0,1)","v":0},0]
[null,null,"Kvartsfinaler",null,null,null,null,null,null,null,null,null,null,null,null,null,null,null,null,null,null,null,null,null,null,null,null,null,null,null,"Kvartsfinaler",null,null,null,null,null,null,null,null,null,null,null,null,null,null,{"$f":"F58","v":"Tvåa grupp B"},{"$f":"IF(OR('Resultat & Tabell'!G58=\"\",'Resultat & Tabell'!I58=\"\"),\"\",'Resultat & Tabell'!F58)","v":""},{"$f":"IF(ISERROR(VLOOKUP(AT67,AU59:AU74,1,FALSE)),0,1)","v":0},0]
["#","#","Datum","Match",null,null,"Resultat",null,null,"Tecken","Poäng",null,null,"Vinnare kvartsfinal",null,null,"Bonuspoäng",null,null,null,null,null,null,null,null,null,null,null,null,null,"Datum","Match",null,null,"Resultat",null,null,"Tecken","Poäng",null,null,null,null,null,null,"Tvåa grupp C",{"$f":"IF(OR('Resultat & Tabell'!G59=\"\",'Resultat & Tabell'!I59=\"\"),\"\",'Resultat & Tabell'!F59)","v":""},{"$f":"IF(ISERROR(VLOOKUP(AT68,AU59:AU74,1,FALSE)),0,1)","v":0},0]
[45,1,"2021-07-05",{"$f":"IF(OR(N61=\"\",N61=\"Fyll i vinnare oavgjort\"),\"Vinnare match 39\",N61)","v":"Vinnare match 39"},"-",{"$f":"IF(OR(N59=\"\",N59=\"Fyll i vinnare oavgjort\"),\"Vinnare match 37\",N59)","v":"Vinnare match 37"},null,"-",null,{"$f":"IF(OR(ISBLANK(G69),ISBLANK(I69)),\"\",IF(G69>I69,1,IF(G69<I69,2,\"X\")))","v":""},{"$f":"IF(OR('Resultat & Tabell'!G69=\"\",'Resultat & Tabell'!I69=\"\",G69=\"\",I69=\"\"),0,IF(G69='Resultat & Tabell'!G69,2,0)+IF(I69='Resultat & Tabell'!I69,2,0)+IF(J69='Resultat & Tabell'!J69,3,0))","v":0},null,null,null,{"$f":"IF(OR(ISBLANK(D69),ISBLANK(F69),J69=\"\",N69=\"\"),\"\",IF(OR(AND(J69=1,N69=D69),AND(J69=2,F69=N69),AND(J69=\"X\",OR(N69=D69,N69=F69))),\"\",\"Ej OK\"))","v":""},null,{"$f":"AW86","v":0},null,null,null,null,null,null,null,null,null,null,null,null,null,{"$f":"C69","v":"2021-07-05"},"Vinnare match 39","-","Vinnare match 37",{"$f":"IF(G69=\"\",\"\",G69)","v":""},"-",{"$f":"IF(I69=\"\",\"\",I69)","v":""},{"$f":"J69","v":""},null,null,null,null,null,null,null,"Trea D/E/F",{"$f":"IF(OR('Resultat & Tabell'!G60=\"\",'Resultat & Tabell'!I60=\"\"),\"\",'Resultat & Tabell'!F60)","v":""},{"$f":"IF(ISERROR(VLOOKUP(AT69,AU59:AU74,1,FALSE)),0,1)","v":0},0,null,{"$f":"D69","v":"Vinnare match 39"},{"$f":"F69","v":"Vinnare match 37"}]
[46,2,"2021-07-05",{"$f":"IF(OR(N63=\"\",N63=\"Fyll i vinnare oavgjort\"),\"Vinnare match 41\",N63)","v":"Vinnare match 41"},"-",{"$f":"IF(OR(N62=\"\",N62=\"Fyll i vinnare oavgjort\"),\"Vinnare match 42\",N62)","v":"Vinnare match 42"},null,"-",null,"",{"$f":"IF(OR('Resultat & Tabell'!G70=\"\",'Resultat & Tabell'!I70=\"\",G70=\"\",I70=\"\"),0,IF(G70='Resultat & Tabell'!G70,2,0)+IF(I70='Resultat & Tabell'!I70,2,0)+IF(J70='Resultat & Tabell'!J70,3,0))","v":0},null,null,null,{"$f":"IF(OR(ISBLANK(D70),ISBLANK(F70),J70=\"\",N70=\"\"),\"\",IF(OR(AND(J70=1,N70=D70),AND(J70=2,F70=N70),AND(J70=\"X\",OR(N70=D70,N70=F70))),\"\",\"Ej OK\"))","v":""},null,null,null,null,null,null,null,null,null,null,null,null,null,null,null,"2021-07-05","Vinnare match 41","-","Vinnare match 42",{"$f":"IF(G70=\"\",\"\",G70)","v":""},"-",{"$f":"IF(I70=\"\",\"\",I70)","v":""},{"$f":"J70","v":""},null,null,null,null,null,null,null,"Trea A/D/E/F",{"$f":"IF(OR('Resultat & Tabell'!G61=\"\",'Resultat & Tabell'!I61=\"\"),\"\",'Resultat & Tabell'!F61)","v":""},{"$f":"IF(ISERROR(VLOOKUP(AT70,AU59:AU74,1,FALSE)),0,1)","v":0},0,null,{"$f":"D70","v":"Vinnare match 41"},{"$f":"F70","v":"Vinnare match 42"}]
[48,4,"2021-07-06",{"$f":"IF(OR(N60=\"\",N60=\"Fyll i vinnare oavgjort\"),\"Vinnare match 40\",N60)","v":"Vinnare match 40"},"-",{"$f":"IF(OR(N58=\"\",N58=\"Fyll i vinnare oavgjort\"),\"Vinnare match 38\",N58)","v":"Vinnare match 38"},null,"-",null,"",{"$f":"IF(OR('Resultat & Tabell'!G71=\"\",'Resultat & Tabell'!I71=\"\",G71=\"\",I71=\"\"),0,IF(G71='Resultat & Tabell'!G71,2,0)+IF(I71='Resultat & Tabell'!I71,2,0)+IF(J71='Resultat & Tabell'!J71,3,0))","v":0},null,null,null,{"$f":"IF(OR(ISBLANK(D71),ISBLANK(F71),J71=\"\",N71=\"\"),\"\",IF(OR(AND(J71=1,N71=D71),AND(J71=2,F71=N71),AND(J71=\"X\",OR(N71=D71,N71=F71))),\"\",\"Ej OK\"))","v":""},null,null,null,null,null,null,null,null,null,null,null,null,null,null,null,"2021-07-06","Vinnare match 40","-","Vinnare match 38",{"$f":"IF(G71=\"\",\"\",G71)","v":""},"-",{"$f":"IF(I71=\"\",\"\",I71)","v":""},{"$f":"J71","v":""},null,null,null,null,null,null,null,"Tvåa grupp E",{"$f":"IF(OR('Resultat & Tabell'!G62=\"\",'Resultat & Tabell'!I62=\"\"),\"\",'Resultat & Tabell'!F62)","v":""},{"$f":"IF(ISERROR(VLOOKUP(AT71,AU59:AU74,1,FALSE)),0,1)","v":0},0,null,{"$f":"D71","v":"Vinnare match 40"},{"$f":"F71","v":"Vinnare match 38"}]
[47,3,"2021-07-06",{"$f":"IF(OR(N64=\"\",N64=\"Fyll i vinnare oavgjort\"),\"Vinnare match 43\",N64)","v":"Vinnare match 43"},"-",{"$f":"IF(OR(N65=\"\",N65=\"Fyll i vinnare oavgjort\"),\"Vinnare match 44\",N65)","v":"Vinnare match 44"},null,"-",null,"",{"$f":"IF(OR('Resultat & Tabell'!G72=\"\",'Resultat & Tabell'!I72=\"\",G72=\"\",I72=\"\"),0,IF(G72='Resultat & Tabell'!G72,2,0)+IF(I72='Resultat & Tabell'!I72,2,0)+IF(J72='Resultat & Tabell'!J72,3,0))","v":0},null,null,null,{"$f":"IF(OR(ISBLANK(D72),ISBLANK(F72),J72=\"\",N72=\"\"),\"\",IF(OR(AND(J72=1,N72=D72),AND(J72=2,F72=N72),AND(J72=\"X\",OR(N72=D72,N72=F72))),\"\",\"Ej OK\"))","v":""},null,null,null,null,null,null,null,null,null,null,null,null,null,null,null,"2021-07-06","Vinnare match 43","-","Vinnare match 44",{"$f":"IF(G72=\"\",\"\",G72)","v":""},"-",{"$f":"IF(I72=\"\",\"\",I72)","v":""},{"$f":"J72","v":""},null,null,null,null,null,null,null,"Trea A/B/C",{"$f":"IF(OR('Resultat & Tabell'!G63=\"\",'Resultat & Tabell'!I63=\"\"),\"\",'Resultat & Tabell'!F63)","v":""},{"$f":"IF(ISERROR(VLOOKUP(AT72,AU59:AU74,1,FALSE)),0,1)","v":0},0,null,{"$f":"D72","v":"Vinnare match 43"},{"$f":"F72","v":"Vinnare match 44"}]
[null,null,null,null,null,null,null,null,null,null,null,null,null,null,null,null,null,null,null,null,null,null,null,null,null,null,null,null,null,null,null,null,null,null,null,null,null,null,null,null,null,null,null,null,null,"Trea A/B/C/D",{"$f":"IF(OR('Resultat & Tabell'!G64=\"\",'Resultat & Tabell'!I64=\"\"),\"\",'Resultat & Tabell'!F64)","v":""},{"$f":"IF(ISERROR(VLOOKUP(AT73,AU59:AU74,1,FALSE)),0,1)","v":0},0]
[null,null,"Semifinaler",null,null,null,null,null,null,null,null,null,null,null,null,null,null,null,null,null,null,null,null,null,null,null,null,null,null,null,"Semifinaler",null,null,null,null,null,null,null,null,null,null,null,null,null,null,"Tvåa grupp F",{"$f":"IF(OR('Resultat & Tabell'!G65=\"\",'Resultat & Tabell'!I65=\"\"),\"\",'Resultat & Tabell'!F65)","v":""},{"$f":"IF(ISERROR(VLOOKUP(AT74,AU59:AU74,1,FALSE)),0,1)","v":0},0]
["#","#","Datum","Match",null,null,"Resultat",null,null,"Tecken","Poäng",null,null,"Vinnare semifinal",null,null,"Bonuspoäng",null,null,null,null,null,null,null,null,null,null,null,null,null,"Datum","Match",null,null,"Resultat",null,null,"Tecken","Poäng",null,null,null,null,null,null,null,null,"SUMMA",{"$f":"SUM(AW59:AW74)","v":0}]
[49,1,"2021-07-09",{"$f":"IF(OR(N69=\"\",N69=\"Fyll i vinnare oavgjort\"),\"Vinnare match 45\",N69)","v":"Vinnare match 45"},"-",{"$f":"IF(OR(N70=\"\",N70=\"Fyll i vinnare oavgjort\"),\"Vinnare match 46\",N70)","v":"Vinnare match 46"},null,"-",null,{"$f":"IF(OR(ISBLANK(G76),ISBLANK(I76)),\"\",IF(G76>I76,1,IF(G76<I76,2,\"X\")))","v":""},{"$f":"IF(OR('Resultat & Tabell'!G76=\"\",'Resultat & Tabell'!I76=\"\",G76=\"\",I76=\"\"),0,IF(G76='Resultat & Tabell'!G76,2,0)+IF(I76='Resultat & Tabell'!I76,2,0)+IF(J76='Resultat & Tabell'!J76,3,0))","v":0},null,null,null,{"$f":"IF(OR(ISBLANK(D76),ISBLANK(F76),J76=\"\",N76=\"\"),\"\",IF(OR(AND(J76=1,N76=D76),AND(J76=2,F76=N76),AND(J76=\"X\",OR(N76=D76,N76=F76))),\"\",\"Ej OK\"))","v":""},null,{"$f":"AW93","v":0},null,null,null,null,null,null,null,null,null,null,null,null,null,{"$f":"C76","v":"2021-07-09"},"Vinnare match 45","-","Vinnare match 46",{"$f":"IF(G76=\"\",\"\",G76)","v":""},"-",{"$f":"IF(I76=\"\",\"\",I76)","v":""},{"$f":"J76","v":""},null,null,null,null,null,null,null,"Kvartsfinaler",null,null,null,null,{"$f":"D76","v":"Vinnare match 45"},{"$f":"F76","v":"Vinnare match 46"}]
[50,2,"2021-07-10",{"$f":"IF(OR(N72=\"\",N72=\"Fyll i vinnare oavgjort\"),\"Vinnare match 47\",N72)","v":"Vinnare match 47"},"-",{"$f":"IF(OR(N71=\"\",N71=\"Fyll i vinnare oavgjort\"),\"Vinnare match 48\",N71)","v":"Vinnare match 48"},null,"-",null,"",{"$f":"IF(OR('Resultat & Tabell'!G77=\"\",'Resultat & Tabell'!I77=\"\",G77=\"\",I77=\"\"),0,IF(G77='Resultat & Tabell'!G77,2,0)+IF(I77='Resultat & Tabell'!I77,2,0)+IF(J77='Resultat & Tabell'!J77,3,0))","v":0},null,null,null,{"$f":"IF(OR(ISBLANK(D77),ISBLANK(F77),J77=\"\",N77=\"\"),\"\",IF(OR(AND(J77=1,N77=D77),AND(J77=2,F77=N77),AND(J77=\"X\",OR(N77=D77,N77=F77))),\"\",\"Ej OK\"))","v":""},null,null,null,null,null,null,null,null,null,null,null,null,null,null,null,"2021-07-10","Vinnare match 47","-","Vinnare match 48",{"$f":"IF(G77=\"\",\"\",G77)","v":""},"-",{"$f":"IF(I77=\"\",\"\",I77)","v":""},{"$f":"J77","v":""},null,null,null,null,null,null,null,"Mitt tips","Resultat & tabell","Utfall","Poäng",null,{"$f":"D77","v":"Vinnare match 47"},{"$f":"F77","v":"Vinnare match 48"}]
[null,null,null,null,null,null,null,null,null,null,null,null,null,null,null,null,null,null,null,null,null,null,null,null,null,null,null,null,null,null,null,null,null,null,null,null,null,null,null,null,null,null,null,null,null,{"$f":"D69","v":"Vinnare match 39"},{"$f":"IF(OR('Resultat & Tabell'!G69=\"\",'Resultat & Tabell'!I69=\"\"),\"\",'Resultat & Tabell'!D69)","v":""},{"$f":"IF(ISERROR(VLOOKUP(AT78,AU78:AU85,1,FALSE)),0,1)","v":0},{"$f":"4*AV78","v":0}]
[null,null,"Final",null,null,null,null,null,null,null,null,null,null,null,null,null,null,null,null,null,null,null,null,null,null,null,null,null,null,null,"Final",null,null,null,null,null,null,null,null,null,null,null,null,null,null,{"$f":"D70","v":"Vinnare match 41"},{"$f":"IF(OR('Resultat & Tabell'!G70=\"\",'Resultat & Tabell'!I70=\"\"),\"\",'Resultat & Tabell'!D70)","v":""},{"$f":"IF(ISERROR(VLOOKUP(AT79,AU78:AU85,1,FALSE)),0,1)","v":0},{"$f":"4*AV79","v":0}]
["#","#","Datum","Match",null,null,"Resultat",null,null,"Tecken","Poäng",null,null,null,null,null,"Bonuspoäng",null,null,null,null,null,null,null,null,null,null,null,null,null,"Datum","Match",null,null,"Resultat",null,null,"Tecken","Poäng",null,null,null,null,null,null,{"$f":"D71","v":"Vinnare match 40"},{"$f":"IF(OR('Resultat & Tabell'!G71=\"\",'Resultat & Tabell'!I71=\"\"),\"\",'Resultat & Tabell'!D71)","v":""},{"$f":"IF(ISERROR(VLOOKUP(AT80,AU78:AU85,1,FALSE)),0,1)","v":0},0]
[51,null,"2021-07-14",{"$f":"IF(OR(N76=\"\",N76=\"Fyll i vinnare oavgjort\"),\"Vinnare match 49\",N76)","v":"Vinnare match 49"},"-",{"$f":"IF(OR(N77=\"\",N77=\"Fyll i vinnare oavgjort\"),\"Vinnare match 50\",N77)","v":"Vinnare match 50"},null,"-",null,{"$f":"IF(OR(ISBLANK(G81),ISBLANK(I81)),\"\",IF(G81>I81,1,IF(G81<I81,2,\"X\")))","v":""},{"$f":"IF(OR('Resultat & Tabell'!G81=\"\",'Resultat & Tabell'!I81=\"\",G81=\"\",I81=\"\"),0,IF(G81='Resultat & Tabell'!G81,2,0)+IF(I81='Resultat & Tabell'!I81,2,0)+IF(J81='Resultat & Tabell'!J81,3,0))","v":0},null,null,null,null,null,{"$f":"AW98","v":0},null,null,null,null,null,null,null,null,null,null,null,null,null,{"$f":"C81","v":"2021-07-14"},{"$f":"D81","v":"Vinnare match 49"},{"$f":"E81","v":"-"},{"$f":"F81","v":"Vinnare match 50"},{"$f":"IF(G81=\"\",\"\",G81)","v":""},"-",{"$f":"IF(I81=\"\",\"\",I81)","v":""},{"$f":"J81","v":""},null,null,null,null,null,null,null,{"$f":"D72","v":"Vinnare match 43"},{"$f":"IF(OR('Resultat & Tabell'!G72=\"\",'Resultat & Tabell'!I72=\"\"),\"\",'Resultat & Tabell'!D72)","v":""},{"$f":"IF(ISERROR(VLOOKUP(AT81,AU78:AU85,1,FALSE)),0,1)","v":0},0,null,{"$f":"D81","v":"Vinnare match 49"},{"$f":"F81","v":"Vinnare match 50"}]
[null,null,null,null,null,null,null,null,null,null,null,null,null,null,null,null,null,null,null,null,null,null,null,null,null,null,null,null,null,null,null,null,null,null,null,null,null,null,null,null,null,null,null,null,null,{"$f":"F69","v":"Vinnare match 37"},{"$f":"IF(OR('Resultat & Tabell'!G69=\"\",'Resultat & Tabell'!I69=\"\"),\"\",'Resultat & Tabell'!F69)","v":""},{"$f":"IF(ISERROR(VLOOKUP(AT82,AU78:AU85,1,FALSE)),0,1)","v":0},0]
[null,null,null,null,null,null,null,null,null,null,null,null,null,null,null,null,null,null,null,null,null,null,null,null,null,null,null,null,null,null,null,null,null,null,null,null,null,null,null,null,null,null,null,null,null,{"$f":"F70","v":"Vinnare match 42"},{"$f":"IF(OR('Resultat & Tabell'!G70=\"\",'Resultat & Tabell'!I70=\"\"),\"\",'Resultat & Tabell'!F70)","v":""},{"$f":"IF(ISERROR(VLOOKUP(AT83,AU78:AU85,1,FALSE)),0,1)","v":0},0]
[null,null,null,null,null,null,null,null,null,null,null,null,null,null,null,null,null,null,null,null,null,null,null,null,null,null,null,null,null,null,null,null,null,null,null,null,null,null,null,null,null,null,null,null,null,{"$f":"F71","v":"Vinnare match 38"},{"$f":"IF(OR('Resultat & Tabell'!G71=\"\",'Resultat & Tabell'!I71=\"\"),\"\",'Resultat & Tabell'!F71)","v":""},{"$f":"IF(ISERROR(VLOOKUP(AT84,AU78:AU85,1,FALSE)),0,1)","v":0},0]
[null,null,null,null,null,null,null,null,null,null,null,null,null,null,null,null,null,null,null,null,null,null,null,null,null,null,null,null,null,null,null,null,null,null,null,null,null,null,null,null,null,null,null,null,null,{"$f":"F72","v":"Vinnare match 44"},{"$f":"IF(OR('Resultat & Tabell'!G72=\"\",'Resultat & Tabell'!I72=\"\"),\"\",'Resultat & Tabell'!F72)","v":""},{"$f":"IF(ISERROR(VLOOKUP(AT85,AU78:AU85,1,FALSE)),0,1)","v":0},0]
[null,null,null,null,null,null,null,null,null,null,null,null,null,null,null,null,null,null,null,null,null,null,null,null,null,null,null,null,null,null,null,null,null,null,null,null,null,null,null,null,null,null,null,null,null,null,null,"SUMMA",{"$f":"SUM(AW78:AW85)","v":0}]
[null,null,null,null,null,null,null,null,null,null,null,null,null,null,null,null,null,null,null,null,null,null,null,null,null,null,null,null,null,null,null,null,null,null,null,null,null,null,null,null,null,null,null,null,null,"Semifinaler"]
[null,null,null,null,null,null,null,null,null,null,null,null,null,null,null,null,null,null,null,null,null,null,null,null,null,null,null,null,null,null,null,null,null,null,null,null,null,null,null,null,null,null,null,null,null,"Mitt tips","Resultat & tabell","Utfall","Poäng"]
[null,null,null,null,null,null,null,null,null,null,null,null,null,null,null,null,null,null,null,null,null,null,null,null,null,null,null,null,null,null,null,null,null,null,null,null,null,null,null,null,null,null,null,null,null,{"$f":"D76","v":"Vinnare match 45"},{"$f":"IF(OR('Resultat & Tabell'!G76=\"\",'Resultat & Tabell'!I76=\"\"),\"\",'Resultat & Tabell'!D76)","v":""},{"$f":"IF(ISERROR(VLOOKUP(AT89,AU89:AU92,1,FALSE)),0,1)","v":0},{"$f":"6*AV89","v":0}]
[null,null,null,null,null,null,null,null,null,null,null,null,null,null,null,null,null,null,null,null,null,null,null,null,null,null,null,null,null,null,null,null,null,null,null,null,null,null,null,null,null,null,null,null,null,{"$f":"D77","v":"Vinnare match 47"},{"$f":"IF(OR('Resultat & Tabell'!G77=\"\",'Resultat & Tabell'!I77=\"\"),\"\",'Resultat & Tabell'!D77)","v":""},{"$f":"IF(ISERROR(VLOOKUP(AT90,AU89:AU92,1,FALSE)),0,1)","v":0},{"$f":"6*AV90","v":0}]
[null,null,null,null,null,null,null,null,null,null,null,null,null,null,null,null,null,null,null,null,null,null,null,null,null,null,null,null,null,null,null,null,null,null,null,null,null,null,null,null,null,null,null,null,null,{"$f":"F76","v":"Vinnare match 46"},{"$f":"IF(OR('Resultat & Tabell'!G76=\"\",'Resultat & Tabell'!I76=\"\"),\"\",'Resultat & Tabell'!F76)","v":""},{"$f":"IF(ISERROR(VLOOKUP(AT91,AU89:AU92,1,FALSE)),0,1)","v":0},0]
[null,null,null,null,null,null,null,null,null,null,null,null,null,null,null,null,null,null,null,null,null,null,null,null,null,null,null,null,null,null,null,null,null,null,null,null,null,null,null,null,null,null,null,null,null,{"$f":"F77","v":"Vinnare match 48"},{"$f":"IF(OR('Resultat & Tabell'!G77=\"\",'Resultat & Tabell'!I77=\"\"),\"\",'Resultat & Tabell'!F77)","v":""},{"$f":"IF(ISERROR(VLOOKUP(AT92,AU89:AU92,1,FALSE)),0,1)","v":0},0]
[null,null,null,null,null,null,null,null,null,null,null,null,null,null,null,null,null,null,null,null,null,null,null,null,null,null,null,null,null,null,null,null,null,null,null,null,null,null,null,null,null,null,null,null,null,null,null,"SUMMA",{"$f":"SUM(AW89:AW92)","v":0}]
[null,null,null,null,null,null,null,null,null,null,null,null,null,null,null,null,null,null,null,null,null,null,null,null,null,null,null,null,null,null,null,null,null,null,null,null,null,null,null,null,null,null,null,null,null,"Final"]
[null,null,null,null,null,null,null,null,null,null,null,null,null,null,null,null,null,null,null,null,null,null,null,null,null,null,null,null,null,null,null,null,null,null,null,null,null,null,null,null,null,null,null,null,null,"Mitt tips","Resultat & tabell","Utfall","Poäng"]
[null,null,null,null,null,null,null,null,null,null,null,null,null,null,null,null,null,null,null,null,null,null,null,null,null,null,null,null,null,null,null,null,null,null,null,null,null,null,null,null,null,null,null,null,null,{"$f":"D81","v":"Vinnare match 49"},{"$f":"IF(OR('Resultat & Tabell'!G81=\"\",'Resultat & Tabell'!I81=\"\"),\"\",'Resultat & Tabell'!D81)","v":""},{"$f":"IF(ISERROR(VLOOKUP(AT96,AU96:AU97,1,FALSE)),0,1)","v":0},{"$f":"8*AV96","v":0}]
[null,null,null,null,null,null,null,null,null,null,null,null,null,null,null,null,null,null,null,null,null,null,null,null,null,null,null,null,null,null,null,null,null,null,null,null,null,null,null,null,null,null,null,null,null,{"$f":"F81","v":"Vinnare match 50"},{"$f":"IF(OR('Resultat & Tabell'!G81=\"\",'Resultat & Tabell'!I81=\"\"),\"\",'Resultat & Tabell'!F81)","v":""},{"$f":"IF(ISERROR(VLOOKUP(AT97,AU96:AU97,1,FALSE)),0,1)","v":0},{"$f":"8*AV97","v":0}]
[null,null,null,null,null,null,null,null,null,null,null,null,null,null,null,null,null,null,null,null,null,null,null,null,null,null,null,null,null,null,null,null,null,null,null,null,null,null,null,null,null,null,null,null,null,null,null,"SUMMA",{"$f":"SUM(AW96:AW97)","v":0}]