{"text_format":"1","workbook":"xlsx","n_sheets":3,"sheets":["Points & instructions","Results & Table","My prediction"],"not_rendered":{"charts":0,"images":30,"macros":1,"external_links":0,"defined_names":1,"comments":0,"pivot_tables":0},"unopened":[],"bounds":{"document_bytes":16777216,"sheet_cells":100000,"rows_first":2000,"rows_last":500,"rows_between":2000,"halvings":0,"cell_chars":16384,"cell_head_chars":4096},"cells_cut":0,"cells_raw":0,"read":"whole","date_system":"1900"}

{"sheet":"Points & instructions","index":0,"n_rows":46,"n_cols":21,"rows_kept":46,"cut":false,"hidden":false,"merged":[]}
[]
["Points calculation",null,null,"Instructions",null,null,null,null,null,null,null,null,null,null,null,"Frequently Asked Questions (FAQ)"]
["All matches"]
["Correct number of goals scored per team","2 points",null,"Add participant",null,null,null,null,null,null,null,null,null,null,null,"1. When I click START to add a prediction I get an error message"]
["Correct 1X2","2 points",null,null,null,null,null,null,null,null,null,null,null,null,null,"Answer: Always keep the original \"My Prediction\" sheet and do not rename it. If the sheet is rename or"]
["Total of 7 points for every match for the complete tournament",null,null,"Right click on the new sheet, select \"rename\" and type the participants name",null,null,null,null,null,null,null,null,null,null,null,"removed, the macro/copy does not work properly. The tab must be called \"My prediction\""]
[null,null,null,"You can add as many participants you like"]
["Prediction",null,null,null,null,null,null,null,null,null,null,null,null,null,null,"2. Can I get the password to the file?"]
["Correct team in round of 16","2 points per team",null,"Add participant in the table",null,null,null,null,null,null,null,null,null,null,null,"Answer: No, we do not give out the password. Our contribution is that we publish the tip for free"]
["Correct team in quarter-final","4 points per team",null,"1. Select sheet \"Results & Table\" and type the participants name in the column \"Name\" in the table"]
["Correct team in semi-final","6 points per team",null,"2. Select the correspondent cell in the column \"Points\" (for example cell GK4) and type =",null,null,null,null,null,null,null,null,null,null,null,"3. Is the prediction available in other languages?"]
["Correct team in final","8 points per team",null,"Select the sheet with the participants name, click once in cell AA19 and press Enter",null,null,null,null,null,null,null,null,null,null,null,"Answer: Yes, in Swedish"]
[null,null,null,"The number 0 will appear in the cell next to the participants name"]
["Bonus questions",null,null,"3. Repeat step 1,2,3 for all participants",null,null,null,null,null,null,null,null,null,null,null,"4. When I get the predictions back from my friends, I can copy or move the \"My Prediction\" sheet from"]
["Top scorer","20 points",null,null,null,null,null,null,null,null,null,null,null,null,null,"my friends files to my file?"]
["European champion","20 points",null,"Tips for easier copy/paste of participants predictions",null,null,null,null,null,null,null,null,null,null,null,"Answer: No, that is not possible since the link to \"Results & Table\" will be removed"]
["Team scoring most goals in group stage","10 points",null,"In the sheet with the participants name, select column G, H, I",null,null,null,null,null,null,null,null,null,null,null,"Unfortunately, you need to enter their predictions manually. Please see \"Tips for easier copying of prediction\""]
["Team conceding most goals in group stage","10 points",null,"Right click, select copy and paste it in corresponding cells in your master file"]
["Own bonus question 1","15 points",null,null,null,null,null,null,null,null,null,null,null,null,null,"5. My friends and I want to predict the group stage first, then the round of 16, quarter-finals, semi-finals and final"]
["Own bonus question 2","15 points",null,"Marking",null,null,null,null,null,null,null,null,null,null,null,"separately, after the matches are played in each part, is that possible?"]
[null,null,null,"Fill in the results for every match in yellow cells in \"Results & Table\" and the respective participants ",null,null,null,null,null,null,null,null,null,null,null,"Answer: Yes, it is perfectly fine to do so. There is no restriction on how you want to structure the prediction and marking process"]
[null,null,null,"sheet will then be updated with points",null,null,null,null,null,null,null,null,null,null,null,"However, the bonus points for the correct team will be included in the points calculation"]
[null,null,null,"Sort the table in descending order in the cell \"Points\" in the sheet \"Results & Table\" and voila! "]
[null,null,null,null,null,null,null,null,null,null,null,null,null,null,null,"6. Can the points calculation be changes (i.e. number of points per team or game)?"]
[null,null,null,"Bonus points",null,null,null,null,null,null,null,null,null,null,null,"Answer: No, this is the point calculation available. Of course, you can send in a request for a different point calculation, but we cannot"]
[null,null,null,"Bonus points are awarded once ALL matches in the group stage are finished. Same is for round of 16, quarter finals etc.",null,null,null,null,null,null,null,null,null,null,null,"guarantee that it will be offered/updated. Our contribution is that we publish the tip for free"]
[null,null,null,"Please note that the name of the Tops scorer must be spelled/typed in the exact same way in \"Results & Table\" and"]
[null,null,null,"in \"My Prediction\" in order to give points.",null,null,null,null,null,null,null,null,null,null,null,"7. Where to watch Euro 2024? "]
[null,null,null,null,null,null,null,null,null,null,null,null,null,null,null,"Answer: SVT and TV4 are sharing the broadcast. "]
[null,null,null,"New for 2024, you now have also the possibility to add 2 of your own bonus questions",null,null,null,null,null,null,null,null,null,null,null,"Click the banner on top of this page on this page for access to our exclusive offer from TV4 Play+ Sport"]
[null,null,null,"Ex fastest red card, who will be the referee in the final. Sky's the limit!"]
[null,null,null,"Type your bonus question where it says either \"Own bonus questions 1\" or \"Own bonus questions 2\"",null,null,null,null,null,null,null,null,null,null,null,"8. Need help or support? Email your question to us",null,null,null,null,"info@fotbollsvmem.se"]
[]
[null,null,null,"The fine print"]
[null,null,null,"You have to fill in every participants prediction in a separate sheet in this file."]
[null,null,null,"This is due to there are formulas connected in every sheet, which are controlled from \"Results & Table\""]
[null,null,null,"Unfortunately a bit of manual work, but it goes quite quick and needs only to be done before"]
[null,null,null,"the competition starts"]
[]
[null,null,null,"Good to know!"]
[null,null,null,"In the knock out stage it's possible to predict another team through to the next round other than what the result show"]
[null,null,null,"Ex. if Team A plays against Team B and your prediction is 1-2, you can still write Team A as winner"]
[null,null,null,"If this is made, \"NOT OK\" will be appear by the specific match showing that the result and winner isn't correlating"]
[null,null,null,"It's up to you to decide if you wish to approve this or not"]
[]
[null,null,null,"It's also good to decide in advance if the end result should valid after 90 minutes, overtime or after penalty kicks"]

{"sheet":"Results & Table","index":1,"n_rows":103,"n_cols":194,"rows_kept":103,"cut":false,"hidden":false,"merged":[[58,68,58,70],[58,71,58,73],[29,30,29,32],[47,4,47,6],[47,7,47,9],[47,30,47,32],[47,33,47,35],[38,33,38,35],[7,23,7,26],[8,23,8,26],[79,4,79,6],[79,7,79,9],[79,30,79,32],[38,4,38,6],[38,7,38,9],[38,30,38,32],[27,3,27,4],[57,15,64,20],[79,33,79,35],[56,4,56,6],[56,7,56,9],[56,30,56,32],[56,33,56,35],[67,4,67,6],[67,7,67,9],[67,30,67,32],[67,33,67,35],[74,4,74,6],[74,7,74,9],[74,30,74,32],[74,33,74,35],[2,30,2,32],[2,33,2,35],[29,33,29,35],[4,23,4,26],[11,4,11,6],[11,7,11,9],[11,30,11,32],[11,33,11,35],[20,4,20,6],[20,7,20,9],[20,30,20,32],[20,33,20,35],[27,29,27,30],[29,4,29,6],[29,7,29,9],[5,23,5,26],[6,23,6,26],[3,23,3,26],[2,4,2,6],[2,7,2,9],[2,23,2,26]]}
[]
[null,null,null,"Group A",null,null,null,null,null,null,null,null,null,null,null,null,null,null,null,null,null,null,"Bonus questions",null,null,null,null,null,null,"Grupp A",null,null,null,null,null,null,null,null,"Rank 0",null,null,null,null,null,"Rank 1",null,null,null,null,null,"Rank 3",null,null,null,null,null,"Rank 3",null,null,null,null,null,"Rank 4",null,null,null,null,null,null,null,"Rank 0",null,null,null,null,null,null,null,null,null,null,null,"Rank 1",{"$f":"COUNTIF(CB4:CB7,1)","v":4},null,null,null,null,null,null,null,null,null,null,null,null,null,null,null,null,null,null,"Rank 2",{"$f":"COUNTIF(CB4:CB7,2)","v":0},null,null,null,null,null,null,null,null,null,null,null,null,null,null,null,null,null,null,"Rank 3",{"$f":"COUNTIF(CB4:CB7,3)","v":0},null,null,null,null,null,null,null,null,null,null,null,null,null,null,null,null,null,null,"Rank 4",{"$f":"COUNTIF(CB4:CB7,4)","v":0},null,null,null,null,null,null,null,null,null,null,null,null,null,null,null,null,null,null,null,null,null,null,"3rd places",null,null,null,null,null,null,null,null,null,null,null,null,"Check row:",{"$f":"MAX(GH3:GH18)","v":2},"Combo",null,null,null,"B","C","E","F","Valid"]
[null,null,"#","Date","Match",null,null,"Result",null,null,"1X2",null,null,"Team","W","D","L","GF","GA","+/-","P",null,"Category","Answer",null,null,null,null,null,"Datum","Match",null,null,"Resultat",null,null,"Tecken","Poäng","V1","V2","O1","O2","F1","F2","V1","V2","O1","O2","F1","F2","V1","V2","O1","O2","F1","F2","V1","V2","O1","O2","F1","F2","V1","V2","O1","O2","F1","F2",null,null,"Lag","V","O","F","GM","IM","+/-","P","Grupp","Rank P","Rank +/-",null,"Lag","V","O","F","P","Grupp","Rank P","+/-","+/- rank","GM","GM rank","Rank internal","+/- all","+/- rank all","GM all","GM rank all","V all","V rank all","Rank all",null,"Lag","V","O","F","P","Grupp","Rank P","+/-","+/- rank","GM","GM rank","Rank internal","+/- all","+/- rank all","GM all","GM rank all","V all","V rank all","Rank all",null,"Lag","V","O","F","P","Grupp","Rank P","+/-","+/- rank","GM","GM rank","Rank internal","+/- all","+/- rank all","GM all","GM rank all","V all","V rank all","Rank all",null,"Lag","V","O","F","P","Grupp","Rank P","+/-","+/- rank","GM","GM rank","Rank internal","+/- all","+/- rank all","GM all","GM rank all","V all","V rank all","Rank all",null,"Rank","Rank Ties",null,null,"Grupp","Lag","Rank ties","Rank total","Rank mål","Rank +/-","Rank poäng","Poäng","+/-","GM","Grupp","Team through",null,2,"ABCD","A","B","C","D",{"$f":"VLOOKUP(\"A\",$FK$3:$FL$9,2,FALSE)","v":"Hungary"},{"$f":"VLOOKUP(\"D\",$FK$3:$FL$9,2,FALSE)","v":"Poland"},{"$f":"VLOOKUP(\"B\",$FK$3:$FL$9,2,FALSE)","v":"Italy"},{"$f":"VLOOKUP(\"C\",$FK$3:$FL$9,2,FALSE)","v":"Serbia"},{"$f":"IFERROR(IF(AND(VLOOKUP(FZ3,$FV$4:$FV$9,1,FALSE)=FZ3,VLOOKUP(GA3,$FV$4:$FV$9,1,FALSE)=GA3,VLOOKUP(GB3,$FV$4:$FV$9,1,FALSE)=GB3,VLOOKUP(GC3,$FV$4:$FV$9,1,FALSE)=GC3),FX3,\"\"),\"\")","v":2},"Rank",null,"Name","Points"]
[null,null,null,"2024-06-14","Germany","-","Scotland",null,"-",null,{"$f":"IF(OR(ISBLANK(H4),ISBLANK(J4)),\"\",IF(H4>J4,1,IF(H4<J4,2,\"X\")))","v":""},{"$f":"IF(VLOOKUP(E4,BS3:CB7,10,FALSE)=VLOOKUP(G4,BS3:CB7,10,FALSE),VLOOKUP(E4,BS3:CB7,10,FALSE),\"-\")","v":1},1,{"$f":"VLOOKUP(M4,FH4:FI7,2,FALSE)","v":"Germany"},{"$f":"VLOOKUP($N$4,$BS$4:$BZ$7,2,FALSE)","v":0},{"$f":"VLOOKUP($N$4,$BS$4:$BZ$7,3,FALSE)","v":0},{"$f":"VLOOKUP($N$4,$BS$4:$BZ$7,4,FALSE)","v":0},{"$f":"VLOOKUP($N$4,$BS$4:$BZ$7,5,FALSE)","v":0},{"$f":"VLOOKUP($N$4,$BS$4:$BZ$7,6,FALSE)","v":0},{"$f":"VLOOKUP($N$4,$BS$4:$BZ$7,7,FALSE)","v":0},{"$f":"VLOOKUP($N$4,$BS$4:$BZ$7,8,FALSE)","v":0},null,"European champion",null,null,null,null,null,null,{"$f":"D4","v":"2024-06-14"},"Germany","-","Scotland",{"$f":"IF(H4=\"\",\"\",H4)","v":""},"-",{"$f":"IF(J4=\"\",\"\",J4)","v":""},{"$f":"K4","v":""},null,{"$f":"IF(AH4>AJ4,1,0)","v":0},{"$f":"IF(AJ4>AH4,1,0)","v":0},{"$f":"IF(AND(AH4=AJ4,AH4<>\"\"),1,0)","v":0},{"$f":"IF(AND(AH4=AJ4,AH4<>\"\"),1,0)","v":0},{"$f":"IF(AH4<AJ4,1,0)","v":0},{"$f":"IF(AJ4<AH4,1,)","v":0},{"$f":"IF(ISERROR(VLOOKUP(AE4,CE:CE,1,FALSE)),0,1)*IF(ISERROR(VLOOKUP(AG4,CE:CE,1,FALSE)),0,1)*AM4","v":0},{"$f":"IF(ISERROR(VLOOKUP(AE4,CE:CE,1,FALSE)),0,1)*IF(ISERROR(VLOOKUP(AG4,CE:CE,1,FALSE)),0,1)*AN4","v":0},{"$f":"IF(ISERROR(VLOOKUP(AE4,CE:CE,1,FALSE)),0,1)*IF(ISERROR(VLOOKUP(AG4,CE:CE,1,FALSE)),0,1)*AO4","v":0},{"$f":"IF(ISERROR(VLOOKUP(AE4,CE:CE,1,FALSE)),0,1)*IF(ISERROR(VLOOKUP(AG4,CE:CE,1,FALSE)),0,1)*AP4","v":0},{"$f":"IF(ISERROR(VLOOKUP(AE4,CE:CE,1,FALSE)),0,1)*IF(ISERROR(VLOOKUP(AG4,CE:CE,1,FALSE)),0,1)*AQ4","v":0},{"$f":"IF(ISERROR(VLOOKUP(AE4,CE:CE,1,FALSE)),0,1)*IF(ISERROR(VLOOKUP(AG4,CE:CE,1,FALSE)),0,1)*AR4","v":0},{"$f":"IF(ISERROR(VLOOKUP(AE4,CY:CY,1,FALSE)),0,1)*IF(ISERROR(VLOOKUP(AG4,CY:CY,1,FALSE)),0,1)*AM4","v":0},{"$f":"IF(ISERROR(VLOOKUP(AE4,CY:CY,1,FALSE)),0,1)*IF(ISERROR(VLOOKUP(AG4,CY:CY,1,FALSE)),0,1)*AN4","v":0},{"$f":"IF(ISERROR(VLOOKUP(AE4,CY:CY,1,FALSE)),0,1)*IF(ISERROR(VLOOKUP(AG4,CY:CY,1,FALSE)),0,1)*AO4","v":0},{"$f":"IF(ISERROR(VLOOKUP(AE4,CY:CY,1,FALSE)),0,1)*IF(ISERROR(VLOOKUP(AG4,CY:CY,1,FALSE)),0,1)*AP4","v":0},{"$f":"IF(ISERROR(VLOOKUP(AE4,CY:CY,1,FALSE)),0,1)*IF(ISERROR(VLOOKUP(AG4,CY:CY,1,FALSE)),0,1)*AQ4","v":0},{"$f":"IF(ISERROR(VLOOKUP(AE4,CY:CY,1,FALSE)),0,1)*IF(ISERROR(VLOOKUP(AG4,CY:CY,1,FALSE)),0,1)*AR4","v":0},{"$f":"IF(ISERROR(VLOOKUP(AE4,DS:DS,1,FALSE)),0,1)*IF(ISERROR(VLOOKUP(AG4,DS:DS,1,FALSE)),0,1)*AM4","v":0},{"$f":"IF(ISERROR(VLOOKUP(AE4,DS:DS,1,FALSE)),0,1)*IF(ISERROR(VLOOKUP(AG4,DS:DS,1,FALSE)),0,1)*AN4","v":0},{"$f":"IF(ISERROR(VLOOKUP(AE4,DS:DS,1,FALSE)),0,1)*IF(ISERROR(VLOOKUP(AG4,DS:DS,1,FALSE)),0,1)*AO4","v":0},{"$f":"IF(ISERROR(VLOOKUP(AE4,DS:DS,1,FALSE)),0,1)*IF(ISERROR(VLOOKUP(AG4,DS:DS,1,FALSE)),0,1)*AP4","v":0},{"$f":"IF(ISERROR(VLOOKUP(AE4,DS:DS,1,FALSE)),0,1)*IF(ISERROR(VLOOKUP(AG4,DS:DS,1,FALSE)),0,1)*AQ4","v":0},{"$f":"IF(ISERROR(VLOOKUP(AE4,DS:DS,1,FALSE)),0,1)*IF(ISERROR(VLOOKUP(AG4,DS:DS,1,FALSE)),0,1)*AR4","v":0},{"$f":"IF(ISERROR(VLOOKUP(AE4,EM:EM,1,FALSE)),0,1)*IF(ISERROR(VLOOKUP(AG4,EM:EM,1,FALSE)),0,1)*AM4","v":0},{"$f":"IF(ISERROR(VLOOKUP(AE4,EM:EM,1,FALSE)),0,1)*IF(ISERROR(VLOOKUP(AG4,EM:EM,1,FALSE)),0,1)*AN4","v":0},{"$f":"IF(ISERROR(VLOOKUP(AE4,EM:EM,1,FALSE)),0,1)*IF(ISERROR(VLOOKUP(AG4,EM:EM,1,FALSE)),0,1)*AO4","v":0},{"$f":"IF(ISERROR(VLOOKUP(AE4,EM:EM,1,FALSE)),0,1)*IF(ISERROR(VLOOKUP(AG4,EM:EM,1,FALSE)),0,1)*AP4","v":0},{"$f":"IF(ISERROR(VLOOKUP(AE4,EM:EM,1,FALSE)),0,1)*IF(ISERROR(VLOOKUP(AG4,EM:EM,1,FALSE)),0,1)*AQ4","v":0},{"$f":"IF(ISERROR(VLOOKUP(AE4,EM:EM,1,FALSE)),0,1)*IF(ISERROR(VLOOKUP(AG4,EM:EM,1,FALSE)),0,1)*AR4","v":0},null,null,"Germany",{"$f":"(SUMIF(AE$4:AE$54,BS4,AM$4:AM$54)+SUMIF(AG$4:AG$54,BS4,AN$4:AN$54))","v":0},{"$f":"(SUMIF(AE$4:AE$54,BS4,AO$4:AO$54)+SUMIF(AG$4:AG$54,BS4,AP$4:AP$54))","v":0},{"$f":"(SUMIF(AE$4:AE$54,BS4,AQ$4:AQ$54)+SUMIF(AG$4:AG$54,BS4,AR$4:AR$54))","v":0},{"$f":"SUMIF($AE$4:$AE$54,BS4,$AH$4:$AH$54)+SUMIF($AG$4:$AG$54,BS4,$AJ$4:$AJ$54)","v":0},{"$f":"SUMIF($AE$4:$AE$54,BS4,$AJ$4:$AJ$54)+SUMIF($AG$4:$AG$54,BS4,$AH$4:$AH$54)","v":0},{"$f":"BW4-BX4","v":0},{"$f":"IFERROR(BT4*3+BU4*1,0)","v":0},"A",{"$f":"RANK(BZ4,BZ4:BZ7)","v":1},{"$f":"SUMPRODUCT((BZ4:BZ7=BZ4)*(BY4:BY7>BY4))","v":0},null,{"$f":"IF(CB4=1,BS4,)","v":"Germany"},{"$f":"(SUMIF($AE$4:$AE$54,$BS4,$AS$4:$AS$54)+SUMIF($AG$4:$AG$54,$BS4,$AT$4:$AT$54))","v":0},{"$f":"(SUMIF($AE$4:$AE$54,$BS4,$AU$4:$AU$54)+SUMIF($AG$4:$AG$54,$BS4,$AV$4:$AV$54))","v":0},{"$f":"(SUMIF($AE$4:$AE$54,$BS4,$AW$4:$AW$54)+SUMIF($AG$4:$AG$54,$BS4,$AX$4:$AX$54))","v":0},{"$f":"IFERROR(CF4*3+CG4*1,0)","v":0},{"$f":"CA4","v":"A"},{"$f":"IF(CE4>0,RANK(CI4,CI4:CI7),)","v":1},{"$f":"IF(AND(CE4>0,COUNTIF(CK4:CK7,CK4)>1),SUMIFS($AH$4:$AH$54,$AE$4:$AE$54,$BS4,$L$4:$L$54,1)+SUMIFS($AJ$4:$AJ$54,$AG$4:$AG$54,$BS4,$L$4:$L$54,1)-SUMIFS($AJ$4:$AJ$54,$AE$4:$AE$54,$BS4,$L$4:$L$54,1)-SUMIFS($AH$4:$AH$54,$AG$4:$AG$54,$BS4,$L$4:$L$54,1),)","v":0},{"$f":"IF(AND(CE4>0,COUNTIF(CK4:CK7,CK4)>1),CK4+RANK(CL4,CL4:CL7)-1,CK4)","v":1},{"$f":"IF(AND(CE4>0,COUNTIF(CM4:CM7,CM4)>1),SUMIFS($AH$4:$AH$54,$AE$4:$AE$54,$BS4,$L$4:$L$54,1)+SUMIFS($AJ$4:$AJ$54,$AG$4:$AG$54,$BS4,$L$4:$L$54,1),)","v":0},{"$f":"IF(AND(CE4>0,COUNTIF(CM4:CM7,CM4)>1),CM4+RANK(CN4,CN4:CN7)-1,CM4)","v":1},{"$f":"IF(CO4=0,\"\",CO4)","v":1},{"$f":"IF(OR(CP4=\"\",COUNTIF(CP4:CP7,CP4)=1),\"\",$BY4)","v":0},{"$f":"IF(CP4=\"\",\"\",IF(COUNTIF(CP4:CP7,CP4)=1,CP4,CP4+RANK(CQ4,CQ4:CQ7,0)-1))","v":1},{"$f":"IF(OR(CR4=\"\",COUNTIF(CR4:CR7,CR4)=1),\"\",$BW4)","v":0},{"$f":"IF(CP4=\"\",\"\",IF(COUNTIF(CR4:CR7,CR4)=1,CR4,CR4+RANK(CS4,CS4:CS7,0)-1))","v":1},{"$f":"IF(OR(CT4=\"\",COUNTIF(CT4:CT7,CT4)=1),\"\",$BT4)","v":0},{"$f":"IF(CP4=\"\",\"\",IF(COUNTIF(CT4:CT7,CT4)=1,CT4,CT4+RANK(CU4,CU4:CU7,0)-1))","v":1},{"$f":"IF(CE4>0,BL2+RANK(CV4,CV4:CV7,1),)","v":1},null,{"$f":"IF(CB4=2,BS4,)","v":0},{"$f":"(SUMIF($AE$4:$AE$54,$BS4,$AY$4:$AY$54)+SUMIF($AG$4:$AG$54,$BS4,$AZ$4:$AZ$54))","v":0},{"$f":"(SUMIF($AE$4:$AE$54,$BS4,$BA$4:$BA$54)+SUMIF($AG$4:$AG$54,$BS4,$BB$4:$BB$54))","v":0},{"$f":"(SUMIF($AE$4:$AE$54,$BS4,$BC$4:$BC$54)+SUMIF($AG$4:$AG$54,$BS4,$BD$4:$BD$54))","v":0},{"$f":"IFERROR(CZ4*3+DA4*1,0)","v":0},{"$f":"$CA4","v":"A"},{"$f":"IF(CY4>0,RANK(DC4,DC4:DC7)+CF2,)","v":0},{"$f":"IF(AND(CY4>0,COUNTIF(DE4:DE7,DE4)>1),SUMIFS($AH$4:$AH$54,$AE$4:$AE$54,$BS4,$L$4:$L$54,2)+SUMIFS($AJ$4:$AJ$54,$AG$4:$AG$54,$BS4,$L$4:$L$54,2)-SUMIFS($AJ$4:$AJ$54,$AE$4:$AE$54,$BS4,$L$4:$L$54,2)-SUMIFS($AH$4:$AH$54,$AG$4:$AG$54,$BS4,$L$4:$L$54,2),)","v":0},{"$f":"IF(AND(CY4>0,COUNTIF(DE4:DE7,DE4)>1),DE4+RANK(DF4,DF4:DF7)-1,DE4)","v":0},{"$f":"IF(AND(CY4>0,COUNTIF(DG4:DG7,DG4)>1),SUMIFS($AH$4:$AH$54,$AE$4:$AE$54,$BS4,$L$4:$L$54,2)+SUMIFS($AJ$4:$AJ$54,$AG$4:$AG$54,$BS4,$L$4:$L$54,2),)","v":0},{"$f":"IF(AND(CY4>0,COUNTIF(DG4:DG7,DG4)>1),DG4+RANK(DH4,DH4:DH7)-1,DG4)","v":0},{"$f":"IF(DI4=0,\"\",DI4)","v":""},{"$f":"IF(OR(DJ4=\"\",COUNTIF(DJ4:DJ7,DJ4)=1),\"\",$BY4)","v":""},{"$f":"IF(DJ4=\"\",\"\",IF(COUNTIF(DJ4:DJ7,DJ4)=1,DJ4,DJ4+RANK(DK4,DK4:DK7,0)-1))","v":""},{"$f":"IF(OR(DL4=\"\",COUNTIF(DL4:DL7,DL4)=1),\"\",$BW4)","v":""},{"$f":"IF(DJ4=\"\",\"\",IF(COUNTIF(DL4:DL7,DL4)=1,DL4,DL4+RANK(DM4,DM4:DM7,0)-1))","v":""},{"$f":"IF(OR(DN4=\"\",COUNTIF(DN4:DN7,DN4)=1),\"\",$BT4)","v":""},{"$f":"IF(DJ4=\"\",\"\",IF(COUNTIF(DN4:DN7,DN4)=1,DN4,DN4+RANK(DO4,DO4:DO7,0)-1))","v":""},{"$f":"IF(CY4>0,CF2+RANK(DP4,DP4:DP7,1),)","v":0},null,{"$f":"IF(CB4=3,BS4,)","v":0},{"$f":"(SUMIF($AE$4:$AE$54,BS4,$BE$4:$BE$54)+SUMIF($AG$4:$AG$54,BS4,$BF$4:$BF$54))","v":0},{"$f":"(SUMIF($AE$4:$AE$54,BS4,$BG$4:$BG$54)+SUMIF($AG$4:$AG$54,BS4,$BH$4:$BH$54))","v":0},{"$f":"(SUMIF($AE$4:$AE$54,BS4,$BI$4:$BI$54)+SUMIF($AG$4:$AG$54,BS4,$BJ$4:$BJ$54))","v":0},{"$f":"IFERROR(DT4*3+DU4*1,0)","v":0},{"$f":"CA4","v":"A"},{"$f":"IF(DS4>0,RANK(DW4,DW4:DW7)+CF2+CZ2,)","v":0},{"$f":"IF(AND(DS4>0,COUNTIF(DY4:DY7,DY4)>1),SUMIFS($AH$4:$AH$54,$AE$4:$AE$54,$BS4,$L$4:$L$54,3)+SUMIFS($AJ$4:$AJ$54,$AG$4:$AG$54,$BS4,$L$4:$L$54,3)-SUMIFS($AJ$4:$AJ$54,$AE$4:$AE$54,$BS4,$L$4:$L$54,3)-SUMIFS($AH$4:$AH$54,$AG$4:$AG$54,$BS4,$L$4:$L$54,3),)","v":0},{"$f":"IF(AND(DS4>0,COUNTIF(DY4:DY7,DY4)>1),DY4+RANK(DZ4,DZ4:DZ7)-1,DY4)","v":0},{"$f":"IF(AND(DS4>0,COUNTIF(EA4:EA7,EA4)>1),SUMIFS($AH$4:$AH$54,$AE$4:$AE$54,$BS4,$L$4:$L$54,3)+SUMIFS($AJ$4:$AJ$54,$AG$4:$AG$54,$BS4,$L$4:$L$54,3),)","v":0},{"$f":"IF(AND(DS4>0,COUNTIF(EA4:EA7,EA4)>1),EA4+RANK(EB4,EB4:EB7)-1,EA4)","v":0},{"$f":"IF(EC4=0,\"\",EC4)","v":""},{"$f":"IF(OR(ED4=\"\",COUNTIF(ED4:ED7,ED4)=1),\"\",$BY4)","v":""},{"$f":"IF(ED4=\"\",\"\",IF(COUNTIF(ED4:ED7,ED4)=1,ED4,ED4+RANK(EE4,EE4:EE7,0)-1))","v":""},{"$f":"IF(OR(EF4=\"\",COUNTIF(EF4:EF7,EF4)=1),\"\",$BW4)","v":""},{"$f":"IF(ED4=\"\",\"\",IF(COUNTIF(EF4:EF7,EF4)=1,EF4,EF4+RANK(EG4,EG4:EG7,0)-1))","v":""},{"$f":"IF(OR(EH4=\"\",COUNTIF(EH4:EH7,EH4)=1),\"\",$BT4)","v":""},{"$f":"IF(ED4=\"\",\"\",IF(COUNTIF(EH4:EH7,EH4)=1,EH4,EH4+RANK(EI4,EI4:EI7,0)-1))","v":""},{"$f":"IF(DS4>0,CF2+CZ2+RANK(EJ4,EJ4:EJ7,1),)","v":0},null,{"$f":"IF(CB4=4,BS4,)","v":0},{"$f":"(SUMIF($AE$4:$AE$54,$BS4,$BK$4:$BK$54)+SUMIF($AG$4:$AG$54,$BS4,$BL$4:$BL$54))","v":0},{"$f":"(SUMIF($AE$4:$AE$54,$BS4,$BM$4:$BM$54)+SUMIF($AG$4:$AG$54,$BS4,$BN$4:$BN$54))","v":0},{"$f":"(SUMIF($AE$4:$AE$54,$BS4,$BO$4:$BO$54)+SUMIF($AG$4:$AG$54,$BS4,$BP$4:$BP$54))","v":0},{"$f":"IFERROR(EN4*3+EO4*1,0)","v":0},{"$f":"$CA4","v":"A"},{"$f":"IF(EM4>0,RANK(EQ4,EQ4:EQ7)+CF2+CZ2+DT2,)","v":0},{"$f":"IF(AND(EM4>0,COUNTIF(ES4:ES7,ES4)>1),SUMIFS($AH$4:$AH$54,$AE$4:$AE$54,$BS4,$L$4:$L$54,4)+SUMIFS($AJ$4:$AJ$54,$AG$4:$AG$54,$BS4,$L$4:$L$54,4)-SUMIFS($AJ$4:$AJ$54,$AE$4:$AE$54,$BS4,$L$4:$L$54,4)-SUMIFS($AH$4:$AH$54,$AG$4:$AG$54,$BS4,$L$4:$L$54,4),)","v":0},{"$f":"IF(AND(EM4>0,COUNTIF($ES$4:$ES$7,ES4)>1),ES4+RANK(ET4,$ET$4:$ET$7)-1,ES4)","v":0},{"$f":"IF(AND(EM4>0,COUNTIF(EU4:EU7,EU4)>1),SUMIFS($AH$4:$AH$54,$AE$4:$AE$54,$BS4,$L$4:$L$54,4)+SUMIFS($AJ$4:$AJ$54,$AG$4:$AG$54,$BS4,$L$4:$L$54,4),)","v":0},{"$f":"IF(AND(EM4>0,COUNTIF(EU4:EU7,EU4)>1),EU4+RANK(EV4,EV4:EV7)-1,EU4)","v":0},{"$f":"IF(EW4=0,\"\",EW4)","v":""},{"$f":"IF(OR(EX4=\"\",COUNTIF(EX4:EX7,EX4)=1),\"\",$BY4)","v":""},{"$f":"IF(EX4=\"\",\"\",IF(COUNTIF(EX4:EX7,EX4)=1,EX4,EX4+RANK(EY4,EY4:EY7,0)-1))","v":""},{"$f":"IF(OR(EZ4=\"\",COUNTIF(EZ4:EZ7,EZ4)=1),\"\",$BW4)","v":""},{"$f":"IF(EX4=\"\",\"\",IF(COUNTIF(EZ4:EZ7,EZ4)=1,EZ4,EZ4+RANK(FA4,FA4:FA7,0)-1))","v":""},{"$f":"IF(OR(FB4=\"\",COUNTIF(FB4:FB7,FB4)=1),\"\",$BT4)","v":""},{"$f":"IF(EX4=\"\",\"\",IF(COUNTIF(FB4:FB7,FB4)=1,FB4,FB4+RANK(FC4,FC4:FC7,0)-1))","v":""},{"$f":"IF(EM4>0,CF2+CZ2+DT2+RANK(FD4,FD4:FD7,1),)","v":0},null,{"$f":"IFERROR(VLOOKUP(FI4,CE3:CW7,19,FALSE),IFERROR(VLOOKUP(FI4,CY3:DQ7,19,FALSE),IFERROR(VLOOKUP(FI4,DS3:EK7,19,FALSE),VLOOKUP(FI4,EM3:FE7,19,FALSE))))","v":1},{"$f":"RANK(FG4,FG4:FG7,1)+COUNTIF(FG4:FG4,FG4)-1","v":1},{"$f":"BS4","v":"Germany"},null,"A",{"$f":"N6","v":"Hungary"},{"$f":"RANK($FN4,$FN$4:$FN$9,1)+COUNTIF($FN$4:$FN4,$FN4)-1","v":1},{"$f":"FQ4+FP4+FO4","v":1},{"$f":"SUMPRODUCT(($FR$4:$FR$9=FR4)*($FS$4:$FS$9=FS4)*($FT$4:$FT$9>FT4))","v":0},{"$f":"SUMPRODUCT(($FR$4:$FR$9=FR4)*($FS$4:$FS$9>FS4))","v":0},{"$f":"RANK(FR4,$FR$4:$FR$9)","v":1},{"$f":"U6","v":0},{"$f":"T6","v":0},{"$f":"R6","v":0},"A",{"$f":"IF(FM4<5,FU4,)","v":"A"},null,3,"ABCE","A","B","C","E",{"$f":"VLOOKUP(\"A\",$FK$3:$FL$9,2,FALSE)","v":"Hungary"},{"$f":"VLOOKUP(\"E\",$FK$3:$FL$9,2,FALSE)","v":"Belgium"},{"$f":"VLOOKUP(\"B\",$FK$3:$FL$9,2,FALSE)","v":"Italy"},{"$f":"VLOOKUP(\"C\",$FK$3:$FL$9,2,FALSE)","v":"Serbia"},{"$f":"IFERROR(IF(AND(VLOOKUP(FZ4,$FV$4:$FV$9,1,FALSE)=FZ4,VLOOKUP(GA4,$FV$4:$FV$9,1,FALSE)=GA4,VLOOKUP(GB4,$FV$4:$FV$9,1,FALSE)=GB4,VLOOKUP(GC4,$FV$4:$FV$9,1,FALSE)=GC4),FX4,\"\"),\"\")","v":""},1,null,"My prediction",{"$f":"'My prediction'!AA19","v":0}]
[null,null,null,"2024-06-15","Hungary","-","Switzerland",null,"-",null,{"$f":"IF(OR(ISBLANK(H5),ISBLANK(J5)),\"\",IF(H5>J5,1,IF(H5<J5,2,\"X\")))","v":""},{"$f":"IF(VLOOKUP(E5,BS3:CB7,10,FALSE)=VLOOKUP(G5,BS3:CB7,10,FALSE),VLOOKUP(E5,BS3:CB7,10,FALSE),\"-\")","v":1},2,{"$f":"VLOOKUP(M5,FH4:FI7,2,FALSE)","v":"Scotland"},{"$f":"VLOOKUP(N5,$BS$4:$BZ$7,2,FALSE)","v":0},{"$f":"VLOOKUP($N$5,$BS$4:$BZ$7,3,FALSE)","v":0},{"$f":"VLOOKUP($N$5,$BS$4:$BZ$7,4,FALSE)","v":0},{"$f":"VLOOKUP($N$5,$BS$4:$BZ$7,5,FALSE)","v":0},{"$f":"VLOOKUP($N$5,$BS$4:$BZ$7,6,FALSE)","v":0},{"$f":"VLOOKUP($N$5,$BS$4:$BZ$7,7,FALSE)","v":0},{"$f":"VLOOKUP($N$5,$BS$4:$BZ$7,8,FALSE)","v":0},null,"Top scorer",null,null,null,null,null,null,"2024-06-15","Hungary","-","Switzerland","","-","","",null,{"$f":"IF(AH5>AJ5,1,0)","v":0},{"$f":"IF(AJ5>AH5,1,0)","v":0},{"$f":"IF(AND(AH5=AJ5,AH5<>\"\"),1,0)","v":0},{"$f":"IF(AND(AH5=AJ5,AH5<>\"\"),1,0)","v":0},{"$f":"IF(AH5<AJ5,1,0)","v":0},{"$f":"IF(AJ5<AH5,1,)","v":0},0,0,0,0,0,0,0,0,0,0,0,0,0,0,0,0,0,0,0,0,0,0,0,0,null,null,"Scotland",{"$f":"(SUMIF(AE$4:AE$54,BS5,AM$4:AM$54)+SUMIF(AG$4:AG$54,BS5,AN$4:AN$54))","v":0},{"$f":"(SUMIF(AE$4:AE$54,BS5,AO$4:AO$54)+SUMIF(AG$4:AG$54,BS5,AP$4:AP$54))","v":0},{"$f":"(SUMIF(AE$4:AE$54,BS5,AQ$4:AQ$54)+SUMIF(AG$4:AG$54,BS5,AR$4:AR$54))","v":0},{"$f":"SUMIF($AE$4:$AE$54,BS5,$AH$4:$AH$54)+SUMIF($AG$4:$AG$54,BS5,$AJ$4:$AJ$54)","v":0},{"$f":"SUMIF($AE$4:$AE$54,BS5,$AJ$4:$AJ$54)+SUMIF($AG$4:$AG$54,BS5,$AH$4:$AH$54)","v":0},{"$f":"BW5-BX5","v":0},{"$f":"IFERROR(BT5*3+BU5*1,0)","v":0},"A",{"$f":"RANK(BZ5,BZ4:BZ7)","v":1},{"$f":"SUMPRODUCT((BZ4:BZ7=BZ5)*(BY4:BY7>BY5))","v":0},null,{"$f":"IF(CB5=1,BS5,)","v":"Scotland"},{"$f":"(SUMIF($AE$4:$AE$54,$BS5,$AS$4:$AS$54)+SUMIF($AG$4:$AG$54,$BS5,$AT$4:$AT$54))","v":0},{"$f":"(SUMIF($AE$4:$AE$54,$BS5,$AU$4:$AU$54)+SUMIF($AG$4:$AG$54,$BS5,$AV$4:$AV$54))","v":0},{"$f":"(SUMIF($AE$4:$AE$54,$BS5,$AW$4:$AW$54)+SUMIF($AG$4:$AG$54,$BS5,$AX$4:$AX$54))","v":0},{"$f":"IFERROR(CF5*3+CG5*1,0)","v":0},{"$f":"CA5","v":"A"},{"$f":"IF(CE5>0,RANK(CI5,CI4:CI7),)","v":1},{"$f":"IF(AND(CE5>0,COUNTIF(CK4:CK7,CK5)>1),SUMIFS($AH$4:$AH$54,$AE$4:$AE$54,BS5,$L$4:$L$54,1)+SUMIFS($AJ$4:$AJ$54,$AG$4:$AG$54,BS5,$L$4:$L$54,1)-SUMIFS($AJ$4:$AJ$54,$AE$4:$AE$54,BS5,$L$4:$L$54,1)-SUMIFS($AH$4:$AH$54,$AG$4:$AG$54,BS5,$L$4:$L$54,1),)","v":0},{"$f":"IF(AND(CE5>0,COUNTIF(CK4:CK7,CK5)>1),CK5+RANK(CL5,CL4:CL7)-1,CK5)","v":1},{"$f":"IF(AND(CE5>0,COUNTIF(CM4:CM7,CM5)>1),SUMIFS($AH$4:$AH$54,$AE$4:$AE$54,BS5,$L$4:$L$54,1)+SUMIFS($AJ$4:$AJ$54,$AG$4:$AG$54,BS5,$L$4:$L$54,1),)","v":0},{"$f":"IF(AND(CE5>0,COUNTIF(CM4:CM7,CM5)>1),CM5+RANK(CN5,CN4:CN7)-1,CM5)","v":1},{"$f":"IF(CO5=0,\"\",CO5)","v":1},{"$f":"IF(OR(CP5=\"\",COUNTIF(CP4:CP7,CP5)=1),\"\",$BY5)","v":0},{"$f":"IF(CP5=\"\",\"\",IF(COUNTIF(CP4:CP7,CP5)=1,CP5,CP5+RANK(CQ5,CQ4:CQ7,0)-1))","v":1},{"$f":"IF(OR(CR5=\"\",COUNTIF(CR4:CR7,CR5)=1),\"\",$BW5)","v":0},{"$f":"IF(CP5=\"\",\"\",IF(COUNTIF(CR4:CR7,CR5)=1,CR5,CR5+RANK(CS5,CS4:CS7,0)-1))","v":1},{"$f":"IF(OR(CT5=\"\",COUNTIF(CT4:CT7,CT5)=1),\"\",$BT5)","v":0},{"$f":"IF(CP5=\"\",\"\",IF(COUNTIF(CT4:CT7,CT5)=1,CT5,CT5+RANK(CU5,CU4:CU7,0)-1))","v":1},{"$f":"IF(CE5>0,BL2+RANK(CV5,CV4:CV7,1),)","v":1},null,{"$f":"IF(CB5=2,BS5,)","v":0},{"$f":"(SUMIF($AE$4:$AE$54,$BS5,$AY$4:$AY$54)+SUMIF($AG$4:$AG$54,$BS5,$AZ$4:$AZ$54))","v":0},{"$f":"(SUMIF($AE$4:$AE$54,$BS5,$BA$4:$BA$54)+SUMIF($AG$4:$AG$54,$BS5,$BB$4:$BB$54))","v":0},{"$f":"(SUMIF($AE$4:$AE$54,$BS5,$BC$4:$BC$54)+SUMIF($AG$4:$AG$54,$BS5,$BD$4:$BD$54))","v":0},{"$f":"IFERROR(CZ5*3+DA5*1,0)","v":0},{"$f":"$CA5","v":"A"},{"$f":"IF(CY5>0,RANK(DC5,DC4:DC7)+CF2,)","v":0},{"$f":"IF(AND(CY5>0,COUNTIF(DE4:DE7,DE5)>1),SUMIFS($AH$4:$AH$54,$AE$4:$AE$54,BS5,$L$4:$L$54,2)+SUMIFS($AJ$4:$AJ$54,$AG$4:$AG$54,BS5,$L$4:$L$54,2)-SUMIFS($AJ$4:$AJ$54,$AE$4:$AE$54,BS5,$L$4:$L$54,2)-SUMIFS($AH$4:$AH$54,$AG$4:$AG$54,BS5,$L$4:$L$54,2),)","v":0},{"$f":"IF(AND(CY5>0,COUNTIF(DE4:DE7,DE5)>1),DE5+RANK(DF5,DF4:DF7)-1,DE5)","v":0},{"$f":"IF(AND(CY5>0,COUNTIF(DG4:DG7,DG5)>1),SUMIFS($AH$4:$AH$54,$AE$4:$AE$54,BS5,$L$4:$L$54,2)+SUMIFS($AJ$4:$AJ$54,$AG$4:$AG$54,BS5,$L$4:$L$54,2),)","v":0},{"$f":"IF(AND(CY5>0,COUNTIF(DG4:DG7,DG5)>1),DG5+RANK(DH5,DH4:DH7)-1,DG5)","v":0},{"$f":"IF(DI5=0,\"\",DI5)","v":""},{"$f":"IF(OR(DJ5=\"\",COUNTIF(DJ4:DJ7,DJ5)=1),\"\",$BY5)","v":""},{"$f":"IF(DJ5=\"\",\"\",IF(COUNTIF(DJ4:DJ7,DJ5)=1,DJ5,DJ5+RANK(DK5,DK4:DK7,0)-1))","v":""},{"$f":"IF(OR(DL5=\"\",COUNTIF(DL4:DL7,DL5)=1),\"\",$BW5)","v":""},{"$f":"IF(DJ5=\"\",\"\",IF(COUNTIF(DL4:DL7,DL5)=1,DL5,DL5+RANK(DM5,DM4:DM7,0)-1))","v":""},{"$f":"IF(OR(DN5=\"\",COUNTIF(DN4:DN7,DN5)=1),\"\",$BT5)","v":""},{"$f":"IF(DJ5=\"\",\"\",IF(COUNTIF(DN4:DN7,DN5)=1,DN5,DN5+RANK(DO5,DO4:DO7,0)-1))","v":""},{"$f":"IF(CY5>0,CF2+RANK(DP5,DP4:DP7,1),)","v":0},null,{"$f":"IF(CB5=3,BS5,)","v":0},{"$f":"(SUMIF(AE$4:AE$54,BS5,BE$4:BE$54)+SUMIF(AG$4:AG$54,BS5,BF$4:BF$54))","v":0},{"$f":"(SUMIF(AE$4:AE$54,BS5,BG$4:BG$54)+SUMIF(AG$4:AG$54,BS5,BH$4:BH$54))","v":0},{"$f":"(SUMIF(AE$4:AE$54,BS5,BI$4:BI$54)+SUMIF(AG$4:AG$54,BS5,BJ$4:BJ$54))","v":0},{"$f":"IFERROR(DT5*3+DU5*1,0)","v":0},{"$f":"CA5","v":"A"},{"$f":"IF(DS5>0,RANK(DW5,DW4:DW7)+CF2+CZ2,)","v":0},{"$f":"IF(AND(DS5>0,COUNTIF(DY4:DY7,DY5)>1),SUMIFS($AH$4:$AH$54,$AE$4:$AE$54,BS5,$L$4:$L$54,3)+SUMIFS($AJ$4:$AJ$54,$AG$4:$AG$54,BS5,$L$4:$L$54,3)-SUMIFS($AJ$4:$AJ$54,$AE$4:$AE$54,BS5,$L$4:$L$54,3)-SUMIFS($AH$4:$AH$54,$AG$4:$AG$54,BS5,$L$4:$L$54,3),)","v":0},{"$f":"IF(AND(DS5>0,COUNTIF(DY4:DY7,DY5)>1),DY5+RANK(DZ5,DZ4:DZ7)-1,DY5)","v":0},{"$f":"IF(AND(DS5>0,COUNTIF(EA4:EA7,EA5)>1),SUMIFS($AH$4:$AH$54,$AE$4:$AE$54,BS5,$L$4:$L$54,3)+SUMIFS($AJ$4:$AJ$54,$AG$4:$AG$54,BS5,$L$4:$L$54,3),)","v":0},{"$f":"IF(AND(DS5>0,COUNTIF(EA4:EA7,EA5)>1),EA5+RANK(EB5,EB4:EB7)-1,EA5)","v":0},{"$f":"IF(EC5=0,\"\",EC5)","v":""},{"$f":"IF(OR(ED5=\"\",COUNTIF(ED4:ED7,ED5)=1),\"\",$BY5)","v":""},{"$f":"IF(ED5=\"\",\"\",IF(COUNTIF(ED4:ED7,ED5)=1,ED5,ED5+RANK(EE5,EE4:EE7,0)-1))","v":""},{"$f":"IF(OR(EF5=\"\",COUNTIF(EF4:EF7,EF5)=1),\"\",$BW5)","v":""},{"$f":"IF(ED5=\"\",\"\",IF(COUNTIF(EF4:EF7,EF5)=1,EF5,EF5+RANK(EG5,EG4:EG7,0)-1))","v":""},{"$f":"IF(OR(EH5=\"\",COUNTIF(EH4:EH7,EH5)=1),\"\",$BT5)","v":""},{"$f":"IF(ED5=\"\",\"\",IF(COUNTIF(EH4:EH7,EH5)=1,EH5,EH5+RANK(EI5,EI4:EI7,0)-1))","v":""},{"$f":"IF(DS5>0,CF2+CZ2+RANK(EJ5,EJ4:EJ7,1),)","v":0},null,{"$f":"IF(CB5=4,BS5,)","v":0},{"$f":"(SUMIF($AE$4:$AE$54,$BS5,$BK$4:$BK$54)+SUMIF($AG$4:$AG$54,$BS5,$BL$4:$BL$54))","v":0},{"$f":"(SUMIF($AE$4:$AE$54,$BS5,$BM$4:$BM$54)+SUMIF($AG$4:$AG$54,$BS5,$BN$4:$BN$54))","v":0},{"$f":"(SUMIF($AE$4:$AE$54,$BS5,$BO$4:$BO$54)+SUMIF($AG$4:$AG$54,$BS5,$BP$4:$BP$54))","v":0},{"$f":"IFERROR(EN5*3+EO5*1,0)","v":0},{"$f":"$CA5","v":"A"},{"$f":"IF(EM5>0,RANK(EQ5,EQ4:EQ7)+CF2+CZ2+DT2,)","v":0},{"$f":"IF(AND(EM5>0,COUNTIF(ES4:ES7,ES5)>1),SUMIFS($AH$4:$AH$54,$AE$4:$AE$54,BS5,$L$4:$L$54,4)+SUMIFS($AJ$4:$AJ$54,$AG$4:$AG$54,BS5,$L$4:$L$54,4)-SUMIFS($AJ$4:$AJ$54,$AE$4:$AE$54,BS5,$L$4:$L$54,4)-SUMIFS($AH$4:$AH$54,$AG$4:$AG$54,BS5,$L$4:$L$54,4),)","v":0},{"$f":"IF(AND(EM5>0,COUNTIF($ES$4:$ES$7,ES5)>1),ES5+RANK(ET5,$ET$4:$ET$7)-1,ES5)","v":0},{"$f":"IF(AND(EM5>0,COUNTIF(EU4:EU7,EU5)>1),SUMIFS($AH$4:$AH$54,$AE$4:$AE$54,BS5,$L$4:$L$54,4)+SUMIFS($AJ$4:$AJ$54,$AG$4:$AG$54,BS5,$L$4:$L$54,4),)","v":0},{"$f":"IF(AND(EM5>0,COUNTIF(EU4:EU7,EU5)>1),EU5+RANK(EV5,EV4:EV7)-1,EU5)","v":0},{"$f":"IF(EW5=0,\"\",EW5)","v":""},{"$f":"IF(OR(EX5=\"\",COUNTIF(EX4:EX7,EX5)=1),\"\",$BY5)","v":""},{"$f":"IF(EX5=\"\",\"\",IF(COUNTIF(EX4:EX7,EX5)=1,EX5,EX5+RANK(EY5,EY4:EY7,0)-1))","v":""},{"$f":"IF(OR(EZ5=\"\",COUNTIF(EZ4:EZ7,EZ5)=1),\"\",$BW5)","v":""},{"$f":"IF(EX5=\"\",\"\",IF(COUNTIF(EZ4:EZ7,EZ5)=1,EZ5,EZ5+RANK(FA5,FA4:FA7,0)-1))","v":""},{"$f":"IF(OR(FB5=\"\",COUNTIF(FB4:FB7,FB5)=1),\"\",$BT5)","v":""},{"$f":"IF(EX5=\"\",\"\",IF(COUNTIF(FB4:FB7,FB5)=1,FB5,FB5+RANK(FC5,FC4:FC7,0)-1))","v":""},{"$f":"IF(EM5>0,CF2+CZ2+DT2+RANK(FD5,FD4:FD7,1),)","v":0},null,{"$f":"IFERROR(VLOOKUP(FI5,CE3:CW7,19,FALSE),IFERROR(VLOOKUP(FI5,CY3:DQ7,19,FALSE),IFERROR(VLOOKUP(FI5,DS3:EK7,19,FALSE),VLOOKUP(FI5,EM3:FE7,19,FALSE))))","v":1},{"$f":"RANK(FG5,FG4:FG7,1)+COUNTIF(FG4:FG5,FG5)-1","v":2},{"$f":"BS5","v":"Scotland"},null,"B",{"$f":"N15","v":"Italy"},{"$f":"RANK($FN5,$FN$4:$FN$9,1)+COUNTIF($FN$4:$FN5,$FN5)-1","v":2},{"$f":"FQ5+FP5+FO5","v":1},{"$f":"SUMPRODUCT(($FR$4:$FR$9=FR5)*($FS$4:$FS$9=FS5)*($FT$4:$FT$9>FT5))","v":0},{"$f":"SUMPRODUCT(($FR$4:$FR$9=FR5)*($FS$4:$FS$9>FS5))","v":0},{"$f":"RANK(FR5,$FR$4:$FR$9)","v":1},{"$f":"U15","v":0},{"$f":"T15","v":0},{"$f":"R15","v":0},"B",{"$f":"IF(FM5<5,FU5,)","v":"B"},null,4,"ABCF","A","B","C","F",{"$f":"VLOOKUP(\"A\",$FK$3:$FL$9,2,FALSE)","v":"Hungary"},{"$f":"VLOOKUP(\"F\",$FK$3:$FL$9,2,FALSE)","v":"Georgia"},{"$f":"VLOOKUP(\"B\",$FK$3:$FL$9,2,FALSE)","v":"Italy"},{"$f":"VLOOKUP(\"C\",$FK$3:$FL$9,2,FALSE)","v":"Serbia"},"",2]
[null,null,null,"2024-06-19","Germany","-","Hungary",null,"-",null,"",{"$f":"IF(VLOOKUP(E6,BS3:CB7,10,FALSE)=VLOOKUP(G6,BS3:CB7,10,FALSE),VLOOKUP(E6,BS3:CB7,10,FALSE),\"-\")","v":1},3,{"$f":"VLOOKUP(M6,FH4:FI7,2,FALSE)","v":"Hungary"},{"$f":"VLOOKUP(N6,$BS$4:$BZ$7,2,FALSE)","v":0},{"$f":"VLOOKUP($N$6,$BS$4:$BZ$7,3,FALSE)","v":0},{"$f":"VLOOKUP($N$6,$BS$4:$BZ$7,4,FALSE)","v":0},{"$f":"VLOOKUP($N$6,$BS$4:$BZ$7,5,FALSE)","v":0},{"$f":"VLOOKUP($N$6,$BS$4:$BZ$7,6,FALSE)","v":0},{"$f":"VLOOKUP($N$6,$BS$4:$BZ$7,7,FALSE)","v":0},{"$f":"VLOOKUP($N$6,$BS$4:$BZ$7,8,FALSE)","v":0},null,"Team scoring most goals in group stage",null,null,null,null,null,null,"2024-06-19","Germany","-","Hungary","","-","","",null,0,0,0,0,0,0,0,0,0,0,0,0,0,0,0,0,0,0,0,0,0,0,0,0,0,0,0,0,0,0,null,null,"Hungary",{"$f":"(SUMIF(AE$4:AE$54,BS6,AM$4:AM$54)+SUMIF(AG$4:AG$54,BS6,AN$4:AN$54))","v":0},{"$f":"(SUMIF(AE$4:AE$54,BS6,AO$4:AO$54)+SUMIF(AG$4:AG$54,BS6,AP$4:AP$54))","v":0},{"$f":"(SUMIF(AE$4:AE$54,BS6,AQ$4:AQ$54)+SUMIF(AG$4:AG$54,BS6,AR$4:AR$54))","v":0},0,0,0,0,"A",{"$f":"RANK(BZ6,BZ4:BZ7)","v":1},{"$f":"SUMPRODUCT((BZ4:BZ7=BZ6)*(BY4:BY7>BY6))","v":0},null,{"$f":"IF(CB6=1,BS6,)","v":"Hungary"},0,0,0,0,"A",{"$f":"IF(CE6>0,RANK(CI6,CI4:CI7),)","v":1},{"$f":"IF(AND(CE6>0,COUNTIF(CK4:CK7,CK6)>1),SUMIFS($AH$4:$AH$54,$AE$4:$AE$54,BS6,$L$4:$L$54,1)+SUMIFS($AJ$4:$AJ$54,$AG$4:$AG$54,BS6,$L$4:$L$54,1)-SUMIFS($AJ$4:$AJ$54,$AE$4:$AE$54,BS6,$L$4:$L$54,1)-SUMIFS($AH$4:$AH$54,$AG$4:$AG$54,BS6,$L$4:$L$54,1),)","v":0},{"$f":"IF(AND(CE6>0,COUNTIF(CK4:CK7,CK6)>1),CK6+RANK(CL6,CL4:CL7)-1,CK6)","v":1},{"$f":"IF(AND(CE6>0,COUNTIF(CM4:CM7,CM6)>1),SUMIFS($AH$4:$AH$54,$AE$4:$AE$54,BS6,$L$4:$L$54,1)+SUMIFS($AJ$4:$AJ$54,$AG$4:$AG$54,BS6,$L$4:$L$54,1),)","v":0},{"$f":"IF(AND(CE6>0,COUNTIF(CM4:CM7,CM6)>1),CM6+RANK(CN6,CN4:CN7)-1,CM6)","v":1},1,{"$f":"IF(OR(CP6=\"\",COUNTIF(CP4:CP7,CP6)=1),\"\",$BY6)","v":0},{"$f":"IF(CP6=\"\",\"\",IF(COUNTIF(CP4:CP7,CP6)=1,CP6,CP6+RANK(CQ6,CQ4:CQ7,0)-1))","v":1},{"$f":"IF(OR(CR6=\"\",COUNTIF(CR4:CR7,CR6)=1),\"\",$BW6)","v":0},{"$f":"IF(CP6=\"\",\"\",IF(COUNTIF(CR4:CR7,CR6)=1,CR6,CR6+RANK(CS6,CS4:CS7,0)-1))","v":1},{"$f":"IF(OR(CT6=\"\",COUNTIF(CT4:CT7,CT6)=1),\"\",$BT6)","v":0},{"$f":"IF(CP6=\"\",\"\",IF(COUNTIF(CT4:CT7,CT6)=1,CT6,CT6+RANK(CU6,CU4:CU7,0)-1))","v":1},{"$f":"IF(CE6>0,BL2+RANK(CV6,CV4:CV7,1),)","v":1},null,{"$f":"IF(CB6=2,BS6,)","v":0},0,0,0,0,"A",{"$f":"IF(CY6>0,RANK(DC6,DC4:DC7)+CF2,)","v":0},{"$f":"IF(AND(CY6>0,COUNTIF(DE4:DE7,DE6)>1),SUMIFS($AH$4:$AH$54,$AE$4:$AE$54,BS6,$L$4:$L$54,2)+SUMIFS($AJ$4:$AJ$54,$AG$4:$AG$54,BS6,$L$4:$L$54,2)-SUMIFS($AJ$4:$AJ$54,$AE$4:$AE$54,BS6,$L$4:$L$54,2)-SUMIFS($AH$4:$AH$54,$AG$4:$AG$54,BS6,$L$4:$L$54,2),)","v":0},{"$f":"IF(AND(CY6>0,COUNTIF(DE4:DE7,DE6)>1),DE6+RANK(DF6,DF4:DF7)-1,DE6)","v":0},{"$f":"IF(AND(CY6>0,COUNTIF(DG4:DG7,DG6)>1),SUMIFS($AH$4:$AH$54,$AE$4:$AE$54,BS6,$L$4:$L$54,2)+SUMIFS($AJ$4:$AJ$54,$AG$4:$AG$54,BS6,$L$4:$L$54,2),)","v":0},{"$f":"IF(AND(CY6>0,COUNTIF(DG4:DG7,DG6)>1),DG6+RANK(DH6,DH4:DH7)-1,DG6)","v":0},"",{"$f":"IF(OR(DJ6=\"\",COUNTIF(DJ4:DJ7,DJ6)=1),\"\",$BY6)","v":""},{"$f":"IF(DJ6=\"\",\"\",IF(COUNTIF(DJ4:DJ7,DJ6)=1,DJ6,DJ6+RANK(DK6,DK4:DK7,0)-1))","v":""},{"$f":"IF(OR(DL6=\"\",COUNTIF(DL4:DL7,DL6)=1),\"\",$BW6)","v":""},{"$f":"IF(DJ6=\"\",\"\",IF(COUNTIF(DL4:DL7,DL6)=1,DL6,DL6+RANK(DM6,DM4:DM7,0)-1))","v":""},{"$f":"IF(OR(DN6=\"\",COUNTIF(DN4:DN7,DN6)=1),\"\",$BT6)","v":""},{"$f":"IF(DJ6=\"\",\"\",IF(COUNTIF(DN4:DN7,DN6)=1,DN6,DN6+RANK(DO6,DO4:DO7,0)-1))","v":""},{"$f":"IF(CY6>0,CF2+RANK(DP6,DP4:DP7,1),)","v":0},null,{"$f":"IF(CB6=3,BS6,)","v":0},{"$f":"(SUMIF(AE$4:AE$54,BS6,BE$4:BE$54)+SUMIF(AG$4:AG$54,BS6,BF$4:BF$54))","v":0},{"$f":"(SUMIF(AE$4:AE$54,BS6,BG$4:BG$54)+SUMIF(AG$4:AG$54,BS6,BH$4:BH$54))","v":0},{"$f":"(SUMIF(AE$4:AE$54,BS6,BI$4:BI$54)+SUMIF(AG$4:AG$54,BS6,BJ$4:BJ$54))","v":0},0,{"$f":"CA6","v":"A"},{"$f":"IF(DS6>0,RANK(DW6,DW4:DW7)+CF2+CZ2,)","v":0},{"$f":"IF(AND(DS6>0,COUNTIF(DY4:DY7,DY6)>1),SUMIFS($AH$4:$AH$54,$AE$4:$AE$54,BS6,$L$4:$L$54,3)+SUMIFS($AJ$4:$AJ$54,$AG$4:$AG$54,BS6,$L$4:$L$54,3)-SUMIFS($AJ$4:$AJ$54,$AE$4:$AE$54,BS6,$L$4:$L$54,3)-SUMIFS($AH$4:$AH$54,$AG$4:$AG$54,BS6,$L$4:$L$54,3),)","v":0},{"$f":"IF(AND(DS6>0,COUNTIF(DY4:DY7,DY6)>1),DY6+RANK(DZ6,DZ4:DZ7)-1,DY6)","v":0},{"$f":"IF(AND(DS6>0,COUNTIF(EA4:EA7,EA6)>1),SUMIFS($AH$4:$AH$54,$AE$4:$AE$54,BS6,$L$4:$L$54,3)+SUMIFS($AJ$4:$AJ$54,$AG$4:$AG$54,BS6,$L$4:$L$54,3),)","v":0},{"$f":"IF(AND(DS6>0,COUNTIF(EA4:EA7,EA6)>1),EA6+RANK(EB6,EB4:EB7)-1,EA6)","v":0},"",{"$f":"IF(OR(ED6=\"\",COUNTIF(ED4:ED7,ED6)=1),\"\",$BY6)","v":""},{"$f":"IF(ED6=\"\",\"\",IF(COUNTIF(ED4:ED7,ED6)=1,ED6,ED6+RANK(EE6,EE4:EE7,0)-1))","v":""},{"$f":"IF(OR(EF6=\"\",COUNTIF(EF4:EF7,EF6)=1),\"\",$BW6)","v":""},{"$f":"IF(ED6=\"\",\"\",IF(COUNTIF(EF4:EF7,EF6)=1,EF6,EF6+RANK(EG6,EG4:EG7,0)-1))","v":""},{"$f":"IF(OR(EH6=\"\",COUNTIF(EH4:EH7,EH6)=1),\"\",$BT6)","v":""},{"$f":"IF(ED6=\"\",\"\",IF(COUNTIF(EH4:EH7,EH6)=1,EH6,EH6+RANK(EI6,EI4:EI7,0)-1))","v":""},{"$f":"IF(DS6>0,CF2+CZ2+RANK(EJ6,EJ4:EJ7,1),)","v":0},null,{"$f":"IF(CB6=4,BS6,)","v":0},0,0,0,0,"A",{"$f":"IF(EM6>0,RANK(EQ6,EQ4:EQ7)+CF2+CZ2+DT2,)","v":0},{"$f":"IF(AND(EM6>0,COUNTIF(ES4:ES7,ES6)>1),SUMIFS($AH$4:$AH$54,$AE$4:$AE$54,BS6,$L$4:$L$54,4)+SUMIFS($AJ$4:$AJ$54,$AG$4:$AG$54,BS6,$L$4:$L$54,4)-SUMIFS($AJ$4:$AJ$54,$AE$4:$AE$54,BS6,$L$4:$L$54,4)-SUMIFS($AH$4:$AH$54,$AG$4:$AG$54,BS6,$L$4:$L$54,4),)","v":0},0,{"$f":"IF(AND(EM6>0,COUNTIF(EU4:EU7,EU6)>1),SUMIFS($AH$4:$AH$54,$AE$4:$AE$54,BS6,$L$4:$L$54,4)+SUMIFS($AJ$4:$AJ$54,$AG$4:$AG$54,BS6,$L$4:$L$54,4),)","v":0},{"$f":"IF(AND(EM6>0,COUNTIF(EU4:EU7,EU6)>1),EU6+RANK(EV6,EV4:EV7)-1,EU6)","v":0},"",{"$f":"IF(OR(EX6=\"\",COUNTIF(EX4:EX7,EX6)=1),\"\",$BY6)","v":""},{"$f":"IF(EX6=\"\",\"\",IF(COUNTIF(EX4:EX7,EX6)=1,EX6,EX6+RANK(EY6,EY4:EY7,0)-1))","v":""},{"$f":"IF(OR(EZ6=\"\",COUNTIF(EZ4:EZ7,EZ6)=1),\"\",$BW6)","v":""},{"$f":"IF(EX6=\"\",\"\",IF(COUNTIF(EZ4:EZ7,EZ6)=1,EZ6,EZ6+RANK(FA6,FA4:FA7,0)-1))","v":""},{"$f":"IF(OR(FB6=\"\",COUNTIF(FB4:FB7,FB6)=1),\"\",$BT6)","v":""},{"$f":"IF(EX6=\"\",\"\",IF(COUNTIF(FB4:FB7,FB6)=1,FB6,FB6+RANK(FC6,FC4:FC7,0)-1))","v":""},{"$f":"IF(EM6>0,CF2+CZ2+DT2+RANK(FD6,FD4:FD7,1),)","v":0},null,{"$f":"IFERROR(VLOOKUP(FI6,CE3:CW7,19,FALSE),IFERROR(VLOOKUP(FI6,CY3:DQ7,19,FALSE),IFERROR(VLOOKUP(FI6,DS3:EK7,19,FALSE),VLOOKUP(FI6,EM3:FE7,19,FALSE))))","v":1},{"$f":"RANK(FG6,FG4:FG7,1)+COUNTIF(FG4:FG6,FG6)-1","v":3},{"$f":"BS6","v":"Hungary"},null,"C",{"$f":"N24","v":"Serbia"},{"$f":"RANK($FN6,$FN$4:$FN$9,1)+COUNTIF($FN$4:$FN6,$FN6)-1","v":3},1,0,0,1,{"$f":"U24","v":0},{"$f":"T24","v":0},{"$f":"R24","v":0},"C","C",null,5,"ABDE","A","B","D","E",{"$f":"VLOOKUP(\"D\",$FK$3:$FL$9,2,FALSE)","v":"Poland"},{"$f":"VLOOKUP(\"E\",$FK$3:$FL$9,2,FALSE)","v":"Belgium"},{"$f":"VLOOKUP(\"A\",$FK$3:$FL$9,2,FALSE)","v":"Hungary"},{"$f":"VLOOKUP(\"B\",$FK$3:$FL$9,2,FALSE)","v":"Italy"},"",3]
[null,null,null,"2024-06-19","Scotland","-","Switzerland",null,"-",null,"",{"$f":"IF(VLOOKUP(E7,BS3:CB7,10,FALSE)=VLOOKUP(G7,BS3:CB7,10,FALSE),VLOOKUP(E7,BS3:CB7,10,FALSE),\"-\")","v":1},4,{"$f":"VLOOKUP(M7,FH4:FI7,2,FALSE)","v":"Switzerland"},{"$f":"VLOOKUP(N7,$BS$4:$BZ$7,2,FALSE)","v":0},{"$f":"VLOOKUP($N$7,$BS$4:$BZ$7,3,FALSE)","v":0},{"$f":"VLOOKUP($N$7,$BS$4:$BZ$7,4,FALSE)","v":0},{"$f":"VLOOKUP($N$7,$BS$4:$BZ$7,5,FALSE)","v":0},{"$f":"VLOOKUP($N$7,$BS$4:$BZ$7,6,FALSE)","v":0},{"$f":"VLOOKUP($N$7,$BS$4:$BZ$7,7,FALSE)","v":0},{"$f":"VLOOKUP($N$7,$BS$4:$BZ$7,8,FALSE)","v":0},null,"Team conceding most goals in group stage",null,null,null,null,null,null,"2024-06-19","Scotland","-","Switzerland","","-","","",null,0,0,0,0,0,0,0,0,0,0,0,0,0,0,0,0,0,0,0,0,0,0,0,0,0,0,0,0,0,0,null,null,"Switzerland",{"$f":"(SUMIF(AE$4:AE$54,BS7,AM$4:AM$54)+SUMIF(AG$4:AG$54,BS7,AN$4:AN$54))","v":0},{"$f":"(SUMIF(AE$4:AE$54,BS7,AO$4:AO$54)+SUMIF(AG$4:AG$54,BS7,AP$4:AP$54))","v":0},{"$f":"(SUMIF(AE$4:AE$54,BS7,AQ$4:AQ$54)+SUMIF(AG$4:AG$54,BS7,AR$4:AR$54))","v":0},0,0,0,0,"A",{"$f":"RANK(BZ7,BZ4:BZ7)","v":1},{"$f":"SUMPRODUCT((BZ4:BZ7=BZ7)*(BY4:BY7>BY7))","v":0},null,{"$f":"IF(CB7=1,BS7,)","v":"Switzerland"},0,0,0,0,"A",{"$f":"IF(CE7>0,RANK(CI7,CI4:CI7),)","v":1},{"$f":"IF(AND(CE7>0,COUNTIF(CK4:CK7,CK7)>1),SUMIFS($AH$4:$AH$54,$AE$4:$AE$54,BS7,$L$4:$L$54,1)+SUMIFS($AJ$4:$AJ$54,$AG$4:$AG$54,BS7,$L$4:$L$54,1)-SUMIFS($AJ$4:$AJ$54,$AE$4:$AE$54,BS7,$L$4:$L$54,1)-SUMIFS($AH$4:$AH$54,$AG$4:$AG$54,BS7,$L$4:$L$54,1),)","v":0},{"$f":"IF(AND(CE7>0,COUNTIF(CK4:CK7,CK7)>1),CK7+RANK(CL7,CL4:CL7)-1,CK7)","v":1},{"$f":"IF(AND(CE7>0,COUNTIF(CM4:CM7,CM7)>1),SUMIFS($AH$4:$AH$54,$AE$4:$AE$54,BS7,$L$4:$L$54,1)+SUMIFS($AJ$4:$AJ$54,$AG$4:$AG$54,BS7,$L$4:$L$54,1),)","v":0},{"$f":"IF(AND(CE7>0,COUNTIF(CM4:CM7,CM7)>1),CM7+RANK(CN7,CN4:CN7)-1,CM7)","v":1},1,{"$f":"IF(OR(CP7=\"\",COUNTIF(CP4:CP7,CP7)=1),\"\",$BY7)","v":0},{"$f":"IF(CP7=\"\",\"\",IF(COUNTIF(CP4:CP7,CP7)=1,CP7,CP7+RANK(CQ7,CQ4:CQ7,0)-1))","v":1},{"$f":"IF(OR(CR7=\"\",COUNTIF(CR4:CR7,CR7)=1),\"\",$BW7)","v":0},{"$f":"IF(CP7=\"\",\"\",IF(COUNTIF(CR4:CR7,CR7)=1,CR7,CR7+RANK(CS7,CS4:CS7,0)-1))","v":1},{"$f":"IF(OR(CT7=\"\",COUNTIF(CT4:CT7,CT7)=1),\"\",$BT7)","v":0},{"$f":"IF(CP7=\"\",\"\",IF(COUNTIF(CT4:CT7,CT7)=1,CT7,CT7+RANK(CU7,CU4:CU7,0)-1))","v":1},{"$f":"IF(CE7>0,BL2+RANK(CV7,CV4:CV7,1),)","v":1},null,{"$f":"IF(CB7=2,BS7,)","v":0},0,0,0,0,"A",{"$f":"IF(CY7>0,RANK(DC7,DC4:DC7)+CF2,)","v":0},{"$f":"IF(AND(CY7>0,COUNTIF(DE4:DE7,DE7)>1),SUMIFS($AH$4:$AH$54,$AE$4:$AE$54,BS7,$L$4:$L$54,2)+SUMIFS($AJ$4:$AJ$54,$AG$4:$AG$54,BS7,$L$4:$L$54,2)-SUMIFS($AJ$4:$AJ$54,$AE$4:$AE$54,BS7,$L$4:$L$54,2)-SUMIFS($AH$4:$AH$54,$AG$4:$AG$54,BS7,$L$4:$L$54,2),)","v":0},{"$f":"IF(AND(CY7>0,COUNTIF(DE4:DE7,DE7)>1),DE7+RANK(DF7,DF4:DF7)-1,DE7)","v":0},{"$f":"IF(AND(CY7>0,COUNTIF(DG4:DG7,DG7)>1),SUMIFS($AH$4:$AH$54,$AE$4:$AE$54,BS7,$L$4:$L$54,2)+SUMIFS($AJ$4:$AJ$54,$AG$4:$AG$54,BS7,$L$4:$L$54,2),)","v":0},{"$f":"IF(AND(CY7>0,COUNTIF(DG4:DG7,DG7)>1),DG7+RANK(DH7,DH4:DH7)-1,DG7)","v":0},"",{"$f":"IF(OR(DJ7=\"\",COUNTIF(DJ4:DJ7,DJ7)=1),\"\",$BY7)","v":""},{"$f":"IF(DJ7=\"\",\"\",IF(COUNTIF(DJ4:DJ7,DJ7)=1,DJ7,DJ7+RANK(DK7,DK4:DK7,0)-1))","v":""},{"$f":"IF(OR(DL7=\"\",COUNTIF(DL4:DL7,DL7)=1),\"\",$BW7)","v":""},{"$f":"IF(DJ7=\"\",\"\",IF(COUNTIF(DL4:DL7,DL7)=1,DL7,DL7+RANK(DM7,DM4:DM7,0)-1))","v":""},{"$f":"IF(OR(DN7=\"\",COUNTIF(DN4:DN7,DN7)=1),\"\",$BT7)","v":""},{"$f":"IF(DJ7=\"\",\"\",IF(COUNTIF(DN4:DN7,DN7)=1,DN7,DN7+RANK(DO7,DO4:DO7,0)-1))","v":""},{"$f":"IF(CY7>0,CF2+RANK(DP7,DP4:DP7,1),)","v":0},null,{"$f":"IF(CB7=3,BS7,)","v":0},{"$f":"(SUMIF(AE$4:AE$54,BS7,BE$4:BE$54)+SUMIF(AG$4:AG$54,BS7,BF$4:BF$54))","v":0},{"$f":"(SUMIF(AE$4:AE$54,BS7,BG$4:BG$54)+SUMIF(AG$4:AG$54,BS7,BH$4:BH$54))","v":0},{"$f":"(SUMIF(AE$4:AE$54,BS7,BI$4:BI$54)+SUMIF(AG$4:AG$54,BS7,BJ$4:BJ$54))","v":0},0,{"$f":"CA7","v":"A"},{"$f":"IF(DS7>0,RANK(DW7,DW4:DW7)+CF2+CZ2,)","v":0},{"$f":"IF(AND(DS7>0,COUNTIF(DY4:DY7,DY7)>1),SUMIFS($AH$4:$AH$54,$AE$4:$AE$54,BS7,$L$4:$L$54,3)+SUMIFS($AJ$4:$AJ$54,$AG$4:$AG$54,BS7,$L$4:$L$54,3)-SUMIFS($AJ$4:$AJ$54,$AE$4:$AE$54,BS7,$L$4:$L$54,3)-SUMIFS($AH$4:$AH$54,$AG$4:$AG$54,BS7,$L$4:$L$54,3),)","v":0},{"$f":"IF(AND(DS7>0,COUNTIF(DY4:DY7,DY7)>1),DY7+RANK(DZ7,DZ4:DZ7)-1,DY7)","v":0},{"$f":"IF(AND(DS7>0,COUNTIF(EA4:EA7,EA7)>1),SUMIFS($AH$4:$AH$54,$AE$4:$AE$54,BS7,$L$4:$L$54,3)+SUMIFS($AJ$4:$AJ$54,$AG$4:$AG$54,BS7,$L$4:$L$54,3),)","v":0},{"$f":"IF(AND(DS7>0,COUNTIF(EA4:EA7,EA7)>1),EA7+RANK(EB7,EB4:EB7)-1,EA7)","v":0},"",{"$f":"IF(OR(ED7=\"\",COUNTIF(ED4:ED7,ED7)=1),\"\",$BY7)","v":""},{"$f":"IF(ED7=\"\",\"\",IF(COUNTIF(ED4:ED7,ED7)=1,ED7,ED7+RANK(EE7,EE4:EE7,0)-1))","v":""},{"$f":"IF(OR(EF7=\"\",COUNTIF(EF4:EF7,EF7)=1),\"\",$BW7)","v":""},{"$f":"IF(ED7=\"\",\"\",IF(COUNTIF(EF4:EF7,EF7)=1,EF7,EF7+RANK(EG7,EG4:EG7,0)-1))","v":""},{"$f":"IF(OR(EH7=\"\",COUNTIF(EH4:EH7,EH7)=1),\"\",$BT7)","v":""},{"$f":"IF(ED7=\"\",\"\",IF(COUNTIF(EH4:EH7,EH7)=1,EH7,EH7+RANK(EI7,EI4:EI7,0)-1))","v":""},{"$f":"IF(DS7>0,CF2+CZ2+RANK(EJ7,EJ4:EJ7,1),)","v":0},null,{"$f":"IF(CB7=4,BS7,)","v":0},0,0,0,0,"A",{"$f":"IF(EM7>0,RANK(EQ7,EQ4:EQ7)+CF2+CZ2+DT2,)","v":0},{"$f":"IF(AND(EM7>0,COUNTIF(ES4:ES7,ES7)>1),SUMIFS($AH$4:$AH$54,$AE$4:$AE$54,BS7,$L$4:$L$54,4)+SUMIFS($AJ$4:$AJ$54,$AG$4:$AG$54,BS7,$L$4:$L$54,4)-SUMIFS($AJ$4:$AJ$54,$AE$4:$AE$54,BS7,$L$4:$L$54,4)-SUMIFS($AH$4:$AH$54,$AG$4:$AG$54,BS7,$L$4:$L$54,4),)","v":0},0,{"$f":"IF(AND(EM7>0,COUNTIF(EU4:EU7,EU7)>1),SUMIFS($AH$4:$AH$54,$AE$4:$AE$54,BS7,$L$4:$L$54,4)+SUMIFS($AJ$4:$AJ$54,$AG$4:$AG$54,BS7,$L$4:$L$54,4),)","v":0},{"$f":"IF(AND(EM7>0,COUNTIF(EU4:EU7,EU7)>1),EU7+RANK(EV7,EV4:EV7)-1,EU7)","v":0},"",{"$f":"IF(OR(EX7=\"\",COUNTIF(EX4:EX7,EX7)=1),\"\",$BY7)","v":""},{"$f":"IF(EX7=\"\",\"\",IF(COUNTIF(EX4:EX7,EX7)=1,EX7,EX7+RANK(EY7,EY4:EY7,0)-1))","v":""},{"$f":"IF(OR(EZ7=\"\",COUNTIF(EZ4:EZ7,EZ7)=1),\"\",$BW7)","v":""},{"$f":"IF(EX7=\"\",\"\",IF(COUNTIF(EZ4:EZ7,EZ7)=1,EZ7,EZ7+RANK(FA7,FA4:FA7,0)-1))","v":""},{"$f":"IF(OR(FB7=\"\",COUNTIF(FB4:FB7,FB7)=1),\"\",$BT7)","v":""},{"$f":"IF(EX7=\"\",\"\",IF(COUNTIF(FB4:FB7,FB7)=1,FB7,FB7+RANK(FC7,FC4:FC7,0)-1))","v":""},{"$f":"IF(EM7>0,CF2+CZ2+DT2+RANK(FD7,FD4:FD7,1),)","v":0},null,{"$f":"IFERROR(VLOOKUP(FI7,CE3:CW7,19,FALSE),IFERROR(VLOOKUP(FI7,CY3:DQ7,19,FALSE),IFERROR(VLOOKUP(FI7,DS3:EK7,19,FALSE),VLOOKUP(FI7,EM3:FE7,19,FALSE))))","v":1},{"$f":"RANK(FG7,FG4:FG7,1)+COUNTIF(FG4:FG7,FG7)-1","v":4},{"$f":"BS7","v":"Switzerland"},null,"D",{"$f":"N33","v":"Poland"},{"$f":"RANK($FN7,$FN$4:$FN$9,1)+COUNTIF($FN$4:$FN7,$FN7)-1","v":4},1,0,0,1,{"$f":"U33","v":0},{"$f":"T33","v":0},{"$f":"R33","v":0},"D","D",null,6,"ABDF","A","B","D","F",{"$f":"VLOOKUP(\"D\",$FK$3:$FL$9,2,FALSE)","v":"Poland"},{"$f":"VLOOKUP(\"F\",$FK$3:$FL$9,2,FALSE)","v":"Georgia"},{"$f":"VLOOKUP(\"A\",$FK$3:$FL$9,2,FALSE)","v":"Hungary"},{"$f":"VLOOKUP(\"B\",$FK$3:$FL$9,2,FALSE)","v":"Italy"},"",4]
[null,null,null,"2024-06-23","Switzerland","-","Germany",null,"-",null,"",{"$f":"IF(VLOOKUP(E8,BS3:CB7,10,FALSE)=VLOOKUP(G8,BS3:CB7,10,FALSE),VLOOKUP(E8,BS3:CB7,10,FALSE),\"-\")","v":1},null,{"$f":"IF(COUNTBLANK(H4:H9)+COUNTBLANK(J4:J9)=0,\"Resultat OK\",\"Fyll i resultat\")","v":"Fyll i resultat"},null,null,null,null,null,null,null,null,"Own bonus question 1",null,null,null,null,null,null,"2024-06-23","Switzerland","-","Germany","","-","","",null,0,0,0,0,0,0,0,0,0,0,0,0,0,0,0,0,0,0,0,0,0,0,0,0,0,0,0,0,0,0,null,null,null,null,null,null,null,null,null,null,null,null,null,null,null,null,null,null,null,null,null,null,null,null,null,null,null,null,null,null,null,null,null,null,null,null,null,null,null,null,null,null,null,null,null,null,null,null,null,null,null,null,null,null,null,null,null,null,null,null,null,null,null,null,null,null,null,null,null,null,null,null,null,null,null,null,null,null,null,null,null,null,null,null,null,null,null,null,null,null,null,null,null,null,null,null,null,null,"E",{"$f":"N42","v":"Belgium"},{"$f":"RANK($FN8,$FN$4:$FN$9,1)+COUNTIF($FN$4:$FN8,$FN8)-1","v":5},1,0,0,1,{"$f":"U42","v":0},{"$f":"T42","v":0},{"$f":"R42","v":0},"E",0,null,7,"ABEF","A","B","E","F",{"$f":"VLOOKUP(\"E\",$FK$3:$FL$9,2,FALSE)","v":"Belgium"},{"$f":"VLOOKUP(\"F\",$FK$3:$FL$9,2,FALSE)","v":"Georgia"},{"$f":"VLOOKUP(\"B\",$FK$3:$FL$9,2,FALSE)","v":"Italy"},{"$f":"VLOOKUP(\"A\",$FK$3:$FL$9,2,FALSE)","v":"Hungary"},"",5]
[null,null,null,"2024-06-23","Scotland","-","Hungary",null,"-",null,"",{"$f":"IF(VLOOKUP(E9,BS3:CB7,10,FALSE)=VLOOKUP(G9,BS3:CB7,10,FALSE),VLOOKUP(E9,BS3:CB7,10,FALSE),\"-\")","v":1},null,null,null,null,null,null,null,null,null,null,"Own bonus question 2",null,null,null,null,null,null,"2024-06-23","Scotland","-","Hungary","","-","","",null,0,0,0,0,0,0,0,0,0,0,0,0,0,0,0,0,0,0,0,0,0,0,0,0,0,0,0,0,0,0,null,null,null,null,null,null,null,null,null,null,null,null,null,null,null,null,null,null,null,null,null,null,null,null,null,null,null,null,null,null,null,null,null,null,null,null,null,null,null,null,null,null,null,null,null,null,null,null,null,null,null,null,null,null,null,null,null,null,null,null,null,null,null,null,null,null,null,null,null,null,null,null,null,null,null,null,null,null,null,null,null,null,null,null,null,null,null,null,null,null,null,null,null,null,null,null,null,null,"F",{"$f":"N51","v":"Georgia"},{"$f":"RANK($FN9,$FN$4:$FN$9,1)+COUNTIF($FN$4:$FN9,$FN9)-1","v":6},1,0,0,1,{"$f":"U51","v":0},{"$f":"T51","v":0},{"$f":"R51","v":0},"F",0,null,8,"ACDE","A","C","D","E",{"$f":"VLOOKUP(\"E\",$FK$3:$FL$9,2,FALSE)","v":"Belgium"},{"$f":"VLOOKUP(\"D\",$FK$3:$FL$9,2,FALSE)","v":"Poland"},{"$f":"VLOOKUP(\"C\",$FK$3:$FL$9,2,FALSE)","v":"Serbia"},{"$f":"VLOOKUP(\"A\",$FK$3:$FL$9,2,FALSE)","v":"Hungary"},"",6]
[null,null,null,null,null,null,null,null,null,null,"",null,null,null,null,null,null,null,null,null,null,null,null,null,null,null,null,null,null,null,null,null,null,"",null,null,"",null,null,null,null,null,null,null,null,null,null,null,null,null,null,null,null,null,null,null,null,null,null,null,null,null,null,null,null,null,null,null,null,null,null,null,null,null,null,null,null,null,null,null,null,null,null,null,null,null,null,null,null,null,null,null,null,null,null,null,null,null,null,null,null,null,null,null,null,null,null,null,null,null,null,null,null,null,null,null,null,null,null,null,null,null,null,null,null,null,null,null,null,null,null,null,null,null,null,null,null,null,null,null,null,null,null,null,null,null,null,null,null,null,null,null,null,null,null,null,null,null,null,null,null,null,null,null,null,null,null,null,null,null,null,null,null,null,null,null,null,null,null,9,"ACDF","A","C","D","F",{"$f":"VLOOKUP(\"F\",$FK$3:$FL$9,2,FALSE)","v":"Georgia"},{"$f":"VLOOKUP(\"D\",$FK$3:$FL$9,2,FALSE)","v":"Poland"},{"$f":"VLOOKUP(\"C\",$FK$3:$FL$9,2,FALSE)","v":"Serbia"},{"$f":"VLOOKUP(\"A\",$FK$3:$FL$9,2,FALSE)","v":"Hungary"},"",7]
[null,null,null,"Group B",null,null,null,null,null,null,null,null,null,null,null,null,null,null,null,null,null,null,null,null,null,null,null,null,null,"Grupp B",null,null,null,null,null,null,null,null,null,null,null,null,null,null,null,null,null,null,null,null,null,null,null,null,null,null,null,null,null,null,null,null,null,null,null,null,null,null,null,null,"Rank 0",null,null,null,null,null,null,null,null,null,null,null,"Rank 1",{"$f":"COUNTIF(CB13:CB16,1)","v":4},null,null,null,null,null,null,null,null,null,null,null,null,null,null,null,null,null,null,"Rank 2",{"$f":"COUNTIF(CB13:CB16,2)","v":0},null,null,null,null,null,null,null,null,null,null,null,null,null,null,null,null,null,null,"Rank 3",{"$f":"COUNTIF(CB13:CB16,3)","v":0},null,null,null,null,null,null,null,null,null,null,null,null,null,null,null,null,null,null,"Rank 4",{"$f":"COUNTIF(CB13:CB16,4)","v":0},null,null,null,null,null,null,null,null,null,null,null,null,null,null,null,null,null,null,null,null,null,null,null,null,null,null,null,null,null,null,null,null,null,null,null,10,"ACEF","A","C","E","F",{"$f":"VLOOKUP(\"E\",$FK$3:$FL$9,2,FALSE)","v":"Belgium"},{"$f":"VLOOKUP(\"F\",$FK$3:$FL$9,2,FALSE)","v":"Georgia"},{"$f":"VLOOKUP(\"C\",$FK$3:$FL$9,2,FALSE)","v":"Serbia"},{"$f":"VLOOKUP(\"A\",$FK$3:$FL$9,2,FALSE)","v":"Hungary"},"",8]
[null,null,"#","Date","Match",null,null,"Result",null,null,"1X2",null,null,"Team","W","D","L","GF","GA","+/-","P",null,null,null,null,null,null,null,null,"Datum","Match",null,null,"Resultat",null,null,"Tecken","Poäng","V1","V2","O1","O2","F1","F2","V1","V2","O1","O2","F1","F2","V1","V2","O1","O2","F1","F2","V1","V2","O1","O2","F1","F2","V1","V2","O1","O2","F1","F2",null,null,"Lag","V","O","F","GM","IM","+/-","P","Grupp","Rank P","Rank +/-",null,"Lag","V","O","F","P","Grupp","Rank P","+/-","+/- rank","GM","GM rank","Rank internal","+/- all","+/- rank all","GM all","GM rank all","V all","V rank all","Rank all",null,"Lag","V","O","F","P","Grupp","Rank P","+/-","+/- rank","GM","GM rank","Rank internal","+/- all","+/- rank all","GM all","GM rank all","V all","V rank all","Rank all",null,"Lag","V","O","F","P","Grupp","Rank P","+/-","+/- rank","GM","GM rank","Rank internal","+/- all","+/- rank all","GM all","GM rank all","V all","V rank all","Rank all",null,"Lag","V","O","F","P","Grupp","Rank P","+/-","+/- rank","GM","GM rank","Rank internal","+/- all","+/- rank all","GM all","GM rank all","V all","V rank all","Rank all",null,"Rank","Rank Ties",null,null,null,{"$f":"IF(COUNTBLANK(H4:H9)+COUNTBLANK(J4:J9)+COUNTBLANK(H22:H27)+COUNTBLANK(J22:J27)+COUNTBLANK(H31:H36)+COUNTBLANK(J31:J36)+COUNTBLANK(H40:H45)+COUNTBLANK(J40:J45)+COUNTBLANK(H49:H54)+COUNTBLANK(J49:J54)++COUNTBLANK(H13:H18)+COUNTBLANK(J13:J18)=0,\"Resultat OK\",\"Fyll i resultat\")","v":"Fyll i resultat"},null,null,null,null,null,null,null,null,null,null,null,11,"ADEF","A","D","E","F",{"$f":"VLOOKUP(\"E\",$FK$3:$FL$9,2,FALSE)","v":"Belgium"},{"$f":"VLOOKUP(\"F\",$FK$3:$FL$9,2,FALSE)","v":"Georgia"},{"$f":"VLOOKUP(\"D\",$FK$3:$FL$9,2,FALSE)","v":"Poland"},{"$f":"VLOOKUP(\"A\",$FK$3:$FL$9,2,FALSE)","v":"Hungary"},"",9]
[null,null,null,"2024-06-15","Spain","-","Croatia",null,"-",null,{"$f":"IF(OR(ISBLANK(H13),ISBLANK(J13)),\"\",IF(H13>J13,1,IF(H13<J13,2,\"X\")))","v":""},{"$f":"IF(VLOOKUP(E13,BS12:CB16,10,FALSE)=VLOOKUP(G13,BS12:CB16,10,FALSE),VLOOKUP(E13,BS12:CB16,10,FALSE),\"-\")","v":1},1,{"$f":"VLOOKUP(M13,FH13:FI16,2,FALSE)","v":"Spain"},{"$f":"VLOOKUP($N13,$BS$13:$BZ$16,2,FALSE)","v":0},{"$f":"VLOOKUP($N13,$BS$13:$BZ$16,3,FALSE)","v":0},{"$f":"VLOOKUP($N13,$BS$13:$BZ$16,4,FALSE)","v":0},{"$f":"VLOOKUP($N13,$BS$13:$BZ$16,5,FALSE)","v":0},{"$f":"VLOOKUP($N13,$BS$13:$BZ$16,6,FALSE)","v":0},{"$f":"VLOOKUP($N13,$BS$13:$BZ$16,7,FALSE)","v":0},{"$f":"VLOOKUP($N13,$BS$13:$BZ$16,8,FALSE)","v":0},null,null,null,null,null,null,null,null,{"$f":"D13","v":"2024-06-15"},"Spain","-","Croatia",{"$f":"IF(H13=\"\",\"\",H13)","v":""},"-",{"$f":"IF(J13=\"\",\"\",J13)","v":""},{"$f":"K13","v":""},null,{"$f":"IF(AH13>AJ13,1,0)","v":0},{"$f":"IF(AJ13>AH13,1,0)","v":0},{"$f":"IF(AND(AH13=AJ13,AH13<>\"\"),1,0)","v":0},{"$f":"IF(AND(AH13=AJ13,AH13<>\"\"),1,0)","v":0},{"$f":"IF(AH13<AJ13,1,0)","v":0},{"$f":"IF(AJ13<AH13,1,)","v":0},{"$f":"IF(ISERROR(VLOOKUP(AE13,CE:CE,1,FALSE)),0,1)*IF(ISERROR(VLOOKUP(AG13,CE:CE,1,FALSE)),0,1)*AM13","v":0},{"$f":"IF(ISERROR(VLOOKUP(AE13,CE:CE,1,FALSE)),0,1)*IF(ISERROR(VLOOKUP(AG13,CE:CE,1,FALSE)),0,1)*AN13","v":0},{"$f":"IF(ISERROR(VLOOKUP(AE13,CE:CE,1,FALSE)),0,1)*IF(ISERROR(VLOOKUP(AG13,CE:CE,1,FALSE)),0,1)*AO13","v":0},{"$f":"IF(ISERROR(VLOOKUP(AE13,CE:CE,1,FALSE)),0,1)*IF(ISERROR(VLOOKUP(AG13,CE:CE,1,FALSE)),0,1)*AP13","v":0},{"$f":"IF(ISERROR(VLOOKUP(AE13,CE:CE,1,FALSE)),0,1)*IF(ISERROR(VLOOKUP(AG13,CE:CE,1,FALSE)),0,1)*AQ13","v":0},{"$f":"IF(ISERROR(VLOOKUP(AE13,CE:CE,1,FALSE)),0,1)*IF(ISERROR(VLOOKUP(AG13,CE:CE,1,FALSE)),0,1)*AR13","v":0},{"$f":"IF(ISERROR(VLOOKUP(AE13,CY:CY,1,FALSE)),0,1)*IF(ISERROR(VLOOKUP(AG13,CY:CY,1,FALSE)),0,1)*AM13","v":0},{"$f":"IF(ISERROR(VLOOKUP(AE13,CY:CY,1,FALSE)),0,1)*IF(ISERROR(VLOOKUP(AG13,CY:CY,1,FALSE)),0,1)*AN13","v":0},{"$f":"IF(ISERROR(VLOOKUP(AE13,CY:CY,1,FALSE)),0,1)*IF(ISERROR(VLOOKUP(AG13,CY:CY,1,FALSE)),0,1)*AO13","v":0},{"$f":"IF(ISERROR(VLOOKUP(AE13,CY:CY,1,FALSE)),0,1)*IF(ISERROR(VLOOKUP(AG13,CY:CY,1,FALSE)),0,1)*AP13","v":0},{"$f":"IF(ISERROR(VLOOKUP(AE13,CY:CY,1,FALSE)),0,1)*IF(ISERROR(VLOOKUP(AG13,CY:CY,1,FALSE)),0,1)*AQ13","v":0},{"$f":"IF(ISERROR(VLOOKUP(AE13,CY:CY,1,FALSE)),0,1)*IF(ISERROR(VLOOKUP(AG13,CY:CY,1,FALSE)),0,1)*AR13","v":0},{"$f":"IF(ISERROR(VLOOKUP(AE13,DS:DS,1,FALSE)),0,1)*IF(ISERROR(VLOOKUP(AG13,DS:DS,1,FALSE)),0,1)*AM13","v":0},{"$f":"IF(ISERROR(VLOOKUP(AE13,DS:DS,1,FALSE)),0,1)*IF(ISERROR(VLOOKUP(AG13,DS:DS,1,FALSE)),0,1)*AN13","v":0},{"$f":"IF(ISERROR(VLOOKUP(AE13,DS:DS,1,FALSE)),0,1)*IF(ISERROR(VLOOKUP(AG13,DS:DS,1,FALSE)),0,1)*AO13","v":0},{"$f":"IF(ISERROR(VLOOKUP(AE13,DS:DS,1,FALSE)),0,1)*IF(ISERROR(VLOOKUP(AG13,DS:DS,1,FALSE)),0,1)*AP13","v":0},{"$f":"IF(ISERROR(VLOOKUP(AE13,DS:DS,1,FALSE)),0,1)*IF(ISERROR(VLOOKUP(AG13,DS:DS,1,FALSE)),0,1)*AQ13","v":0},{"$f":"IF(ISERROR(VLOOKUP(AE13,DS:DS,1,FALSE)),0,1)*IF(ISERROR(VLOOKUP(AG13,DS:DS,1,FALSE)),0,1)*AR13","v":0},{"$f":"IF(ISERROR(VLOOKUP(AE13,EM:EM,1,FALSE)),0,1)*IF(ISERROR(VLOOKUP(AG13,EM:EM,1,FALSE)),0,1)*AM13","v":0},{"$f":"IF(ISERROR(VLOOKUP(AE13,EM:EM,1,FALSE)),0,1)*IF(ISERROR(VLOOKUP(AG13,EM:EM,1,FALSE)),0,1)*AN13","v":0},{"$f":"IF(ISERROR(VLOOKUP(AE13,EM:EM,1,FALSE)),0,1)*IF(ISERROR(VLOOKUP(AG13,EM:EM,1,FALSE)),0,1)*AO13","v":0},{"$f":"IF(ISERROR(VLOOKUP(AE13,EM:EM,1,FALSE)),0,1)*IF(ISERROR(VLOOKUP(AG13,EM:EM,1,FALSE)),0,1)*AP13","v":0},{"$f":"IF(ISERROR(VLOOKUP(AE13,EM:EM,1,FALSE)),0,1)*IF(ISERROR(VLOOKUP(AG13,EM:EM,1,FALSE)),0,1)*AQ13","v":0},{"$f":"IF(ISERROR(VLOOKUP(AE13,EM:EM,1,FALSE)),0,1)*IF(ISERROR(VLOOKUP(AG13,EM:EM,1,FALSE)),0,1)*AR13","v":0},null,null,"Spain",{"$f":"(SUMIF(AE$4:AE$54,BS13,AM$4:AM$54)+SUMIF(AG$4:AG$54,BS13,AN$4:AN$54))","v":0},{"$f":"(SUMIF(AE$4:AE$54,BS13,AO$4:AO$54)+SUMIF(AG$4:AG$54,BS13,AP$4:AP$54))","v":0},{"$f":"(SUMIF(AE$4:AE$54,BS13,AQ$4:AQ$54)+SUMIF(AG$4:AG$54,BS13,AR$4:AR$54))","v":0},{"$f":"SUMIF($AE$4:$AE$54,BS13,$AH$4:$AH$54)+SUMIF($AG$4:$AG$54,BS13,$AJ$4:$AJ$54)","v":0},{"$f":"SUMIF($AE$4:$AE$54,BS13,$AJ$4:$AJ$54)+SUMIF($AG$4:$AG$54,BS13,$AH$4:$AH$54)","v":0},{"$f":"BW13-BX13","v":0},{"$f":"IFERROR(BT13*3+BU13*1,0)","v":0},"B",{"$f":"RANK(BZ13,BZ13:BZ16)","v":1},{"$f":"SUMPRODUCT((BZ13:BZ16=BZ13)*(BY13:BY16>BY13))","v":0},null,{"$f":"IF(CB13=1,BS13,)","v":"Spain"},{"$f":"(SUMIF($AE$4:$AE$54,$BS13,$AS$4:$AS$54)+SUMIF($AG$4:$AG$54,$BS13,$AT$4:$AT$54))","v":0},{"$f":"(SUMIF($AE$4:$AE$54,$BS13,$AU$4:$AU$54)+SUMIF($AG$4:$AG$54,$BS13,$AV$4:$AV$54))","v":0},{"$f":"(SUMIF($AE$4:$AE$54,$BS13,$AW$4:$AW$54)+SUMIF($AG$4:$AG$54,$BS13,$AX$4:$AX$54))","v":0},{"$f":"IFERROR(CF13*3+CG13*1,0)","v":0},{"$f":"CA13","v":"B"},{"$f":"IF(CE13>0,RANK(CI13,CI13:CI16),)","v":1},{"$f":"IF(AND(CE13>0,COUNTIF(CK13:CK16,CK13)>1),SUMIFS($AH$4:$AH$54,$AE$4:$AE$54,$BS13,$L$4:$L$54,1)+SUMIFS($AJ$4:$AJ$54,$AG$4:$AG$54,$BS13,$L$4:$L$54,1)-SUMIFS($AJ$4:$AJ$54,$AE$4:$AE$54,$BS13,$L$4:$L$54,1)-SUMIFS($AH$4:$AH$54,$AG$4:$AG$54,$BS13,$L$4:$L$54,1),)","v":0},{"$f":"IF(AND(CE13>0,COUNTIF(CK13:CK16,CK13)>1),CK13+RANK(CL13,CL13:CL16)-1,CK13)","v":1},{"$f":"IF(AND(CE13>0,COUNTIF(CM13:CM16,CM13)>1),SUMIFS($AH$4:$AH$54,$AE$4:$AE$54,$BS13,$L$4:$L$54,1)+SUMIFS($AJ$4:$AJ$54,$AG$4:$AG$54,$BS13,$L$4:$L$54,1),)","v":0},{"$f":"IF(AND(CE13>0,COUNTIF(CM13:CM16,CM13)>1),CM13+RANK(CN13,CN13:CN16)-1,CM13)","v":1},{"$f":"IF(CO13=0,\"\",CO13)","v":1},{"$f":"IF(OR(CP13=\"\",COUNTIF(CP13:CP16,CP13)=1),\"\",$BY13)","v":0},{"$f":"IF(CP13=\"\",\"\",IF(COUNTIF(CP13:CP16,CP13)=1,CP13,CP13+RANK(CQ13,CQ13:CQ16,0)-1))","v":1},{"$f":"IF(OR(CR13=\"\",COUNTIF(CR13:CR16,CR13)=1),\"\",$BW13)","v":0},{"$f":"IF(CP13=\"\",\"\",IF(COUNTIF(CR13:CR16,CR13)=1,CR13,CR13+RANK(CS13,CS13:CS16,0)-1))","v":1},{"$f":"IF(OR(CT13=\"\",COUNTIF(CT13:CT16,CT13)=1),\"\",$BT13)","v":0},{"$f":"IF(CP13=\"\",\"\",IF(COUNTIF(CT13:CT16,CT13)=1,CT13,CT13+RANK(CU13,CU13:CU16,0)-1))","v":1},{"$f":"IF(CE13>0,BL11+RANK(CV13,CV13:CV16,1),)","v":1},null,{"$f":"IF(CB13=2,BS13,)","v":0},{"$f":"(SUMIF($AE$4:$AE$54,$BS13,$AY$4:$AY$54)+SUMIF($AG$4:$AG$54,$BS13,$AZ$4:$AZ$54))","v":0},{"$f":"(SUMIF($AE$4:$AE$54,$BS13,$BA$4:$BA$54)+SUMIF($AG$4:$AG$54,$BS13,$BB$4:$BB$54))","v":0},{"$f":"(SUMIF($AE$4:$AE$54,$BS13,$BC$4:$BC$54)+SUMIF($AG$4:$AG$54,$BS13,$BD$4:$BD$54))","v":0},{"$f":"IFERROR(CZ13*3+DA13*1,0)","v":0},{"$f":"$CA13","v":"B"},{"$f":"IF(CY13>0,RANK(DC13,DC13:DC16)+CF11,)","v":0},{"$f":"IF(AND(CY13>0,COUNTIF(DE13:DE16,DE13)>1),SUMIFS($AH$4:$AH$54,$AE$4:$AE$54,$BS13,$L$4:$L$54,2)+SUMIFS($AJ$4:$AJ$54,$AG$4:$AG$54,$BS13,$L$4:$L$54,2)-SUMIFS($AJ$4:$AJ$54,$AE$4:$AE$54,$BS13,$L$4:$L$54,2)-SUMIFS($AH$4:$AH$54,$AG$4:$AG$54,$BS13,$L$4:$L$54,2),)","v":0},{"$f":"IF(AND(CY13>0,COUNTIF(DE13:DE16,DE13)>1),DE13+RANK(DF13,DF13:DF16)-1,DE13)","v":0},{"$f":"IF(AND(CY13>0,COUNTIF(DG13:DG16,DG13)>1),SUMIFS($AH$4:$AH$54,$AE$4:$AE$54,$BS13,$L$4:$L$54,2)+SUMIFS($AJ$4:$AJ$54,$AG$4:$AG$54,$BS13,$L$4:$L$54,2),)","v":0},{"$f":"IF(AND(CY13>0,COUNTIF(DG13:DG16,DG13)>1),DG13+RANK(DH13,DH13:DH16)-1,DG13)","v":0},{"$f":"IF(DI13=0,\"\",DI13)","v":""},{"$f":"IF(OR(DJ13=\"\",COUNTIF(DJ13:DJ16,DJ13)=1),\"\",$BY13)","v":""},{"$f":"IF(DJ13=\"\",\"\",IF(COUNTIF(DJ13:DJ16,DJ13)=1,DJ13,DJ13+RANK(DK13,DK13:DK16,0)-1))","v":""},{"$f":"IF(OR(DL13=\"\",COUNTIF(DL13:DL16,DL13)=1),\"\",$BW13)","v":""},{"$f":"IF(DJ13=\"\",\"\",IF(COUNTIF(DL13:DL16,DL13)=1,DL13,DL13+RANK(DM13,DM13:DM16,0)-1))","v":""},{"$f":"IF(OR(DN13=\"\",COUNTIF(DN13:DN16,DN13)=1),\"\",$BT13)","v":""},{"$f":"IF(DJ13=\"\",\"\",IF(COUNTIF(DN13:DN16,DN13)=1,DN13,DN13+RANK(DO13,DO13:DO16,0)-1))","v":""},{"$f":"IF(CY13>0,CF11+RANK(DP13,DP13:DP16,1),)","v":0},null,{"$f":"IF(CB13=3,BS13,)","v":0},{"$f":"(SUMIF($AE$4:$AE$54,BS13,$BE$4:$BE$54)+SUMIF($AG$4:$AG$54,BS13,$BF$4:$BF$54))","v":0},{"$f":"(SUMIF($AE$4:$AE$54,BS13,$BG$4:$BG$54)+SUMIF($AG$4:$AG$54,BS13,$BH$4:$BH$54))","v":0},{"$f":"(SUMIF($AE$4:$AE$54,BS13,$BI$4:$BI$54)+SUMIF($AG$4:$AG$54,BS13,$BJ$4:$BJ$54))","v":0},{"$f":"IFERROR(DT13*3+DU13*1,0)","v":0},{"$f":"CA13","v":"B"},{"$f":"IF(DS13>0,RANK(DW13,DW13:DW16)+CF11+CZ11,)","v":0},{"$f":"IF(AND(DS13>0,COUNTIF(DY13:DY16,DY13)>1),SUMIFS($AH$4:$AH$54,$AE$4:$AE$54,$BS13,$L$4:$L$54,3)+SUMIFS($AJ$4:$AJ$54,$AG$4:$AG$54,$BS13,$L$4:$L$54,3)-SUMIFS($AJ$4:$AJ$54,$AE$4:$AE$54,$BS13,$L$4:$L$54,3)-SUMIFS($AH$4:$AH$54,$AG$4:$AG$54,$BS13,$L$4:$L$54,3),)","v":0},{"$f":"IF(AND(DS13>0,COUNTIF(DY13:DY16,DY13)>1),DY13+RANK(DZ13,DZ13:DZ16)-1,DY13)","v":0},{"$f":"IF(AND(DS13>0,COUNTIF(EA13:EA16,EA13)>1),SUMIFS($AH$4:$AH$54,$AE$4:$AE$54,$BS13,$L$4:$L$54,3)+SUMIFS($AJ$4:$AJ$54,$AG$4:$AG$54,$BS13,$L$4:$L$54,3),)","v":0},{"$f":"IF(AND(DS13>0,COUNTIF(EA13:EA16,EA13)>1),EA13+RANK(EB13,EB13:EB16)-1,EA13)","v":0},{"$f":"IF(EC13=0,\"\",EC13)","v":""},{"$f":"IF(OR(ED13=\"\",COUNTIF(ED13:ED16,ED13)=1),\"\",$BY13)","v":""},{"$f":"IF(ED13=\"\",\"\",IF(COUNTIF(ED13:ED16,ED13)=1,ED13,ED13+RANK(EE13,EE13:EE16,0)-1))","v":""},{"$f":"IF(OR(EF13=\"\",COUNTIF(EF13:EF16,EF13)=1),\"\",$BW13)","v":""},{"$f":"IF(ED13=\"\",\"\",IF(COUNTIF(EF13:EF16,EF13)=1,EF13,EF13+RANK(EG13,EG13:EG16,0)-1))","v":""},{"$f":"IF(OR(EH13=\"\",COUNTIF(EH13:EH16,EH13)=1),\"\",$BT13)","v":""},{"$f":"IF(ED13=\"\",\"\",IF(COUNTIF(EH13:EH16,EH13)=1,EH13,EH13+RANK(EI13,EI13:EI16,0)-1))","v":""},{"$f":"IF(DS13>0,CF11+CZ11+RANK(EJ13,EJ13:EJ16,1),)","v":0},null,{"$f":"IF(CB13=4,BS13,)","v":0},{"$f":"(SUMIF($AE$4:$AE$54,$BS13,$BK$4:$BK$54)+SUMIF($AG$4:$AG$54,$BS13,$BL$4:$BL$54))","v":0},{"$f":"(SUMIF($AE$4:$AE$54,$BS13,$BM$4:$BM$54)+SUMIF($AG$4:$AG$54,$BS13,$BN$4:$BN$54))","v":0},{"$f":"(SUMIF($AE$4:$AE$54,$BS13,$BO$4:$BO$54)+SUMIF($AG$4:$AG$54,$BS13,$BP$4:$BP$54))","v":0},{"$f":"IFERROR(EN13*3+EO13*1,0)","v":0},{"$f":"$CA13","v":"B"},{"$f":"IF(EM13>0,RANK(EQ13,EQ13:EQ16)+CF11+CZ11+DT11,)","v":0},{"$f":"IF(AND(EM13>0,COUNTIF(ES13:ES16,ES13)>1),SUMIFS($AH$4:$AH$54,$AE$4:$AE$54,$BS13,$L$4:$L$54,4)+SUMIFS($AJ$4:$AJ$54,$AG$4:$AG$54,$BS13,$L$4:$L$54,4)-SUMIFS($AJ$4:$AJ$54,$AE$4:$AE$54,$BS13,$L$4:$L$54,4)-SUMIFS($AH$4:$AH$54,$AG$4:$AG$54,$BS13,$L$4:$L$54,4),)","v":0},{"$f":"IF(AND(EM13>0,COUNTIF($ES$4:$ES$7,ES13)>1),ES13+RANK(ET13,$ET$4:$ET$7)-1,ES13)","v":0},{"$f":"IF(AND(EM13>0,COUNTIF(EU13:EU16,EU13)>1),SUMIFS($AH$4:$AH$54,$AE$4:$AE$54,$BS13,$L$4:$L$54,4)+SUMIFS($AJ$4:$AJ$54,$AG$4:$AG$54,$BS13,$L$4:$L$54,4),)","v":0},{"$f":"IF(AND(EM13>0,COUNTIF(EU13:EU16,EU13)>1),EU13+RANK(EV13,EV13:EV16)-1,EU13)","v":0},{"$f":"IF(EW13=0,\"\",EW13)","v":""},{"$f":"IF(OR(EX13=\"\",COUNTIF(EX13:EX16,EX13)=1),\"\",$BY13)","v":""},{"$f":"IF(EX13=\"\",\"\",IF(COUNTIF(EX13:EX16,EX13)=1,EX13,EX13+RANK(EY13,EY13:EY16,0)-1))","v":""},{"$f":"IF(OR(EZ13=\"\",COUNTIF(EZ13:EZ16,EZ13)=1),\"\",$BW13)","v":""},{"$f":"IF(EX13=\"\",\"\",IF(COUNTIF(EZ13:EZ16,EZ13)=1,EZ13,EZ13+RANK(FA13,FA13:FA16,0)-1))","v":""},{"$f":"IF(OR(FB13=\"\",COUNTIF(FB13:FB16,FB13)=1),\"\",$BT13)","v":""},{"$f":"IF(EX13=\"\",\"\",IF(COUNTIF(FB13:FB16,FB13)=1,FB13,FB13+RANK(FC13,FC13:FC16,0)-1))","v":""},{"$f":"IF(EM13>0,CF11+CZ11+DT11+RANK(FD13,FD13:FD16,1),)","v":0},null,{"$f":"IFERROR(VLOOKUP(FI13,CE12:CW16,19,FALSE),IFERROR(VLOOKUP(FI13,CY12:DQ16,19,FALSE),IFERROR(VLOOKUP(FI13,DS12:EK16,19,FALSE),VLOOKUP(FI13,EM12:FE16,19,FALSE))))","v":1},{"$f":"RANK(FG13,FG13:FG16,1)+COUNTIF(FG13:FG13,FG13)-1","v":1},{"$f":"BS13","v":"Spain"},null,null,null,null,null,null,null,null,null,null,null,null,null,null,12,"BCDE","B","C","D","E",{"$f":"VLOOKUP(\"E\",$FK$3:$FL$9,2,FALSE)","v":"Belgium"},{"$f":"VLOOKUP(\"D\",$FK$3:$FL$9,2,FALSE)","v":"Poland"},{"$f":"VLOOKUP(\"B\",$FK$3:$FL$9,2,FALSE)","v":"Italy"},{"$f":"VLOOKUP(\"C\",$FK$3:$FL$9,2,FALSE)","v":"Serbia"},"",10]
[null,null,null,"2024-06-15","Italy","-","Albania",null,"-",null,{"$f":"IF(OR(ISBLANK(H14),ISBLANK(J14)),\"\",IF(H14>J14,1,IF(H14<J14,2,\"X\")))","v":""},{"$f":"IF(VLOOKUP(E14,BS12:CB16,10,FALSE)=VLOOKUP(G14,BS12:CB16,10,FALSE),VLOOKUP(E14,BS12:CB16,10,FALSE),\"-\")","v":1},2,{"$f":"VLOOKUP(M14,FH13:FI16,2,FALSE)","v":"Croatia"},{"$f":"VLOOKUP($N14,$BS$13:$BZ$16,2,FALSE)","v":0},{"$f":"VLOOKUP($N14,$BS$13:$BZ$16,3,FALSE)","v":0},{"$f":"VLOOKUP($N14,$BS$13:$BZ$16,4,FALSE)","v":0},{"$f":"VLOOKUP($N14,$BS$13:$BZ$16,5,FALSE)","v":0},{"$f":"VLOOKUP($N14,$BS$13:$BZ$16,6,FALSE)","v":0},{"$f":"VLOOKUP($N14,$BS$13:$BZ$16,7,FALSE)","v":0},{"$f":"VLOOKUP($N14,$BS$13:$BZ$16,8,FALSE)","v":0},null,null,null,null,null,null,null,null,"2024-06-15","Italy","-","Albania","","-","","",null,0,0,0,0,0,0,0,0,0,0,0,0,0,0,0,0,0,0,0,0,0,0,0,0,0,0,0,0,0,0,null,null,"Croatia",{"$f":"(SUMIF(AE$4:AE$54,BS14,AM$4:AM$54)+SUMIF(AG$4:AG$54,BS14,AN$4:AN$54))","v":0},{"$f":"(SUMIF(AE$4:AE$54,BS14,AO$4:AO$54)+SUMIF(AG$4:AG$54,BS14,AP$4:AP$54))","v":0},{"$f":"(SUMIF(AE$4:AE$54,BS14,AQ$4:AQ$54)+SUMIF(AG$4:AG$54,BS14,AR$4:AR$54))","v":0},{"$f":"SUMIF($AE$4:$AE$54,BS14,$AH$4:$AH$54)+SUMIF($AG$4:$AG$54,BS14,$AJ$4:$AJ$54)","v":0},{"$f":"SUMIF($AE$4:$AE$54,BS14,$AJ$4:$AJ$54)+SUMIF($AG$4:$AG$54,BS14,$AH$4:$AH$54)","v":0},{"$f":"BW14-BX14","v":0},{"$f":"IFERROR(BT14*3+BU14*1,0)","v":0},"B",{"$f":"RANK(BZ14,BZ13:BZ16)","v":1},{"$f":"SUMPRODUCT((BZ13:BZ16=BZ14)*(BY13:BY16>BY14))","v":0},null,{"$f":"IF(CB14=1,BS14,)","v":"Croatia"},{"$f":"(SUMIF($AE$4:$AE$54,$BS14,$AS$4:$AS$54)+SUMIF($AG$4:$AG$54,$BS14,$AT$4:$AT$54))","v":0},{"$f":"(SUMIF($AE$4:$AE$54,$BS14,$AU$4:$AU$54)+SUMIF($AG$4:$AG$54,$BS14,$AV$4:$AV$54))","v":0},{"$f":"(SUMIF($AE$4:$AE$54,$BS14,$AW$4:$AW$54)+SUMIF($AG$4:$AG$54,$BS14,$AX$4:$AX$54))","v":0},{"$f":"IFERROR(CF14*3+CG14*1,0)","v":0},{"$f":"CA14","v":"B"},{"$f":"IF(CE14>0,RANK(CI14,CI13:CI16),)","v":1},{"$f":"IF(AND(CE14>0,COUNTIF(CK13:CK16,CK14)>1),SUMIFS($AH$4:$AH$54,$AE$4:$AE$54,BS14,$L$4:$L$54,1)+SUMIFS($AJ$4:$AJ$54,$AG$4:$AG$54,BS14,$L$4:$L$54,1)-SUMIFS($AJ$4:$AJ$54,$AE$4:$AE$54,BS14,$L$4:$L$54,1)-SUMIFS($AH$4:$AH$54,$AG$4:$AG$54,BS14,$L$4:$L$54,1),)","v":0},{"$f":"IF(AND(CE14>0,COUNTIF(CK13:CK16,CK14)>1),CK14+RANK(CL14,CL13:CL16)-1,CK14)","v":1},{"$f":"IF(AND(CE14>0,COUNTIF(CM13:CM16,CM14)>1),SUMIFS($AH$4:$AH$54,$AE$4:$AE$54,BS14,$L$4:$L$54,1)+SUMIFS($AJ$4:$AJ$54,$AG$4:$AG$54,BS14,$L$4:$L$54,1),)","v":0},{"$f":"IF(AND(CE14>0,COUNTIF(CM13:CM16,CM14)>1),CM14+RANK(CN14,CN13:CN16)-1,CM14)","v":1},{"$f":"IF(CO14=0,\"\",CO14)","v":1},{"$f":"IF(OR(CP14=\"\",COUNTIF(CP13:CP16,CP14)=1),\"\",$BY14)","v":0},{"$f":"IF(CP14=\"\",\"\",IF(COUNTIF(CP13:CP16,CP14)=1,CP14,CP14+RANK(CQ14,CQ13:CQ16,0)-1))","v":1},{"$f":"IF(OR(CR14=\"\",COUNTIF(CR13:CR16,CR14)=1),\"\",$BW14)","v":0},{"$f":"IF(CP14=\"\",\"\",IF(COUNTIF(CR13:CR16,CR14)=1,CR14,CR14+RANK(CS14,CS13:CS16,0)-1))","v":1},{"$f":"IF(OR(CT14=\"\",COUNTIF(CT13:CT16,CT14)=1),\"\",$BT14)","v":0},{"$f":"IF(CP14=\"\",\"\",IF(COUNTIF(CT13:CT16,CT14)=1,CT14,CT14+RANK(CU14,CU13:CU16,0)-1))","v":1},{"$f":"IF(CE14>0,BL11+RANK(CV14,CV13:CV16,1),)","v":1},null,{"$f":"IF(CB14=2,BS14,)","v":0},{"$f":"(SUMIF($AE$4:$AE$54,$BS14,$AY$4:$AY$54)+SUMIF($AG$4:$AG$54,$BS14,$AZ$4:$AZ$54))","v":0},{"$f":"(SUMIF($AE$4:$AE$54,$BS14,$BA$4:$BA$54)+SUMIF($AG$4:$AG$54,$BS14,$BB$4:$BB$54))","v":0},{"$f":"(SUMIF($AE$4:$AE$54,$BS14,$BC$4:$BC$54)+SUMIF($AG$4:$AG$54,$BS14,$BD$4:$BD$54))","v":0},{"$f":"IFERROR(CZ14*3+DA14*1,0)","v":0},{"$f":"$CA14","v":"B"},{"$f":"IF(CY14>0,RANK(DC14,DC13:DC16)+CF11,)","v":0},{"$f":"IF(AND(CY14>0,COUNTIF(DE13:DE16,DE14)>1),SUMIFS($AH$4:$AH$54,$AE$4:$AE$54,BS14,$L$4:$L$54,2)+SUMIFS($AJ$4:$AJ$54,$AG$4:$AG$54,BS14,$L$4:$L$54,2)-SUMIFS($AJ$4:$AJ$54,$AE$4:$AE$54,BS14,$L$4:$L$54,2)-SUMIFS($AH$4:$AH$54,$AG$4:$AG$54,BS14,$L$4:$L$54,2),)","v":0},{"$f":"IF(AND(CY14>0,COUNTIF(DE13:DE16,DE14)>1),DE14+RANK(DF14,DF13:DF16)-1,DE14)","v":0},{"$f":"IF(AND(CY14>0,COUNTIF(DG13:DG16,DG14)>1),SUMIFS($AH$4:$AH$54,$AE$4:$AE$54,BS14,$L$4:$L$54,2)+SUMIFS($AJ$4:$AJ$54,$AG$4:$AG$54,BS14,$L$4:$L$54,2),)","v":0},{"$f":"IF(AND(CY14>0,COUNTIF(DG13:DG16,DG14)>1),DG14+RANK(DH14,DH13:DH16)-1,DG14)","v":0},{"$f":"IF(DI14=0,\"\",DI14)","v":""},{"$f":"IF(OR(DJ14=\"\",COUNTIF(DJ13:DJ16,DJ14)=1),\"\",$BY14)","v":""},{"$f":"IF(DJ14=\"\",\"\",IF(COUNTIF(DJ13:DJ16,DJ14)=1,DJ14,DJ14+RANK(DK14,DK13:DK16,0)-1))","v":""},{"$f":"IF(OR(DL14=\"\",COUNTIF(DL13:DL16,DL14)=1),\"\",$BW14)","v":""},{"$f":"IF(DJ14=\"\",\"\",IF(COUNTIF(DL13:DL16,DL14)=1,DL14,DL14+RANK(DM14,DM13:DM16,0)-1))","v":""},{"$f":"IF(OR(DN14=\"\",COUNTIF(DN13:DN16,DN14)=1),\"\",$BT14)","v":""},{"$f":"IF(DJ14=\"\",\"\",IF(COUNTIF(DN13:DN16,DN14)=1,DN14,DN14+RANK(DO14,DO13:DO16,0)-1))","v":""},{"$f":"IF(CY14>0,CF11+RANK(DP14,DP13:DP16,1),)","v":0},null,{"$f":"IF(CB14=3,BS14,)","v":0},{"$f":"(SUMIF(AE$4:AE$54,BS14,BE$4:BE$54)+SUMIF(AG$4:AG$54,BS14,BF$4:BF$54))","v":0},{"$f":"(SUMIF(AE$4:AE$54,BS14,BG$4:BG$54)+SUMIF(AG$4:AG$54,BS14,BH$4:BH$54))","v":0},{"$f":"(SUMIF(AE$4:AE$54,BS14,BI$4:BI$54)+SUMIF(AG$4:AG$54,BS14,BJ$4:BJ$54))","v":0},{"$f":"IFERROR(DT14*3+DU14*1,0)","v":0},{"$f":"CA14","v":"B"},{"$f":"IF(DS14>0,RANK(DW14,DW13:DW16)+CF11+CZ11,)","v":0},{"$f":"IF(AND(DS14>0,COUNTIF(DY13:DY16,DY14)>1),SUMIFS($AH$4:$AH$54,$AE$4:$AE$54,BS14,$L$4:$L$54,3)+SUMIFS($AJ$4:$AJ$54,$AG$4:$AG$54,BS14,$L$4:$L$54,3)-SUMIFS($AJ$4:$AJ$54,$AE$4:$AE$54,BS14,$L$4:$L$54,3)-SUMIFS($AH$4:$AH$54,$AG$4:$AG$54,BS14,$L$4:$L$54,3),)","v":0},{"$f":"IF(AND(DS14>0,COUNTIF(DY13:DY16,DY14)>1),DY14+RANK(DZ14,DZ13:DZ16)-1,DY14)","v":0},{"$f":"IF(AND(DS14>0,COUNTIF(EA13:EA16,EA14)>1),SUMIFS($AH$4:$AH$54,$AE$4:$AE$54,BS14,$L$4:$L$54,3)+SUMIFS($AJ$4:$AJ$54,$AG$4:$AG$54,BS14,$L$4:$L$54,3),)","v":0},{"$f":"IF(AND(DS14>0,COUNTIF(EA13:EA16,EA14)>1),EA14+RANK(EB14,EB13:EB16)-1,EA14)","v":0},{"$f":"IF(EC14=0,\"\",EC14)","v":""},{"$f":"IF(OR(ED14=\"\",COUNTIF(ED13:ED16,ED14)=1),\"\",$BY14)","v":""},{"$f":"IF(ED14=\"\",\"\",IF(COUNTIF(ED13:ED16,ED14)=1,ED14,ED14+RANK(EE14,EE13:EE16,0)-1))","v":""},{"$f":"IF(OR(EF14=\"\",COUNTIF(EF13:EF16,EF14)=1),\"\",$BW14)","v":""},{"$f":"IF(ED14=\"\",\"\",IF(COUNTIF(EF13:EF16,EF14)=1,EF14,EF14+RANK(EG14,EG13:EG16,0)-1))","v":""},{"$f":"IF(OR(EH14=\"\",COUNTIF(EH13:EH16,EH14)=1),\"\",$BT14)","v":""},{"$f":"IF(ED14=\"\",\"\",IF(COUNTIF(EH13:EH16,EH14)=1,EH14,EH14+RANK(EI14,EI13:EI16,0)-1))","v":""},{"$f":"IF(DS14>0,CF11+CZ11+RANK(EJ14,EJ13:EJ16,1),)","v":0},null,{"$f":"IF(CB14=4,BS14,)","v":0},{"$f":"(SUMIF($AE$4:$AE$54,$BS14,$BK$4:$BK$54)+SUMIF($AG$4:$AG$54,$BS14,$BL$4:$BL$54))","v":0},{"$f":"(SUMIF($AE$4:$AE$54,$BS14,$BM$4:$BM$54)+SUMIF($AG$4:$AG$54,$BS14,$BN$4:$BN$54))","v":0},{"$f":"(SUMIF($AE$4:$AE$54,$BS14,$BO$4:$BO$54)+SUMIF($AG$4:$AG$54,$BS14,$BP$4:$BP$54))","v":0},{"$f":"IFERROR(EN14*3+EO14*1,0)","v":0},{"$f":"$CA14","v":"B"},{"$f":"IF(EM14>0,RANK(EQ14,EQ13:EQ16)+CF11+CZ11+DT11,)","v":0},{"$f":"IF(AND(EM14>0,COUNTIF(ES13:ES16,ES14)>1),SUMIFS($AH$4:$AH$54,$AE$4:$AE$54,BS14,$L$4:$L$54,4)+SUMIFS($AJ$4:$AJ$54,$AG$4:$AG$54,BS14,$L$4:$L$54,4)-SUMIFS($AJ$4:$AJ$54,$AE$4:$AE$54,BS14,$L$4:$L$54,4)-SUMIFS($AH$4:$AH$54,$AG$4:$AG$54,BS14,$L$4:$L$54,4),)","v":0},{"$f":"IF(AND(EM14>0,COUNTIF($ES$4:$ES$7,ES14)>1),ES14+RANK(ET14,$ET$4:$ET$7)-1,ES14)","v":0},{"$f":"IF(AND(EM14>0,COUNTIF(EU13:EU16,EU14)>1),SUMIFS($AH$4:$AH$54,$AE$4:$AE$54,BS14,$L$4:$L$54,4)+SUMIFS($AJ$4:$AJ$54,$AG$4:$AG$54,BS14,$L$4:$L$54,4),)","v":0},{"$f":"IF(AND(EM14>0,COUNTIF(EU13:EU16,EU14)>1),EU14+RANK(EV14,EV13:EV16)-1,EU14)","v":0},{"$f":"IF(EW14=0,\"\",EW14)","v":""},{"$f":"IF(OR(EX14=\"\",COUNTIF(EX13:EX16,EX14)=1),\"\",$BY14)","v":""},{"$f":"IF(EX14=\"\",\"\",IF(COUNTIF(EX13:EX16,EX14)=1,EX14,EX14+RANK(EY14,EY13:EY16,0)-1))","v":""},{"$f":"IF(OR(EZ14=\"\",COUNTIF(EZ13:EZ16,EZ14)=1),\"\",$BW14)","v":""},{"$f":"IF(EX14=\"\",\"\",IF(COUNTIF(EZ13:EZ16,EZ14)=1,EZ14,EZ14+RANK(FA14,FA13:FA16,0)-1))","v":""},{"$f":"IF(OR(FB14=\"\",COUNTIF(FB13:FB16,FB14)=1),\"\",$BT14)","v":""},{"$f":"IF(EX14=\"\",\"\",IF(COUNTIF(FB13:FB16,FB14)=1,FB14,FB14+RANK(FC14,FC13:FC16,0)-1))","v":""},{"$f":"IF(EM14>0,CF11+CZ11+DT11+RANK(FD14,FD13:FD16,1),)","v":0},null,{"$f":"IFERROR(VLOOKUP(FI14,CE12:CW16,19,FALSE),IFERROR(VLOOKUP(FI14,CY12:DQ16,19,FALSE),IFERROR(VLOOKUP(FI14,DS12:EK16,19,FALSE),VLOOKUP(FI14,EM12:FE16,19,FALSE))))","v":1},{"$f":"RANK(FG14,FG13:FG16,1)+COUNTIF(FG13:FG14,FG14)-1","v":2},{"$f":"BS14","v":"Croatia"},null,null,null,null,null,null,null,null,null,null,null,null,null,null,13,"BCDF","B","C","D","F",{"$f":"VLOOKUP(\"F\",$FK$3:$FL$9,2,FALSE)","v":"Georgia"},{"$f":"VLOOKUP(\"D\",$FK$3:$FL$9,2,FALSE)","v":"Poland"},{"$f":"VLOOKUP(\"C\",$FK$3:$FL$9,2,FALSE)","v":"Serbia"},{"$f":"VLOOKUP(\"B\",$FK$3:$FL$9,2,FALSE)","v":"Italy"},"",11]
[null,null,null,"2024-06-19","Croatia","-","Albania",null,"-",null,"",{"$f":"IF(VLOOKUP(E15,BS12:CB16,10,FALSE)=VLOOKUP(G15,BS12:CB16,10,FALSE),VLOOKUP(E15,BS12:CB16,10,FALSE),\"-\")","v":1},3,{"$f":"VLOOKUP(M15,FH13:FI16,2,FALSE)","v":"Italy"},{"$f":"VLOOKUP($N15,$BS$13:$BZ$16,2,FALSE)","v":0},{"$f":"VLOOKUP($N15,$BS$13:$BZ$16,3,FALSE)","v":0},{"$f":"VLOOKUP($N15,$BS$13:$BZ$16,4,FALSE)","v":0},{"$f":"VLOOKUP($N15,$BS$13:$BZ$16,5,FALSE)","v":0},{"$f":"VLOOKUP($N15,$BS$13:$BZ$16,6,FALSE)","v":0},{"$f":"VLOOKUP($N15,$BS$13:$BZ$16,7,FALSE)","v":0},{"$f":"VLOOKUP($N15,$BS$13:$BZ$16,8,FALSE)","v":0},null,null,null,null,null,null,null,null,"2024-06-19","Croatia","-","Albania","","-","","",null,0,0,0,0,0,0,0,0,0,0,0,0,0,0,0,0,0,0,0,0,0,0,0,0,0,0,0,0,0,0,null,null,"Italy",{"$f":"(SUMIF(AE$4:AE$54,BS15,AM$4:AM$54)+SUMIF(AG$4:AG$54,BS15,AN$4:AN$54))","v":0},{"$f":"(SUMIF(AE$4:AE$54,BS15,AO$4:AO$54)+SUMIF(AG$4:AG$54,BS15,AP$4:AP$54))","v":0},{"$f":"(SUMIF(AE$4:AE$54,BS15,AQ$4:AQ$54)+SUMIF(AG$4:AG$54,BS15,AR$4:AR$54))","v":0},{"$f":"SUMIF($AE$4:$AE$54,BS15,$AH$4:$AH$54)+SUMIF($AG$4:$AG$54,BS15,$AJ$4:$AJ$54)","v":0},{"$f":"SUMIF($AE$4:$AE$54,BS15,$AJ$4:$AJ$54)+SUMIF($AG$4:$AG$54,BS15,$AH$4:$AH$54)","v":0},{"$f":"BW15-BX15","v":0},{"$f":"IFERROR(BT15*3+BU15*1,0)","v":0},"B",{"$f":"RANK(BZ15,BZ13:BZ16)","v":1},{"$f":"SUMPRODUCT((BZ13:BZ16=BZ15)*(BY13:BY16>BY15))","v":0},null,{"$f":"IF(CB15=1,BS15,)","v":"Italy"},0,0,0,0,"B",{"$f":"IF(CE15>0,RANK(CI15,CI13:CI16),)","v":1},{"$f":"IF(AND(CE15>0,COUNTIF(CK13:CK16,CK15)>1),SUMIFS($AH$4:$AH$54,$AE$4:$AE$54,BS15,$L$4:$L$54,1)+SUMIFS($AJ$4:$AJ$54,$AG$4:$AG$54,BS15,$L$4:$L$54,1)-SUMIFS($AJ$4:$AJ$54,$AE$4:$AE$54,BS15,$L$4:$L$54,1)-SUMIFS($AH$4:$AH$54,$AG$4:$AG$54,BS15,$L$4:$L$54,1),)","v":0},{"$f":"IF(AND(CE15>0,COUNTIF(CK13:CK16,CK15)>1),CK15+RANK(CL15,CL13:CL16)-1,CK15)","v":1},{"$f":"IF(AND(CE15>0,COUNTIF(CM13:CM16,CM15)>1),SUMIFS($AH$4:$AH$54,$AE$4:$AE$54,BS15,$L$4:$L$54,1)+SUMIFS($AJ$4:$AJ$54,$AG$4:$AG$54,BS15,$L$4:$L$54,1),)","v":0},{"$f":"IF(AND(CE15>0,COUNTIF(CM13:CM16,CM15)>1),CM15+RANK(CN15,CN13:CN16)-1,CM15)","v":1},1,{"$f":"IF(OR(CP15=\"\",COUNTIF(CP13:CP16,CP15)=1),\"\",$BY15)","v":0},{"$f":"IF(CP15=\"\",\"\",IF(COUNTIF(CP13:CP16,CP15)=1,CP15,CP15+RANK(CQ15,CQ13:CQ16,0)-1))","v":1},{"$f":"IF(OR(CR15=\"\",COUNTIF(CR13:CR16,CR15)=1),\"\",$BW15)","v":0},{"$f":"IF(CP15=\"\",\"\",IF(COUNTIF(CR13:CR16,CR15)=1,CR15,CR15+RANK(CS15,CS13:CS16,0)-1))","v":1},{"$f":"IF(OR(CT15=\"\",COUNTIF(CT13:CT16,CT15)=1),\"\",$BT15)","v":0},{"$f":"IF(CP15=\"\",\"\",IF(COUNTIF(CT13:CT16,CT15)=1,CT15,CT15+RANK(CU15,CU13:CU16,0)-1))","v":1},{"$f":"IF(CE15>0,BL11+RANK(CV15,CV13:CV16,1),)","v":1},null,{"$f":"IF(CB15=2,BS15,)","v":0},0,0,0,0,"B",{"$f":"IF(CY15>0,RANK(DC15,DC13:DC16)+CF11,)","v":0},{"$f":"IF(AND(CY15>0,COUNTIF(DE13:DE16,DE15)>1),SUMIFS($AH$4:$AH$54,$AE$4:$AE$54,BS15,$L$4:$L$54,2)+SUMIFS($AJ$4:$AJ$54,$AG$4:$AG$54,BS15,$L$4:$L$54,2)-SUMIFS($AJ$4:$AJ$54,$AE$4:$AE$54,BS15,$L$4:$L$54,2)-SUMIFS($AH$4:$AH$54,$AG$4:$AG$54,BS15,$L$4:$L$54,2),)","v":0},{"$f":"IF(AND(CY15>0,COUNTIF(DE13:DE16,DE15)>1),DE15+RANK(DF15,DF13:DF16)-1,DE15)","v":0},{"$f":"IF(AND(CY15>0,COUNTIF(DG13:DG16,DG15)>1),SUMIFS($AH$4:$AH$54,$AE$4:$AE$54,BS15,$L$4:$L$54,2)+SUMIFS($AJ$4:$AJ$54,$AG$4:$AG$54,BS15,$L$4:$L$54,2),)","v":0},{"$f":"IF(AND(CY15>0,COUNTIF(DG13:DG16,DG15)>1),DG15+RANK(DH15,DH13:DH16)-1,DG15)","v":0},"",{"$f":"IF(OR(DJ15=\"\",COUNTIF(DJ13:DJ16,DJ15)=1),\"\",$BY15)","v":""},{"$f":"IF(DJ15=\"\",\"\",IF(COUNTIF(DJ13:DJ16,DJ15)=1,DJ15,DJ15+RANK(DK15,DK13:DK16,0)-1))","v":""},{"$f":"IF(OR(DL15=\"\",COUNTIF(DL13:DL16,DL15)=1),\"\",$BW15)","v":""},{"$f":"IF(DJ15=\"\",\"\",IF(COUNTIF(DL13:DL16,DL15)=1,DL15,DL15+RANK(DM15,DM13:DM16,0)-1))","v":""},{"$f":"IF(OR(DN15=\"\",COUNTIF(DN13:DN16,DN15)=1),\"\",$BT15)","v":""},{"$f":"IF(DJ15=\"\",\"\",IF(COUNTIF(DN13:DN16,DN15)=1,DN15,DN15+RANK(DO15,DO13:DO16,0)-1))","v":""},{"$f":"IF(CY15>0,CF11+RANK(DP15,DP13:DP16,1),)","v":0},null,{"$f":"IF(CB15=3,BS15,)","v":0},{"$f":"(SUMIF(AE$4:AE$54,BS15,BE$4:BE$54)+SUMIF(AG$4:AG$54,BS15,BF$4:BF$54))","v":0},{"$f":"(SUMIF(AE$4:AE$54,BS15,BG$4:BG$54)+SUMIF(AG$4:AG$54,BS15,BH$4:BH$54))","v":0},{"$f":"(SUMIF(AE$4:AE$54,BS15,BI$4:BI$54)+SUMIF(AG$4:AG$54,BS15,BJ$4:BJ$54))","v":0},0,{"$f":"CA15","v":"B"},{"$f":"IF(DS15>0,RANK(DW15,DW13:DW16)+CF11+CZ11,)","v":0},{"$f":"IF(AND(DS15>0,COUNTIF(DY13:DY16,DY15)>1),SUMIFS($AH$4:$AH$54,$AE$4:$AE$54,BS15,$L$4:$L$54,3)+SUMIFS($AJ$4:$AJ$54,$AG$4:$AG$54,BS15,$L$4:$L$54,3)-SUMIFS($AJ$4:$AJ$54,$AE$4:$AE$54,BS15,$L$4:$L$54,3)-SUMIFS($AH$4:$AH$54,$AG$4:$AG$54,BS15,$L$4:$L$54,3),)","v":0},{"$f":"IF(AND(DS15>0,COUNTIF(DY13:DY16,DY15)>1),DY15+RANK(DZ15,DZ13:DZ16)-1,DY15)","v":0},{"$f":"IF(AND(DS15>0,COUNTIF(EA13:EA16,EA15)>1),SUMIFS($AH$4:$AH$54,$AE$4:$AE$54,BS15,$L$4:$L$54,3)+SUMIFS($AJ$4:$AJ$54,$AG$4:$AG$54,BS15,$L$4:$L$54,3),)","v":0},{"$f":"IF(AND(DS15>0,COUNTIF(EA13:EA16,EA15)>1),EA15+RANK(EB15,EB13:EB16)-1,EA15)","v":0},"",{"$f":"IF(OR(ED15=\"\",COUNTIF(ED13:ED16,ED15)=1),\"\",$BY15)","v":""},{"$f":"IF(ED15=\"\",\"\",IF(COUNTIF(ED13:ED16,ED15)=1,ED15,ED15+RANK(EE15,EE13:EE16,0)-1))","v":""},{"$f":"IF(OR(EF15=\"\",COUNTIF(EF13:EF16,EF15)=1),\"\",$BW15)","v":""},{"$f":"IF(ED15=\"\",\"\",IF(COUNTIF(EF13:EF16,EF15)=1,EF15,EF15+RANK(EG15,EG13:EG16,0)-1))","v":""},{"$f":"IF(OR(EH15=\"\",COUNTIF(EH13:EH16,EH15)=1),\"\",$BT15)","v":""},{"$f":"IF(ED15=\"\",\"\",IF(COUNTIF(EH13:EH16,EH15)=1,EH15,EH15+RANK(EI15,EI13:EI16,0)-1))","v":""},{"$f":"IF(DS15>0,CF11+CZ11+RANK(EJ15,EJ13:EJ16,1),)","v":0},null,{"$f":"IF(CB15=4,BS15,)","v":0},0,0,0,0,"B",{"$f":"IF(EM15>0,RANK(EQ15,EQ13:EQ16)+CF11+CZ11+DT11,)","v":0},{"$f":"IF(AND(EM15>0,COUNTIF(ES13:ES16,ES15)>1),SUMIFS($AH$4:$AH$54,$AE$4:$AE$54,BS15,$L$4:$L$54,4)+SUMIFS($AJ$4:$AJ$54,$AG$4:$AG$54,BS15,$L$4:$L$54,4)-SUMIFS($AJ$4:$AJ$54,$AE$4:$AE$54,BS15,$L$4:$L$54,4)-SUMIFS($AH$4:$AH$54,$AG$4:$AG$54,BS15,$L$4:$L$54,4),)","v":0},0,{"$f":"IF(AND(EM15>0,COUNTIF(EU13:EU16,EU15)>1),SUMIFS($AH$4:$AH$54,$AE$4:$AE$54,BS15,$L$4:$L$54,4)+SUMIFS($AJ$4:$AJ$54,$AG$4:$AG$54,BS15,$L$4:$L$54,4),)","v":0},{"$f":"IF(AND(EM15>0,COUNTIF(EU13:EU16,EU15)>1),EU15+RANK(EV15,EV13:EV16)-1,EU15)","v":0},"",{"$f":"IF(OR(EX15=\"\",COUNTIF(EX13:EX16,EX15)=1),\"\",$BY15)","v":""},{"$f":"IF(EX15=\"\",\"\",IF(COUNTIF(EX13:EX16,EX15)=1,EX15,EX15+RANK(EY15,EY13:EY16,0)-1))","v":""},{"$f":"IF(OR(EZ15=\"\",COUNTIF(EZ13:EZ16,EZ15)=1),\"\",$BW15)","v":""},{"$f":"IF(EX15=\"\",\"\",IF(COUNTIF(EZ13:EZ16,EZ15)=1,EZ15,EZ15+RANK(FA15,FA13:FA16,0)-1))","v":""},{"$f":"IF(OR(FB15=\"\",COUNTIF(FB13:FB16,FB15)=1),\"\",$BT15)","v":""},{"$f":"IF(EX15=\"\",\"\",IF(COUNTIF(FB13:FB16,FB15)=1,FB15,FB15+RANK(FC15,FC13:FC16,0)-1))","v":""},{"$f":"IF(EM15>0,CF11+CZ11+DT11+RANK(FD15,FD13:FD16,1),)","v":0},null,{"$f":"IFERROR(VLOOKUP(FI15,CE12:CW16,19,FALSE),IFERROR(VLOOKUP(FI15,CY12:DQ16,19,FALSE),IFERROR(VLOOKUP(FI15,DS12:EK16,19,FALSE),VLOOKUP(FI15,EM12:FE16,19,FALSE))))","v":1},{"$f":"RANK(FG15,FG13:FG16,1)+COUNTIF(FG13:FG15,FG15)-1","v":3},{"$f":"BS15","v":"Italy"},null,null,null,null,null,null,null,null,null,null,null,null,null,null,14,"BCEF","B","C","E","F",{"$f":"VLOOKUP(\"F\",$FK$3:$FL$9,2,FALSE)","v":"Georgia"},{"$f":"VLOOKUP(\"E\",$FK$3:$FL$9,2,FALSE)","v":"Belgium"},{"$f":"VLOOKUP(\"C\",$FK$3:$FL$9,2,FALSE)","v":"Serbia"},{"$f":"VLOOKUP(\"B\",$FK$3:$FL$9,2,FALSE)","v":"Italy"},"",12]
[null,null,null,"2024-06-20","Spain","-","Italy",null,"-",null,"",{"$f":"IF(VLOOKUP(E16,BS12:CB16,10,FALSE)=VLOOKUP(G16,BS12:CB16,10,FALSE),VLOOKUP(E16,BS12:CB16,10,FALSE),\"-\")","v":1},4,{"$f":"VLOOKUP(M16,FH13:FI16,2,FALSE)","v":"Albania"},{"$f":"VLOOKUP($N16,$BS$13:$BZ$16,2,FALSE)","v":0},{"$f":"VLOOKUP($N16,$BS$13:$BZ$16,3,FALSE)","v":0},{"$f":"VLOOKUP($N16,$BS$13:$BZ$16,4,FALSE)","v":0},{"$f":"VLOOKUP($N16,$BS$13:$BZ$16,5,FALSE)","v":0},{"$f":"VLOOKUP($N16,$BS$13:$BZ$16,6,FALSE)","v":0},{"$f":"VLOOKUP($N16,$BS$13:$BZ$16,7,FALSE)","v":0},{"$f":"VLOOKUP($N16,$BS$13:$BZ$16,8,FALSE)","v":0},null,null,null,null,null,null,null,null,"2024-06-20","Spain","-","Italy","","-","","",null,0,0,0,0,0,0,0,0,0,0,0,0,0,0,0,0,0,0,0,0,0,0,0,0,0,0,0,0,0,0,null,null,"Albania",{"$f":"(SUMIF(AE$4:AE$54,BS16,AM$4:AM$54)+SUMIF(AG$4:AG$54,BS16,AN$4:AN$54))","v":0},{"$f":"(SUMIF(AE$4:AE$54,BS16,AO$4:AO$54)+SUMIF(AG$4:AG$54,BS16,AP$4:AP$54))","v":0},{"$f":"(SUMIF(AE$4:AE$54,BS16,AQ$4:AQ$54)+SUMIF(AG$4:AG$54,BS16,AR$4:AR$54))","v":0},{"$f":"SUMIF($AE$4:$AE$54,BS16,$AH$4:$AH$54)+SUMIF($AG$4:$AG$54,BS16,$AJ$4:$AJ$54)","v":0},{"$f":"SUMIF($AE$4:$AE$54,BS16,$AJ$4:$AJ$54)+SUMIF($AG$4:$AG$54,BS16,$AH$4:$AH$54)","v":0},{"$f":"BW16-BX16","v":0},{"$f":"IFERROR(BT16*3+BU16*1,0)","v":0},"B",{"$f":"RANK(BZ16,BZ13:BZ16)","v":1},{"$f":"SUMPRODUCT((BZ13:BZ16=BZ16)*(BY13:BY16>BY16))","v":0},null,{"$f":"IF(CB16=1,BS16,)","v":"Albania"},0,0,0,0,"B",{"$f":"IF(CE16>0,RANK(CI16,CI13:CI16),)","v":1},{"$f":"IF(AND(CE16>0,COUNTIF(CK13:CK16,CK16)>1),SUMIFS($AH$4:$AH$54,$AE$4:$AE$54,BS16,$L$4:$L$54,1)+SUMIFS($AJ$4:$AJ$54,$AG$4:$AG$54,BS16,$L$4:$L$54,1)-SUMIFS($AJ$4:$AJ$54,$AE$4:$AE$54,BS16,$L$4:$L$54,1)-SUMIFS($AH$4:$AH$54,$AG$4:$AG$54,BS16,$L$4:$L$54,1),)","v":0},{"$f":"IF(AND(CE16>0,COUNTIF(CK13:CK16,CK16)>1),CK16+RANK(CL16,CL13:CL16)-1,CK16)","v":1},{"$f":"IF(AND(CE16>0,COUNTIF(CM13:CM16,CM16)>1),SUMIFS($AH$4:$AH$54,$AE$4:$AE$54,BS16,$L$4:$L$54,1)+SUMIFS($AJ$4:$AJ$54,$AG$4:$AG$54,BS16,$L$4:$L$54,1),)","v":0},{"$f":"IF(AND(CE16>0,COUNTIF(CM13:CM16,CM16)>1),CM16+RANK(CN16,CN13:CN16)-1,CM16)","v":1},1,{"$f":"IF(OR(CP16=\"\",COUNTIF(CP13:CP16,CP16)=1),\"\",$BY16)","v":0},{"$f":"IF(CP16=\"\",\"\",IF(COUNTIF(CP13:CP16,CP16)=1,CP16,CP16+RANK(CQ16,CQ13:CQ16,0)-1))","v":1},{"$f":"IF(OR(CR16=\"\",COUNTIF(CR13:CR16,CR16)=1),\"\",$BW16)","v":0},{"$f":"IF(CP16=\"\",\"\",IF(COUNTIF(CR13:CR16,CR16)=1,CR16,CR16+RANK(CS16,CS13:CS16,0)-1))","v":1},{"$f":"IF(OR(CT16=\"\",COUNTIF(CT13:CT16,CT16)=1),\"\",$BT16)","v":0},{"$f":"IF(CP16=\"\",\"\",IF(COUNTIF(CT13:CT16,CT16)=1,CT16,CT16+RANK(CU16,CU13:CU16,0)-1))","v":1},{"$f":"IF(CE16>0,BL11+RANK(CV16,CV13:CV16,1),)","v":1},null,{"$f":"IF(CB16=2,BS16,)","v":0},0,0,0,0,"B",{"$f":"IF(CY16>0,RANK(DC16,DC13:DC16)+CF11,)","v":0},{"$f":"IF(AND(CY16>0,COUNTIF(DE13:DE16,DE16)>1),SUMIFS($AH$4:$AH$54,$AE$4:$AE$54,BS16,$L$4:$L$54,2)+SUMIFS($AJ$4:$AJ$54,$AG$4:$AG$54,BS16,$L$4:$L$54,2)-SUMIFS($AJ$4:$AJ$54,$AE$4:$AE$54,BS16,$L$4:$L$54,2)-SUMIFS($AH$4:$AH$54,$AG$4:$AG$54,BS16,$L$4:$L$54,2),)","v":0},{"$f":"IF(AND(CY16>0,COUNTIF(DE13:DE16,DE16)>1),DE16+RANK(DF16,DF13:DF16)-1,DE16)","v":0},{"$f":"IF(AND(CY16>0,COUNTIF(DG13:DG16,DG16)>1),SUMIFS($AH$4:$AH$54,$AE$4:$AE$54,BS16,$L$4:$L$54,2)+SUMIFS($AJ$4:$AJ$54,$AG$4:$AG$54,BS16,$L$4:$L$54,2),)","v":0},{"$f":"IF(AND(CY16>0,COUNTIF(DG13:DG16,DG16)>1),DG16+RANK(DH16,DH13:DH16)-1,DG16)","v":0},"",{"$f":"IF(OR(DJ16=\"\",COUNTIF(DJ13:DJ16,DJ16)=1),\"\",$BY16)","v":""},{"$f":"IF(DJ16=\"\",\"\",IF(COUNTIF(DJ13:DJ16,DJ16)=1,DJ16,DJ16+RANK(DK16,DK13:DK16,0)-1))","v":""},{"$f":"IF(OR(DL16=\"\",COUNTIF(DL13:DL16,DL16)=1),\"\",$BW16)","v":""},{"$f":"IF(DJ16=\"\",\"\",IF(COUNTIF(DL14:DL17,DL16)=1,DL16,DL16+RANK(DM16,DM14:DM17,0)-1))","v":""},{"$f":"IF(OR(DN16=\"\",COUNTIF(DN13:DN16,DN16)=1),\"\",$BT16)","v":""},{"$f":"IF(DJ16=\"\",\"\",IF(COUNTIF(DN13:DN16,DN16)=1,DN16,DN16+RANK(DO16,DO13:DO16,0)-1))","v":""},{"$f":"IF(CY16>0,CF11+RANK(DP16,DP13:DP16,1),)","v":0},null,{"$f":"IF(CB16=3,BS16,)","v":0},{"$f":"(SUMIF(AE$4:AE$54,BS16,BE$4:BE$54)+SUMIF(AG$4:AG$54,BS16,BF$4:BF$54))","v":0},{"$f":"(SUMIF(AE$4:AE$54,BS16,BG$4:BG$54)+SUMIF(AG$4:AG$54,BS16,BH$4:BH$54))","v":0},{"$f":"(SUMIF(AE$4:AE$54,BS16,BI$4:BI$54)+SUMIF(AG$4:AG$54,BS16,BJ$4:BJ$54))","v":0},0,{"$f":"CA16","v":"B"},{"$f":"IF(DS16>0,RANK(DW16,DW13:DW16)+CF11+CZ11,)","v":0},{"$f":"IF(AND(DS16>0,COUNTIF(DY13:DY16,DY16)>1),SUMIFS($AH$4:$AH$54,$AE$4:$AE$54,BS16,$L$4:$L$54,3)+SUMIFS($AJ$4:$AJ$54,$AG$4:$AG$54,BS16,$L$4:$L$54,3)-SUMIFS($AJ$4:$AJ$54,$AE$4:$AE$54,BS16,$L$4:$L$54,3)-SUMIFS($AH$4:$AH$54,$AG$4:$AG$54,BS16,$L$4:$L$54,3),)","v":0},{"$f":"IF(AND(DS16>0,COUNTIF(DY13:DY16,DY16)>1),DY16+RANK(DZ16,DZ13:DZ16)-1,DY16)","v":0},{"$f":"IF(AND(DS16>0,COUNTIF(EA13:EA16,EA16)>1),SUMIFS($AH$4:$AH$54,$AE$4:$AE$54,BS16,$L$4:$L$54,3)+SUMIFS($AJ$4:$AJ$54,$AG$4:$AG$54,BS16,$L$4:$L$54,3),)","v":0},{"$f":"IF(AND(DS16>0,COUNTIF(EA13:EA16,EA16)>1),EA16+RANK(EB16,EB13:EB16)-1,EA16)","v":0},"",{"$f":"IF(OR(ED16=\"\",COUNTIF(ED13:ED16,ED16)=1),\"\",$BY16)","v":""},{"$f":"IF(ED16=\"\",\"\",IF(COUNTIF(ED13:ED16,ED16)=1,ED16,ED16+RANK(EE16,EE13:EE16,0)-1))","v":""},{"$f":"IF(OR(EF16=\"\",COUNTIF(EF13:EF16,EF16)=1),\"\",$BW16)","v":""},{"$f":"IF(ED16=\"\",\"\",IF(COUNTIF(EF13:EF16,EF16)=1,EF16,EF16+RANK(EG16,EG13:EG16,0)-1))","v":""},{"$f":"IF(OR(EH16=\"\",COUNTIF(EH13:EH16,EH16)=1),\"\",$BT16)","v":""},{"$f":"IF(ED16=\"\",\"\",IF(COUNTIF(EH13:EH16,EH16)=1,EH16,EH16+RANK(EI16,EI13:EI16,0)-1))","v":""},{"$f":"IF(DS16>0,CF11+CZ11+RANK(EJ16,EJ13:EJ16,1),)","v":0},null,{"$f":"IF(CB16=4,BS16,)","v":0},0,0,0,0,"B",{"$f":"IF(EM16>0,RANK(EQ16,EQ13:EQ16)+CF11+CZ11+DT11,)","v":0},{"$f":"IF(AND(EM16>0,COUNTIF(ES13:ES16,ES16)>1),SUMIFS($AH$4:$AH$54,$AE$4:$AE$54,BS16,$L$4:$L$54,4)+SUMIFS($AJ$4:$AJ$54,$AG$4:$AG$54,BS16,$L$4:$L$54,4)-SUMIFS($AJ$4:$AJ$54,$AE$4:$AE$54,BS16,$L$4:$L$54,4)-SUMIFS($AH$4:$AH$54,$AG$4:$AG$54,BS16,$L$4:$L$54,4),)","v":0},0,{"$f":"IF(AND(EM16>0,COUNTIF(EU13:EU16,EU16)>1),SUMIFS($AH$4:$AH$54,$AE$4:$AE$54,BS16,$L$4:$L$54,4)+SUMIFS($AJ$4:$AJ$54,$AG$4:$AG$54,BS16,$L$4:$L$54,4),)","v":0},{"$f":"IF(AND(EM16>0,COUNTIF(EU13:EU16,EU16)>1),EU16+RANK(EV16,EV13:EV16)-1,EU16)","v":0},"",{"$f":"IF(OR(EX16=\"\",COUNTIF(EX13:EX16,EX16)=1),\"\",$BY16)","v":""},{"$f":"IF(EX16=\"\",\"\",IF(COUNTIF(EX13:EX16,EX16)=1,EX16,EX16+RANK(EY16,EY13:EY16,0)-1))","v":""},{"$f":"IF(OR(EZ16=\"\",COUNTIF(EZ13:EZ16,EZ16)=1),\"\",$BW16)","v":""},{"$f":"IF(EX16=\"\",\"\",IF(COUNTIF(EZ13:EZ16,EZ16)=1,EZ16,EZ16+RANK(FA16,FA13:FA16,0)-1))","v":""},{"$f":"IF(OR(FB16=\"\",COUNTIF(FB13:FB16,FB16)=1),\"\",$BT16)","v":""},{"$f":"IF(EX16=\"\",\"\",IF(COUNTIF(FB13:FB16,FB16)=1,FB16,FB16+RANK(FC16,FC13:FC16,0)-1))","v":""},{"$f":"IF(EM16>0,CF11+CZ11+DT11+RANK(FD16,FD13:FD16,1),)","v":0},null,{"$f":"IFERROR(VLOOKUP(FI16,CE12:CW16,19,FALSE),IFERROR(VLOOKUP(FI16,CY12:DQ16,19,FALSE),IFERROR(VLOOKUP(FI16,DS12:EK16,19,FALSE),VLOOKUP(FI16,EM12:FE16,19,FALSE))))","v":1},{"$f":"RANK(FG16,FG13:FG16,1)+COUNTIF(FG13:FG16,FG16)-1","v":4},{"$f":"BS16","v":"Albania"},null,null,null,null,null,null,null,null,null,null,null,null,null,null,15,"BDEF","B","D","E","F",{"$f":"VLOOKUP(\"F\",$FK$3:$FL$9,2,FALSE)","v":"Georgia"},{"$f":"VLOOKUP(\"E\",$FK$3:$FL$9,2,FALSE)","v":"Belgium"},{"$f":"VLOOKUP(\"D\",$FK$3:$FL$9,2,FALSE)","v":"Poland"},{"$f":"VLOOKUP(\"B\",$FK$3:$FL$9,2,FALSE)","v":"Italy"},"",13]
[null,null,null,"2024-06-24","Albania","-","Spain",null,"-",null,"",{"$f":"IF(VLOOKUP(E17,BS12:CB16,10,FALSE)=VLOOKUP(G17,BS12:CB16,10,FALSE),VLOOKUP(E17,BS12:CB16,10,FALSE),\"-\")","v":1},null,{"$f":"IF(COUNTBLANK(H13:H18)+COUNTBLANK(J13:J18)=0,\"Resultat OK\",\"Fyll i resultat\")","v":"Fyll i resultat"},null,null,null,null,null,null,null,null,null,null,null,null,null,null,null,"2024-06-24","Albania","-","Spain","","-","","",null,0,0,0,0,0,0,0,0,0,0,0,0,0,0,0,0,0,0,0,0,0,0,0,0,0,0,0,0,0,0,null,null,null,null,null,null,null,null,null,null,null,null,null,null,null,null,null,null,null,null,null,null,null,null,null,null,null,null,null,null,null,null,null,null,null,null,null,null,null,null,null,null,null,null,null,null,null,null,null,null,null,null,null,null,null,null,null,null,null,null,null,null,null,null,null,null,null,null,null,null,null,null,null,null,null,null,null,null,null,null,null,null,null,null,null,null,null,null,null,null,null,null,null,null,null,null,null,null,null,null,null,null,null,null,null,null,null,null,null,null,null,16,"CDEF","C","D","E","F",{"$f":"VLOOKUP(\"F\",$FK$3:$FL$9,2,FALSE)","v":"Georgia"},{"$f":"VLOOKUP(\"E\",$FK$3:$FL$9,2,FALSE)","v":"Belgium"},{"$f":"VLOOKUP(\"D\",$FK$3:$FL$9,2,FALSE)","v":"Poland"},{"$f":"VLOOKUP(\"C\",$FK$3:$FL$9,2,FALSE)","v":"Serbia"},"",14]
[null,null,null,"2024-06-24","Croatia","-","Italy",null,"-",null,"",{"$f":"IF(VLOOKUP(E18,BS12:CB16,10,FALSE)=VLOOKUP(G18,BS12:CB16,10,FALSE),VLOOKUP(E18,BS12:CB16,10,FALSE),\"-\")","v":1},null,null,null,null,null,null,null,null,null,null,null,null,null,null,null,null,null,"2024-06-24","Croatia","-","Italy","","-","","",null,0,0,0,0,0,0,0,0,0,0,0,0,0,0,0,0,0,0,0,0,0,0,0,0,0,0,0,0,0,0,null,null,null,null,null,null,null,null,null,null,null,null,null,null,null,null,null,null,null,null,null,null,null,null,null,null,null,null,null,null,null,null,null,null,null,null,null,null,null,null,null,null,null,null,null,null,null,null,null,null,null,null,null,null,null,null,null,null,null,null,null,null,null,null,null,null,null,null,null,null,null,null,null,null,null,null,null,null,null,null,null,null,null,null,null,null,null,null,null,null,null,null,null,null,null,null,null,null,null,null,null,null,null,null,null,null,null,null,null,null,null,null,null,null,null,null,null,null,null,null,null,null,15]
[null,null,null,null,null,null,null,null,null,null,null,null,null,null,null,null,null,null,null,null,null,null,null,null,null,null,null,null,null,null,null,null,null,null,null,null,null,null,null,null,null,null,null,null,null,null,null,null,null,null,null,null,null,null,null,null,null,null,null,null,null,null,null,null,null,null,null,null,null,null,null,null,null,null,null,null,null,null,null,null,null,null,null,null,null,null,null,null,null,null,null,null,null,null,null,null,null,null,null,null,null,null,null,null,null,null,null,null,null,null,null,null,null,null,null,null,null,null,null,null,null,null,null,null,null,null,null,null,null,null,null,null,null,null,null,null,null,null,null,null,null,null,null,null,null,null,null,null,null,null,null,null,null,null,null,null,null,null,null,null,null,null,null,null,null,null,null,null,null,null,null,null,null,null,null,null,null,null,null,null,null,null,null,null,null,null,null,null,null,null,16]
[null,null,null,"Group C",null,null,null,null,null,null,null,null,null,null,null,null,null,null,null,null,null,null,null,null,null,null,null,null,null,"Grupp C",null,null,null,null,null,null,null,null,null,null,null,null,null,null,null,null,null,null,null,null,null,null,null,null,null,null,null,null,null,null,null,null,null,null,null,null,null,null,null,null,"Rank 0",null,null,null,null,null,null,null,null,null,null,null,"Rank 1",{"$f":"COUNTIF(CB22:CB25,1)","v":4},null,null,null,null,null,null,null,null,null,null,null,null,null,null,null,null,null,null,"Rank 2",{"$f":"COUNTIF(CB22:CB25,2)","v":0},null,null,null,null,null,null,null,null,null,null,null,null,null,null,null,null,null,null,"Rank 3",{"$f":"COUNTIF(CB22:CB25,3)","v":0},null,null,null,null,null,null,null,null,null,null,null,null,null,null,null,null,null,null,"Rank 4",{"$f":"COUNTIF(CB22:CB25,4)","v":0},null,null,null,null,null,null,null,null,null,null,null,null,null,null,null,null,null,null,null,null,null,null,null,null,null,null,null,null,null,null,null,null,null,null,null,null,null,null,null,null,null,null,null,null,null,null,17]
[null,null,"#","Date","Match",null,null,"Result",null,null,"1X2",null,null,"Team","W","D","L","GF","GA","+/-","P",null,null,null,null,null,null,null,null,"Datum","Match",null,null,"Resultat",null,null,"Tecken","Poäng","V1","V2","O1","O2","F1","F2","V1","V2","O1","O2","F1","F2","V1","V2","O1","O2","F1","F2","V1","V2","O1","O2","F1","F2","V1","V2","O1","O2","F1","F2",null,null,"Lag","V","O","F","GM","IM","+/-","P","Grupp","Rank P","Rank +/-",null,"Lag","V","O","F","P","Grupp","Rank P","+/-","+/- rank","GM","GM rank","Rank internal","+/- all","+/- rank all","GM all","GM rank all","V all","V rank all","Rank all",null,"Lag","V","O","F","P","Grupp","Rank P","+/-","+/- rank","GM","GM rank","Rank internal","+/- all","+/- rank all","GM all","GM rank all","V all","V rank all","Rank all",null,"Lag","V","O","F","P","Grupp","Rank P","+/-","+/- rank","GM","GM rank","Rank internal","+/- all","+/- rank all","GM all","GM rank all","V all","V rank all","Rank all",null,"Lag","V","O","F","P","Grupp","Rank P","+/-","+/- rank","GM","GM rank","Rank internal","+/- all","+/- rank all","GM all","GM rank all","V all","V rank all","Rank all",null,"Rank","Rank Ties",null,null,null,null,null,null,null,null,null,null,null,null,null,null,null,null,null,null,null,null,null,null,null,null,null,null,18]
[null,null,null,"2024-06-16","Slovenia","-","Denmark",null,"-",null,{"$f":"IF(OR(ISBLANK(H22),ISBLANK(J22)),\"\",IF(H22>J22,1,IF(H22<J22,2,\"X\")))","v":""},{"$f":"IF(VLOOKUP(E22,BS21:CB25,10,FALSE)=VLOOKUP(G22,BS21:CB25,10,FALSE),VLOOKUP(E22,BS21:CB25,10,FALSE),\"-\")","v":1},1,{"$f":"VLOOKUP(M22,FH22:FI25,2,FALSE)","v":"Slovenia"},{"$f":"VLOOKUP($N22,$BS$22:$BZ$25,2,FALSE)","v":0},{"$f":"VLOOKUP($N22,$BS$22:$BZ$25,3,FALSE)","v":0},{"$f":"VLOOKUP($N22,$BS$22:$BZ$25,4,FALSE)","v":0},{"$f":"VLOOKUP($N22,$BS$22:$BZ$25,5,FALSE)","v":0},{"$f":"VLOOKUP($N22,$BS$22:$BZ$25,6,FALSE)","v":0},{"$f":"VLOOKUP($N22,$BS$22:$BZ$25,7,FALSE)","v":0},{"$f":"VLOOKUP($N22,$BS$22:$BZ$25,8,FALSE)","v":0},null,null,null,null,null,null,null,null,{"$f":"D22","v":"2024-06-16"},"Slovenia","-","Denmark",{"$f":"IF(H22=\"\",\"\",H22)","v":""},"-",{"$f":"IF(J22=\"\",\"\",J22)","v":""},{"$f":"K22","v":""},null,{"$f":"IF(AH22>AJ22,1,0)","v":0},{"$f":"IF(AJ22>AH22,1,0)","v":0},{"$f":"IF(AND(AH22=AJ22,AH22<>\"\"),1,0)","v":0},{"$f":"IF(AND(AH22=AJ22,AH22<>\"\"),1,0)","v":0},{"$f":"IF(AH22<AJ22,1,0)","v":0},{"$f":"IF(AJ22<AH22,1,)","v":0},{"$f":"IF(ISERROR(VLOOKUP(AE22,CE:CE,1,FALSE)),0,1)*IF(ISERROR(VLOOKUP(AG22,CE:CE,1,FALSE)),0,1)*AM22","v":0},{"$f":"IF(ISERROR(VLOOKUP(AE22,CE:CE,1,FALSE)),0,1)*IF(ISERROR(VLOOKUP(AG22,CE:CE,1,FALSE)),0,1)*AN22","v":0},{"$f":"IF(ISERROR(VLOOKUP(AE22,CE:CE,1,FALSE)),0,1)*IF(ISERROR(VLOOKUP(AG22,CE:CE,1,FALSE)),0,1)*AO22","v":0},{"$f":"IF(ISERROR(VLOOKUP(AE22,CE:CE,1,FALSE)),0,1)*IF(ISERROR(VLOOKUP(AG22,CE:CE,1,FALSE)),0,1)*AP22","v":0},{"$f":"IF(ISERROR(VLOOKUP(AE22,CE:CE,1,FALSE)),0,1)*IF(ISERROR(VLOOKUP(AG22,CE:CE,1,FALSE)),0,1)*AQ22","v":0},{"$f":"IF(ISERROR(VLOOKUP(AE22,CE:CE,1,FALSE)),0,1)*IF(ISERROR(VLOOKUP(AG22,CE:CE,1,FALSE)),0,1)*AR22","v":0},{"$f":"IF(ISERROR(VLOOKUP(AE22,CY:CY,1,FALSE)),0,1)*IF(ISERROR(VLOOKUP(AG22,CY:CY,1,FALSE)),0,1)*AM22","v":0},{"$f":"IF(ISERROR(VLOOKUP(AE22,CY:CY,1,FALSE)),0,1)*IF(ISERROR(VLOOKUP(AG22,CY:CY,1,FALSE)),0,1)*AN22","v":0},{"$f":"IF(ISERROR(VLOOKUP(AE22,CY:CY,1,FALSE)),0,1)*IF(ISERROR(VLOOKUP(AG22,CY:CY,1,FALSE)),0,1)*AO22","v":0},{"$f":"IF(ISERROR(VLOOKUP(AE22,CY:CY,1,FALSE)),0,1)*IF(ISERROR(VLOOKUP(AG22,CY:CY,1,FALSE)),0,1)*AP22","v":0},{"$f":"IF(ISERROR(VLOOKUP(AE22,CY:CY,1,FALSE)),0,1)*IF(ISERROR(VLOOKUP(AG22,CY:CY,1,FALSE)),0,1)*AQ22","v":0},{"$f":"IF(ISERROR(VLOOKUP(AE22,CY:CY,1,FALSE)),0,1)*IF(ISERROR(VLOOKUP(AG22,CY:CY,1,FALSE)),0,1)*AR22","v":0},{"$f":"IF(ISERROR(VLOOKUP(AE22,DS:DS,1,FALSE)),0,1)*IF(ISERROR(VLOOKUP(AG22,DS:DS,1,FALSE)),0,1)*AM22","v":0},{"$f":"IF(ISERROR(VLOOKUP(AE22,DS:DS,1,FALSE)),0,1)*IF(ISERROR(VLOOKUP(AG22,DS:DS,1,FALSE)),0,1)*AN22","v":0},{"$f":"IF(ISERROR(VLOOKUP(AE22,DS:DS,1,FALSE)),0,1)*IF(ISERROR(VLOOKUP(AG22,DS:DS,1,FALSE)),0,1)*AO22","v":0},{"$f":"IF(ISERROR(VLOOKUP(AE22,DS:DS,1,FALSE)),0,1)*IF(ISERROR(VLOOKUP(AG22,DS:DS,1,FALSE)),0,1)*AP22","v":0},{"$f":"IF(ISERROR(VLOOKUP(AE22,DS:DS,1,FALSE)),0,1)*IF(ISERROR(VLOOKUP(AG22,DS:DS,1,FALSE)),0,1)*AQ22","v":0},{"$f":"IF(ISERROR(VLOOKUP(AE22,DS:DS,1,FALSE)),0,1)*IF(ISERROR(VLOOKUP(AG22,DS:DS,1,FALSE)),0,1)*AR22","v":0},{"$f":"IF(ISERROR(VLOOKUP(AE22,EM:EM,1,FALSE)),0,1)*IF(ISERROR(VLOOKUP(AG22,EM:EM,1,FALSE)),0,1)*AM22","v":0},{"$f":"IF(ISERROR(VLOOKUP(AE22,EM:EM,1,FALSE)),0,1)*IF(ISERROR(VLOOKUP(AG22,EM:EM,1,FALSE)),0,1)*AN22","v":0},{"$f":"IF(ISERROR(VLOOKUP(AE22,EM:EM,1,FALSE)),0,1)*IF(ISERROR(VLOOKUP(AG22,EM:EM,1,FALSE)),0,1)*AO22","v":0},{"$f":"IF(ISERROR(VLOOKUP(AE22,EM:EM,1,FALSE)),0,1)*IF(ISERROR(VLOOKUP(AG22,EM:EM,1,FALSE)),0,1)*AP22","v":0},{"$f":"IF(ISERROR(VLOOKUP(AE22,EM:EM,1,FALSE)),0,1)*IF(ISERROR(VLOOKUP(AG22,EM:EM,1,FALSE)),0,1)*AQ22","v":0},{"$f":"IF(ISERROR(VLOOKUP(AE22,EM:EM,1,FALSE)),0,1)*IF(ISERROR(VLOOKUP(AG22,EM:EM,1,FALSE)),0,1)*AR22","v":0},null,null,"Slovenia",{"$f":"(SUMIF(AE$4:AE$54,BS22,AM$4:AM$54)+SUMIF(AG$4:AG$54,BS22,AN$4:AN$54))","v":0},{"$f":"(SUMIF(AE$4:AE$54,BS22,AO$4:AO$54)+SUMIF(AG$4:AG$54,BS22,AP$4:AP$54))","v":0},{"$f":"(SUMIF(AE$4:AE$54,BS22,AQ$4:AQ$54)+SUMIF(AG$4:AG$54,BS22,AR$4:AR$54))","v":0},{"$f":"SUMIF($AE$4:$AE$54,BS22,$AH$4:$AH$54)+SUMIF($AG$4:$AG$54,BS22,$AJ$4:$AJ$54)","v":0},{"$f":"SUMIF($AE$4:$AE$54,BS22,$AJ$4:$AJ$54)+SUMIF($AG$4:$AG$54,BS22,$AH$4:$AH$54)","v":0},{"$f":"BW22-BX22","v":0},{"$f":"IFERROR(BT22*3+BU22*1,0)","v":0},"C",{"$f":"RANK(BZ22,BZ22:BZ25)","v":1},{"$f":"SUMPRODUCT((BZ22:BZ25=BZ22)*(BY22:BY25>BY22))","v":0},null,{"$f":"IF(CB22=1,BS22,)","v":"Slovenia"},{"$f":"(SUMIF($AE$4:$AE$54,$BS22,$AS$4:$AS$54)+SUMIF($AG$4:$AG$54,$BS22,$AT$4:$AT$54))","v":0},{"$f":"(SUMIF($AE$4:$AE$54,$BS22,$AU$4:$AU$54)+SUMIF($AG$4:$AG$54,$BS22,$AV$4:$AV$54))","v":0},{"$f":"(SUMIF($AE$4:$AE$54,$BS22,$AW$4:$AW$54)+SUMIF($AG$4:$AG$54,$BS22,$AX$4:$AX$54))","v":0},{"$f":"IFERROR(CF22*3+CG22*1,0)","v":0},{"$f":"CA22","v":"C"},{"$f":"IF(CE22>0,RANK(CI22,CI22:CI25),)","v":1},{"$f":"IF(AND(CE22>0,COUNTIF(CK22:CK25,CK22)>1),SUMIFS($AH$4:$AH$54,$AE$4:$AE$54,$BS22,$L$4:$L$54,1)+SUMIFS($AJ$4:$AJ$54,$AG$4:$AG$54,$BS22,$L$4:$L$54,1)-SUMIFS($AJ$4:$AJ$54,$AE$4:$AE$54,$BS22,$L$4:$L$54,1)-SUMIFS($AH$4:$AH$54,$AG$4:$AG$54,$BS22,$L$4:$L$54,1),)","v":0},{"$f":"IF(AND(CE22>0,COUNTIF(CK22:CK25,CK22)>1),CK22+RANK(CL22,CL22:CL25)-1,CK22)","v":1},{"$f":"IF(AND(CE22>0,COUNTIF(CM22:CM25,CM22)>1),SUMIFS($AH$4:$AH$54,$AE$4:$AE$54,$BS22,$L$4:$L$54,1)+SUMIFS($AJ$4:$AJ$54,$AG$4:$AG$54,$BS22,$L$4:$L$54,1),)","v":0},{"$f":"IF(AND(CE22>0,COUNTIF(CM22:CM25,CM22)>1),CM22+RANK(CN22,CN22:CN25)-1,CM22)","v":1},{"$f":"IF(CO22=0,\"\",CO22)","v":1},{"$f":"IF(OR(CP22=\"\",COUNTIF(CP22:CP25,CP22)=1),\"\",$BY22)","v":0},{"$f":"IF(CP22=\"\",\"\",IF(COUNTIF(CP22:CP25,CP22)=1,CP22,CP22+RANK(CQ22,CQ22:CQ25,0)-1))","v":1},{"$f":"IF(OR(CR22=\"\",COUNTIF(CR22:CR25,CR22)=1),\"\",$BW22)","v":0},{"$f":"IF(CP22=\"\",\"\",IF(COUNTIF(CR22:CR25,CR22)=1,CR22,CR22+RANK(CS22,CS22:CS25,0)-1))","v":1},{"$f":"IF(OR(CT22=\"\",COUNTIF(CT22:CT25,CT22)=1),\"\",$BT22)","v":0},{"$f":"IF(CP22=\"\",\"\",IF(COUNTIF(CT22:CT25,CT22)=1,CT22,CT22+RANK(CU22,CU22:CU25,0)-1))","v":1},{"$f":"IF(CE22>0,BL20+RANK(CV22,CV22:CV25,1),)","v":1},null,{"$f":"IF(CB22=2,BS22,)","v":0},{"$f":"(SUMIF($AE$4:$AE$54,$BS22,$AY$4:$AY$54)+SUMIF($AG$4:$AG$54,$BS22,$AZ$4:$AZ$54))","v":0},{"$f":"(SUMIF($AE$4:$AE$54,$BS22,$BA$4:$BA$54)+SUMIF($AG$4:$AG$54,$BS22,$BB$4:$BB$54))","v":0},{"$f":"(SUMIF($AE$4:$AE$54,$BS22,$BC$4:$BC$54)+SUMIF($AG$4:$AG$54,$BS22,$BD$4:$BD$54))","v":0},{"$f":"IFERROR(CZ22*3+DA22*1,0)","v":0},{"$f":"$CA22","v":"C"},{"$f":"IF(CY22>0,RANK(DC22,DC22:DC25)+CF20,)","v":0},{"$f":"IF(AND(CY22>0,COUNTIF(DE22:DE25,DE22)>1),SUMIFS($AH$4:$AH$54,$AE$4:$AE$54,$BS22,$L$4:$L$54,2)+SUMIFS($AJ$4:$AJ$54,$AG$4:$AG$54,$BS22,$L$4:$L$54,2)-SUMIFS($AJ$4:$AJ$54,$AE$4:$AE$54,$BS22,$L$4:$L$54,2)-SUMIFS($AH$4:$AH$54,$AG$4:$AG$54,$BS22,$L$4:$L$54,2),)","v":0},{"$f":"IF(AND(CY22>0,COUNTIF(DE22:DE25,DE22)>1),DE22+RANK(DF22,DF22:DF25)-1,DE22)","v":0},{"$f":"IF(AND(CY22>0,COUNTIF(DG22:DG25,DG22)>1),SUMIFS($AH$4:$AH$54,$AE$4:$AE$54,$BS22,$L$4:$L$54,2)+SUMIFS($AJ$4:$AJ$54,$AG$4:$AG$54,$BS22,$L$4:$L$54,2),)","v":0},{"$f":"IF(AND(CY22>0,COUNTIF(DG22:DG25,DG22)>1),DG22+RANK(DH22,DH22:DH25)-1,DG22)","v":0},{"$f":"IF(DI22=0,\"\",DI22)","v":""},{"$f":"IF(OR(DJ22=\"\",COUNTIF(DJ22:DJ25,DJ22)=1),\"\",$BY22)","v":""},{"$f":"IF(DJ22=\"\",\"\",IF(COUNTIF(DJ22:DJ25,DJ22)=1,DJ22,DJ22+RANK(DK22,DK22:DK25,0)-1))","v":""},{"$f":"IF(OR(DL22=\"\",COUNTIF(DL22:DL25,DL22)=1),\"\",$BW22)","v":""},{"$f":"IF(DJ22=\"\",\"\",IF(COUNTIF(DL22:DL25,DL22)=1,DL22,DL22+RANK(DM22,DM22:DM25,0)-1))","v":""},{"$f":"IF(OR(DN22=\"\",COUNTIF(DN22:DN25,DN22)=1),\"\",$BT22)","v":""},{"$f":"IF(DJ22=\"\",\"\",IF(COUNTIF(DN22:DN25,DN22)=1,DN22,DN22+RANK(DO22,DO22:DO25,0)-1))","v":""},{"$f":"IF(CY22>0,CF20+RANK(DP22,DP22:DP25,1),)","v":0},null,{"$f":"IF(CB22=3,BS22,)","v":0},{"$f":"(SUMIF($AE$4:$AE$54,BS22,$BE$4:$BE$54)+SUMIF($AG$4:$AG$54,BS22,$BF$4:$BF$54))","v":0},{"$f":"(SUMIF($AE$4:$AE$54,BS22,$BG$4:$BG$54)+SUMIF($AG$4:$AG$54,BS22,$BH$4:$BH$54))","v":0},{"$f":"(SUMIF($AE$4:$AE$54,BS22,$BI$4:$BI$54)+SUMIF($AG$4:$AG$54,BS22,$BJ$4:$BJ$54))","v":0},{"$f":"IFERROR(DT22*3+DU22*1,0)","v":0},{"$f":"CA22","v":"C"},{"$f":"IF(DS22>0,RANK(DW22,DW22:DW25)+CF20+CZ20,)","v":0},{"$f":"IF(AND(DS22>0,COUNTIF(DY22:DY25,DY22)>1),SUMIFS($AH$4:$AH$54,$AE$4:$AE$54,$BS22,$L$4:$L$54,3)+SUMIFS($AJ$4:$AJ$54,$AG$4:$AG$54,$BS22,$L$4:$L$54,3)-SUMIFS($AJ$4:$AJ$54,$AE$4:$AE$54,$BS22,$L$4:$L$54,3)-SUMIFS($AH$4:$AH$54,$AG$4:$AG$54,$BS22,$L$4:$L$54,3),)","v":0},{"$f":"IF(AND(DS22>0,COUNTIF(DY22:DY25,DY22)>1),DY22+RANK(DZ22,DZ22:DZ25)-1,DY22)","v":0},{"$f":"IF(AND(DS22>0,COUNTIF(EA22:EA25,EA22)>1),SUMIFS($AH$4:$AH$54,$AE$4:$AE$54,$BS22,$L$4:$L$54,3)+SUMIFS($AJ$4:$AJ$54,$AG$4:$AG$54,$BS22,$L$4:$L$54,3),)","v":0},{"$f":"IF(AND(DS22>0,COUNTIF(EA22:EA25,EA22)>1),EA22+RANK(EB22,EB22:EB25)-1,EA22)","v":0},{"$f":"IF(EC22=0,\"\",EC22)","v":""},{"$f":"IF(OR(ED22=\"\",COUNTIF(ED22:ED25,ED22)=1),\"\",$BY22)","v":""},{"$f":"IF(ED22=\"\",\"\",IF(COUNTIF(ED22:ED25,ED22)=1,ED22,ED22+RANK(EE22,EE22:EE25,0)-1))","v":""},{"$f":"IF(OR(EF22=\"\",COUNTIF(EF22:EF25,EF22)=1),\"\",$BW22)","v":""},{"$f":"IF(ED22=\"\",\"\",IF(COUNTIF(EF22:EF25,EF22)=1,EF22,EF22+RANK(EG22,EG22:EG25,0)-1))","v":""},{"$f":"IF(OR(EH22=\"\",COUNTIF(EH22:EH25,EH22)=1),\"\",$BT22)","v":""},{"$f":"IF(ED22=\"\",\"\",IF(COUNTIF(EH22:EH25,EH22)=1,EH22,EH22+RANK(EI22,EI22:EI25,0)-1))","v":""},{"$f":"IF(DS22>0,CF20+CZ20+RANK(EJ22,EJ22:EJ25,1),)","v":0},null,{"$f":"IF(CB22=4,BS22,)","v":0},{"$f":"(SUMIF($AE$4:$AE$54,$BS22,$BK$4:$BK$54)+SUMIF($AG$4:$AG$54,$BS22,$BL$4:$BL$54))","v":0},{"$f":"(SUMIF($AE$4:$AE$54,$BS22,$BM$4:$BM$54)+SUMIF($AG$4:$AG$54,$BS22,$BN$4:$BN$54))","v":0},{"$f":"(SUMIF($AE$4:$AE$54,$BS22,$BO$4:$BO$54)+SUMIF($AG$4:$AG$54,$BS22,$BP$4:$BP$54))","v":0},{"$f":"IFERROR(EN22*3+EO22*1,0)","v":0},{"$f":"$CA22","v":"C"},{"$f":"IF(EM22>0,RANK(EQ22,EQ22:EQ25)+CF20+CZ20+DT20,)","v":0},{"$f":"IF(AND(EM22>0,COUNTIF(ES22:ES25,ES22)>1),SUMIFS($AH$4:$AH$54,$AE$4:$AE$54,$BS22,$L$4:$L$54,4)+SUMIFS($AJ$4:$AJ$54,$AG$4:$AG$54,$BS22,$L$4:$L$54,4)-SUMIFS($AJ$4:$AJ$54,$AE$4:$AE$54,$BS22,$L$4:$L$54,4)-SUMIFS($AH$4:$AH$54,$AG$4:$AG$54,$BS22,$L$4:$L$54,4),)","v":0},{"$f":"IF(AND(EM22>0,COUNTIF($ES$4:$ES$7,ES22)>1),ES22+RANK(ET22,$ET$4:$ET$7)-1,ES22)","v":0},{"$f":"IF(AND(EM22>0,COUNTIF(EU22:EU25,EU22)>1),SUMIFS($AH$4:$AH$54,$AE$4:$AE$54,$BS22,$L$4:$L$54,4)+SUMIFS($AJ$4:$AJ$54,$AG$4:$AG$54,$BS22,$L$4:$L$54,4),)","v":0},{"$f":"IF(AND(EM22>0,COUNTIF(EU22:EU25,EU22)>1),EU22+RANK(EV22,EV22:EV25)-1,EU22)","v":0},{"$f":"IF(EW22=0,\"\",EW22)","v":""},{"$f":"IF(OR(EX22=\"\",COUNTIF(EX22:EX25,EX22)=1),\"\",$BY22)","v":""},{"$f":"IF(EX22=\"\",\"\",IF(COUNTIF(EX22:EX25,EX22)=1,EX22,EX22+RANK(EY22,EY22:EY25,0)-1))","v":""},{"$f":"IF(OR(EZ22=\"\",COUNTIF(EZ22:EZ25,EZ22)=1),\"\",$BW22)","v":""},{"$f":"IF(EX22=\"\",\"\",IF(COUNTIF(EZ22:EZ25,EZ22)=1,EZ22,EZ22+RANK(FA22,FA22:FA25,0)-1))","v":""},{"$f":"IF(OR(FB22=\"\",COUNTIF(FB22:FB25,FB22)=1),\"\",$BT22)","v":""},{"$f":"IF(EX22=\"\",\"\",IF(COUNTIF(FB22:FB25,FB22)=1,FB22,FB22+RANK(FC22,FC22:FC25,0)-1))","v":""},{"$f":"IF(EM22>0,CF20+CZ20+DT20+RANK(FD22,FD22:FD25,1),)","v":0},null,{"$f":"IFERROR(VLOOKUP(FI22,CE21:CW25,19,FALSE),IFERROR(VLOOKUP(FI22,CY21:DQ25,19,FALSE),IFERROR(VLOOKUP(FI22,DS21:EK25,19,FALSE),VLOOKUP(FI22,EM21:FE25,19,FALSE))))","v":1},{"$f":"RANK(FG22,FG22:FG25,1)+COUNTIF(FG22:FG22,FG22)-1","v":1},{"$f":"BS22","v":"Slovenia"},null,null,null,null,null,null,null,null,null,null,null,null,null,null,null,null,null,null,null,null,null,null,null,null,null,19]
[null,null,null,"2024-06-16","Serbia","-","England",null,"-",null,{"$f":"IF(OR(ISBLANK(H23),ISBLANK(J23)),\"\",IF(H23>J23,1,IF(H23<J23,2,\"X\")))","v":""},{"$f":"IF(VLOOKUP(E23,BS21:CB25,10,FALSE)=VLOOKUP(G23,BS21:CB25,10,FALSE),VLOOKUP(E23,BS21:CB25,10,FALSE),\"-\")","v":1},2,{"$f":"VLOOKUP(M23,FH22:FI25,2,FALSE)","v":"Denmark"},{"$f":"VLOOKUP($N23,$BS$22:$BZ$25,2,FALSE)","v":0},{"$f":"VLOOKUP($N23,$BS$22:$BZ$25,3,FALSE)","v":0},{"$f":"VLOOKUP($N23,$BS$22:$BZ$25,4,FALSE)","v":0},{"$f":"VLOOKUP($N23,$BS$22:$BZ$25,5,FALSE)","v":0},{"$f":"VLOOKUP($N23,$BS$22:$BZ$25,6,FALSE)","v":0},{"$f":"VLOOKUP($N23,$BS$22:$BZ$25,7,FALSE)","v":0},{"$f":"VLOOKUP($N23,$BS$22:$BZ$25,8,FALSE)","v":0},null,null,null,null,null,null,null,null,"2024-06-16","Serbia","-","England","","-","","",null,0,0,0,0,0,0,0,0,0,0,0,0,0,0,0,0,0,0,0,0,0,0,0,0,0,0,0,0,0,0,null,null,"Denmark",{"$f":"(SUMIF(AE$4:AE$54,BS23,AM$4:AM$54)+SUMIF(AG$4:AG$54,BS23,AN$4:AN$54))","v":0},{"$f":"(SUMIF(AE$4:AE$54,BS23,AO$4:AO$54)+SUMIF(AG$4:AG$54,BS23,AP$4:AP$54))","v":0},{"$f":"(SUMIF(AE$4:AE$54,BS23,AQ$4:AQ$54)+SUMIF(AG$4:AG$54,BS23,AR$4:AR$54))","v":0},{"$f":"SUMIF($AE$4:$AE$54,BS23,$AH$4:$AH$54)+SUMIF($AG$4:$AG$54,BS23,$AJ$4:$AJ$54)","v":0},{"$f":"SUMIF($AE$4:$AE$54,BS23,$AJ$4:$AJ$54)+SUMIF($AG$4:$AG$54,BS23,$AH$4:$AH$54)","v":0},{"$f":"BW23-BX23","v":0},{"$f":"IFERROR(BT23*3+BU23*1,0)","v":0},"C",{"$f":"RANK(BZ23,BZ22:BZ25)","v":1},{"$f":"SUMPRODUCT((BZ22:BZ25=BZ23)*(BY22:BY25>BY23))","v":0},null,{"$f":"IF(CB23=1,BS23,)","v":"Denmark"},{"$f":"(SUMIF($AE$4:$AE$54,$BS23,$AS$4:$AS$54)+SUMIF($AG$4:$AG$54,$BS23,$AT$4:$AT$54))","v":0},{"$f":"(SUMIF($AE$4:$AE$54,$BS23,$AU$4:$AU$54)+SUMIF($AG$4:$AG$54,$BS23,$AV$4:$AV$54))","v":0},{"$f":"(SUMIF($AE$4:$AE$54,$BS23,$AW$4:$AW$54)+SUMIF($AG$4:$AG$54,$BS23,$AX$4:$AX$54))","v":0},{"$f":"IFERROR(CF23*3+CG23*1,0)","v":0},{"$f":"CA23","v":"C"},{"$f":"IF(CE23>0,RANK(CI23,CI22:CI25),)","v":1},{"$f":"IF(AND(CE23>0,COUNTIF(CK22:CK25,CK23)>1),SUMIFS($AH$4:$AH$54,$AE$4:$AE$54,BS23,$L$4:$L$54,1)+SUMIFS($AJ$4:$AJ$54,$AG$4:$AG$54,BS23,$L$4:$L$54,1)-SUMIFS($AJ$4:$AJ$54,$AE$4:$AE$54,BS23,$L$4:$L$54,1)-SUMIFS($AH$4:$AH$54,$AG$4:$AG$54,BS23,$L$4:$L$54,1),)","v":0},{"$f":"IF(AND(CE23>0,COUNTIF(CK22:CK25,CK23)>1),CK23+RANK(CL23,CL22:CL25)-1,CK23)","v":1},{"$f":"IF(AND(CE23>0,COUNTIF(CM22:CM25,CM23)>1),SUMIFS($AH$4:$AH$54,$AE$4:$AE$54,BS23,$L$4:$L$54,1)+SUMIFS($AJ$4:$AJ$54,$AG$4:$AG$54,BS23,$L$4:$L$54,1),)","v":0},{"$f":"IF(AND(CE23>0,COUNTIF(CM22:CM25,CM23)>1),CM23+RANK(CN23,CN22:CN25)-1,CM23)","v":1},{"$f":"IF(CO23=0,\"\",CO23)","v":1},{"$f":"IF(OR(CP23=\"\",COUNTIF(CP22:CP25,CP23)=1),\"\",$BY23)","v":0},{"$f":"IF(CP23=\"\",\"\",IF(COUNTIF(CP22:CP25,CP23)=1,CP23,CP23+RANK(CQ23,CQ22:CQ25,0)-1))","v":1},{"$f":"IF(OR(CR23=\"\",COUNTIF(CR22:CR25,CR23)=1),\"\",$BW23)","v":0},{"$f":"IF(CP23=\"\",\"\",IF(COUNTIF(CR22:CR25,CR23)=1,CR23,CR23+RANK(CS23,CS22:CS25,0)-1))","v":1},{"$f":"IF(OR(CT23=\"\",COUNTIF(CT22:CT25,CT23)=1),\"\",$BT23)","v":0},{"$f":"IF(CP23=\"\",\"\",IF(COUNTIF(CT22:CT25,CT23)=1,CT23,CT23+RANK(CU23,CU22:CU25,0)-1))","v":1},{"$f":"IF(CE23>0,BL20+RANK(CV23,CV22:CV25,1),)","v":1},null,{"$f":"IF(CB23=2,BS23,)","v":0},{"$f":"(SUMIF($AE$4:$AE$54,$BS23,$AY$4:$AY$54)+SUMIF($AG$4:$AG$54,$BS23,$AZ$4:$AZ$54))","v":0},{"$f":"(SUMIF($AE$4:$AE$54,$BS23,$BA$4:$BA$54)+SUMIF($AG$4:$AG$54,$BS23,$BB$4:$BB$54))","v":0},{"$f":"(SUMIF($AE$4:$AE$54,$BS23,$BC$4:$BC$54)+SUMIF($AG$4:$AG$54,$BS23,$BD$4:$BD$54))","v":0},{"$f":"IFERROR(CZ23*3+DA23*1,0)","v":0},{"$f":"$CA23","v":"C"},{"$f":"IF(CY23>0,RANK(DC23,DC22:DC25)+CF20,)","v":0},{"$f":"IF(AND(CY23>0,COUNTIF(DE22:DE25,DE23)>1),SUMIFS($AH$4:$AH$54,$AE$4:$AE$54,BS23,$L$4:$L$54,2)+SUMIFS($AJ$4:$AJ$54,$AG$4:$AG$54,BS23,$L$4:$L$54,2)-SUMIFS($AJ$4:$AJ$54,$AE$4:$AE$54,BS23,$L$4:$L$54,2)-SUMIFS($AH$4:$AH$54,$AG$4:$AG$54,BS23,$L$4:$L$54,2),)","v":0},{"$f":"IF(AND(CY23>0,COUNTIF(DE22:DE25,DE23)>1),DE23+RANK(DF23,DF22:DF25)-1,DE23)","v":0},{"$f":"IF(AND(CY23>0,COUNTIF(DG22:DG25,DG23)>1),SUMIFS($AH$4:$AH$54,$AE$4:$AE$54,BS23,$L$4:$L$54,2)+SUMIFS($AJ$4:$AJ$54,$AG$4:$AG$54,BS23,$L$4:$L$54,2),)","v":0},{"$f":"IF(AND(CY23>0,COUNTIF(DG22:DG25,DG23)>1),DG23+RANK(DH23,DH22:DH25)-1,DG23)","v":0},{"$f":"IF(DI23=0,\"\",DI23)","v":""},{"$f":"IF(OR(DJ23=\"\",COUNTIF(DJ22:DJ25,DJ23)=1),\"\",$BY23)","v":""},{"$f":"IF(DJ23=\"\",\"\",IF(COUNTIF(DJ22:DJ25,DJ23)=1,DJ23,DJ23+RANK(DK23,DK22:DK25,0)-1))","v":""},{"$f":"IF(OR(DL23=\"\",COUNTIF(DL22:DL25,DL23)=1),\"\",$BW23)","v":""},{"$f":"IF(DJ23=\"\",\"\",IF(COUNTIF(DL22:DL25,DL23)=1,DL23,DL23+RANK(DM23,DM22:DM25,0)-1))","v":""},{"$f":"IF(OR(DN23=\"\",COUNTIF(DN22:DN25,DN23)=1),\"\",$BT23)","v":""},{"$f":"IF(DJ23=\"\",\"\",IF(COUNTIF(DN22:DN25,DN23)=1,DN23,DN23+RANK(DO23,DO22:DO25,0)-1))","v":""},{"$f":"IF(CY23>0,CF20+RANK(DP23,DP22:DP25,1),)","v":0},null,{"$f":"IF(CB23=3,BS23,)","v":0},{"$f":"(SUMIF(AE$4:AE$54,BS23,BE$4:BE$54)+SUMIF(AG$4:AG$54,BS23,BF$4:BF$54))","v":0},{"$f":"(SUMIF(AE$4:AE$54,BS23,BG$4:BG$54)+SUMIF(AG$4:AG$54,BS23,BH$4:BH$54))","v":0},{"$f":"(SUMIF(AE$4:AE$54,BS23,BI$4:BI$54)+SUMIF(AG$4:AG$54,BS23,BJ$4:BJ$54))","v":0},{"$f":"IFERROR(DT23*3+DU23*1,0)","v":0},{"$f":"CA23","v":"C"},{"$f":"IF(DS23>0,RANK(DW23,DW22:DW25)+CF20+CZ20,)","v":0},{"$f":"IF(AND(DS23>0,COUNTIF(DY22:DY25,DY23)>1),SUMIFS($AH$4:$AH$54,$AE$4:$AE$54,BS23,$L$4:$L$54,3)+SUMIFS($AJ$4:$AJ$54,$AG$4:$AG$54,BS23,$L$4:$L$54,3)-SUMIFS($AJ$4:$AJ$54,$AE$4:$AE$54,BS23,$L$4:$L$54,3)-SUMIFS($AH$4:$AH$54,$AG$4:$AG$54,BS23,$L$4:$L$54,3),)","v":0},{"$f":"IF(AND(DS23>0,COUNTIF(DY22:DY25,DY23)>1),DY23+RANK(DZ23,DZ22:DZ25)-1,DY23)","v":0},{"$f":"IF(AND(DS23>0,COUNTIF(EA22:EA25,EA23)>1),SUMIFS($AH$4:$AH$54,$AE$4:$AE$54,BS23,$L$4:$L$54,3)+SUMIFS($AJ$4:$AJ$54,$AG$4:$AG$54,BS23,$L$4:$L$54,3),)","v":0},{"$f":"IF(AND(DS23>0,COUNTIF(EA22:EA25,EA23)>1),EA23+RANK(EB23,EB22:EB25)-1,EA23)","v":0},{"$f":"IF(EC23=0,\"\",EC23)","v":""},{"$f":"IF(OR(ED23=\"\",COUNTIF(ED22:ED25,ED23)=1),\"\",$BY23)","v":""},{"$f":"IF(ED23=\"\",\"\",IF(COUNTIF(ED22:ED25,ED23)=1,ED23,ED23+RANK(EE23,EE22:EE25,0)-1))","v":""},{"$f":"IF(OR(EF23=\"\",COUNTIF(EF22:EF25,EF23)=1),\"\",$BW23)","v":""},{"$f":"IF(ED23=\"\",\"\",IF(COUNTIF(EF22:EF25,EF23)=1,EF23,EF23+RANK(EG23,EG22:EG25,0)-1))","v":""},{"$f":"IF(OR(EH23=\"\",COUNTIF(EH22:EH25,EH23)=1),\"\",$BT23)","v":""},{"$f":"IF(ED23=\"\",\"\",IF(COUNTIF(EH22:EH25,EH23)=1,EH23,EH23+RANK(EI23,EI22:EI25,0)-1))","v":""},{"$f":"IF(DS23>0,CF20+CZ20+RANK(EJ23,EJ22:EJ25,1),)","v":0},null,{"$f":"IF(CB23=4,BS23,)","v":0},{"$f":"(SUMIF($AE$4:$AE$54,$BS23,$BK$4:$BK$54)+SUMIF($AG$4:$AG$54,$BS23,$BL$4:$BL$54))","v":0},{"$f":"(SUMIF($AE$4:$AE$54,$BS23,$BM$4:$BM$54)+SUMIF($AG$4:$AG$54,$BS23,$BN$4:$BN$54))","v":0},{"$f":"(SUMIF($AE$4:$AE$54,$BS23,$BO$4:$BO$54)+SUMIF($AG$4:$AG$54,$BS23,$BP$4:$BP$54))","v":0},{"$f":"IFERROR(EN23*3+EO23*1,0)","v":0},{"$f":"$CA23","v":"C"},{"$f":"IF(EM23>0,RANK(EQ23,EQ22:EQ25)+CF20+CZ20+DT20,)","v":0},{"$f":"IF(AND(EM23>0,COUNTIF(ES22:ES25,ES23)>1),SUMIFS($AH$4:$AH$54,$AE$4:$AE$54,BS23,$L$4:$L$54,4)+SUMIFS($AJ$4:$AJ$54,$AG$4:$AG$54,BS23,$L$4:$L$54,4)-SUMIFS($AJ$4:$AJ$54,$AE$4:$AE$54,BS23,$L$4:$L$54,4)-SUMIFS($AH$4:$AH$54,$AG$4:$AG$54,BS23,$L$4:$L$54,4),)","v":0},{"$f":"IF(AND(EM23>0,COUNTIF($ES$4:$ES$7,ES23)>1),ES23+RANK(ET23,$ET$4:$ET$7)-1,ES23)","v":0},{"$f":"IF(AND(EM23>0,COUNTIF(EU22:EU25,EU23)>1),SUMIFS($AH$4:$AH$54,$AE$4:$AE$54,BS23,$L$4:$L$54,4)+SUMIFS($AJ$4:$AJ$54,$AG$4:$AG$54,BS23,$L$4:$L$54,4),)","v":0},{"$f":"IF(AND(EM23>0,COUNTIF(EU22:EU25,EU23)>1),EU23+RANK(EV23,EV22:EV25)-1,EU23)","v":0},{"$f":"IF(EW23=0,\"\",EW23)","v":""},{"$f":"IF(OR(EX23=\"\",COUNTIF(EX22:EX25,EX23)=1),\"\",$BY23)","v":""},{"$f":"IF(EX23=\"\",\"\",IF(COUNTIF(EX22:EX25,EX23)=1,EX23,EX23+RANK(EY23,EY22:EY25,0)-1))","v":""},{"$f":"IF(OR(EZ23=\"\",COUNTIF(EZ22:EZ25,EZ23)=1),\"\",$BW23)","v":""},{"$f":"IF(EX23=\"\",\"\",IF(COUNTIF(EZ22:EZ25,EZ23)=1,EZ23,EZ23+RANK(FA23,FA22:FA25,0)-1))","v":""},{"$f":"IF(OR(FB23=\"\",COUNTIF(FB22:FB25,FB23)=1),\"\",$BT23)","v":""},{"$f":"IF(EX23=\"\",\"\",IF(COUNTIF(FB22:FB25,FB23)=1,FB23,FB23+RANK(FC23,FC22:FC25,0)-1))","v":""},{"$f":"IF(EM23>0,CF20+CZ20+DT20+RANK(FD23,FD22:FD25,1),)","v":0},null,{"$f":"IFERROR(VLOOKUP(FI23,CE21:CW25,19,FALSE),IFERROR(VLOOKUP(FI23,CY21:DQ25,19,FALSE),IFERROR(VLOOKUP(FI23,DS21:EK25,19,FALSE),VLOOKUP(FI23,EM21:FE25,19,FALSE))))","v":1},{"$f":"RANK(FG23,FG22:FG25,1)+COUNTIF(FG22:FG23,FG23)-1","v":2},{"$f":"BS23","v":"Denmark"},null,null,null,null,null,null,null,null,null,null,null,null,null,null,null,null,null,null,null,null,null,null,null,null,null,20]
[null,null,null,"2024-06-20","Slovenia","-","Serbia",null,"-",null,"",{"$f":"IF(VLOOKUP(E24,BS21:CB25,10,FALSE)=VLOOKUP(G24,BS21:CB25,10,FALSE),VLOOKUP(E24,BS21:CB25,10,FALSE),\"-\")","v":1},3,{"$f":"VLOOKUP(M24,FH22:FI25,2,FALSE)","v":"Serbia"},{"$f":"VLOOKUP($N24,$BS$22:$BZ$25,2,FALSE)","v":0},{"$f":"VLOOKUP($N24,$BS$22:$BZ$25,3,FALSE)","v":0},{"$f":"VLOOKUP($N24,$BS$22:$BZ$25,4,FALSE)","v":0},{"$f":"VLOOKUP($N24,$BS$22:$BZ$25,5,FALSE)","v":0},{"$f":"VLOOKUP($N24,$BS$22:$BZ$25,6,FALSE)","v":0},{"$f":"VLOOKUP($N24,$BS$22:$BZ$25,7,FALSE)","v":0},{"$f":"VLOOKUP($N24,$BS$22:$BZ$25,8,FALSE)","v":0},null,null,null,null,null,null,null,null,"2024-06-20","Slovenia","-","Serbia","","-","","",null,0,0,0,0,0,0,0,0,0,0,0,0,0,0,0,0,0,0,0,0,0,0,0,0,0,0,0,0,0,0,null,null,"Serbia",{"$f":"(SUMIF(AE$4:AE$54,BS24,AM$4:AM$54)+SUMIF(AG$4:AG$54,BS24,AN$4:AN$54))","v":0},{"$f":"(SUMIF(AE$4:AE$54,BS24,AO$4:AO$54)+SUMIF(AG$4:AG$54,BS24,AP$4:AP$54))","v":0},{"$f":"(SUMIF(AE$4:AE$54,BS24,AQ$4:AQ$54)+SUMIF(AG$4:AG$54,BS24,AR$4:AR$54))","v":0},{"$f":"SUMIF($AE$4:$AE$54,BS24,$AH$4:$AH$54)+SUMIF($AG$4:$AG$54,BS24,$AJ$4:$AJ$54)","v":0},{"$f":"SUMIF($AE$4:$AE$54,BS24,$AJ$4:$AJ$54)+SUMIF($AG$4:$AG$54,BS24,$AH$4:$AH$54)","v":0},{"$f":"BW24-BX24","v":0},{"$f":"IFERROR(BT24*3+BU24*1,0)","v":0},"C",{"$f":"RANK(BZ24,BZ22:BZ25)","v":1},{"$f":"SUMPRODUCT((BZ22:BZ25=BZ24)*(BY22:BY25>BY24))","v":0},null,{"$f":"IF(CB24=1,BS24,)","v":"Serbia"},0,0,0,0,"C",{"$f":"IF(CE24>0,RANK(CI24,CI22:CI25),)","v":1},{"$f":"IF(AND(CE24>0,COUNTIF(CK22:CK25,CK24)>1),SUMIFS($AH$4:$AH$54,$AE$4:$AE$54,BS24,$L$4:$L$54,1)+SUMIFS($AJ$4:$AJ$54,$AG$4:$AG$54,BS24,$L$4:$L$54,1)-SUMIFS($AJ$4:$AJ$54,$AE$4:$AE$54,BS24,$L$4:$L$54,1)-SUMIFS($AH$4:$AH$54,$AG$4:$AG$54,BS24,$L$4:$L$54,1),)","v":0},{"$f":"IF(AND(CE24>0,COUNTIF(CK22:CK25,CK24)>1),CK24+RANK(CL24,CL22:CL25)-1,CK24)","v":1},{"$f":"IF(AND(CE24>0,COUNTIF(CM22:CM25,CM24)>1),SUMIFS($AH$4:$AH$54,$AE$4:$AE$54,BS24,$L$4:$L$54,1)+SUMIFS($AJ$4:$AJ$54,$AG$4:$AG$54,BS24,$L$4:$L$54,1),)","v":0},{"$f":"IF(AND(CE24>0,COUNTIF(CM22:CM25,CM24)>1),CM24+RANK(CN24,CN22:CN25)-1,CM24)","v":1},1,{"$f":"IF(OR(CP24=\"\",COUNTIF(CP22:CP25,CP24)=1),\"\",$BY24)","v":0},{"$f":"IF(CP24=\"\",\"\",IF(COUNTIF(CP22:CP25,CP24)=1,CP24,CP24+RANK(CQ24,CQ22:CQ25,0)-1))","v":1},{"$f":"IF(OR(CR24=\"\",COUNTIF(CR22:CR25,CR24)=1),\"\",$BW24)","v":0},{"$f":"IF(CP24=\"\",\"\",IF(COUNTIF(CR22:CR25,CR24)=1,CR24,CR24+RANK(CS24,CS22:CS25,0)-1))","v":1},{"$f":"IF(OR(CT24=\"\",COUNTIF(CT22:CT25,CT24)=1),\"\",$BT24)","v":0},{"$f":"IF(CP24=\"\",\"\",IF(COUNTIF(CT22:CT25,CT24)=1,CT24,CT24+RANK(CU24,CU22:CU25,0)-1))","v":1},{"$f":"IF(CE24>0,BL20+RANK(CV24,CV22:CV25,1),)","v":1},null,{"$f":"IF(CB24=2,BS24,)","v":0},0,0,0,0,"C",{"$f":"IF(CY24>0,RANK(DC24,DC22:DC25)+CF20,)","v":0},{"$f":"IF(AND(CY24>0,COUNTIF(DE22:DE25,DE24)>1),SUMIFS($AH$4:$AH$54,$AE$4:$AE$54,BS24,$L$4:$L$54,2)+SUMIFS($AJ$4:$AJ$54,$AG$4:$AG$54,BS24,$L$4:$L$54,2)-SUMIFS($AJ$4:$AJ$54,$AE$4:$AE$54,BS24,$L$4:$L$54,2)-SUMIFS($AH$4:$AH$54,$AG$4:$AG$54,BS24,$L$4:$L$54,2),)","v":0},{"$f":"IF(AND(CY24>0,COUNTIF(DE22:DE25,DE24)>1),DE24+RANK(DF24,DF22:DF25)-1,DE24)","v":0},{"$f":"IF(AND(CY24>0,COUNTIF(DG22:DG25,DG24)>1),SUMIFS($AH$4:$AH$54,$AE$4:$AE$54,BS24,$L$4:$L$54,2)+SUMIFS($AJ$4:$AJ$54,$AG$4:$AG$54,BS24,$L$4:$L$54,2),)","v":0},{"$f":"IF(AND(CY24>0,COUNTIF(DG22:DG25,DG24)>1),DG24+RANK(DH24,DH22:DH25)-1,DG24)","v":0},"",{"$f":"IF(OR(DJ24=\"\",COUNTIF(DJ22:DJ25,DJ24)=1),\"\",$BY24)","v":""},{"$f":"IF(DJ24=\"\",\"\",IF(COUNTIF(DJ22:DJ25,DJ24)=1,DJ24,DJ24+RANK(DK24,DK22:DK25,0)-1))","v":""},{"$f":"IF(OR(DL24=\"\",COUNTIF(DL22:DL25,DL24)=1),\"\",$BW24)","v":""},{"$f":"IF(DJ24=\"\",\"\",IF(COUNTIF(DL22:DL25,DL24)=1,DL24,DL24+RANK(DM24,DM22:DM25,0)-1))","v":""},{"$f":"IF(OR(DN24=\"\",COUNTIF(DN22:DN25,DN24)=1),\"\",$BT24)","v":""},{"$f":"IF(DJ24=\"\",\"\",IF(COUNTIF(DN22:DN25,DN24)=1,DN24,DN24+RANK(DO24,DO22:DO25,0)-1))","v":""},{"$f":"IF(CY24>0,CF20+RANK(DP24,DP22:DP25,1),)","v":0},null,{"$f":"IF(CB24=3,BS24,)","v":0},{"$f":"(SUMIF(AE$4:AE$54,BS24,BE$4:BE$54)+SUMIF(AG$4:AG$54,BS24,BF$4:BF$54))","v":0},{"$f":"(SUMIF(AE$4:AE$54,BS24,BG$4:BG$54)+SUMIF(AG$4:AG$54,BS24,BH$4:BH$54))","v":0},{"$f":"(SUMIF(AE$4:AE$54,BS24,BI$4:BI$54)+SUMIF(AG$4:AG$54,BS24,BJ$4:BJ$54))","v":0},0,{"$f":"CA24","v":"C"},{"$f":"IF(DS24>0,RANK(DW24,DW22:DW25)+CF20+CZ20,)","v":0},{"$f":"IF(AND(DS24>0,COUNTIF(DY22:DY25,DY24)>1),SUMIFS($AH$4:$AH$54,$AE$4:$AE$54,BS24,$L$4:$L$54,3)+SUMIFS($AJ$4:$AJ$54,$AG$4:$AG$54,BS24,$L$4:$L$54,3)-SUMIFS($AJ$4:$AJ$54,$AE$4:$AE$54,BS24,$L$4:$L$54,3)-SUMIFS($AH$4:$AH$54,$AG$4:$AG$54,BS24,$L$4:$L$54,3),)","v":0},{"$f":"IF(AND(DS24>0,COUNTIF(DY22:DY25,DY24)>1),DY24+RANK(DZ24,DZ22:DZ25)-1,DY24)","v":0},{"$f":"IF(AND(DS24>0,COUNTIF(EA22:EA25,EA24)>1),SUMIFS($AH$4:$AH$54,$AE$4:$AE$54,BS24,$L$4:$L$54,3)+SUMIFS($AJ$4:$AJ$54,$AG$4:$AG$54,BS24,$L$4:$L$54,3),)","v":0},{"$f":"IF(AND(DS24>0,COUNTIF(EA22:EA25,EA24)>1),EA24+RANK(EB24,EB22:EB25)-1,EA24)","v":0},"",{"$f":"IF(OR(ED24=\"\",COUNTIF(ED22:ED25,ED24)=1),\"\",$BY24)","v":""},{"$f":"IF(ED24=\"\",\"\",IF(COUNTIF(ED22:ED25,ED24)=1,ED24,ED24+RANK(EE24,EE22:EE25,0)-1))","v":""},{"$f":"IF(OR(EF24=\"\",COUNTIF(EF22:EF25,EF24)=1),\"\",$BW24)","v":""},{"$f":"IF(ED24=\"\",\"\",IF(COUNTIF(EF22:EF25,EF24)=1,EF24,EF24+RANK(EG24,EG22:EG25,0)-1))","v":""},{"$f":"IF(OR(EH24=\"\",COUNTIF(EH22:EH25,EH24)=1),\"\",$BT24)","v":""},{"$f":"IF(ED24=\"\",\"\",IF(COUNTIF(EH22:EH25,EH24)=1,EH24,EH24+RANK(EI24,EI22:EI25,0)-1))","v":""},{"$f":"IF(DS24>0,CF20+CZ20+RANK(EJ24,EJ22:EJ25,1),)","v":0},null,{"$f":"IF(CB24=4,BS24,)","v":0},0,0,0,0,"C",{"$f":"IF(EM24>0,RANK(EQ24,EQ22:EQ25)+CF20+CZ20+DT20,)","v":0},{"$f":"IF(AND(EM24>0,COUNTIF(ES22:ES25,ES24)>1),SUMIFS($AH$4:$AH$54,$AE$4:$AE$54,BS24,$L$4:$L$54,4)+SUMIFS($AJ$4:$AJ$54,$AG$4:$AG$54,BS24,$L$4:$L$54,4)-SUMIFS($AJ$4:$AJ$54,$AE$4:$AE$54,BS24,$L$4:$L$54,4)-SUMIFS($AH$4:$AH$54,$AG$4:$AG$54,BS24,$L$4:$L$54,4),)","v":0},0,{"$f":"IF(AND(EM24>0,COUNTIF(EU22:EU25,EU24)>1),SUMIFS($AH$4:$AH$54,$AE$4:$AE$54,BS24,$L$4:$L$54,4)+SUMIFS($AJ$4:$AJ$54,$AG$4:$AG$54,BS24,$L$4:$L$54,4),)","v":0},{"$f":"IF(AND(EM24>0,COUNTIF(EU22:EU25,EU24)>1),EU24+RANK(EV24,EV22:EV25)-1,EU24)","v":0},"",{"$f":"IF(OR(EX24=\"\",COUNTIF(EX22:EX25,EX24)=1),\"\",$BY24)","v":""},{"$f":"IF(EX24=\"\",\"\",IF(COUNTIF(EX22:EX25,EX24)=1,EX24,EX24+RANK(EY24,EY22:EY25,0)-1))","v":""},{"$f":"IF(OR(EZ24=\"\",COUNTIF(EZ22:EZ25,EZ24)=1),\"\",$BW24)","v":""},{"$f":"IF(EX24=\"\",\"\",IF(COUNTIF(EZ22:EZ25,EZ24)=1,EZ24,EZ24+RANK(FA24,FA22:FA25,0)-1))","v":""},{"$f":"IF(OR(FB24=\"\",COUNTIF(FB22:FB25,FB24)=1),\"\",$BT24)","v":""},{"$f":"IF(EX24=\"\",\"\",IF(COUNTIF(FB22:FB25,FB24)=1,FB24,FB24+RANK(FC24,FC22:FC25,0)-1))","v":""},{"$f":"IF(EM24>0,CF20+CZ20+DT20+RANK(FD24,FD22:FD25,1),)","v":0},null,{"$f":"IFERROR(VLOOKUP(FI24,CE21:CW25,19,FALSE),IFERROR(VLOOKUP(FI24,CY21:DQ25,19,FALSE),IFERROR(VLOOKUP(FI24,DS21:EK25,19,FALSE),VLOOKUP(FI24,EM21:FE25,19,FALSE))))","v":1},{"$f":"RANK(FG24,FG22:FG25,1)+COUNTIF(FG22:FG24,FG24)-1","v":3},{"$f":"BS24","v":"Serbia"},null,null,null,null,null,null,null,null,null,null,null,null,null,null,null,null,null,null,null,null,null,null,null,null,null,21]
[null,null,null,"2024-06-20","Denmark","-","England",null,"-",null,"",{"$f":"IF(VLOOKUP(E25,BS21:CB25,10,FALSE)=VLOOKUP(G25,BS21:CB25,10,FALSE),VLOOKUP(E25,BS21:CB25,10,FALSE),\"-\")","v":1},4,{"$f":"VLOOKUP(M25,FH22:FI25,2,FALSE)","v":"England"},{"$f":"VLOOKUP($N25,$BS$22:$BZ$25,2,FALSE)","v":0},{"$f":"VLOOKUP($N25,$BS$22:$BZ$25,3,FALSE)","v":0},{"$f":"VLOOKUP($N25,$BS$22:$BZ$25,4,FALSE)","v":0},{"$f":"VLOOKUP($N25,$BS$22:$BZ$25,5,FALSE)","v":0},{"$f":"VLOOKUP($N25,$BS$22:$BZ$25,6,FALSE)","v":0},{"$f":"VLOOKUP($N25,$BS$22:$BZ$25,7,FALSE)","v":0},{"$f":"VLOOKUP($N25,$BS$22:$BZ$25,8,FALSE)","v":0},null,null,null,null,null,null,null,null,"2024-06-20","Denmark","-","England","","-","","",null,0,0,0,0,0,0,0,0,0,0,0,0,0,0,0,0,0,0,0,0,0,0,0,0,0,0,0,0,0,0,null,null,"England",{"$f":"(SUMIF(AE$4:AE$54,BS25,AM$4:AM$54)+SUMIF(AG$4:AG$54,BS25,AN$4:AN$54))","v":0},{"$f":"(SUMIF(AE$4:AE$54,BS25,AO$4:AO$54)+SUMIF(AG$4:AG$54,BS25,AP$4:AP$54))","v":0},{"$f":"(SUMIF(AE$4:AE$54,BS25,AQ$4:AQ$54)+SUMIF(AG$4:AG$54,BS25,AR$4:AR$54))","v":0},{"$f":"SUMIF($AE$4:$AE$54,BS25,$AH$4:$AH$54)+SUMIF($AG$4:$AG$54,BS25,$AJ$4:$AJ$54)","v":0},{"$f":"SUMIF($AE$4:$AE$54,BS25,$AJ$4:$AJ$54)+SUMIF($AG$4:$AG$54,BS25,$AH$4:$AH$54)","v":0},{"$f":"BW25-BX25","v":0},{"$f":"IFERROR(BT25*3+BU25*1,0)","v":0},"C",{"$f":"RANK(BZ25,BZ22:BZ25)","v":1},{"$f":"SUMPRODUCT((BZ22:BZ25=BZ25)*(BY22:BY25>BY25))","v":0},null,{"$f":"IF(CB25=1,BS25,)","v":"England"},0,0,0,0,"C",{"$f":"IF(CE25>0,RANK(CI25,CI22:CI25),)","v":1},{"$f":"IF(AND(CE25>0,COUNTIF(CK22:CK25,CK25)>1),SUMIFS($AH$4:$AH$54,$AE$4:$AE$54,BS25,$L$4:$L$54,1)+SUMIFS($AJ$4:$AJ$54,$AG$4:$AG$54,BS25,$L$4:$L$54,1)-SUMIFS($AJ$4:$AJ$54,$AE$4:$AE$54,BS25,$L$4:$L$54,1)-SUMIFS($AH$4:$AH$54,$AG$4:$AG$54,BS25,$L$4:$L$54,1),)","v":0},{"$f":"IF(AND(CE25>0,COUNTIF(CK22:CK25,CK25)>1),CK25+RANK(CL25,CL22:CL25)-1,CK25)","v":1},{"$f":"IF(AND(CE25>0,COUNTIF(CM22:CM25,CM25)>1),SUMIFS($AH$4:$AH$54,$AE$4:$AE$54,BS25,$L$4:$L$54,1)+SUMIFS($AJ$4:$AJ$54,$AG$4:$AG$54,BS25,$L$4:$L$54,1),)","v":0},{"$f":"IF(AND(CE25>0,COUNTIF(CM22:CM25,CM25)>1),CM25+RANK(CN25,CN22:CN25)-1,CM25)","v":1},1,{"$f":"IF(OR(CP25=\"\",COUNTIF(CP22:CP25,CP25)=1),\"\",$BY25)","v":0},{"$f":"IF(CP25=\"\",\"\",IF(COUNTIF(CP22:CP25,CP25)=1,CP25,CP25+RANK(CQ25,CQ22:CQ25,0)-1))","v":1},{"$f":"IF(OR(CR25=\"\",COUNTIF(CR22:CR25,CR25)=1),\"\",$BW25)","v":0},{"$f":"IF(CP25=\"\",\"\",IF(COUNTIF(CR22:CR25,CR25)=1,CR25,CR25+RANK(CS25,CS22:CS25,0)-1))","v":1},{"$f":"IF(OR(CT25=\"\",COUNTIF(CT22:CT25,CT25)=1),\"\",$BT25)","v":0},{"$f":"IF(CP25=\"\",\"\",IF(COUNTIF(CT22:CT25,CT25)=1,CT25,CT25+RANK(CU25,CU22:CU25,0)-1))","v":1},{"$f":"IF(CE25>0,BL20+RANK(CV25,CV22:CV25,1),)","v":1},null,{"$f":"IF(CB25=2,BS25,)","v":0},0,0,0,0,"C",{"$f":"IF(CY25>0,RANK(DC25,DC22:DC25)+CF20,)","v":0},{"$f":"IF(AND(CY25>0,COUNTIF(DE22:DE25,DE25)>1),SUMIFS($AH$4:$AH$54,$AE$4:$AE$54,BS25,$L$4:$L$54,2)+SUMIFS($AJ$4:$AJ$54,$AG$4:$AG$54,BS25,$L$4:$L$54,2)-SUMIFS($AJ$4:$AJ$54,$AE$4:$AE$54,BS25,$L$4:$L$54,2)-SUMIFS($AH$4:$AH$54,$AG$4:$AG$54,BS25,$L$4:$L$54,2),)","v":0},{"$f":"IF(AND(CY25>0,COUNTIF(DE22:DE25,DE25)>1),DE25+RANK(DF25,DF22:DF25)-1,DE25)","v":0},{"$f":"IF(AND(CY25>0,COUNTIF(DG22:DG25,DG25)>1),SUMIFS($AH$4:$AH$54,$AE$4:$AE$54,BS25,$L$4:$L$54,2)+SUMIFS($AJ$4:$AJ$54,$AG$4:$AG$54,BS25,$L$4:$L$54,2),)","v":0},{"$f":"IF(AND(CY25>0,COUNTIF(DG22:DG25,DG25)>1),DG25+RANK(DH25,DH22:DH25)-1,DG25)","v":0},"",{"$f":"IF(OR(DJ25=\"\",COUNTIF(DJ22:DJ25,DJ25)=1),\"\",$BY25)","v":""},{"$f":"IF(DJ25=\"\",\"\",IF(COUNTIF(DJ22:DJ25,DJ25)=1,DJ25,DJ25+RANK(DK25,DK22:DK25,0)-1))","v":""},{"$f":"IF(OR(DL25=\"\",COUNTIF(DL22:DL25,DL25)=1),\"\",$BW25)","v":""},{"$f":"IF(DJ25=\"\",\"\",IF(COUNTIF(DL22:DL25,DL25)=1,DL25,DL25+RANK(DM25,DM22:DM25,0)-1))","v":""},{"$f":"IF(OR(DN25=\"\",COUNTIF(DN22:DN25,DN25)=1),\"\",$BT25)","v":""},{"$f":"IF(DJ25=\"\",\"\",IF(COUNTIF(DN22:DN25,DN25)=1,DN25,DN25+RANK(DO25,DO22:DO25,0)-1))","v":""},{"$f":"IF(CY25>0,CF20+RANK(DP25,DP22:DP25,1),)","v":0},null,{"$f":"IF(CB25=3,BS25,)","v":0},{"$f":"(SUMIF(AE$4:AE$54,BS25,BE$4:BE$54)+SUMIF(AG$4:AG$54,BS25,BF$4:BF$54))","v":0},{"$f":"(SUMIF(AE$4:AE$54,BS25,BG$4:BG$54)+SUMIF(AG$4:AG$54,BS25,BH$4:BH$54))","v":0},{"$f":"(SUMIF(AE$4:AE$54,BS25,BI$4:BI$54)+SUMIF(AG$4:AG$54,BS25,BJ$4:BJ$54))","v":0},0,{"$f":"CA25","v":"C"},{"$f":"IF(DS25>0,RANK(DW25,DW22:DW25)+CF20+CZ20,)","v":0},{"$f":"IF(AND(DS25>0,COUNTIF(DY22:DY25,DY25)>1),SUMIFS($AH$4:$AH$54,$AE$4:$AE$54,BS25,$L$4:$L$54,3)+SUMIFS($AJ$4:$AJ$54,$AG$4:$AG$54,BS25,$L$4:$L$54,3)-SUMIFS($AJ$4:$AJ$54,$AE$4:$AE$54,BS25,$L$4:$L$54,3)-SUMIFS($AH$4:$AH$54,$AG$4:$AG$54,BS25,$L$4:$L$54,3),)","v":0},{"$f":"IF(AND(DS25>0,COUNTIF(DY22:DY25,DY25)>1),DY25+RANK(DZ25,DZ22:DZ25)-1,DY25)","v":0},{"$f":"IF(AND(DS25>0,COUNTIF(EA22:EA25,EA25)>1),SUMIFS($AH$4:$AH$54,$AE$4:$AE$54,BS25,$L$4:$L$54,3)+SUMIFS($AJ$4:$AJ$54,$AG$4:$AG$54,BS25,$L$4:$L$54,3),)","v":0},{"$f":"IF(AND(DS25>0,COUNTIF(EA22:EA25,EA25)>1),EA25+RANK(EB25,EB22:EB25)-1,EA25)","v":0},"",{"$f":"IF(OR(ED25=\"\",COUNTIF(ED22:ED25,ED25)=1),\"\",$BY25)","v":""},{"$f":"IF(ED25=\"\",\"\",IF(COUNTIF(ED22:ED25,ED25)=1,ED25,ED25+RANK(EE25,EE22:EE25,0)-1))","v":""},{"$f":"IF(OR(EF25=\"\",COUNTIF(EF22:EF25,EF25)=1),\"\",$BW25)","v":""},{"$f":"IF(ED25=\"\",\"\",IF(COUNTIF(EF22:EF25,EF25)=1,EF25,EF25+RANK(EG25,EG22:EG25,0)-1))","v":""},{"$f":"IF(OR(EH25=\"\",COUNTIF(EH22:EH25,EH25)=1),\"\",$BT25)","v":""},{"$f":"IF(ED25=\"\",\"\",IF(COUNTIF(EH22:EH25,EH25)=1,EH25,EH25+RANK(EI25,EI22:EI25,0)-1))","v":""},{"$f":"IF(DS25>0,CF20+CZ20+RANK(EJ25,EJ22:EJ25,1),)","v":0},null,{"$f":"IF(CB25=4,BS25,)","v":0},0,0,0,0,"C",{"$f":"IF(EM25>0,RANK(EQ25,EQ22:EQ25)+CF20+CZ20+DT20,)","v":0},{"$f":"IF(AND(EM25>0,COUNTIF(ES22:ES25,ES25)>1),SUMIFS($AH$4:$AH$54,$AE$4:$AE$54,BS25,$L$4:$L$54,4)+SUMIFS($AJ$4:$AJ$54,$AG$4:$AG$54,BS25,$L$4:$L$54,4)-SUMIFS($AJ$4:$AJ$54,$AE$4:$AE$54,BS25,$L$4:$L$54,4)-SUMIFS($AH$4:$AH$54,$AG$4:$AG$54,BS25,$L$4:$L$54,4),)","v":0},0,{"$f":"IF(AND(EM25>0,COUNTIF(EU22:EU25,EU25)>1),SUMIFS($AH$4:$AH$54,$AE$4:$AE$54,BS25,$L$4:$L$54,4)+SUMIFS($AJ$4:$AJ$54,$AG$4:$AG$54,BS25,$L$4:$L$54,4),)","v":0},{"$f":"IF(AND(EM25>0,COUNTIF(EU22:EU25,EU25)>1),EU25+RANK(EV25,EV22:EV25)-1,EU25)","v":0},"",{"$f":"IF(OR(EX25=\"\",COUNTIF(EX22:EX25,EX25)=1),\"\",$BY25)","v":""},{"$f":"IF(EX25=\"\",\"\",IF(COUNTIF(EX22:EX25,EX25)=1,EX25,EX25+RANK(EY25,EY22:EY25,0)-1))","v":""},{"$f":"IF(OR(EZ25=\"\",COUNTIF(EZ22:EZ25,EZ25)=1),\"\",$BW25)","v":""},{"$f":"IF(EX25=\"\",\"\",IF(COUNTIF(EZ22:EZ25,EZ25)=1,EZ25,EZ25+RANK(FA25,FA22:FA25,0)-1))","v":""},{"$f":"IF(OR(FB25=\"\",COUNTIF(FB22:FB25,FB25)=1),\"\",$BT25)","v":""},{"$f":"IF(EX25=\"\",\"\",IF(COUNTIF(FB22:FB25,FB25)=1,FB25,FB25+RANK(FC25,FC22:FC25,0)-1))","v":""},{"$f":"IF(EM25>0,CF20+CZ20+DT20+RANK(FD25,FD22:FD25,1),)","v":0},null,{"$f":"IFERROR(VLOOKUP(FI25,CE21:CW25,19,FALSE),IFERROR(VLOOKUP(FI25,CY21:DQ25,19,FALSE),IFERROR(VLOOKUP(FI25,DS21:EK25,19,FALSE),VLOOKUP(FI25,EM21:FE25,19,FALSE))))","v":1},{"$f":"RANK(FG25,FG22:FG25,1)+COUNTIF(FG22:FG25,FG25)-1","v":4},{"$f":"BS25","v":"England"},null,null,null,null,null,null,null,null,null,null,null,null,null,null,null,null,null,null,null,null,null,null,null,null,null,22]
[null,null,null,"2024-06-25","England","-","Slovenia",null,"-",null,"",{"$f":"IF(VLOOKUP(E26,BS21:CB25,10,FALSE)=VLOOKUP(G26,BS21:CB25,10,FALSE),VLOOKUP(E26,BS21:CB25,10,FALSE),\"-\")","v":1},null,{"$f":"IF(COUNTBLANK(H22:H27)+COUNTBLANK(J22:J27)=0,\"Resultat OK\",\"Fyll i resultat\")","v":"Fyll i resultat"},null,null,null,null,null,null,null,null,null,null,null,null,null,null,null,"2024-06-25","England","-","Slovenia","","-","","",null,0,0,0,0,0,0,0,0,0,0,0,0,0,0,0,0,0,0,0,0,0,0,0,0,0,0,0,0,0,0,null,null,null,null,null,null,null,null,null,null,null,null,null,null,null,null,null,null,null,null,null,null,null,null,null,null,null,null,null,null,null,null,null,null,null,null,null,null,null,null,null,null,null,null,null,null,null,null,null,null,null,null,null,null,null,null,null,null,null,null,null,null,null,null,null,null,null,null,null,null,null,null,null,null,null,null,null,null,null,null,null,null,null,null,null,null,null,null,null,null,null,null,null,null,null,null,null,null,null,null,null,null,null,null,null,null,null,null,null,null,null,null,null,null,null,null,null,null,null,null,null,null,23]
[null,null,null,"2024-06-25","Denmark","-","Serbia",null,"-",null,"",{"$f":"IF(VLOOKUP(E27,BS21:CB25,10,FALSE)=VLOOKUP(G27,BS21:CB25,10,FALSE),VLOOKUP(E27,BS21:CB25,10,FALSE),\"-\")","v":1},null,null,null,null,null,null,null,null,null,null,null,null,null,null,null,null,null,"2024-06-25","Denmark","-","Serbia","","-","","",null,0,0,0,0,0,0,0,0,0,0,0,0,0,0,0,0,0,0,0,0,0,0,0,0,0,0,0,0,0,0,null,null,null,null,null,null,null,null,null,null,null,null,null,null,null,null,null,null,null,null,null,null,null,null,null,null,null,null,null,null,null,null,null,null,null,null,null,null,null,null,null,null,null,null,null,null,null,null,null,null,null,null,null,null,null,null,null,null,null,null,null,null,null,null,null,null,null,null,null,null,null,null,null,null,null,null,null,null,null,null,null,null,null,null,null,null,null,null,null,null,null,null,null,null,null,null,null,null,null,null,null,null,null,null,null,null,null,null,null,null,null,null,null,null,null,null,null,null,null,null,null,null,24]
[null,null,null,null,null,null,null,null,null,null,"",null,null,null,null,null,null,null,null,null,null,null,null,null,null,null,null,null,null,null,null,null,null,"",null,null,"",null,null,null,null,null,null,null,null,null,null,null,null,null,null,null,null,null,null,null,null,null,null,null,null,null,null,null,null,null,null,null,null,null,null,null,null,null,null,null,null,null,null,null,null,null,null,null,null,null,null,null,null,null,null,null,null,null,null,null,null,null,null,null,null,null,null,null,null,null,null,null,null,null,null,null,null,null,null,null,null,null,null,null,null,null,null,null,null,null,null,null,null,null,null,null,null,null,null,null,null,null,null,null,null,null,null,null,null,null,null,null,null,null,null,null,null,null,null,null,null,null,null,null,null,null,null,null,null,null,null,null,null,null,null,null,null,null,null,null,null,null,null,null,null,null,null,null,null,null,null,null,null,null,25]
[null,null,null,"Group D",null,null,null,null,null,null,null,null,null,null,null,null,null,null,null,null,null,null,null,null,null,null,null,null,null,"Grupp D",null,null,null,null,null,null,null,null,null,null,null,null,null,null,null,null,null,null,null,null,null,null,null,null,null,null,null,null,null,null,null,null,null,null,null,null,null,null,null,null,"Rank 0",null,null,null,null,null,null,null,null,null,null,null,"Rank 1",{"$f":"COUNTIF(CB31:CB34,1)","v":4},null,null,null,null,null,null,null,null,null,null,null,null,null,null,null,null,null,null,"Rank 2",{"$f":"COUNTIF(CB31:CB34,2)","v":0},null,null,null,null,null,null,null,null,null,null,null,null,null,null,null,null,null,null,"Rank 3",{"$f":"COUNTIF(CB31:CB34,3)","v":0},null,null,null,null,null,null,null,null,null,null,null,null,null,null,null,null,null,null,"Rank 4",{"$f":"COUNTIF(CB31:CB34,4)","v":0},null,null,null,null,null,null,null,null,null,null,null,null,null,null,null,null,null,null,null,null,null,null,null,null,null,null,null,null,null,null,null,null,null,null,null,null,null,null,null,null,null,null,null,null,null,null,26]
[null,null,"#","Date","Match",null,null,"Result",null,null,"1X2",null,null,"Team","W","D","L","GF","GA","+/-","P",null,null,null,null,null,null,null,null,"Datum","Match",null,null,"Resultat",null,null,"Tecken","Poäng","V1","V2","O1","O2","F1","F2","V1","V2","O1","O2","F1","F2","V1","V2","O1","O2","F1","F2","V1","V2","O1","O2","F1","F2","V1","V2","O1","O2","F1","F2",null,null,"Lag","V","O","F","GM","IM","+/-","P","Grupp","Rank P","Rank +/-",null,"Lag","V","O","F","P","Grupp","Rank P","+/-","+/- rank","GM","GM rank","Rank internal","+/- all","+/- rank all","GM all","GM rank all","V all","V rank all","Rank all",null,"Lag","V","O","F","P","Grupp","Rank P","+/-","+/- rank","GM","GM rank","Rank internal","+/- all","+/- rank all","GM all","GM rank all","V all","V rank all","Rank all",null,"Lag","V","O","F","P","Grupp","Rank P","+/-","+/- rank","GM","GM rank","Rank internal","+/- all","+/- rank all","GM all","GM rank all","V all","V rank all","Rank all",null,"Lag","V","O","F","P","Grupp","Rank P","+/-","+/- rank","GM","GM rank","Rank internal","+/- all","+/- rank all","GM all","GM rank all","V all","V rank all","Rank all",null,"Rank","Rank Ties",null,null,null,null,null,null,null,null,null,null,null,null,null,null,null,null,null,null,null,null,null,null,null,null,null,null,27]
[null,null,null,"2024-06-16","Poland","-","Netherlands",null,"-",null,{"$f":"IF(OR(ISBLANK(H31),ISBLANK(J31)),\"\",IF(H31>J31,1,IF(H31<J31,2,\"X\")))","v":""},{"$f":"IF(VLOOKUP(E31,BS30:CB34,10,FALSE)=VLOOKUP(G31,BS30:CB34,10,FALSE),VLOOKUP(E31,BS30:CB34,10,FALSE),\"-\")","v":1},1,{"$f":"VLOOKUP(M31,FH31:FI34,2,FALSE)","v":"Netherlands"},{"$f":"VLOOKUP($N31,$BS$31:$BZ$34,2,FALSE)","v":0},{"$f":"VLOOKUP($N31,$BS$31:$BZ$34,3,FALSE)","v":0},{"$f":"VLOOKUP($N31,$BS$31:$BZ$34,4,FALSE)","v":0},{"$f":"VLOOKUP($N31,$BS$31:$BZ$34,5,FALSE)","v":0},{"$f":"VLOOKUP($N31,$BS$31:$BZ$34,6,FALSE)","v":0},{"$f":"VLOOKUP($N31,$BS$31:$BZ$34,7,FALSE)","v":0},{"$f":"VLOOKUP($N31,$BS$31:$BZ$34,8,FALSE)","v":0},null,null,null,null,null,null,null,null,{"$f":"D31","v":"2024-06-16"},"Poland","-","Netherlands",{"$f":"IF(H31=\"\",\"\",H31)","v":""},"-",{"$f":"IF(J31=\"\",\"\",J31)","v":""},{"$f":"K31","v":""},null,{"$f":"IF(AH31>AJ31,1,0)","v":0},{"$f":"IF(AJ31>AH31,1,0)","v":0},{"$f":"IF(AND(AH31=AJ31,AH31<>\"\"),1,0)","v":0},{"$f":"IF(AND(AH31=AJ31,AH31<>\"\"),1,0)","v":0},{"$f":"IF(AH31<AJ31,1,0)","v":0},{"$f":"IF(AJ31<AH31,1,)","v":0},{"$f":"IF(ISERROR(VLOOKUP(AE31,CE:CE,1,FALSE)),0,1)*IF(ISERROR(VLOOKUP(AG31,CE:CE,1,FALSE)),0,1)*AM31","v":0},{"$f":"IF(ISERROR(VLOOKUP(AE31,CE:CE,1,FALSE)),0,1)*IF(ISERROR(VLOOKUP(AG31,CE:CE,1,FALSE)),0,1)*AN31","v":0},{"$f":"IF(ISERROR(VLOOKUP(AE31,CE:CE,1,FALSE)),0,1)*IF(ISERROR(VLOOKUP(AG31,CE:CE,1,FALSE)),0,1)*AO31","v":0},{"$f":"IF(ISERROR(VLOOKUP(AE31,CE:CE,1,FALSE)),0,1)*IF(ISERROR(VLOOKUP(AG31,CE:CE,1,FALSE)),0,1)*AP31","v":0},{"$f":"IF(ISERROR(VLOOKUP(AE31,CE:CE,1,FALSE)),0,1)*IF(ISERROR(VLOOKUP(AG31,CE:CE,1,FALSE)),0,1)*AQ31","v":0},{"$f":"IF(ISERROR(VLOOKUP(AE31,CE:CE,1,FALSE)),0,1)*IF(ISERROR(VLOOKUP(AG31,CE:CE,1,FALSE)),0,1)*AR31","v":0},{"$f":"IF(ISERROR(VLOOKUP(AE31,CY:CY,1,FALSE)),0,1)*IF(ISERROR(VLOOKUP(AG31,CY:CY,1,FALSE)),0,1)*AM31","v":0},{"$f":"IF(ISERROR(VLOOKUP(AE31,CY:CY,1,FALSE)),0,1)*IF(ISERROR(VLOOKUP(AG31,CY:CY,1,FALSE)),0,1)*AN31","v":0},{"$f":"IF(ISERROR(VLOOKUP(AE31,CY:CY,1,FALSE)),0,1)*IF(ISERROR(VLOOKUP(AG31,CY:CY,1,FALSE)),0,1)*AO31","v":0},{"$f":"IF(ISERROR(VLOOKUP(AE31,CY:CY,1,FALSE)),0,1)*IF(ISERROR(VLOOKUP(AG31,CY:CY,1,FALSE)),0,1)*AP31","v":0},{"$f":"IF(ISERROR(VLOOKUP(AE31,CY:CY,1,FALSE)),0,1)*IF(ISERROR(VLOOKUP(AG31,CY:CY,1,FALSE)),0,1)*AQ31","v":0},{"$f":"IF(ISERROR(VLOOKUP(AE31,CY:CY,1,FALSE)),0,1)*IF(ISERROR(VLOOKUP(AG31,CY:CY,1,FALSE)),0,1)*AR31","v":0},{"$f":"IF(ISERROR(VLOOKUP(AE31,DS:DS,1,FALSE)),0,1)*IF(ISERROR(VLOOKUP(AG31,DS:DS,1,FALSE)),0,1)*AM31","v":0},{"$f":"IF(ISERROR(VLOOKUP(AE31,DS:DS,1,FALSE)),0,1)*IF(ISERROR(VLOOKUP(AG31,DS:DS,1,FALSE)),0,1)*AN31","v":0},{"$f":"IF(ISERROR(VLOOKUP(AE31,DS:DS,1,FALSE)),0,1)*IF(ISERROR(VLOOKUP(AG31,DS:DS,1,FALSE)),0,1)*AO31","v":0},{"$f":"IF(ISERROR(VLOOKUP(AE31,DS:DS,1,FALSE)),0,1)*IF(ISERROR(VLOOKUP(AG31,DS:DS,1,FALSE)),0,1)*AP31","v":0},{"$f":"IF(ISERROR(VLOOKUP(AE31,DS:DS,1,FALSE)),0,1)*IF(ISERROR(VLOOKUP(AG31,DS:DS,1,FALSE)),0,1)*AQ31","v":0},{"$f":"IF(ISERROR(VLOOKUP(AE31,DS:DS,1,FALSE)),0,1)*IF(ISERROR(VLOOKUP(AG31,DS:DS,1,FALSE)),0,1)*AR31","v":0},{"$f":"IF(ISERROR(VLOOKUP(AE31,EM:EM,1,FALSE)),0,1)*IF(ISERROR(VLOOKUP(AG31,EM:EM,1,FALSE)),0,1)*AM31","v":0},{"$f":"IF(ISERROR(VLOOKUP(AE31,EM:EM,1,FALSE)),0,1)*IF(ISERROR(VLOOKUP(AG31,EM:EM,1,FALSE)),0,1)*AN31","v":0},{"$f":"IF(ISERROR(VLOOKUP(AE31,EM:EM,1,FALSE)),0,1)*IF(ISERROR(VLOOKUP(AG31,EM:EM,1,FALSE)),0,1)*AO31","v":0},{"$f":"IF(ISERROR(VLOOKUP(AE31,EM:EM,1,FALSE)),0,1)*IF(ISERROR(VLOOKUP(AG31,EM:EM,1,FALSE)),0,1)*AP31","v":0},{"$f":"IF(ISERROR(VLOOKUP(AE31,EM:EM,1,FALSE)),0,1)*IF(ISERROR(VLOOKUP(AG31,EM:EM,1,FALSE)),0,1)*AQ31","v":0},{"$f":"IF(ISERROR(VLOOKUP(AE31,EM:EM,1,FALSE)),0,1)*IF(ISERROR(VLOOKUP(AG31,EM:EM,1,FALSE)),0,1)*AR31","v":0},null,null,"Netherlands",{"$f":"(SUMIF(AE$4:AE$54,BS31,AM$4:AM$54)+SUMIF(AG$4:AG$54,BS31,AN$4:AN$54))","v":0},{"$f":"(SUMIF(AE$4:AE$54,BS31,AO$4:AO$54)+SUMIF(AG$4:AG$54,BS31,AP$4:AP$54))","v":0},{"$f":"(SUMIF(AE$4:AE$54,BS31,AQ$4:AQ$54)+SUMIF(AG$4:AG$54,BS31,AR$4:AR$54))","v":0},{"$f":"SUMIF($AE$4:$AE$54,BS31,$AH$4:$AH$54)+SUMIF($AG$4:$AG$54,BS31,$AJ$4:$AJ$54)","v":0},{"$f":"SUMIF($AE$4:$AE$54,BS31,$AJ$4:$AJ$54)+SUMIF($AG$4:$AG$54,BS31,$AH$4:$AH$54)","v":0},{"$f":"BW31-BX31","v":0},{"$f":"IFERROR(BT31*3+BU31*1,0)","v":0},"D",{"$f":"RANK(BZ31,BZ31:BZ34)","v":1},{"$f":"SUMPRODUCT((BZ31:BZ34=BZ31)*(BY31:BY34>BY31))","v":0},null,{"$f":"IF(CB31=1,BS31,)","v":"Netherlands"},{"$f":"(SUMIF($AE$4:$AE$54,$BS31,$AS$4:$AS$54)+SUMIF($AG$4:$AG$54,$BS31,$AT$4:$AT$54))","v":0},{"$f":"(SUMIF($AE$4:$AE$54,$BS31,$AU$4:$AU$54)+SUMIF($AG$4:$AG$54,$BS31,$AV$4:$AV$54))","v":0},{"$f":"(SUMIF($AE$4:$AE$54,$BS31,$AW$4:$AW$54)+SUMIF($AG$4:$AG$54,$BS31,$AX$4:$AX$54))","v":0},{"$f":"IFERROR(CF31*3+CG31*1,0)","v":0},{"$f":"CA31","v":"D"},{"$f":"IF(CE31>0,RANK(CI31,CI31:CI34),)","v":1},{"$f":"IF(AND(CE31>0,COUNTIF(CK31:CK34,CK31)>1),SUMIFS($AH$4:$AH$54,$AE$4:$AE$54,$BS31,$L$4:$L$54,1)+SUMIFS($AJ$4:$AJ$54,$AG$4:$AG$54,$BS31,$L$4:$L$54,1)-SUMIFS($AJ$4:$AJ$54,$AE$4:$AE$54,$BS31,$L$4:$L$54,1)-SUMIFS($AH$4:$AH$54,$AG$4:$AG$54,$BS31,$L$4:$L$54,1),)","v":0},{"$f":"IF(AND(CE31>0,COUNTIF(CK31:CK34,CK31)>1),CK31+RANK(CL31,CL31:CL34)-1,CK31)","v":1},{"$f":"IF(AND(CE31>0,COUNTIF(CM31:CM34,CM31)>1),SUMIFS($AH$4:$AH$54,$AE$4:$AE$54,$BS31,$L$4:$L$54,1)+SUMIFS($AJ$4:$AJ$54,$AG$4:$AG$54,$BS31,$L$4:$L$54,1),)","v":0},{"$f":"IF(AND(CE31>0,COUNTIF(CM31:CM34,CM31)>1),CM31+RANK(CN31,CN31:CN34)-1,CM31)","v":1},{"$f":"IF(CO31=0,\"\",CO31)","v":1},{"$f":"IF(OR(CP31=\"\",COUNTIF(CP31:CP34,CP31)=1),\"\",$BY31)","v":0},{"$f":"IF(CP31=\"\",\"\",IF(COUNTIF(CP31:CP34,CP31)=1,CP31,CP31+RANK(CQ31,CQ31:CQ34,0)-1))","v":1},{"$f":"IF(OR(CR31=\"\",COUNTIF(CR31:CR34,CR31)=1),\"\",$BW31)","v":0},{"$f":"IF(CP31=\"\",\"\",IF(COUNTIF(CR31:CR34,CR31)=1,CR31,CR31+RANK(CS31,CS31:CS34,0)-1))","v":1},{"$f":"IF(OR(CT31=\"\",COUNTIF(CT31:CT34,CT31)=1),\"\",$BT31)","v":0},{"$f":"IF(CP31=\"\",\"\",IF(COUNTIF(CT31:CT34,CT31)=1,CT31,CT31+RANK(CU31,CU31:CU34,0)-1))","v":1},{"$f":"IF(CE31>0,BL29+RANK(CV31,CV31:CV34,1),)","v":1},null,{"$f":"IF(CB31=2,BS31,)","v":0},{"$f":"(SUMIF($AE$4:$AE$54,$BS31,$AY$4:$AY$54)+SUMIF($AG$4:$AG$54,$BS31,$AZ$4:$AZ$54))","v":0},{"$f":"(SUMIF($AE$4:$AE$54,$BS31,$BA$4:$BA$54)+SUMIF($AG$4:$AG$54,$BS31,$BB$4:$BB$54))","v":0},{"$f":"(SUMIF($AE$4:$AE$54,$BS31,$BC$4:$BC$54)+SUMIF($AG$4:$AG$54,$BS31,$BD$4:$BD$54))","v":0},{"$f":"IFERROR(CZ31*3+DA31*1,0)","v":0},{"$f":"$CA31","v":"D"},{"$f":"IF(CY31>0,RANK(DC31,DC31:DC34)+CF29,)","v":0},{"$f":"IF(AND(CY31>0,COUNTIF(DE31:DE34,DE31)>1),SUMIFS($AH$4:$AH$54,$AE$4:$AE$54,$BS31,$L$4:$L$54,2)+SUMIFS($AJ$4:$AJ$54,$AG$4:$AG$54,$BS31,$L$4:$L$54,2)-SUMIFS($AJ$4:$AJ$54,$AE$4:$AE$54,$BS31,$L$4:$L$54,2)-SUMIFS($AH$4:$AH$54,$AG$4:$AG$54,$BS31,$L$4:$L$54,2),)","v":0},{"$f":"IF(AND(CY31>0,COUNTIF(DE31:DE34,DE31)>1),DE31+RANK(DF31,DF31:DF34)-1,DE31)","v":0},{"$f":"IF(AND(CY31>0,COUNTIF(DG31:DG34,DG31)>1),SUMIFS($AH$4:$AH$54,$AE$4:$AE$54,$BS31,$L$4:$L$54,2)+SUMIFS($AJ$4:$AJ$54,$AG$4:$AG$54,$BS31,$L$4:$L$54,2),)","v":0},{"$f":"IF(AND(CY31>0,COUNTIF(DG31:DG34,DG31)>1),DG31+RANK(DH31,DH31:DH34)-1,DG31)","v":0},{"$f":"IF(DI31=0,\"\",DI31)","v":""},{"$f":"IF(OR(DJ31=\"\",COUNTIF(DJ31:DJ34,DJ31)=1),\"\",$BY31)","v":""},{"$f":"IF(DJ31=\"\",\"\",IF(COUNTIF(DJ31:DJ34,DJ31)=1,DJ31,DJ31+RANK(DK31,DK31:DK34,0)-1))","v":""},{"$f":"IF(OR(DL31=\"\",COUNTIF(DL31:DL34,DL31)=1),\"\",$BW31)","v":""},{"$f":"IF(DJ31=\"\",\"\",IF(COUNTIF(DL31:DL34,DL31)=1,DL31,DL31+RANK(DM31,DM31:DM34,0)-1))","v":""},{"$f":"IF(OR(DN31=\"\",COUNTIF(DN31:DN34,DN31)=1),\"\",$BT31)","v":""},{"$f":"IF(DJ31=\"\",\"\",IF(COUNTIF(DN31:DN34,DN31)=1,DN31,DN31+RANK(DO31,DO31:DO34,0)-1))","v":""},{"$f":"IF(CY31>0,CF29+RANK(DP31,DP31:DP34,1),)","v":0},null,{"$f":"IF(CB31=3,BS31,)","v":0},{"$f":"(SUMIF($AE$4:$AE$54,BS31,$BE$4:$BE$54)+SUMIF($AG$4:$AG$54,BS31,$BF$4:$BF$54))","v":0},{"$f":"(SUMIF($AE$4:$AE$54,BS31,$BG$4:$BG$54)+SUMIF($AG$4:$AG$54,BS31,$BH$4:$BH$54))","v":0},{"$f":"(SUMIF($AE$4:$AE$54,BS31,$BI$4:$BI$54)+SUMIF($AG$4:$AG$54,BS31,$BJ$4:$BJ$54))","v":0},{"$f":"IFERROR(DT31*3+DU31*1,0)","v":0},{"$f":"CA31","v":"D"},{"$f":"IF(DS31>0,RANK(DW31,DW31:DW34)+CF29+CZ29,)","v":0},{"$f":"IF(AND(DS31>0,COUNTIF(DY31:DY34,DY31)>1),SUMIFS($AH$4:$AH$54,$AE$4:$AE$54,$BS31,$L$4:$L$54,3)+SUMIFS($AJ$4:$AJ$54,$AG$4:$AG$54,$BS31,$L$4:$L$54,3)-SUMIFS($AJ$4:$AJ$54,$AE$4:$AE$54,$BS31,$L$4:$L$54,3)-SUMIFS($AH$4:$AH$54,$AG$4:$AG$54,$BS31,$L$4:$L$54,3),)","v":0},{"$f":"IF(AND(DS31>0,COUNTIF(DY31:DY34,DY31)>1),DY31+RANK(DZ31,DZ31:DZ34)-1,DY31)","v":0},{"$f":"IF(AND(DS31>0,COUNTIF(EA31:EA34,EA31)>1),SUMIFS($AH$4:$AH$54,$AE$4:$AE$54,$BS31,$L$4:$L$54,3)+SUMIFS($AJ$4:$AJ$54,$AG$4:$AG$54,$BS31,$L$4:$L$54,3),)","v":0},{"$f":"IF(AND(DS31>0,COUNTIF(EA31:EA34,EA31)>1),EA31+RANK(EB31,EB31:EB34)-1,EA31)","v":0},{"$f":"IF(EC31=0,\"\",EC31)","v":""},{"$f":"IF(OR(ED31=\"\",COUNTIF(ED31:ED34,ED31)=1),\"\",$BY31)","v":""},{"$f":"IF(ED31=\"\",\"\",IF(COUNTIF(ED31:ED34,ED31)=1,ED31,ED31+RANK(EE31,EE31:EE34,0)-1))","v":""},{"$f":"IF(OR(EF31=\"\",COUNTIF(EF31:EF34,EF31)=1),\"\",$BW31)","v":""},{"$f":"IF(ED31=\"\",\"\",IF(COUNTIF(EF31:EF34,EF31)=1,EF31,EF31+RANK(EG31,EG31:EG34,0)-1))","v":""},{"$f":"IF(OR(EH31=\"\",COUNTIF(EH31:EH34,EH31)=1),\"\",$BT31)","v":""},{"$f":"IF(ED31=\"\",\"\",IF(COUNTIF(EH31:EH34,EH31)=1,EH31,EH31+RANK(EI31,EI31:EI34,0)-1))","v":""},{"$f":"IF(DS31>0,CF29+CZ29+RANK(EJ31,EJ31:EJ34,1),)","v":0},null,{"$f":"IF(CB31=4,BS31,)","v":0},{"$f":"(SUMIF($AE$4:$AE$54,$BS31,$BK$4:$BK$54)+SUMIF($AG$4:$AG$54,$BS31,$BL$4:$BL$54))","v":0},{"$f":"(SUMIF($AE$4:$AE$54,$BS31,$BM$4:$BM$54)+SUMIF($AG$4:$AG$54,$BS31,$BN$4:$BN$54))","v":0},{"$f":"(SUMIF($AE$4:$AE$54,$BS31,$BO$4:$BO$54)+SUMIF($AG$4:$AG$54,$BS31,$BP$4:$BP$54))","v":0},{"$f":"IFERROR(EN31*3+EO31*1,0)","v":0},{"$f":"$CA31","v":"D"},{"$f":"IF(EM31>0,RANK(EQ31,EQ31:EQ34)+CF29+CZ29+DT29,)","v":0},{"$f":"IF(AND(EM31>0,COUNTIF(ES31:ES34,ES31)>1),SUMIFS($AH$4:$AH$54,$AE$4:$AE$54,$BS31,$L$4:$L$54,4)+SUMIFS($AJ$4:$AJ$54,$AG$4:$AG$54,$BS31,$L$4:$L$54,4)-SUMIFS($AJ$4:$AJ$54,$AE$4:$AE$54,$BS31,$L$4:$L$54,4)-SUMIFS($AH$4:$AH$54,$AG$4:$AG$54,$BS31,$L$4:$L$54,4),)","v":0},{"$f":"IF(AND(EM31>0,COUNTIF($ES$4:$ES$7,ES31)>1),ES31+RANK(ET31,$ET$4:$ET$7)-1,ES31)","v":0},{"$f":"IF(AND(EM31>0,COUNTIF(EU31:EU34,EU31)>1),SUMIFS($AH$4:$AH$54,$AE$4:$AE$54,$BS31,$L$4:$L$54,4)+SUMIFS($AJ$4:$AJ$54,$AG$4:$AG$54,$BS31,$L$4:$L$54,4),)","v":0},{"$f":"IF(AND(EM31>0,COUNTIF(EU31:EU34,EU31)>1),EU31+RANK(EV31,EV31:EV34)-1,EU31)","v":0},{"$f":"IF(EW31=0,\"\",EW31)","v":""},{"$f":"IF(OR(EX31=\"\",COUNTIF(EX31:EX34,EX31)=1),\"\",$BY31)","v":""},{"$f":"IF(EX31=\"\",\"\",IF(COUNTIF(EX31:EX34,EX31)=1,EX31,EX31+RANK(EY31,EY31:EY34,0)-1))","v":""},{"$f":"IF(OR(EZ31=\"\",COUNTIF(EZ31:EZ34,EZ31)=1),\"\",$BW31)","v":""},{"$f":"IF(EX31=\"\",\"\",IF(COUNTIF(EZ31:EZ34,EZ31)=1,EZ31,EZ31+RANK(FA31,FA31:FA34,0)-1))","v":""},{"$f":"IF(OR(FB31=\"\",COUNTIF(FB31:FB34,FB31)=1),\"\",$BT31)","v":""},{"$f":"IF(EX31=\"\",\"\",IF(COUNTIF(FB31:FB34,FB31)=1,FB31,FB31+RANK(FC31,FC31:FC34,0)-1))","v":""},{"$f":"IF(EM31>0,CF29+CZ29+DT29+RANK(FD31,FD31:FD34,1),)","v":0},null,{"$f":"IFERROR(VLOOKUP(FI31,CE30:CW34,19,FALSE),IFERROR(VLOOKUP(FI31,CY30:DQ34,19,FALSE),IFERROR(VLOOKUP(FI31,DS30:EK34,19,FALSE),VLOOKUP(FI31,EM30:FE34,19,FALSE))))","v":1},{"$f":"RANK(FG31,FG31:FG34,1)+COUNTIF(FG31:FG31,FG31)-1","v":1},{"$f":"BS31","v":"Netherlands"},null,null,null,null,null,null,null,null,null,null,null,null,null,null,null,null,null,null,null,null,null,null,null,null,null,28]
[null,null,null,"2024-06-17","Austria","-","France",null,"-",null,{"$f":"IF(OR(ISBLANK(H32),ISBLANK(J32)),\"\",IF(H32>J32,1,IF(H32<J32,2,\"X\")))","v":""},{"$f":"IF(VLOOKUP(E32,BS30:CB34,10,FALSE)=VLOOKUP(G32,BS30:CB34,10,FALSE),VLOOKUP(E32,BS30:CB34,10,FALSE),\"-\")","v":1},2,{"$f":"VLOOKUP(M32,FH31:FI34,2,FALSE)","v":"France"},{"$f":"VLOOKUP($N32,$BS$31:$BZ$34,2,FALSE)","v":0},{"$f":"VLOOKUP($N32,$BS$31:$BZ$34,3,FALSE)","v":0},{"$f":"VLOOKUP($N32,$BS$31:$BZ$34,4,FALSE)","v":0},{"$f":"VLOOKUP($N32,$BS$31:$BZ$34,5,FALSE)","v":0},{"$f":"VLOOKUP($N32,$BS$31:$BZ$34,6,FALSE)","v":0},{"$f":"VLOOKUP($N32,$BS$31:$BZ$34,7,FALSE)","v":0},{"$f":"VLOOKUP($N32,$BS$31:$BZ$34,8,FALSE)","v":0},null,null,null,null,null,null,null,null,"2024-06-17","Austria","-","France","","-","","",null,0,0,0,0,0,0,0,0,0,0,0,0,0,0,0,0,0,0,0,0,0,0,0,0,0,0,0,0,0,0,null,null,"France",{"$f":"(SUMIF(AE$4:AE$54,BS32,AM$4:AM$54)+SUMIF(AG$4:AG$54,BS32,AN$4:AN$54))","v":0},{"$f":"(SUMIF(AE$4:AE$54,BS32,AO$4:AO$54)+SUMIF(AG$4:AG$54,BS32,AP$4:AP$54))","v":0},{"$f":"(SUMIF(AE$4:AE$54,BS32,AQ$4:AQ$54)+SUMIF(AG$4:AG$54,BS32,AR$4:AR$54))","v":0},{"$f":"SUMIF($AE$4:$AE$54,BS32,$AH$4:$AH$54)+SUMIF($AG$4:$AG$54,BS32,$AJ$4:$AJ$54)","v":0},{"$f":"SUMIF($AE$4:$AE$54,BS32,$AJ$4:$AJ$54)+SUMIF($AG$4:$AG$54,BS32,$AH$4:$AH$54)","v":0},{"$f":"BW32-BX32","v":0},{"$f":"IFERROR(BT32*3+BU32*1,0)","v":0},"D",{"$f":"RANK(BZ32,BZ31:BZ34)","v":1},{"$f":"SUMPRODUCT((BZ31:BZ34=BZ32)*(BY31:BY34>BY32))","v":0},null,{"$f":"IF(CB32=1,BS32,)","v":"France"},{"$f":"(SUMIF($AE$4:$AE$54,$BS32,$AS$4:$AS$54)+SUMIF($AG$4:$AG$54,$BS32,$AT$4:$AT$54))","v":0},{"$f":"(SUMIF($AE$4:$AE$54,$BS32,$AU$4:$AU$54)+SUMIF($AG$4:$AG$54,$BS32,$AV$4:$AV$54))","v":0},{"$f":"(SUMIF($AE$4:$AE$54,$BS32,$AW$4:$AW$54)+SUMIF($AG$4:$AG$54,$BS32,$AX$4:$AX$54))","v":0},{"$f":"IFERROR(CF32*3+CG32*1,0)","v":0},{"$f":"CA32","v":"D"},{"$f":"IF(CE32>0,RANK(CI32,CI31:CI34),)","v":1},{"$f":"IF(AND(CE32>0,COUNTIF(CK31:CK34,CK32)>1),SUMIFS($AH$4:$AH$54,$AE$4:$AE$54,BS32,$L$4:$L$54,1)+SUMIFS($AJ$4:$AJ$54,$AG$4:$AG$54,BS32,$L$4:$L$54,1)-SUMIFS($AJ$4:$AJ$54,$AE$4:$AE$54,BS32,$L$4:$L$54,1)-SUMIFS($AH$4:$AH$54,$AG$4:$AG$54,BS32,$L$4:$L$54,1),)","v":0},{"$f":"IF(AND(CE32>0,COUNTIF(CK31:CK34,CK32)>1),CK32+RANK(CL32,CL31:CL34)-1,CK32)","v":1},{"$f":"IF(AND(CE32>0,COUNTIF(CM31:CM34,CM32)>1),SUMIFS($AH$4:$AH$54,$AE$4:$AE$54,BS32,$L$4:$L$54,1)+SUMIFS($AJ$4:$AJ$54,$AG$4:$AG$54,BS32,$L$4:$L$54,1),)","v":0},{"$f":"IF(AND(CE32>0,COUNTIF(CM31:CM34,CM32)>1),CM32+RANK(CN32,CN31:CN34)-1,CM32)","v":1},{"$f":"IF(CO32=0,\"\",CO32)","v":1},{"$f":"IF(OR(CP32=\"\",COUNTIF(CP31:CP34,CP32)=1),\"\",$BY32)","v":0},{"$f":"IF(CP32=\"\",\"\",IF(COUNTIF(CP31:CP34,CP32)=1,CP32,CP32+RANK(CQ32,CQ31:CQ34,0)-1))","v":1},{"$f":"IF(OR(CR32=\"\",COUNTIF(CR31:CR34,CR32)=1),\"\",$BW32)","v":0},{"$f":"IF(CP32=\"\",\"\",IF(COUNTIF(CR31:CR34,CR32)=1,CR32,CR32+RANK(CS32,CS31:CS34,0)-1))","v":1},{"$f":"IF(OR(CT32=\"\",COUNTIF(CT31:CT34,CT32)=1),\"\",$BT32)","v":0},{"$f":"IF(CP32=\"\",\"\",IF(COUNTIF(CT31:CT34,CT32)=1,CT32,CT32+RANK(CU32,CU31:CU34,0)-1))","v":1},{"$f":"IF(CE32>0,BL29+RANK(CV32,CV31:CV34,1),)","v":1},null,{"$f":"IF(CB32=2,BS32,)","v":0},{"$f":"(SUMIF($AE$4:$AE$54,$BS32,$AY$4:$AY$54)+SUMIF($AG$4:$AG$54,$BS32,$AZ$4:$AZ$54))","v":0},{"$f":"(SUMIF($AE$4:$AE$54,$BS32,$BA$4:$BA$54)+SUMIF($AG$4:$AG$54,$BS32,$BB$4:$BB$54))","v":0},{"$f":"(SUMIF($AE$4:$AE$54,$BS32,$BC$4:$BC$54)+SUMIF($AG$4:$AG$54,$BS32,$BD$4:$BD$54))","v":0},{"$f":"IFERROR(CZ32*3+DA32*1,0)","v":0},{"$f":"$CA32","v":"D"},{"$f":"IF(CY32>0,RANK(DC32,DC31:DC34)+CF29,)","v":0},{"$f":"IF(AND(CY32>0,COUNTIF(DE31:DE34,DE32)>1),SUMIFS($AH$4:$AH$54,$AE$4:$AE$54,BS32,$L$4:$L$54,2)+SUMIFS($AJ$4:$AJ$54,$AG$4:$AG$54,BS32,$L$4:$L$54,2)-SUMIFS($AJ$4:$AJ$54,$AE$4:$AE$54,BS32,$L$4:$L$54,2)-SUMIFS($AH$4:$AH$54,$AG$4:$AG$54,BS32,$L$4:$L$54,2),)","v":0},{"$f":"IF(AND(CY32>0,COUNTIF(DE31:DE34,DE32)>1),DE32+RANK(DF32,DF31:DF34)-1,DE32)","v":0},{"$f":"IF(AND(CY32>0,COUNTIF(DG31:DG34,DG32)>1),SUMIFS($AH$4:$AH$54,$AE$4:$AE$54,BS32,$L$4:$L$54,2)+SUMIFS($AJ$4:$AJ$54,$AG$4:$AG$54,BS32,$L$4:$L$54,2),)","v":0},{"$f":"IF(AND(CY32>0,COUNTIF(DG31:DG34,DG32)>1),DG32+RANK(DH32,DH31:DH34)-1,DG32)","v":0},{"$f":"IF(DI32=0,\"\",DI32)","v":""},{"$f":"IF(OR(DJ32=\"\",COUNTIF(DJ31:DJ34,DJ32)=1),\"\",$BY32)","v":""},{"$f":"IF(DJ32=\"\",\"\",IF(COUNTIF(DJ31:DJ34,DJ32)=1,DJ32,DJ32+RANK(DK32,DK31:DK34,0)-1))","v":""},{"$f":"IF(OR(DL32=\"\",COUNTIF(DL31:DL34,DL32)=1),\"\",$BW32)","v":""},{"$f":"IF(DJ32=\"\",\"\",IF(COUNTIF(DL31:DL34,DL32)=1,DL32,DL32+RANK(DM32,DM31:DM34,0)-1))","v":""},{"$f":"IF(OR(DN32=\"\",COUNTIF(DN31:DN34,DN32)=1),\"\",$BT32)","v":""},{"$f":"IF(DJ32=\"\",\"\",IF(COUNTIF(DN31:DN34,DN32)=1,DN32,DN32+RANK(DO32,DO31:DO34,0)-1))","v":""},{"$f":"IF(CY32>0,CF29+RANK(DP32,DP31:DP34,1),)","v":0},null,{"$f":"IF(CB32=3,BS32,)","v":0},{"$f":"(SUMIF(AE$4:AE$54,BS32,BE$4:BE$54)+SUMIF(AG$4:AG$54,BS32,BF$4:BF$54))","v":0},{"$f":"(SUMIF(AE$4:AE$54,BS32,BG$4:BG$54)+SUMIF(AG$4:AG$54,BS32,BH$4:BH$54))","v":0},{"$f":"(SUMIF(AE$4:AE$54,BS32,BI$4:BI$54)+SUMIF(AG$4:AG$54,BS32,BJ$4:BJ$54))","v":0},{"$f":"IFERROR(DT32*3+DU32*1,0)","v":0},{"$f":"CA32","v":"D"},{"$f":"IF(DS32>0,RANK(DW32,DW31:DW34)+CF29+CZ29,)","v":0},{"$f":"IF(AND(DS32>0,COUNTIF(DY31:DY34,DY32)>1),SUMIFS($AH$4:$AH$54,$AE$4:$AE$54,BS32,$L$4:$L$54,3)+SUMIFS($AJ$4:$AJ$54,$AG$4:$AG$54,BS32,$L$4:$L$54,3)-SUMIFS($AJ$4:$AJ$54,$AE$4:$AE$54,BS32,$L$4:$L$54,3)-SUMIFS($AH$4:$AH$54,$AG$4:$AG$54,BS32,$L$4:$L$54,3),)","v":0},{"$f":"IF(AND(DS32>0,COUNTIF(DY31:DY34,DY32)>1),DY32+RANK(DZ32,DZ31:DZ34)-1,DY32)","v":0},{"$f":"IF(AND(DS32>0,COUNTIF(EA31:EA34,EA32)>1),SUMIFS($AH$4:$AH$54,$AE$4:$AE$54,BS32,$L$4:$L$54,3)+SUMIFS($AJ$4:$AJ$54,$AG$4:$AG$54,BS32,$L$4:$L$54,3),)","v":0},{"$f":"IF(AND(DS32>0,COUNTIF(EA31:EA34,EA32)>1),EA32+RANK(EB32,EB31:EB34)-1,EA32)","v":0},{"$f":"IF(EC32=0,\"\",EC32)","v":""},{"$f":"IF(OR(ED32=\"\",COUNTIF(ED31:ED34,ED32)=1),\"\",$BY32)","v":""},{"$f":"IF(ED32=\"\",\"\",IF(COUNTIF(ED31:ED34,ED32)=1,ED32,ED32+RANK(EE32,EE31:EE34,0)-1))","v":""},{"$f":"IF(OR(EF32=\"\",COUNTIF(EF31:EF34,EF32)=1),\"\",$BW32)","v":""},{"$f":"IF(ED32=\"\",\"\",IF(COUNTIF(EF31:EF34,EF32)=1,EF32,EF32+RANK(EG32,EG31:EG34,0)-1))","v":""},{"$f":"IF(OR(EH32=\"\",COUNTIF(EH31:EH34,EH32)=1),\"\",$BT32)","v":""},{"$f":"IF(ED32=\"\",\"\",IF(COUNTIF(EH31:EH34,EH32)=1,EH32,EH32+RANK(EI32,EI31:EI34,0)-1))","v":""},{"$f":"IF(DS32>0,CF29+CZ29+RANK(EJ32,EJ31:EJ34,1),)","v":0},null,{"$f":"IF(CB32=4,BS32,)","v":0},{"$f":"(SUMIF($AE$4:$AE$54,$BS32,$BK$4:$BK$54)+SUMIF($AG$4:$AG$54,$BS32,$BL$4:$BL$54))","v":0},{"$f":"(SUMIF($AE$4:$AE$54,$BS32,$BM$4:$BM$54)+SUMIF($AG$4:$AG$54,$BS32,$BN$4:$BN$54))","v":0},{"$f":"(SUMIF($AE$4:$AE$54,$BS32,$BO$4:$BO$54)+SUMIF($AG$4:$AG$54,$BS32,$BP$4:$BP$54))","v":0},{"$f":"IFERROR(EN32*3+EO32*1,0)","v":0},{"$f":"$CA32","v":"D"},{"$f":"IF(EM32>0,RANK(EQ32,EQ31:EQ34)+CF29+CZ29+DT29,)","v":0},{"$f":"IF(AND(EM32>0,COUNTIF(ES31:ES34,ES32)>1),SUMIFS($AH$4:$AH$54,$AE$4:$AE$54,BS32,$L$4:$L$54,4)+SUMIFS($AJ$4:$AJ$54,$AG$4:$AG$54,BS32,$L$4:$L$54,4)-SUMIFS($AJ$4:$AJ$54,$AE$4:$AE$54,BS32,$L$4:$L$54,4)-SUMIFS($AH$4:$AH$54,$AG$4:$AG$54,BS32,$L$4:$L$54,4),)","v":0},{"$f":"IF(AND(EM32>0,COUNTIF($ES$4:$ES$7,ES32)>1),ES32+RANK(ET32,$ET$4:$ET$7)-1,ES32)","v":0},{"$f":"IF(AND(EM32>0,COUNTIF(EU31:EU34,EU32)>1),SUMIFS($AH$4:$AH$54,$AE$4:$AE$54,BS32,$L$4:$L$54,4)+SUMIFS($AJ$4:$AJ$54,$AG$4:$AG$54,BS32,$L$4:$L$54,4),)","v":0},{"$f":"IF(AND(EM32>0,COUNTIF(EU31:EU34,EU32)>1),EU32+RANK(EV32,EV31:EV34)-1,EU32)","v":0},{"$f":"IF(EW32=0,\"\",EW32)","v":""},{"$f":"IF(OR(EX32=\"\",COUNTIF(EX31:EX34,EX32)=1),\"\",$BY32)","v":""},{"$f":"IF(EX32=\"\",\"\",IF(COUNTIF(EX31:EX34,EX32)=1,EX32,EX32+RANK(EY32,EY31:EY34,0)-1))","v":""},{"$f":"IF(OR(EZ32=\"\",COUNTIF(EZ31:EZ34,EZ32)=1),\"\",$BW32)","v":""},{"$f":"IF(EX32=\"\",\"\",IF(COUNTIF(EZ31:EZ34,EZ32)=1,EZ32,EZ32+RANK(FA32,FA31:FA34,0)-1))","v":""},{"$f":"IF(OR(FB32=\"\",COUNTIF(FB31:FB34,FB32)=1),\"\",$BT32)","v":""},{"$f":"IF(EX32=\"\",\"\",IF(COUNTIF(FB31:FB34,FB32)=1,FB32,FB32+RANK(FC32,FC31:FC34,0)-1))","v":""},{"$f":"IF(EM32>0,CF29+CZ29+DT29+RANK(FD32,FD31:FD34,1),)","v":0},null,{"$f":"IFERROR(VLOOKUP(FI32,CE30:CW34,19,FALSE),IFERROR(VLOOKUP(FI32,CY30:DQ34,19,FALSE),IFERROR(VLOOKUP(FI32,DS30:EK34,19,FALSE),VLOOKUP(FI32,EM30:FE34,19,FALSE))))","v":1},{"$f":"RANK(FG32,FG31:FG34,1)+COUNTIF(FG31:FG32,FG32)-1","v":2},{"$f":"BS32","v":"France"},null,null,null,null,null,null,null,null,null,null,null,null,null,null,null,null,null,null,null,null,null,null,null,null,null,29]
[null,null,null,"2024-06-21","Poland","-","Austria",null,"-",null,"",{"$f":"IF(VLOOKUP(E33,BS30:CB34,10,FALSE)=VLOOKUP(G33,BS30:CB34,10,FALSE),VLOOKUP(E33,BS30:CB34,10,FALSE),\"-\")","v":1},3,{"$f":"VLOOKUP(M33,FH31:FI34,2,FALSE)","v":"Poland"},{"$f":"VLOOKUP($N33,$BS$31:$BZ$34,2,FALSE)","v":0},{"$f":"VLOOKUP($N33,$BS$31:$BZ$34,3,FALSE)","v":0},{"$f":"VLOOKUP($N33,$BS$31:$BZ$34,4,FALSE)","v":0},{"$f":"VLOOKUP($N33,$BS$31:$BZ$34,5,FALSE)","v":0},{"$f":"VLOOKUP($N33,$BS$31:$BZ$34,6,FALSE)","v":0},{"$f":"VLOOKUP($N33,$BS$31:$BZ$34,7,FALSE)","v":0},{"$f":"VLOOKUP($N33,$BS$31:$BZ$34,8,FALSE)","v":0},null,null,null,null,null,null,null,null,"2024-06-21","Poland","-","Austria","","-","","",null,0,0,0,0,0,0,0,0,0,0,0,0,0,0,0,0,0,0,0,0,0,0,0,0,0,0,0,0,0,0,null,null,"Poland",{"$f":"(SUMIF(AE$4:AE$54,BS33,AM$4:AM$54)+SUMIF(AG$4:AG$54,BS33,AN$4:AN$54))","v":0},{"$f":"(SUMIF(AE$4:AE$54,BS33,AO$4:AO$54)+SUMIF(AG$4:AG$54,BS33,AP$4:AP$54))","v":0},{"$f":"(SUMIF(AE$4:AE$54,BS33,AQ$4:AQ$54)+SUMIF(AG$4:AG$54,BS33,AR$4:AR$54))","v":0},{"$f":"SUMIF($AE$4:$AE$54,BS33,$AH$4:$AH$54)+SUMIF($AG$4:$AG$54,BS33,$AJ$4:$AJ$54)","v":0},{"$f":"SUMIF($AE$4:$AE$54,BS33,$AJ$4:$AJ$54)+SUMIF($AG$4:$AG$54,BS33,$AH$4:$AH$54)","v":0},{"$f":"BW33-BX33","v":0},{"$f":"IFERROR(BT33*3+BU33*1,0)","v":0},"D",{"$f":"RANK(BZ33,BZ31:BZ34)","v":1},{"$f":"SUMPRODUCT((BZ31:BZ34=BZ33)*(BY31:BY34>BY33))","v":0},null,{"$f":"IF(CB33=1,BS33,)","v":"Poland"},0,0,0,0,"D",{"$f":"IF(CE33>0,RANK(CI33,CI31:CI34),)","v":1},{"$f":"IF(AND(CE33>0,COUNTIF(CK31:CK34,CK33)>1),SUMIFS($AH$4:$AH$54,$AE$4:$AE$54,BS33,$L$4:$L$54,1)+SUMIFS($AJ$4:$AJ$54,$AG$4:$AG$54,BS33,$L$4:$L$54,1)-SUMIFS($AJ$4:$AJ$54,$AE$4:$AE$54,BS33,$L$4:$L$54,1)-SUMIFS($AH$4:$AH$54,$AG$4:$AG$54,BS33,$L$4:$L$54,1),)","v":0},{"$f":"IF(AND(CE33>0,COUNTIF(CK31:CK34,CK33)>1),CK33+RANK(CL33,CL31:CL34)-1,CK33)","v":1},{"$f":"IF(AND(CE33>0,COUNTIF(CM31:CM34,CM33)>1),SUMIFS($AH$4:$AH$54,$AE$4:$AE$54,BS33,$L$4:$L$54,1)+SUMIFS($AJ$4:$AJ$54,$AG$4:$AG$54,BS33,$L$4:$L$54,1),)","v":0},{"$f":"IF(AND(CE33>0,COUNTIF(CM31:CM34,CM33)>1),CM33+RANK(CN33,CN31:CN34)-1,CM33)","v":1},1,{"$f":"IF(OR(CP33=\"\",COUNTIF(CP31:CP34,CP33)=1),\"\",$BY33)","v":0},{"$f":"IF(CP33=\"\",\"\",IF(COUNTIF(CP31:CP34,CP33)=1,CP33,CP33+RANK(CQ33,CQ31:CQ34,0)-1))","v":1},{"$f":"IF(OR(CR33=\"\",COUNTIF(CR31:CR34,CR33)=1),\"\",$BW33)","v":0},{"$f":"IF(CP33=\"\",\"\",IF(COUNTIF(CR31:CR34,CR33)=1,CR33,CR33+RANK(CS33,CS31:CS34,0)-1))","v":1},{"$f":"IF(OR(CT33=\"\",COUNTIF(CT31:CT34,CT33)=1),\"\",$BT33)","v":0},{"$f":"IF(CP33=\"\",\"\",IF(COUNTIF(CT31:CT34,CT33)=1,CT33,CT33+RANK(CU33,CU31:CU34,0)-1))","v":1},{"$f":"IF(CE33>0,BL29+RANK(CV33,CV31:CV34,1),)","v":1},null,{"$f":"IF(CB33=2,BS33,)","v":0},0,0,0,0,"D",{"$f":"IF(CY33>0,RANK(DC33,DC31:DC34)+CF29,)","v":0},{"$f":"IF(AND(CY33>0,COUNTIF(DE31:DE34,DE33)>1),SUMIFS($AH$4:$AH$54,$AE$4:$AE$54,BS33,$L$4:$L$54,2)+SUMIFS($AJ$4:$AJ$54,$AG$4:$AG$54,BS33,$L$4:$L$54,2)-SUMIFS($AJ$4:$AJ$54,$AE$4:$AE$54,BS33,$L$4:$L$54,2)-SUMIFS($AH$4:$AH$54,$AG$4:$AG$54,BS33,$L$4:$L$54,2),)","v":0},{"$f":"IF(AND(CY33>0,COUNTIF(DE31:DE34,DE33)>1),DE33+RANK(DF33,DF31:DF34)-1,DE33)","v":0},{"$f":"IF(AND(CY33>0,COUNTIF(DG31:DG34,DG33)>1),SUMIFS($AH$4:$AH$54,$AE$4:$AE$54,BS33,$L$4:$L$54,2)+SUMIFS($AJ$4:$AJ$54,$AG$4:$AG$54,BS33,$L$4:$L$54,2),)","v":0},{"$f":"IF(AND(CY33>0,COUNTIF(DG31:DG34,DG33)>1),DG33+RANK(DH33,DH31:DH34)-1,DG33)","v":0},"",{"$f":"IF(OR(DJ33=\"\",COUNTIF(DJ31:DJ34,DJ33)=1),\"\",$BY33)","v":""},{"$f":"IF(DJ33=\"\",\"\",IF(COUNTIF(DJ31:DJ34,DJ33)=1,DJ33,DJ33+RANK(DK33,DK31:DK34,0)-1))","v":""},{"$f":"IF(OR(DL33=\"\",COUNTIF(DL31:DL34,DL33)=1),\"\",$BW33)","v":""},{"$f":"IF(DJ33=\"\",\"\",IF(COUNTIF(DL31:DL34,DL33)=1,DL33,DL33+RANK(DM33,DM31:DM34,0)-1))","v":""},{"$f":"IF(OR(DN33=\"\",COUNTIF(DN31:DN34,DN33)=1),\"\",$BT33)","v":""},{"$f":"IF(DJ33=\"\",\"\",IF(COUNTIF(DN31:DN34,DN33)=1,DN33,DN33+RANK(DO33,DO31:DO34,0)-1))","v":""},{"$f":"IF(CY33>0,CF29+RANK(DP33,DP31:DP34,1),)","v":0},null,{"$f":"IF(CB33=3,BS33,)","v":0},{"$f":"(SUMIF(AE$4:AE$54,BS33,BE$4:BE$54)+SUMIF(AG$4:AG$54,BS33,BF$4:BF$54))","v":0},{"$f":"(SUMIF(AE$4:AE$54,BS33,BG$4:BG$54)+SUMIF(AG$4:AG$54,BS33,BH$4:BH$54))","v":0},{"$f":"(SUMIF(AE$4:AE$54,BS33,BI$4:BI$54)+SUMIF(AG$4:AG$54,BS33,BJ$4:BJ$54))","v":0},0,{"$f":"CA33","v":"D"},{"$f":"IF(DS33>0,RANK(DW33,DW31:DW34)+CF29+CZ29,)","v":0},{"$f":"IF(AND(DS33>0,COUNTIF(DY31:DY34,DY33)>1),SUMIFS($AH$4:$AH$54,$AE$4:$AE$54,BS33,$L$4:$L$54,3)+SUMIFS($AJ$4:$AJ$54,$AG$4:$AG$54,BS33,$L$4:$L$54,3)-SUMIFS($AJ$4:$AJ$54,$AE$4:$AE$54,BS33,$L$4:$L$54,3)-SUMIFS($AH$4:$AH$54,$AG$4:$AG$54,BS33,$L$4:$L$54,3),)","v":0},{"$f":"IF(AND(DS33>0,COUNTIF(DY31:DY34,DY33)>1),DY33+RANK(DZ33,DZ31:DZ34)-1,DY33)","v":0},{"$f":"IF(AND(DS33>0,COUNTIF(EA31:EA34,EA33)>1),SUMIFS($AH$4:$AH$54,$AE$4:$AE$54,BS33,$L$4:$L$54,3)+SUMIFS($AJ$4:$AJ$54,$AG$4:$AG$54,BS33,$L$4:$L$54,3),)","v":0},{"$f":"IF(AND(DS33>0,COUNTIF(EA31:EA34,EA33)>1),EA33+RANK(EB33,EB31:EB34)-1,EA33)","v":0},"",{"$f":"IF(OR(ED33=\"\",COUNTIF(ED31:ED34,ED33)=1),\"\",$BY33)","v":""},{"$f":"IF(ED33=\"\",\"\",IF(COUNTIF(ED31:ED34,ED33)=1,ED33,ED33+RANK(EE33,EE31:EE34,0)-1))","v":""},{"$f":"IF(OR(EF33=\"\",COUNTIF(EF31:EF34,EF33)=1),\"\",$BW33)","v":""},{"$f":"IF(ED33=\"\",\"\",IF(COUNTIF(EF31:EF34,EF33)=1,EF33,EF33+RANK(EG33,EG31:EG34,0)-1))","v":""},{"$f":"IF(OR(EH33=\"\",COUNTIF(EH31:EH34,EH33)=1),\"\",$BT33)","v":""},{"$f":"IF(ED33=\"\",\"\",IF(COUNTIF(EH31:EH34,EH33)=1,EH33,EH33+RANK(EI33,EI31:EI34,0)-1))","v":""},{"$f":"IF(DS33>0,CF29+CZ29+RANK(EJ33,EJ31:EJ34,1),)","v":0},null,{"$f":"IF(CB33=4,BS33,)","v":0},0,0,0,0,"D",{"$f":"IF(EM33>0,RANK(EQ33,EQ31:EQ34)+CF29+CZ29+DT29,)","v":0},{"$f":"IF(AND(EM33>0,COUNTIF(ES31:ES34,ES33)>1),SUMIFS($AH$4:$AH$54,$AE$4:$AE$54,BS33,$L$4:$L$54,4)+SUMIFS($AJ$4:$AJ$54,$AG$4:$AG$54,BS33,$L$4:$L$54,4)-SUMIFS($AJ$4:$AJ$54,$AE$4:$AE$54,BS33,$L$4:$L$54,4)-SUMIFS($AH$4:$AH$54,$AG$4:$AG$54,BS33,$L$4:$L$54,4),)","v":0},0,{"$f":"IF(AND(EM33>0,COUNTIF(EU31:EU34,EU33)>1),SUMIFS($AH$4:$AH$54,$AE$4:$AE$54,BS33,$L$4:$L$54,4)+SUMIFS($AJ$4:$AJ$54,$AG$4:$AG$54,BS33,$L$4:$L$54,4),)","v":0},{"$f":"IF(AND(EM33>0,COUNTIF(EU31:EU34,EU33)>1),EU33+RANK(EV33,EV31:EV34)-1,EU33)","v":0},"",{"$f":"IF(OR(EX33=\"\",COUNTIF(EX31:EX34,EX33)=1),\"\",$BY33)","v":""},{"$f":"IF(EX33=\"\",\"\",IF(COUNTIF(EX31:EX34,EX33)=1,EX33,EX33+RANK(EY33,EY31:EY34,0)-1))","v":""},{"$f":"IF(OR(EZ33=\"\",COUNTIF(EZ31:EZ34,EZ33)=1),\"\",$BW33)","v":""},{"$f":"IF(EX33=\"\",\"\",IF(COUNTIF(EZ31:EZ34,EZ33)=1,EZ33,EZ33+RANK(FA33,FA31:FA34,0)-1))","v":""},{"$f":"IF(OR(FB33=\"\",COUNTIF(FB31:FB34,FB33)=1),\"\",$BT33)","v":""},{"$f":"IF(EX33=\"\",\"\",IF(COUNTIF(FB31:FB34,FB33)=1,FB33,FB33+RANK(FC33,FC31:FC34,0)-1))","v":""},{"$f":"IF(EM33>0,CF29+CZ29+DT29+RANK(FD33,FD31:FD34,1),)","v":0},null,{"$f":"IFERROR(VLOOKUP(FI33,CE30:CW34,19,FALSE),IFERROR(VLOOKUP(FI33,CY30:DQ34,19,FALSE),IFERROR(VLOOKUP(FI33,DS30:EK34,19,FALSE),VLOOKUP(FI33,EM30:FE34,19,FALSE))))","v":1},{"$f":"RANK(FG33,FG31:FG34,1)+COUNTIF(FG31:FG33,FG33)-1","v":3},{"$f":"BS33","v":"Poland"},null,null,null,null,null,null,null,null,null,null,null,null,null,null,null,null,null,null,null,null,null,null,null,null,null,30]
[null,null,null,"2024-06-21","Netherlands","-","France",null,"-",null,"",{"$f":"IF(VLOOKUP(E34,BS30:CB34,10,FALSE)=VLOOKUP(G34,BS30:CB34,10,FALSE),VLOOKUP(E34,BS30:CB34,10,FALSE),\"-\")","v":1},4,{"$f":"VLOOKUP(M34,FH31:FI34,2,FALSE)","v":"Austria"},{"$f":"VLOOKUP($N34,$BS$31:$BZ$34,2,FALSE)","v":0},{"$f":"VLOOKUP($N34,$BS$31:$BZ$34,3,FALSE)","v":0},{"$f":"VLOOKUP($N34,$BS$31:$BZ$34,4,FALSE)","v":0},{"$f":"VLOOKUP($N34,$BS$31:$BZ$34,5,FALSE)","v":0},{"$f":"VLOOKUP($N34,$BS$31:$BZ$34,6,FALSE)","v":0},{"$f":"VLOOKUP($N34,$BS$31:$BZ$34,7,FALSE)","v":0},{"$f":"VLOOKUP($N34,$BS$31:$BZ$34,8,FALSE)","v":0},null,null,null,null,null,null,null,null,"2024-06-21","Netherlands","-","France","","-","","",null,0,0,0,0,0,0,0,0,0,0,0,0,0,0,0,0,0,0,0,0,0,0,0,0,0,0,0,0,0,0,null,null,"Austria",{"$f":"(SUMIF(AE$4:AE$54,BS34,AM$4:AM$54)+SUMIF(AG$4:AG$54,BS34,AN$4:AN$54))","v":0},{"$f":"(SUMIF(AE$4:AE$54,BS34,AO$4:AO$54)+SUMIF(AG$4:AG$54,BS34,AP$4:AP$54))","v":0},{"$f":"(SUMIF(AE$4:AE$54,BS34,AQ$4:AQ$54)+SUMIF(AG$4:AG$54,BS34,AR$4:AR$54))","v":0},{"$f":"SUMIF($AE$4:$AE$54,BS34,$AH$4:$AH$54)+SUMIF($AG$4:$AG$54,BS34,$AJ$4:$AJ$54)","v":0},{"$f":"SUMIF($AE$4:$AE$54,BS34,$AJ$4:$AJ$54)+SUMIF($AG$4:$AG$54,BS34,$AH$4:$AH$54)","v":0},{"$f":"BW34-BX34","v":0},{"$f":"IFERROR(BT34*3+BU34*1,0)","v":0},"D",{"$f":"RANK(BZ34,BZ31:BZ34)","v":1},{"$f":"SUMPRODUCT((BZ31:BZ34=BZ34)*(BY31:BY34>BY34))","v":0},null,{"$f":"IF(CB34=1,BS34,)","v":"Austria"},0,0,0,0,"D",{"$f":"IF(CE34>0,RANK(CI34,CI31:CI34),)","v":1},{"$f":"IF(AND(CE34>0,COUNTIF(CK31:CK34,CK34)>1),SUMIFS($AH$4:$AH$54,$AE$4:$AE$54,BS34,$L$4:$L$54,1)+SUMIFS($AJ$4:$AJ$54,$AG$4:$AG$54,BS34,$L$4:$L$54,1)-SUMIFS($AJ$4:$AJ$54,$AE$4:$AE$54,BS34,$L$4:$L$54,1)-SUMIFS($AH$4:$AH$54,$AG$4:$AG$54,BS34,$L$4:$L$54,1),)","v":0},{"$f":"IF(AND(CE34>0,COUNTIF(CK31:CK34,CK34)>1),CK34+RANK(CL34,CL31:CL34)-1,CK34)","v":1},{"$f":"IF(AND(CE34>0,COUNTIF(CM31:CM34,CM34)>1),SUMIFS($AH$4:$AH$54,$AE$4:$AE$54,BS34,$L$4:$L$54,1)+SUMIFS($AJ$4:$AJ$54,$AG$4:$AG$54,BS34,$L$4:$L$54,1),)","v":0},{"$f":"IF(AND(CE34>0,COUNTIF(CM31:CM34,CM34)>1),CM34+RANK(CN34,CN31:CN34)-1,CM34)","v":1},1,{"$f":"IF(OR(CP34=\"\",COUNTIF(CP31:CP34,CP34)=1),\"\",$BY34)","v":0},{"$f":"IF(CP34=\"\",\"\",IF(COUNTIF(CP31:CP34,CP34)=1,CP34,CP34+RANK(CQ34,CQ31:CQ34,0)-1))","v":1},{"$f":"IF(OR(CR34=\"\",COUNTIF(CR31:CR34,CR34)=1),\"\",$BW34)","v":0},{"$f":"IF(CP34=\"\",\"\",IF(COUNTIF(CR31:CR34,CR34)=1,CR34,CR34+RANK(CS34,CS31:CS34,0)-1))","v":1},{"$f":"IF(OR(CT34=\"\",COUNTIF(CT31:CT34,CT34)=1),\"\",$BT34)","v":0},{"$f":"IF(CP34=\"\",\"\",IF(COUNTIF(CT31:CT34,CT34)=1,CT34,CT34+RANK(CU34,CU31:CU34,0)-1))","v":1},{"$f":"IF(CE34>0,BL29+RANK(CV34,CV31:CV34,1),)","v":1},null,{"$f":"IF(CB34=2,BS34,)","v":0},0,0,0,0,"D",{"$f":"IF(CY34>0,RANK(DC34,DC31:DC34)+CF29,)","v":0},{"$f":"IF(AND(CY34>0,COUNTIF(DE31:DE34,DE34)>1),SUMIFS($AH$4:$AH$54,$AE$4:$AE$54,BS34,$L$4:$L$54,2)+SUMIFS($AJ$4:$AJ$54,$AG$4:$AG$54,BS34,$L$4:$L$54,2)-SUMIFS($AJ$4:$AJ$54,$AE$4:$AE$54,BS34,$L$4:$L$54,2)-SUMIFS($AH$4:$AH$54,$AG$4:$AG$54,BS34,$L$4:$L$54,2),)","v":0},{"$f":"IF(AND(CY34>0,COUNTIF(DE31:DE34,DE34)>1),DE34+RANK(DF34,DF31:DF34)-1,DE34)","v":0},{"$f":"IF(AND(CY34>0,COUNTIF(DG31:DG34,DG34)>1),SUMIFS($AH$4:$AH$54,$AE$4:$AE$54,BS34,$L$4:$L$54,2)+SUMIFS($AJ$4:$AJ$54,$AG$4:$AG$54,BS34,$L$4:$L$54,2),)","v":0},{"$f":"IF(AND(CY34>0,COUNTIF(DG31:DG34,DG34)>1),DG34+RANK(DH34,DH31:DH34)-1,DG34)","v":0},"",{"$f":"IF(OR(DJ34=\"\",COUNTIF(DJ31:DJ34,DJ34)=1),\"\",$BY34)","v":""},{"$f":"IF(DJ34=\"\",\"\",IF(COUNTIF(DJ31:DJ34,DJ34)=1,DJ34,DJ34+RANK(DK34,DK31:DK34,0)-1))","v":""},{"$f":"IF(OR(DL34=\"\",COUNTIF(DL31:DL34,DL34)=1),\"\",$BW34)","v":""},{"$f":"IF(DJ34=\"\",\"\",IF(COUNTIF(DL31:DL34,DL34)=1,DL34,DL34+RANK(DM34,DM31:DM34,0)-1))","v":""},{"$f":"IF(OR(DN34=\"\",COUNTIF(DN31:DN34,DN34)=1),\"\",$BT34)","v":""},{"$f":"IF(DJ34=\"\",\"\",IF(COUNTIF(DN31:DN34,DN34)=1,DN34,DN34+RANK(DO34,DO31:DO34,0)-1))","v":""},{"$f":"IF(CY34>0,CF29+RANK(DP34,DP31:DP34,1),)","v":0},null,{"$f":"IF(CB34=3,BS34,)","v":0},{"$f":"(SUMIF(AE$4:AE$54,BS34,BE$4:BE$54)+SUMIF(AG$4:AG$54,BS34,BF$4:BF$54))","v":0},{"$f":"(SUMIF(AE$4:AE$54,BS34,BG$4:BG$54)+SUMIF(AG$4:AG$54,BS34,BH$4:BH$54))","v":0},{"$f":"(SUMIF(AE$4:AE$54,BS34,BI$4:BI$54)+SUMIF(AG$4:AG$54,BS34,BJ$4:BJ$54))","v":0},0,{"$f":"CA34","v":"D"},{"$f":"IF(DS34>0,RANK(DW34,DW31:DW34)+CF29+CZ29,)","v":0},{"$f":"IF(AND(DS34>0,COUNTIF(DY31:DY34,DY34)>1),SUMIFS($AH$4:$AH$54,$AE$4:$AE$54,BS34,$L$4:$L$54,3)+SUMIFS($AJ$4:$AJ$54,$AG$4:$AG$54,BS34,$L$4:$L$54,3)-SUMIFS($AJ$4:$AJ$54,$AE$4:$AE$54,BS34,$L$4:$L$54,3)-SUMIFS($AH$4:$AH$54,$AG$4:$AG$54,BS34,$L$4:$L$54,3),)","v":0},{"$f":"IF(AND(DS34>0,COUNTIF(DY31:DY34,DY34)>1),DY34+RANK(DZ34,DZ31:DZ34)-1,DY34)","v":0},{"$f":"IF(AND(DS34>0,COUNTIF(EA31:EA34,EA34)>1),SUMIFS($AH$4:$AH$54,$AE$4:$AE$54,BS34,$L$4:$L$54,3)+SUMIFS($AJ$4:$AJ$54,$AG$4:$AG$54,BS34,$L$4:$L$54,3),)","v":0},{"$f":"IF(AND(DS34>0,COUNTIF(EA31:EA34,EA34)>1),EA34+RANK(EB34,EB31:EB34)-1,EA34)","v":0},"",{"$f":"IF(OR(ED34=\"\",COUNTIF(ED31:ED34,ED34)=1),\"\",$BY34)","v":""},{"$f":"IF(ED34=\"\",\"\",IF(COUNTIF(ED31:ED34,ED34)=1,ED34,ED34+RANK(EE34,EE31:EE34,0)-1))","v":""},{"$f":"IF(OR(EF34=\"\",COUNTIF(EF31:EF34,EF34)=1),\"\",$BW34)","v":""},{"$f":"IF(ED34=\"\",\"\",IF(COUNTIF(EF31:EF34,EF34)=1,EF34,EF34+RANK(EG34,EG31:EG34,0)-1))","v":""},{"$f":"IF(OR(EH34=\"\",COUNTIF(EH31:EH34,EH34)=1),\"\",$BT34)","v":""},{"$f":"IF(ED34=\"\",\"\",IF(COUNTIF(EH31:EH34,EH34)=1,EH34,EH34+RANK(EI34,EI31:EI34,0)-1))","v":""},{"$f":"IF(DS34>0,CF29+CZ29+RANK(EJ34,EJ31:EJ34,1),)","v":0},null,{"$f":"IF(CB34=4,BS34,)","v":0},0,0,0,0,"D",{"$f":"IF(EM34>0,RANK(EQ34,EQ31:EQ34)+CF29+CZ29+DT29,)","v":0},{"$f":"IF(AND(EM34>0,COUNTIF(ES31:ES34,ES34)>1),SUMIFS($AH$4:$AH$54,$AE$4:$AE$54,BS34,$L$4:$L$54,4)+SUMIFS($AJ$4:$AJ$54,$AG$4:$AG$54,BS34,$L$4:$L$54,4)-SUMIFS($AJ$4:$AJ$54,$AE$4:$AE$54,BS34,$L$4:$L$54,4)-SUMIFS($AH$4:$AH$54,$AG$4:$AG$54,BS34,$L$4:$L$54,4),)","v":0},0,{"$f":"IF(AND(EM34>0,COUNTIF(EU31:EU34,EU34)>1),SUMIFS($AH$4:$AH$54,$AE$4:$AE$54,BS34,$L$4:$L$54,4)+SUMIFS($AJ$4:$AJ$54,$AG$4:$AG$54,BS34,$L$4:$L$54,4),)","v":0},{"$f":"IF(AND(EM34>0,COUNTIF(EU31:EU34,EU34)>1),EU34+RANK(EV34,EV31:EV34)-1,EU34)","v":0},"",{"$f":"IF(OR(EX34=\"\",COUNTIF(EX31:EX34,EX34)=1),\"\",$BY34)","v":""},{"$f":"IF(EX34=\"\",\"\",IF(COUNTIF(EX31:EX34,EX34)=1,EX34,EX34+RANK(EY34,EY31:EY34,0)-1))","v":""},{"$f":"IF(OR(EZ34=\"\",COUNTIF(EZ31:EZ34,EZ34)=1),\"\",$BW34)","v":""},{"$f":"IF(EX34=\"\",\"\",IF(COUNTIF(EZ31:EZ34,EZ34)=1,EZ34,EZ34+RANK(FA34,FA31:FA34,0)-1))","v":""},{"$f":"IF(OR(FB34=\"\",COUNTIF(FB31:FB34,FB34)=1),\"\",$BT34)","v":""},{"$f":"IF(EX34=\"\",\"\",IF(COUNTIF(FB31:FB34,FB34)=1,FB34,FB34+RANK(FC34,FC31:FC34,0)-1))","v":""},{"$f":"IF(EM34>0,CF29+CZ29+DT29+RANK(FD34,FD31:FD34,1),)","v":0},null,{"$f":"IFERROR(VLOOKUP(FI34,CE30:CW34,19,FALSE),IFERROR(VLOOKUP(FI34,CY30:DQ34,19,FALSE),IFERROR(VLOOKUP(FI34,DS30:EK34,19,FALSE),VLOOKUP(FI34,EM30:FE34,19,FALSE))))","v":1},{"$f":"RANK(FG34,FG31:FG34,1)+COUNTIF(FG31:FG34,FG34)-1","v":4},{"$f":"BS34","v":"Austria"},null,null,null,null,null,null,null,null,null,null,null,null,null,null,null,null,null,null,null,null,null,null,null,null,null,31]
[null,null,null,"2024-06-25","Netherlands","-","Austria",null,"-",null,"",{"$f":"IF(VLOOKUP(E35,BS30:CB34,10,FALSE)=VLOOKUP(G35,BS30:CB34,10,FALSE),VLOOKUP(E35,BS30:CB34,10,FALSE),\"-\")","v":1},null,{"$f":"IF(COUNTBLANK(H31:H36)+COUNTBLANK(J31:J36)=0,\"Resultat OK\",\"Fyll i resultat\")","v":"Fyll i resultat"},null,null,null,null,null,null,null,null,null,null,null,null,null,null,null,"2024-06-25","Netherlands","-","Austria","","-","","",null,0,0,0,0,0,0,0,0,0,0,0,0,0,0,0,0,0,0,0,0,0,0,0,0,0,0,0,0,0,0,null,null,null,null,null,null,null,null,null,null,null,null,null,null,null,null,null,null,null,null,null,null,null,null,null,null,null,null,null,null,null,null,null,null,null,null,null,null,null,null,null,null,null,null,null,null,null,null,null,null,null,null,null,null,null,null,null,null,null,null,null,null,null,null,null,null,null,null,null,null,null,null,null,null,null,null,null,null,null,null,null,null,null,null,null,null,null,null,null,null,null,null,null,null,null,null,null,null,null,null,null,null,null,null,null,null,null,null,null,null,null,null,null,null,null,null,null,null,null,null,null,null,32]
[null,null,null,"2024-06-25","France","-","Poland",null,"-",null,"",{"$f":"IF(VLOOKUP(E36,BS30:CB34,10,FALSE)=VLOOKUP(G36,BS30:CB34,10,FALSE),VLOOKUP(E36,BS30:CB34,10,FALSE),\"-\")","v":1},null,null,null,null,null,null,null,null,null,null,null,null,null,null,null,null,null,"2024-06-25","France","-","Poland","","-","","",null,0,0,0,0,0,0,0,0,0,0,0,0,0,0,0,0,0,0,0,0,0,0,0,0,0,0,0,0,0,0,null,null,null,null,null,null,null,null,null,null,null,null,null,null,null,null,null,null,null,null,null,null,null,null,null,null,null,null,null,null,null,null,null,null,null,null,null,null,null,null,null,null,null,null,null,null,null,null,null,null,null,null,null,null,null,null,null,null,null,null,null,null,null,null,null,null,null,null,null,null,null,null,null,null,null,null,null,null,null,null,null,null,null,null,null,null,null,null,null,null,null,null,null,null,null,null,null,null,null,null,null,null,null,null,null,null,null,null,null,null,null,null,null,null,null,null,null,null,null,null,null,null,33]
[null,null,null,null,null,null,null,null,null,null,"",null,null,null,null,null,null,null,null,null,null,null,null,null,null,null,null,null,null,null,null,null,null,"",null,null,"",null,null,null,null,null,null,null,null,null,null,null,null,null,null,null,null,null,null,null,null,null,null,null,null,null,null,null,null,null,null,null,null,null,null,null,null,null,null,null,null,null,null,null,null,null,null,null,null,null,null,null,null,null,null,null,null,null,null,null,null,null,null,null,null,null,null,null,null,null,null,null,null,null,null,null,null,null,null,null,null,null,null,null,null,null,null,null,null,null,null,null,null,null,null,null,null,null,null,null,null,null,null,null,null,null,null,null,null,null,null,null,null,null,null,null,null,null,null,null,null,null,null,null,null,null,null,null,null,null,null,null,null,null,null,null,null,null,null,null,null,null,null,null,null,null,null,null,null,null,null,null,null,null,34]
[null,null,null,"Group E",null,null,null,null,null,null,null,null,null,null,null,null,null,null,null,null,null,null,null,null,null,null,null,null,null,"Grupp E",null,null,null,null,null,null,null,null,null,null,null,null,null,null,null,null,null,null,null,null,null,null,null,null,null,null,null,null,null,null,null,null,null,null,null,null,null,null,null,null,"Rank 0",null,null,null,null,null,null,null,null,null,null,null,"Rank 1",{"$f":"COUNTIF(CB40:CB43,1)","v":4},null,null,null,null,null,null,null,null,null,null,null,null,null,null,null,null,null,null,"Rank 2",{"$f":"COUNTIF(CB40:CB43,2)","v":0},null,null,null,null,null,null,null,null,null,null,null,null,null,null,null,null,null,null,"Rank 3",{"$f":"COUNTIF(CB40:CB43,3)","v":0},null,null,null,null,null,null,null,null,null,null,null,null,null,null,null,null,null,null,"Rank 4",{"$f":"COUNTIF(CB40:CB43,4)","v":0},null,null,null,null,null,null,null,null,null,null,null,null,null,null,null,null,null,null,null,null,null,null,null,null,null,null,null,null,null,null,null,null,null,null,null,null,null,null,null,null,null,null,null,null,null,null,35]
[null,null,"#","Date","Match",null,null,"Result",null,null,"1X2",null,null,"Team","W","D","L","GF","GA","+/-","P",null,null,null,null,null,null,null,null,"Datum","Match",null,null,"Resultat",null,null,"Tecken","Poäng","V1","V2","O1","O2","F1","F2","V1","V2","O1","O2","F1","F2","V1","V2","O1","O2","F1","F2","V1","V2","O1","O2","F1","F2","V1","V2","O1","O2","F1","F2",null,null,"Lag","V","O","F","GM","IM","+/-","P","Grupp","Rank P","Rank +/-",null,"Lag","V","O","F","P","Grupp","Rank P","+/-","+/- rank","GM","GM rank","Rank internal","+/- all","+/- rank all","GM all","GM rank all","V all","V rank all","Rank all",null,"Lag","V","O","F","P","Grupp","Rank P","+/-","+/- rank","GM","GM rank","Rank internal","+/- all","+/- rank all","GM all","GM rank all","V all","V rank all","Rank all",null,"Lag","V","O","F","P","Grupp","Rank P","+/-","+/- rank","GM","GM rank","Rank internal","+/- all","+/- rank all","GM all","GM rank all","V all","V rank all","Rank all",null,"Lag","V","O","F","P","Grupp","Rank P","+/-","+/- rank","GM","GM rank","Rank internal","+/- all","+/- rank all","GM all","GM rank all","V all","V rank all","Rank all",null,"Rank","Rank Ties",null,null,null,null,null,null,null,null,null,null,null,null,null,null,null,null,null,null,null,null,null,null,null,null,null,null,36]
[null,null,null,"2024-06-17","Romania","-","Ukraine",null,"-",null,{"$f":"IF(OR(ISBLANK(H40),ISBLANK(J40)),\"\",IF(H40>J40,1,IF(H40<J40,2,\"X\")))","v":""},{"$f":"IF(VLOOKUP(E40,BS39:CB43,10,FALSE)=VLOOKUP(G40,BS39:CB43,10,FALSE),VLOOKUP(E40,BS39:CB43,10,FALSE),\"-\")","v":1},1,{"$f":"VLOOKUP(M40,FH40:FI43,2,FALSE)","v":"Ukraine"},{"$f":"VLOOKUP($N40,$BS$40:$BZ$43,2,FALSE)","v":0},{"$f":"VLOOKUP($N40,$BS$40:$BZ$43,3,FALSE)","v":0},{"$f":"VLOOKUP($N40,$BS$40:$BZ$43,4,FALSE)","v":0},{"$f":"VLOOKUP($N40,$BS$40:$BZ$43,5,FALSE)","v":0},{"$f":"VLOOKUP($N40,$BS$40:$BZ$43,6,FALSE)","v":0},{"$f":"VLOOKUP($N40,$BS$40:$BZ$43,7,FALSE)","v":0},{"$f":"VLOOKUP($N40,$BS$40:$BZ$43,8,FALSE)","v":0},null,null,null,null,null,null,null,null,{"$f":"D40","v":"2024-06-17"},"Romania","-","Ukraine",{"$f":"IF(H40=\"\",\"\",H40)","v":""},"-",{"$f":"IF(J40=\"\",\"\",J40)","v":""},{"$f":"K40","v":""},null,{"$f":"IF(AH40>AJ40,1,0)","v":0},{"$f":"IF(AJ40>AH40,1,0)","v":0},{"$f":"IF(AND(AH40=AJ40,AH40<>\"\"),1,0)","v":0},{"$f":"IF(AND(AH40=AJ40,AH40<>\"\"),1,0)","v":0},{"$f":"IF(AH40<AJ40,1,0)","v":0},{"$f":"IF(AJ40<AH40,1,)","v":0},{"$f":"IF(ISERROR(VLOOKUP(AE40,CE:CE,1,FALSE)),0,1)*IF(ISERROR(VLOOKUP(AG40,CE:CE,1,FALSE)),0,1)*AM40","v":0},{"$f":"IF(ISERROR(VLOOKUP(AE40,CE:CE,1,FALSE)),0,1)*IF(ISERROR(VLOOKUP(AG40,CE:CE,1,FALSE)),0,1)*AN40","v":0},{"$f":"IF(ISERROR(VLOOKUP(AE40,CE:CE,1,FALSE)),0,1)*IF(ISERROR(VLOOKUP(AG40,CE:CE,1,FALSE)),0,1)*AO40","v":0},{"$f":"IF(ISERROR(VLOOKUP(AE40,CE:CE,1,FALSE)),0,1)*IF(ISERROR(VLOOKUP(AG40,CE:CE,1,FALSE)),0,1)*AP40","v":0},{"$f":"IF(ISERROR(VLOOKUP(AE40,CE:CE,1,FALSE)),0,1)*IF(ISERROR(VLOOKUP(AG40,CE:CE,1,FALSE)),0,1)*AQ40","v":0},{"$f":"IF(ISERROR(VLOOKUP(AE40,CE:CE,1,FALSE)),0,1)*IF(ISERROR(VLOOKUP(AG40,CE:CE,1,FALSE)),0,1)*AR40","v":0},{"$f":"IF(ISERROR(VLOOKUP(AE40,CY:CY,1,FALSE)),0,1)*IF(ISERROR(VLOOKUP(AG40,CY:CY,1,FALSE)),0,1)*AM40","v":0},{"$f":"IF(ISERROR(VLOOKUP(AE40,CY:CY,1,FALSE)),0,1)*IF(ISERROR(VLOOKUP(AG40,CY:CY,1,FALSE)),0,1)*AN40","v":0},{"$f":"IF(ISERROR(VLOOKUP(AE40,CY:CY,1,FALSE)),0,1)*IF(ISERROR(VLOOKUP(AG40,CY:CY,1,FALSE)),0,1)*AO40","v":0},{"$f":"IF(ISERROR(VLOOKUP(AE40,CY:CY,1,FALSE)),0,1)*IF(ISERROR(VLOOKUP(AG40,CY:CY,1,FALSE)),0,1)*AP40","v":0},{"$f":"IF(ISERROR(VLOOKUP(AE40,CY:CY,1,FALSE)),0,1)*IF(ISERROR(VLOOKUP(AG40,CY:CY,1,FALSE)),0,1)*AQ40","v":0},{"$f":"IF(ISERROR(VLOOKUP(AE40,CY:CY,1,FALSE)),0,1)*IF(ISERROR(VLOOKUP(AG40,CY:CY,1,FALSE)),0,1)*AR40","v":0},{"$f":"IF(ISERROR(VLOOKUP(AE40,DS:DS,1,FALSE)),0,1)*IF(ISERROR(VLOOKUP(AG40,DS:DS,1,FALSE)),0,1)*AM40","v":0},{"$f":"IF(ISERROR(VLOOKUP(AE40,DS:DS,1,FALSE)),0,1)*IF(ISERROR(VLOOKUP(AG40,DS:DS,1,FALSE)),0,1)*AN40","v":0},{"$f":"IF(ISERROR(VLOOKUP(AE40,DS:DS,1,FALSE)),0,1)*IF(ISERROR(VLOOKUP(AG40,DS:DS,1,FALSE)),0,1)*AO40","v":0},{"$f":"IF(ISERROR(VLOOKUP(AE40,DS:DS,1,FALSE)),0,1)*IF(ISERROR(VLOOKUP(AG40,DS:DS,1,FALSE)),0,1)*AP40","v":0},{"$f":"IF(ISERROR(VLOOKUP(AE40,DS:DS,1,FALSE)),0,1)*IF(ISERROR(VLOOKUP(AG40,DS:DS,1,FALSE)),0,1)*AQ40","v":0},{"$f":"IF(ISERROR(VLOOKUP(AE40,DS:DS,1,FALSE)),0,1)*IF(ISERROR(VLOOKUP(AG40,DS:DS,1,FALSE)),0,1)*AR40","v":0},{"$f":"IF(ISERROR(VLOOKUP(AE40,EM:EM,1,FALSE)),0,1)*IF(ISERROR(VLOOKUP(AG40,EM:EM,1,FALSE)),0,1)*AM40","v":0},{"$f":"IF(ISERROR(VLOOKUP(AE40,EM:EM,1,FALSE)),0,1)*IF(ISERROR(VLOOKUP(AG40,EM:EM,1,FALSE)),0,1)*AN40","v":0},{"$f":"IF(ISERROR(VLOOKUP(AE40,EM:EM,1,FALSE)),0,1)*IF(ISERROR(VLOOKUP(AG40,EM:EM,1,FALSE)),0,1)*AO40","v":0},{"$f":"IF(ISERROR(VLOOKUP(AE40,EM:EM,1,FALSE)),0,1)*IF(ISERROR(VLOOKUP(AG40,EM:EM,1,FALSE)),0,1)*AP40","v":0},{"$f":"IF(ISERROR(VLOOKUP(AE40,EM:EM,1,FALSE)),0,1)*IF(ISERROR(VLOOKUP(AG40,EM:EM,1,FALSE)),0,1)*AQ40","v":0},{"$f":"IF(ISERROR(VLOOKUP(AE40,EM:EM,1,FALSE)),0,1)*IF(ISERROR(VLOOKUP(AG40,EM:EM,1,FALSE)),0,1)*AR40","v":0},null,null,"Ukraine",{"$f":"(SUMIF(AE$4:AE$54,BS40,AM$4:AM$54)+SUMIF(AG$4:AG$54,BS40,AN$4:AN$54))","v":0},{"$f":"(SUMIF(AE$4:AE$54,BS40,AO$4:AO$54)+SUMIF(AG$4:AG$54,BS40,AP$4:AP$54))","v":0},{"$f":"(SUMIF(AE$4:AE$54,BS40,AQ$4:AQ$54)+SUMIF(AG$4:AG$54,BS40,AR$4:AR$54))","v":0},{"$f":"SUMIF($AE$4:$AE$54,BS40,$AH$4:$AH$54)+SUMIF($AG$4:$AG$54,BS40,$AJ$4:$AJ$54)","v":0},{"$f":"SUMIF($AE$4:$AE$54,BS40,$AJ$4:$AJ$54)+SUMIF($AG$4:$AG$54,BS40,$AH$4:$AH$54)","v":0},{"$f":"BW40-BX40","v":0},{"$f":"IFERROR(BT40*3+BU40*1,0)","v":0},"E",{"$f":"RANK(BZ40,BZ40:BZ43)","v":1},{"$f":"SUMPRODUCT((BZ40:BZ43=BZ40)*(BY40:BY43>BY40))","v":0},null,{"$f":"IF(CB40=1,BS40,)","v":"Ukraine"},{"$f":"(SUMIF($AE$4:$AE$54,$BS40,$AS$4:$AS$54)+SUMIF($AG$4:$AG$54,$BS40,$AT$4:$AT$54))","v":0},{"$f":"(SUMIF($AE$4:$AE$54,$BS40,$AU$4:$AU$54)+SUMIF($AG$4:$AG$54,$BS40,$AV$4:$AV$54))","v":0},{"$f":"(SUMIF($AE$4:$AE$54,$BS40,$AW$4:$AW$54)+SUMIF($AG$4:$AG$54,$BS40,$AX$4:$AX$54))","v":0},{"$f":"IFERROR(CF40*3+CG40*1,0)","v":0},{"$f":"CA40","v":"E"},{"$f":"IF(CE40>0,RANK(CI40,CI40:CI43),)","v":1},{"$f":"IF(AND(CE40>0,COUNTIF(CK40:CK43,CK40)>1),SUMIFS($AH$4:$AH$54,$AE$4:$AE$54,$BS40,$L$4:$L$54,1)+SUMIFS($AJ$4:$AJ$54,$AG$4:$AG$54,$BS40,$L$4:$L$54,1)-SUMIFS($AJ$4:$AJ$54,$AE$4:$AE$54,$BS40,$L$4:$L$54,1)-SUMIFS($AH$4:$AH$54,$AG$4:$AG$54,$BS40,$L$4:$L$54,1),)","v":0},{"$f":"IF(AND(CE40>0,COUNTIF(CK40:CK43,CK40)>1),CK40+RANK(CL40,CL40:CL43)-1,CK40)","v":1},{"$f":"IF(AND(CE40>0,COUNTIF(CM40:CM43,CM40)>1),SUMIFS($AH$4:$AH$54,$AE$4:$AE$54,$BS40,$L$4:$L$54,1)+SUMIFS($AJ$4:$AJ$54,$AG$4:$AG$54,$BS40,$L$4:$L$54,1),)","v":0},{"$f":"IF(AND(CE40>0,COUNTIF(CM40:CM43,CM40)>1),CM40+RANK(CN40,CN40:CN43)-1,CM40)","v":1},{"$f":"IF(CO40=0,\"\",CO40)","v":1},{"$f":"IF(OR(CP40=\"\",COUNTIF(CP40:CP43,CP40)=1),\"\",$BY40)","v":0},{"$f":"IF(CP40=\"\",\"\",IF(COUNTIF(CP40:CP43,CP40)=1,CP40,CP40+RANK(CQ40,CQ40:CQ43,0)-1))","v":1},{"$f":"IF(OR(CR40=\"\",COUNTIF(CR40:CR43,CR40)=1),\"\",$BW40)","v":0},{"$f":"IF(CP40=\"\",\"\",IF(COUNTIF(CR40:CR43,CR40)=1,CR40,CR40+RANK(CS40,CS40:CS43,0)-1))","v":1},{"$f":"IF(OR(CT40=\"\",COUNTIF(CT40:CT43,CT40)=1),\"\",$BT40)","v":0},{"$f":"IF(CP40=\"\",\"\",IF(COUNTIF(CT40:CT43,CT40)=1,CT40,CT40+RANK(CU40,CU40:CU43,0)-1))","v":1},{"$f":"IF(CE40>0,BL38+RANK(CV40,CV40:CV43,1),)","v":1},null,{"$f":"IF(CB40=2,BS40,)","v":0},{"$f":"(SUMIF($AE$4:$AE$54,$BS40,$AY$4:$AY$54)+SUMIF($AG$4:$AG$54,$BS40,$AZ$4:$AZ$54))","v":0},{"$f":"(SUMIF($AE$4:$AE$54,$BS40,$BA$4:$BA$54)+SUMIF($AG$4:$AG$54,$BS40,$BB$4:$BB$54))","v":0},{"$f":"(SUMIF($AE$4:$AE$54,$BS40,$BC$4:$BC$54)+SUMIF($AG$4:$AG$54,$BS40,$BD$4:$BD$54))","v":0},{"$f":"IFERROR(CZ40*3+DA40*1,0)","v":0},{"$f":"$CA40","v":"E"},{"$f":"IF(CY40>0,RANK(DC40,DC40:DC43)+CF38,)","v":0},{"$f":"IF(AND(CY40>0,COUNTIF(DE40:DE43,DE40)>1),SUMIFS($AH$4:$AH$54,$AE$4:$AE$54,$BS40,$L$4:$L$54,2)+SUMIFS($AJ$4:$AJ$54,$AG$4:$AG$54,$BS40,$L$4:$L$54,2)-SUMIFS($AJ$4:$AJ$54,$AE$4:$AE$54,$BS40,$L$4:$L$54,2)-SUMIFS($AH$4:$AH$54,$AG$4:$AG$54,$BS40,$L$4:$L$54,2),)","v":0},{"$f":"IF(AND(CY40>0,COUNTIF(DE40:DE43,DE40)>1),DE40+RANK(DF40,DF40:DF43)-1,DE40)","v":0},{"$f":"IF(AND(CY40>0,COUNTIF(DG40:DG43,DG40)>1),SUMIFS($AH$4:$AH$54,$AE$4:$AE$54,$BS40,$L$4:$L$54,2)+SUMIFS($AJ$4:$AJ$54,$AG$4:$AG$54,$BS40,$L$4:$L$54,2),)","v":0},{"$f":"IF(AND(CY40>0,COUNTIF(DG40:DG43,DG40)>1),DG40+RANK(DH40,DH40:DH43)-1,DG40)","v":0},{"$f":"IF(DI40=0,\"\",DI40)","v":""},{"$f":"IF(OR(DJ40=\"\",COUNTIF(DJ40:DJ43,DJ40)=1),\"\",$BY40)","v":""},{"$f":"IF(DJ40=\"\",\"\",IF(COUNTIF(DJ40:DJ43,DJ40)=1,DJ40,DJ40+RANK(DK40,DK40:DK43,0)-1))","v":""},{"$f":"IF(OR(DL40=\"\",COUNTIF(DL40:DL43,DL40)=1),\"\",$BW40)","v":""},{"$f":"IF(DJ40=\"\",\"\",IF(COUNTIF(DL40:DL43,DL40)=1,DL40,DL40+RANK(DM40,DM40:DM43,0)-1))","v":""},{"$f":"IF(OR(DN40=\"\",COUNTIF(DN40:DN43,DN40)=1),\"\",$BT40)","v":""},{"$f":"IF(DJ40=\"\",\"\",IF(COUNTIF(DN40:DN43,DN40)=1,DN40,DN40+RANK(DO40,DO40:DO43,0)-1))","v":""},{"$f":"IF(CY40>0,CF38+RANK(DP40,DP40:DP43,1),)","v":0},null,{"$f":"IF(CB40=3,BS40,)","v":0},{"$f":"(SUMIF($AE$4:$AE$54,BS40,$BE$4:$BE$54)+SUMIF($AG$4:$AG$54,BS40,$BF$4:$BF$54))","v":0},{"$f":"(SUMIF($AE$4:$AE$54,BS40,$BG$4:$BG$54)+SUMIF($AG$4:$AG$54,BS40,$BH$4:$BH$54))","v":0},{"$f":"(SUMIF($AE$4:$AE$54,BS40,$BI$4:$BI$54)+SUMIF($AG$4:$AG$54,BS40,$BJ$4:$BJ$54))","v":0},{"$f":"IFERROR(DT40*3+DU40*1,0)","v":0},{"$f":"CA40","v":"E"},{"$f":"IF(DS40>0,RANK(DW40,DW40:DW43)+CF38+CZ38,)","v":0},{"$f":"IF(AND(DS40>0,COUNTIF(DY40:DY43,DY40)>1),SUMIFS($AH$4:$AH$54,$AE$4:$AE$54,$BS40,$L$4:$L$54,3)+SUMIFS($AJ$4:$AJ$54,$AG$4:$AG$54,$BS40,$L$4:$L$54,3)-SUMIFS($AJ$4:$AJ$54,$AE$4:$AE$54,$BS40,$L$4:$L$54,3)-SUMIFS($AH$4:$AH$54,$AG$4:$AG$54,$BS40,$L$4:$L$54,3),)","v":0},{"$f":"IF(AND(DS40>0,COUNTIF(DY40:DY43,DY40)>1),DY40+RANK(DZ40,DZ40:DZ43)-1,DY40)","v":0},{"$f":"IF(AND(DS40>0,COUNTIF(EA40:EA43,EA40)>1),SUMIFS($AH$4:$AH$54,$AE$4:$AE$54,$BS40,$L$4:$L$54,3)+SUMIFS($AJ$4:$AJ$54,$AG$4:$AG$54,$BS40,$L$4:$L$54,3),)","v":0},{"$f":"IF(AND(DS40>0,COUNTIF(EA40:EA43,EA40)>1),EA40+RANK(EB40,EB40:EB43)-1,EA40)","v":0},{"$f":"IF(EC40=0,\"\",EC40)","v":""},{"$f":"IF(OR(ED40=\"\",COUNTIF(ED40:ED43,ED40)=1),\"\",$BY40)","v":""},{"$f":"IF(ED40=\"\",\"\",IF(COUNTIF(ED40:ED43,ED40)=1,ED40,ED40+RANK(EE40,EE40:EE43,0)-1))","v":""},{"$f":"IF(OR(EF40=\"\",COUNTIF(EF40:EF43,EF40)=1),\"\",$BW40)","v":""},{"$f":"IF(ED40=\"\",\"\",IF(COUNTIF(EF40:EF43,EF40)=1,EF40,EF40+RANK(EG40,EG40:EG43,0)-1))","v":""},{"$f":"IF(OR(EH40=\"\",COUNTIF(EH40:EH43,EH40)=1),\"\",$BT40)","v":""},{"$f":"IF(ED40=\"\",\"\",IF(COUNTIF(EH40:EH43,EH40)=1,EH40,EH40+RANK(EI40,EI40:EI43,0)-1))","v":""},{"$f":"IF(DS40>0,CF38+CZ38+RANK(EJ40,EJ40:EJ43,1),)","v":0},null,{"$f":"IF(CB40=4,BS40,)","v":0},{"$f":"(SUMIF($AE$4:$AE$54,$BS40,$BK$4:$BK$54)+SUMIF($AG$4:$AG$54,$BS40,$BL$4:$BL$54))","v":0},{"$f":"(SUMIF($AE$4:$AE$54,$BS40,$BM$4:$BM$54)+SUMIF($AG$4:$AG$54,$BS40,$BN$4:$BN$54))","v":0},{"$f":"(SUMIF($AE$4:$AE$54,$BS40,$BO$4:$BO$54)+SUMIF($AG$4:$AG$54,$BS40,$BP$4:$BP$54))","v":0},{"$f":"IFERROR(EN40*3+EO40*1,0)","v":0},{"$f":"$CA40","v":"E"},{"$f":"IF(EM40>0,RANK(EQ40,EQ40:EQ43)+CF38+CZ38+DT38,)","v":0},{"$f":"IF(AND(EM40>0,COUNTIF(ES40:ES43,ES40)>1),SUMIFS($AH$4:$AH$54,$AE$4:$AE$54,$BS40,$L$4:$L$54,4)+SUMIFS($AJ$4:$AJ$54,$AG$4:$AG$54,$BS40,$L$4:$L$54,4)-SUMIFS($AJ$4:$AJ$54,$AE$4:$AE$54,$BS40,$L$4:$L$54,4)-SUMIFS($AH$4:$AH$54,$AG$4:$AG$54,$BS40,$L$4:$L$54,4),)","v":0},{"$f":"IF(AND(EM40>0,COUNTIF($ES$4:$ES$7,ES40)>1),ES40+RANK(ET40,$ET$4:$ET$7)-1,ES40)","v":0},{"$f":"IF(AND(EM40>0,COUNTIF(EU40:EU43,EU40)>1),SUMIFS($AH$4:$AH$54,$AE$4:$AE$54,$BS40,$L$4:$L$54,4)+SUMIFS($AJ$4:$AJ$54,$AG$4:$AG$54,$BS40,$L$4:$L$54,4),)","v":0},{"$f":"IF(AND(EM40>0,COUNTIF(EU40:EU43,EU40)>1),EU40+RANK(EV40,EV40:EV43)-1,EU40)","v":0},{"$f":"IF(EW40=0,\"\",EW40)","v":""},{"$f":"IF(OR(EX40=\"\",COUNTIF(EX40:EX43,EX40)=1),\"\",$BY40)","v":""},{"$f":"IF(EX40=\"\",\"\",IF(COUNTIF(EX40:EX43,EX40)=1,EX40,EX40+RANK(EY40,EY40:EY43,0)-1))","v":""},{"$f":"IF(OR(EZ40=\"\",COUNTIF(EZ40:EZ43,EZ40)=1),\"\",$BW40)","v":""},{"$f":"IF(EX40=\"\",\"\",IF(COUNTIF(EZ40:EZ43,EZ40)=1,EZ40,EZ40+RANK(FA40,FA40:FA43,0)-1))","v":""},{"$f":"IF(OR(FB40=\"\",COUNTIF(FB40:FB43,FB40)=1),\"\",$BT40)","v":""},{"$f":"IF(EX40=\"\",\"\",IF(COUNTIF(FB40:FB43,FB40)=1,FB40,FB40+RANK(FC40,FC40:FC43,0)-1))","v":""},{"$f":"IF(EM40>0,CF38+CZ38+DT38+RANK(FD40,FD40:FD43,1),)","v":0},null,{"$f":"IFERROR(VLOOKUP(FI40,CE39:CW43,19,FALSE),IFERROR(VLOOKUP(FI40,CY39:DQ43,19,FALSE),IFERROR(VLOOKUP(FI40,DS39:EK43,19,FALSE),VLOOKUP(FI40,EM39:FE43,19,FALSE))))","v":1},{"$f":"RANK(FG40,FG40:FG43,1)+COUNTIF(FG40:FG40,FG40)-1","v":1},{"$f":"BS40","v":"Ukraine"},null,null,null,null,null,null,null,null,null,null,null,null,null,null,null,null,null,null,null,null,null,null,null,null,null,37]
[null,null,null,"2024-06-17","Belgium","-","Slovakia",null,"-",null,{"$f":"IF(OR(ISBLANK(H41),ISBLANK(J41)),\"\",IF(H41>J41,1,IF(H41<J41,2,\"X\")))","v":""},{"$f":"IF(VLOOKUP(E41,BS39:CB43,10,FALSE)=VLOOKUP(G41,BS39:CB43,10,FALSE),VLOOKUP(E41,BS39:CB43,10,FALSE),\"-\")","v":1},2,{"$f":"VLOOKUP(M41,FH40:FI43,2,FALSE)","v":"Slovakia"},{"$f":"VLOOKUP($N41,$BS$40:$BZ$43,2,FALSE)","v":0},{"$f":"VLOOKUP($N41,$BS$40:$BZ$43,3,FALSE)","v":0},{"$f":"VLOOKUP($N41,$BS$40:$BZ$43,4,FALSE)","v":0},{"$f":"VLOOKUP($N41,$BS$40:$BZ$43,5,FALSE)","v":0},{"$f":"VLOOKUP($N41,$BS$40:$BZ$43,6,FALSE)","v":0},{"$f":"VLOOKUP($N41,$BS$40:$BZ$43,7,FALSE)","v":0},{"$f":"VLOOKUP($N41,$BS$40:$BZ$43,8,FALSE)","v":0},null,null,null,null,null,null,null,null,"2024-06-17","Belgium","-","Slovakia","","-","","",null,0,0,0,0,0,0,0,0,0,0,0,0,0,0,0,0,0,0,0,0,0,0,0,0,0,0,0,0,0,0,null,null,"Slovakia",{"$f":"(SUMIF(AE$4:AE$54,BS41,AM$4:AM$54)+SUMIF(AG$4:AG$54,BS41,AN$4:AN$54))","v":0},{"$f":"(SUMIF(AE$4:AE$54,BS41,AO$4:AO$54)+SUMIF(AG$4:AG$54,BS41,AP$4:AP$54))","v":0},{"$f":"(SUMIF(AE$4:AE$54,BS41,AQ$4:AQ$54)+SUMIF(AG$4:AG$54,BS41,AR$4:AR$54))","v":0},{"$f":"SUMIF($AE$4:$AE$54,BS41,$AH$4:$AH$54)+SUMIF($AG$4:$AG$54,BS41,$AJ$4:$AJ$54)","v":0},{"$f":"SUMIF($AE$4:$AE$54,BS41,$AJ$4:$AJ$54)+SUMIF($AG$4:$AG$54,BS41,$AH$4:$AH$54)","v":0},{"$f":"BW41-BX41","v":0},{"$f":"IFERROR(BT41*3+BU41*1,0)","v":0},"E",{"$f":"RANK(BZ41,BZ40:BZ43)","v":1},{"$f":"SUMPRODUCT((BZ40:BZ43=BZ41)*(BY40:BY43>BY41))","v":0},null,{"$f":"IF(CB41=1,BS41,)","v":"Slovakia"},{"$f":"(SUMIF($AE$4:$AE$54,$BS41,$AS$4:$AS$54)+SUMIF($AG$4:$AG$54,$BS41,$AT$4:$AT$54))","v":0},{"$f":"(SUMIF($AE$4:$AE$54,$BS41,$AU$4:$AU$54)+SUMIF($AG$4:$AG$54,$BS41,$AV$4:$AV$54))","v":0},{"$f":"(SUMIF($AE$4:$AE$54,$BS41,$AW$4:$AW$54)+SUMIF($AG$4:$AG$54,$BS41,$AX$4:$AX$54))","v":0},{"$f":"IFERROR(CF41*3+CG41*1,0)","v":0},{"$f":"CA41","v":"E"},{"$f":"IF(CE41>0,RANK(CI41,CI40:CI43),)","v":1},{"$f":"IF(AND(CE41>0,COUNTIF(CK40:CK43,CK41)>1),SUMIFS($AH$4:$AH$54,$AE$4:$AE$54,BS41,$L$4:$L$54,1)+SUMIFS($AJ$4:$AJ$54,$AG$4:$AG$54,BS41,$L$4:$L$54,1)-SUMIFS($AJ$4:$AJ$54,$AE$4:$AE$54,BS41,$L$4:$L$54,1)-SUMIFS($AH$4:$AH$54,$AG$4:$AG$54,BS41,$L$4:$L$54,1),)","v":0},{"$f":"IF(AND(CE41>0,COUNTIF(CK40:CK43,CK41)>1),CK41+RANK(CL41,CL40:CL43)-1,CK41)","v":1},{"$f":"IF(AND(CE41>0,COUNTIF(CM40:CM43,CM41)>1),SUMIFS($AH$4:$AH$54,$AE$4:$AE$54,BS41,$L$4:$L$54,1)+SUMIFS($AJ$4:$AJ$54,$AG$4:$AG$54,BS41,$L$4:$L$54,1),)","v":0},{"$f":"IF(AND(CE41>0,COUNTIF(CM40:CM43,CM41)>1),CM41+RANK(CN41,CN40:CN43)-1,CM41)","v":1},{"$f":"IF(CO41=0,\"\",CO41)","v":1},{"$f":"IF(OR(CP41=\"\",COUNTIF(CP40:CP43,CP41)=1),\"\",$BY41)","v":0},{"$f":"IF(CP41=\"\",\"\",IF(COUNTIF(CP40:CP43,CP41)=1,CP41,CP41+RANK(CQ41,CQ40:CQ43,0)-1))","v":1},{"$f":"IF(OR(CR41=\"\",COUNTIF(CR40:CR43,CR41)=1),\"\",$BW41)","v":0},{"$f":"IF(CP41=\"\",\"\",IF(COUNTIF(CR40:CR43,CR41)=1,CR41,CR41+RANK(CS41,CS40:CS43,0)-1))","v":1},{"$f":"IF(OR(CT41=\"\",COUNTIF(CT40:CT43,CT41)=1),\"\",$BT41)","v":0},{"$f":"IF(CP41=\"\",\"\",IF(COUNTIF(CT40:CT43,CT41)=1,CT41,CT41+RANK(CU41,CU40:CU43,0)-1))","v":1},{"$f":"IF(CE41>0,BL38+RANK(CV41,CV40:CV43,1),)","v":1},null,{"$f":"IF(CB41=2,BS41,)","v":0},{"$f":"(SUMIF($AE$4:$AE$54,$BS41,$AY$4:$AY$54)+SUMIF($AG$4:$AG$54,$BS41,$AZ$4:$AZ$54))","v":0},{"$f":"(SUMIF($AE$4:$AE$54,$BS41,$BA$4:$BA$54)+SUMIF($AG$4:$AG$54,$BS41,$BB$4:$BB$54))","v":0},{"$f":"(SUMIF($AE$4:$AE$54,$BS41,$BC$4:$BC$54)+SUMIF($AG$4:$AG$54,$BS41,$BD$4:$BD$54))","v":0},{"$f":"IFERROR(CZ41*3+DA41*1,0)","v":0},{"$f":"$CA41","v":"E"},{"$f":"IF(CY41>0,RANK(DC41,DC40:DC43)+CF38,)","v":0},{"$f":"IF(AND(CY41>0,COUNTIF(DE40:DE43,DE41)>1),SUMIFS($AH$4:$AH$54,$AE$4:$AE$54,BS41,$L$4:$L$54,2)+SUMIFS($AJ$4:$AJ$54,$AG$4:$AG$54,BS41,$L$4:$L$54,2)-SUMIFS($AJ$4:$AJ$54,$AE$4:$AE$54,BS41,$L$4:$L$54,2)-SUMIFS($AH$4:$AH$54,$AG$4:$AG$54,BS41,$L$4:$L$54,2),)","v":0},{"$f":"IF(AND(CY41>0,COUNTIF(DE40:DE43,DE41)>1),DE41+RANK(DF41,DF40:DF43)-1,DE41)","v":0},{"$f":"IF(AND(CY41>0,COUNTIF(DG40:DG43,DG41)>1),SUMIFS($AH$4:$AH$54,$AE$4:$AE$54,BS41,$L$4:$L$54,2)+SUMIFS($AJ$4:$AJ$54,$AG$4:$AG$54,BS41,$L$4:$L$54,2),)","v":0},{"$f":"IF(AND(CY41>0,COUNTIF(DG40:DG43,DG41)>1),DG41+RANK(DH41,DH40:DH43)-1,DG41)","v":0},{"$f":"IF(DI41=0,\"\",DI41)","v":""},{"$f":"IF(OR(DJ41=\"\",COUNTIF(DJ40:DJ43,DJ41)=1),\"\",$BY41)","v":""},{"$f":"IF(DJ41=\"\",\"\",IF(COUNTIF(DJ40:DJ43,DJ41)=1,DJ41,DJ41+RANK(DK41,DK40:DK43,0)-1))","v":""},{"$f":"IF(OR(DL41=\"\",COUNTIF(DL40:DL43,DL41)=1),\"\",$BW41)","v":""},{"$f":"IF(DJ41=\"\",\"\",IF(COUNTIF(DL40:DL43,DL41)=1,DL41,DL41+RANK(DM41,DM40:DM43,0)-1))","v":""},{"$f":"IF(OR(DN41=\"\",COUNTIF(DN40:DN43,DN41)=1),\"\",$BT41)","v":""},{"$f":"IF(DJ41=\"\",\"\",IF(COUNTIF(DN40:DN43,DN41)=1,DN41,DN41+RANK(DO41,DO40:DO43,0)-1))","v":""},{"$f":"IF(CY41>0,CF38+RANK(DP41,DP40:DP43,1),)","v":0},null,{"$f":"IF(CB41=3,BS41,)","v":0},{"$f":"(SUMIF(AE$4:AE$54,BS41,BE$4:BE$54)+SUMIF(AG$4:AG$54,BS41,BF$4:BF$54))","v":0},{"$f":"(SUMIF(AE$4:AE$54,BS41,BG$4:BG$54)+SUMIF(AG$4:AG$54,BS41,BH$4:BH$54))","v":0},{"$f":"(SUMIF(AE$4:AE$54,BS41,BI$4:BI$54)+SUMIF(AG$4:AG$54,BS41,BJ$4:BJ$54))","v":0},{"$f":"IFERROR(DT41*3+DU41*1,0)","v":0},{"$f":"CA41","v":"E"},{"$f":"IF(DS41>0,RANK(DW41,DW40:DW43)+CF38+CZ38,)","v":0},{"$f":"IF(AND(DS41>0,COUNTIF(DY40:DY43,DY41)>1),SUMIFS($AH$4:$AH$54,$AE$4:$AE$54,BS41,$L$4:$L$54,3)+SUMIFS($AJ$4:$AJ$54,$AG$4:$AG$54,BS41,$L$4:$L$54,3)-SUMIFS($AJ$4:$AJ$54,$AE$4:$AE$54,BS41,$L$4:$L$54,3)-SUMIFS($AH$4:$AH$54,$AG$4:$AG$54,BS41,$L$4:$L$54,3),)","v":0},{"$f":"IF(AND(DS41>0,COUNTIF(DY40:DY43,DY41)>1),DY41+RANK(DZ41,DZ40:DZ43)-1,DY41)","v":0},{"$f":"IF(AND(DS41>0,COUNTIF(EA40:EA43,EA41)>1),SUMIFS($AH$4:$AH$54,$AE$4:$AE$54,BS41,$L$4:$L$54,3)+SUMIFS($AJ$4:$AJ$54,$AG$4:$AG$54,BS41,$L$4:$L$54,3),)","v":0},{"$f":"IF(AND(DS41>0,COUNTIF(EA40:EA43,EA41)>1),EA41+RANK(EB41,EB40:EB43)-1,EA41)","v":0},{"$f":"IF(EC41=0,\"\",EC41)","v":""},{"$f":"IF(OR(ED41=\"\",COUNTIF(ED40:ED43,ED41)=1),\"\",$BY41)","v":""},{"$f":"IF(ED41=\"\",\"\",IF(COUNTIF(ED40:ED43,ED41)=1,ED41,ED41+RANK(EE41,EE40:EE43,0)-1))","v":""},{"$f":"IF(OR(EF41=\"\",COUNTIF(EF40:EF43,EF41)=1),\"\",$BW41)","v":""},{"$f":"IF(ED41=\"\",\"\",IF(COUNTIF(EF40:EF43,EF41)=1,EF41,EF41+RANK(EG41,EG40:EG43,0)-1))","v":""},{"$f":"IF(OR(EH41=\"\",COUNTIF(EH40:EH43,EH41)=1),\"\",$BT41)","v":""},{"$f":"IF(ED41=\"\",\"\",IF(COUNTIF(EH40:EH43,EH41)=1,EH41,EH41+RANK(EI41,EI40:EI43,0)-1))","v":""},{"$f":"IF(DS41>0,CF38+CZ38+RANK(EJ41,EJ40:EJ43,1),)","v":0},null,{"$f":"IF(CB41=4,BS41,)","v":0},{"$f":"(SUMIF($AE$4:$AE$54,$BS41,$BK$4:$BK$54)+SUMIF($AG$4:$AG$54,$BS41,$BL$4:$BL$54))","v":0},{"$f":"(SUMIF($AE$4:$AE$54,$BS41,$BM$4:$BM$54)+SUMIF($AG$4:$AG$54,$BS41,$BN$4:$BN$54))","v":0},{"$f":"(SUMIF($AE$4:$AE$54,$BS41,$BO$4:$BO$54)+SUMIF($AG$4:$AG$54,$BS41,$BP$4:$BP$54))","v":0},{"$f":"IFERROR(EN41*3+EO41*1,0)","v":0},{"$f":"$CA41","v":"E"},{"$f":"IF(EM41>0,RANK(EQ41,EQ40:EQ43)+CF38+CZ38+DT38,)","v":0},{"$f":"IF(AND(EM41>0,COUNTIF(ES40:ES43,ES41)>1),SUMIFS($AH$4:$AH$54,$AE$4:$AE$54,BS41,$L$4:$L$54,4)+SUMIFS($AJ$4:$AJ$54,$AG$4:$AG$54,BS41,$L$4:$L$54,4)-SUMIFS($AJ$4:$AJ$54,$AE$4:$AE$54,BS41,$L$4:$L$54,4)-SUMIFS($AH$4:$AH$54,$AG$4:$AG$54,BS41,$L$4:$L$54,4),)","v":0},{"$f":"IF(AND(EM41>0,COUNTIF($ES$4:$ES$7,ES41)>1),ES41+RANK(ET41,$ET$4:$ET$7)-1,ES41)","v":0},{"$f":"IF(AND(EM41>0,COUNTIF(EU40:EU43,EU41)>1),SUMIFS($AH$4:$AH$54,$AE$4:$AE$54,BS41,$L$4:$L$54,4)+SUMIFS($AJ$4:$AJ$54,$AG$4:$AG$54,BS41,$L$4:$L$54,4),)","v":0},{"$f":"IF(AND(EM41>0,COUNTIF(EU40:EU43,EU41)>1),EU41+RANK(EV41,EV40:EV43)-1,EU41)","v":0},{"$f":"IF(EW41=0,\"\",EW41)","v":""},{"$f":"IF(OR(EX41=\"\",COUNTIF(EX40:EX43,EX41)=1),\"\",$BY41)","v":""},{"$f":"IF(EX41=\"\",\"\",IF(COUNTIF(EX40:EX43,EX41)=1,EX41,EX41+RANK(EY41,EY40:EY43,0)-1))","v":""},{"$f":"IF(OR(EZ41=\"\",COUNTIF(EZ40:EZ43,EZ41)=1),\"\",$BW41)","v":""},{"$f":"IF(EX41=\"\",\"\",IF(COUNTIF(EZ40:EZ43,EZ41)=1,EZ41,EZ41+RANK(FA41,FA40:FA43,0)-1))","v":""},{"$f":"IF(OR(FB41=\"\",COUNTIF(FB40:FB43,FB41)=1),\"\",$BT41)","v":""},{"$f":"IF(EX41=\"\",\"\",IF(COUNTIF(FB40:FB43,FB41)=1,FB41,FB41+RANK(FC41,FC40:FC43,0)-1))","v":""},{"$f":"IF(EM41>0,CF38+CZ38+DT38+RANK(FD41,FD40:FD43,1),)","v":0},null,{"$f":"IFERROR(VLOOKUP(FI41,CE39:CW43,19,FALSE),IFERROR(VLOOKUP(FI41,CY39:DQ43,19,FALSE),IFERROR(VLOOKUP(FI41,DS39:EK43,19,FALSE),VLOOKUP(FI41,EM39:FE43,19,FALSE))))","v":1},{"$f":"RANK(FG41,FG40:FG43,1)+COUNTIF(FG40:FG41,FG41)-1","v":2},{"$f":"BS41","v":"Slovakia"},null,null,null,null,null,null,null,null,null,null,null,null,null,null,null,null,null,null,null,null,null,null,null,null,null,38]
[null,null,null,"2024-06-21","Slovakia","-","Ukraine",null,"-",null,"",{"$f":"IF(VLOOKUP(E42,BS39:CB43,10,FALSE)=VLOOKUP(G42,BS39:CB43,10,FALSE),VLOOKUP(E42,BS39:CB43,10,FALSE),\"-\")","v":1},3,{"$f":"VLOOKUP(M42,FH40:FI43,2,FALSE)","v":"Belgium"},{"$f":"VLOOKUP($N42,$BS$40:$BZ$43,2,FALSE)","v":0},{"$f":"VLOOKUP($N42,$BS$40:$BZ$43,3,FALSE)","v":0},{"$f":"VLOOKUP($N42,$BS$40:$BZ$43,4,FALSE)","v":0},{"$f":"VLOOKUP($N42,$BS$40:$BZ$43,5,FALSE)","v":0},{"$f":"VLOOKUP($N42,$BS$40:$BZ$43,6,FALSE)","v":0},{"$f":"VLOOKUP($N42,$BS$40:$BZ$43,7,FALSE)","v":0},{"$f":"VLOOKUP($N42,$BS$40:$BZ$43,8,FALSE)","v":0},null,null,null,null,null,null,null,null,"2024-06-21","Slovakia","-","Ukraine","","-","","",null,0,0,0,0,0,0,0,0,0,0,0,0,0,0,0,0,0,0,0,0,0,0,0,0,0,0,0,0,0,0,null,null,"Belgium",{"$f":"(SUMIF(AE$4:AE$54,BS42,AM$4:AM$54)+SUMIF(AG$4:AG$54,BS42,AN$4:AN$54))","v":0},{"$f":"(SUMIF(AE$4:AE$54,BS42,AO$4:AO$54)+SUMIF(AG$4:AG$54,BS42,AP$4:AP$54))","v":0},{"$f":"(SUMIF(AE$4:AE$54,BS42,AQ$4:AQ$54)+SUMIF(AG$4:AG$54,BS42,AR$4:AR$54))","v":0},{"$f":"SUMIF($AE$4:$AE$54,BS42,$AH$4:$AH$54)+SUMIF($AG$4:$AG$54,BS42,$AJ$4:$AJ$54)","v":0},{"$f":"SUMIF($AE$4:$AE$54,BS42,$AJ$4:$AJ$54)+SUMIF($AG$4:$AG$54,BS42,$AH$4:$AH$54)","v":0},{"$f":"BW42-BX42","v":0},{"$f":"IFERROR(BT42*3+BU42*1,0)","v":0},"E",{"$f":"RANK(BZ42,BZ40:BZ43)","v":1},{"$f":"SUMPRODUCT((BZ40:BZ43=BZ42)*(BY40:BY43>BY42))","v":0},null,{"$f":"IF(CB42=1,BS42,)","v":"Belgium"},0,0,0,0,"E",{"$f":"IF(CE42>0,RANK(CI42,CI40:CI43),)","v":1},{"$f":"IF(AND(CE42>0,COUNTIF(CK40:CK43,CK42)>1),SUMIFS($AH$4:$AH$54,$AE$4:$AE$54,BS42,$L$4:$L$54,1)+SUMIFS($AJ$4:$AJ$54,$AG$4:$AG$54,BS42,$L$4:$L$54,1)-SUMIFS($AJ$4:$AJ$54,$AE$4:$AE$54,BS42,$L$4:$L$54,1)-SUMIFS($AH$4:$AH$54,$AG$4:$AG$54,BS42,$L$4:$L$54,1),)","v":0},{"$f":"IF(AND(CE42>0,COUNTIF(CK40:CK43,CK42)>1),CK42+RANK(CL42,CL40:CL43)-1,CK42)","v":1},{"$f":"IF(AND(CE42>0,COUNTIF(CM40:CM43,CM42)>1),SUMIFS($AH$4:$AH$54,$AE$4:$AE$54,BS42,$L$4:$L$54,1)+SUMIFS($AJ$4:$AJ$54,$AG$4:$AG$54,BS42,$L$4:$L$54,1),)","v":0},{"$f":"IF(AND(CE42>0,COUNTIF(CM40:CM43,CM42)>1),CM42+RANK(CN42,CN40:CN43)-1,CM42)","v":1},1,{"$f":"IF(OR(CP42=\"\",COUNTIF(CP40:CP43,CP42)=1),\"\",$BY42)","v":0},{"$f":"IF(CP42=\"\",\"\",IF(COUNTIF(CP40:CP43,CP42)=1,CP42,CP42+RANK(CQ42,CQ40:CQ43,0)-1))","v":1},{"$f":"IF(OR(CR42=\"\",COUNTIF(CR40:CR43,CR42)=1),\"\",$BW42)","v":0},{"$f":"IF(CP42=\"\",\"\",IF(COUNTIF(CR40:CR43,CR42)=1,CR42,CR42+RANK(CS42,CS40:CS43,0)-1))","v":1},{"$f":"IF(OR(CT42=\"\",COUNTIF(CT40:CT43,CT42)=1),\"\",$BT42)","v":0},{"$f":"IF(CP42=\"\",\"\",IF(COUNTIF(CT40:CT43,CT42)=1,CT42,CT42+RANK(CU42,CU40:CU43,0)-1))","v":1},{"$f":"IF(CE42>0,BL38+RANK(CV42,CV40:CV43,1),)","v":1},null,{"$f":"IF(CB42=2,BS42,)","v":0},{"$f":"(SUMIF($AE$4:$AE$54,$BS42,$AY$4:$AY$54)+SUMIF($AG$4:$AG$54,$BS42,$AZ$4:$AZ$54))","v":0},{"$f":"(SUMIF($AE$4:$AE$54,$BS42,$BA$4:$BA$54)+SUMIF($AG$4:$AG$54,$BS42,$BB$4:$BB$54))","v":0},{"$f":"(SUMIF($AE$4:$AE$54,$BS42,$BC$4:$BC$54)+SUMIF($AG$4:$AG$54,$BS42,$BD$4:$BD$54))","v":0},{"$f":"IFERROR(CZ42*3+DA42*1,0)","v":0},{"$f":"$CA42","v":"E"},{"$f":"IF(CY42>0,RANK(DC42,DC40:DC43)+CF38,)","v":0},{"$f":"IF(AND(CY42>0,COUNTIF(DE40:DE43,DE42)>1),SUMIFS($AH$4:$AH$54,$AE$4:$AE$54,BS42,$L$4:$L$54,2)+SUMIFS($AJ$4:$AJ$54,$AG$4:$AG$54,BS42,$L$4:$L$54,2)-SUMIFS($AJ$4:$AJ$54,$AE$4:$AE$54,BS42,$L$4:$L$54,2)-SUMIFS($AH$4:$AH$54,$AG$4:$AG$54,BS42,$L$4:$L$54,2),)","v":0},{"$f":"IF(AND(CY42>0,COUNTIF(DE40:DE43,DE42)>1),DE42+RANK(DF42,DF40:DF43)-1,DE42)","v":0},{"$f":"IF(AND(CY42>0,COUNTIF(DG40:DG43,DG42)>1),SUMIFS($AH$4:$AH$54,$AE$4:$AE$54,BS42,$L$4:$L$54,2)+SUMIFS($AJ$4:$AJ$54,$AG$4:$AG$54,BS42,$L$4:$L$54,2),)","v":0},{"$f":"IF(AND(CY42>0,COUNTIF(DG40:DG43,DG42)>1),DG42+RANK(DH42,DH40:DH43)-1,DG42)","v":0},"",{"$f":"IF(OR(DJ42=\"\",COUNTIF(DJ40:DJ43,DJ42)=1),\"\",$BY42)","v":""},{"$f":"IF(DJ42=\"\",\"\",IF(COUNTIF(DJ40:DJ43,DJ42)=1,DJ42,DJ42+RANK(DK42,DK40:DK43,0)-1))","v":""},{"$f":"IF(OR(DL42=\"\",COUNTIF(DL40:DL43,DL42)=1),\"\",$BW42)","v":""},{"$f":"IF(DJ42=\"\",\"\",IF(COUNTIF(DL40:DL43,DL42)=1,DL42,DL42+RANK(DM42,DM40:DM43,0)-1))","v":""},{"$f":"IF(OR(DN42=\"\",COUNTIF(DN40:DN43,DN42)=1),\"\",$BT42)","v":""},{"$f":"IF(DJ42=\"\",\"\",IF(COUNTIF(DN40:DN43,DN42)=1,DN42,DN42+RANK(DO42,DO40:DO43,0)-1))","v":""},{"$f":"IF(CY42>0,CF38+RANK(DP42,DP40:DP43,1),)","v":0},null,{"$f":"IF(CB42=3,BS42,)","v":0},{"$f":"(SUMIF(AE$4:AE$54,BS42,BE$4:BE$54)+SUMIF(AG$4:AG$54,BS42,BF$4:BF$54))","v":0},{"$f":"(SUMIF(AE$4:AE$54,BS42,BG$4:BG$54)+SUMIF(AG$4:AG$54,BS42,BH$4:BH$54))","v":0},{"$f":"(SUMIF(AE$4:AE$54,BS42,BI$4:BI$54)+SUMIF(AG$4:AG$54,BS42,BJ$4:BJ$54))","v":0},0,{"$f":"CA42","v":"E"},{"$f":"IF(DS42>0,RANK(DW42,DW40:DW43)+CF38+CZ38,)","v":0},{"$f":"IF(AND(DS42>0,COUNTIF(DY40:DY43,DY42)>1),SUMIFS($AH$4:$AH$54,$AE$4:$AE$54,BS42,$L$4:$L$54,3)+SUMIFS($AJ$4:$AJ$54,$AG$4:$AG$54,BS42,$L$4:$L$54,3)-SUMIFS($AJ$4:$AJ$54,$AE$4:$AE$54,BS42,$L$4:$L$54,3)-SUMIFS($AH$4:$AH$54,$AG$4:$AG$54,BS42,$L$4:$L$54,3),)","v":0},{"$f":"IF(AND(DS42>0,COUNTIF(DY40:DY43,DY42)>1),DY42+RANK(DZ42,DZ40:DZ43)-1,DY42)","v":0},{"$f":"IF(AND(DS42>0,COUNTIF(EA40:EA43,EA42)>1),SUMIFS($AH$4:$AH$54,$AE$4:$AE$54,BS42,$L$4:$L$54,3)+SUMIFS($AJ$4:$AJ$54,$AG$4:$AG$54,BS42,$L$4:$L$54,3),)","v":0},{"$f":"IF(AND(DS42>0,COUNTIF(EA40:EA43,EA42)>1),EA42+RANK(EB42,EB40:EB43)-1,EA42)","v":0},"",{"$f":"IF(OR(ED42=\"\",COUNTIF(ED40:ED43,ED42)=1),\"\",$BY42)","v":""},{"$f":"IF(ED42=\"\",\"\",IF(COUNTIF(ED40:ED43,ED42)=1,ED42,ED42+RANK(EE42,EE40:EE43,0)-1))","v":""},{"$f":"IF(OR(EF42=\"\",COUNTIF(EF40:EF43,EF42)=1),\"\",$BW42)","v":""},{"$f":"IF(ED42=\"\",\"\",IF(COUNTIF(EF40:EF43,EF42)=1,EF42,EF42+RANK(EG42,EG40:EG43,0)-1))","v":""},{"$f":"IF(OR(EH42=\"\",COUNTIF(EH40:EH43,EH42)=1),\"\",$BT42)","v":""},{"$f":"IF(ED42=\"\",\"\",IF(COUNTIF(EH40:EH43,EH42)=1,EH42,EH42+RANK(EI42,EI40:EI43,0)-1))","v":""},{"$f":"IF(DS42>0,CF38+CZ38+RANK(EJ42,EJ40:EJ43,1),)","v":0},null,{"$f":"IF(CB42=4,BS42,)","v":0},0,0,0,0,"E",{"$f":"IF(EM42>0,RANK(EQ42,EQ40:EQ43)+CF38+CZ38+DT38,)","v":0},{"$f":"IF(AND(EM42>0,COUNTIF(ES40:ES43,ES42)>1),SUMIFS($AH$4:$AH$54,$AE$4:$AE$54,BS42,$L$4:$L$54,4)+SUMIFS($AJ$4:$AJ$54,$AG$4:$AG$54,BS42,$L$4:$L$54,4)-SUMIFS($AJ$4:$AJ$54,$AE$4:$AE$54,BS42,$L$4:$L$54,4)-SUMIFS($AH$4:$AH$54,$AG$4:$AG$54,BS42,$L$4:$L$54,4),)","v":0},0,{"$f":"IF(AND(EM42>0,COUNTIF(EU40:EU43,EU42)>1),SUMIFS($AH$4:$AH$54,$AE$4:$AE$54,BS42,$L$4:$L$54,4)+SUMIFS($AJ$4:$AJ$54,$AG$4:$AG$54,BS42,$L$4:$L$54,4),)","v":0},{"$f":"IF(AND(EM42>0,COUNTIF(EU40:EU43,EU42)>1),EU42+RANK(EV42,EV40:EV43)-1,EU42)","v":0},"",{"$f":"IF(OR(EX42=\"\",COUNTIF(EX40:EX43,EX42)=1),\"\",$BY42)","v":""},{"$f":"IF(EX42=\"\",\"\",IF(COUNTIF(EX40:EX43,EX42)=1,EX42,EX42+RANK(EY42,EY40:EY43,0)-1))","v":""},{"$f":"IF(OR(EZ42=\"\",COUNTIF(EZ40:EZ43,EZ42)=1),\"\",$BW42)","v":""},{"$f":"IF(EX42=\"\",\"\",IF(COUNTIF(EZ40:EZ43,EZ42)=1,EZ42,EZ42+RANK(FA42,FA40:FA43,0)-1))","v":""},{"$f":"IF(OR(FB42=\"\",COUNTIF(FB40:FB43,FB42)=1),\"\",$BT42)","v":""},{"$f":"IF(EX42=\"\",\"\",IF(COUNTIF(FB40:FB43,FB42)=1,FB42,FB42+RANK(FC42,FC40:FC43,0)-1))","v":""},{"$f":"IF(EM42>0,CF38+CZ38+DT38+RANK(FD42,FD40:FD43,1),)","v":0},null,{"$f":"IFERROR(VLOOKUP(FI42,CE39:CW43,19,FALSE),IFERROR(VLOOKUP(FI42,CY39:DQ43,19,FALSE),IFERROR(VLOOKUP(FI42,DS39:EK43,19,FALSE),VLOOKUP(FI42,EM39:FE43,19,FALSE))))","v":1},{"$f":"RANK(FG42,FG40:FG43,1)+COUNTIF(FG40:FG42,FG42)-1","v":3},{"$f":"BS42","v":"Belgium"},null,null,null,null,null,null,null,null,null,null,null,null,null,null,null,null,null,null,null,null,null,null,null,null,null,39]
[null,null,null,"2024-06-22","Belgium",null,"Romania",null,"-",null,"",{"$f":"IF(VLOOKUP(E43,BS39:CB43,10,FALSE)=VLOOKUP(G43,BS39:CB43,10,FALSE),VLOOKUP(E43,BS39:CB43,10,FALSE),\"-\")","v":1},4,{"$f":"VLOOKUP(M43,FH40:FI43,2,FALSE)","v":"Romania"},{"$f":"VLOOKUP($N43,$BS$40:$BZ$43,2,FALSE)","v":0},{"$f":"VLOOKUP($N43,$BS$40:$BZ$43,3,FALSE)","v":0},{"$f":"VLOOKUP($N43,$BS$40:$BZ$43,4,FALSE)","v":0},{"$f":"VLOOKUP($N43,$BS$40:$BZ$43,5,FALSE)","v":0},{"$f":"VLOOKUP($N43,$BS$40:$BZ$43,6,FALSE)","v":0},{"$f":"VLOOKUP($N43,$BS$40:$BZ$43,7,FALSE)","v":0},{"$f":"VLOOKUP($N43,$BS$40:$BZ$43,8,FALSE)","v":0},null,null,null,null,null,null,null,null,"2024-06-22","Belgium",0,"Romania","","-","","",null,0,0,0,0,0,0,0,0,0,0,0,0,0,0,0,0,0,0,0,0,0,0,0,0,0,0,0,0,0,0,null,null,"Romania",{"$f":"(SUMIF(AE$4:AE$54,BS43,AM$4:AM$54)+SUMIF(AG$4:AG$54,BS43,AN$4:AN$54))","v":0},{"$f":"(SUMIF(AE$4:AE$54,BS43,AO$4:AO$54)+SUMIF(AG$4:AG$54,BS43,AP$4:AP$54))","v":0},{"$f":"(SUMIF(AE$4:AE$54,BS43,AQ$4:AQ$54)+SUMIF(AG$4:AG$54,BS43,AR$4:AR$54))","v":0},{"$f":"SUMIF($AE$4:$AE$54,BS43,$AH$4:$AH$54)+SUMIF($AG$4:$AG$54,BS43,$AJ$4:$AJ$54)","v":0},{"$f":"SUMIF($AE$4:$AE$54,BS43,$AJ$4:$AJ$54)+SUMIF($AG$4:$AG$54,BS43,$AH$4:$AH$54)","v":0},{"$f":"BW43-BX43","v":0},{"$f":"IFERROR(BT43*3+BU43*1,0)","v":0},"E",{"$f":"RANK(BZ43,BZ40:BZ43)","v":1},{"$f":"SUMPRODUCT((BZ40:BZ43=BZ43)*(BY40:BY43>BY43))","v":0},null,{"$f":"IF(CB43=1,BS43,)","v":"Romania"},0,0,0,0,"E",{"$f":"IF(CE43>0,RANK(CI43,CI40:CI43),)","v":1},{"$f":"IF(AND(CE43>0,COUNTIF(CK40:CK43,CK43)>1),SUMIFS($AH$4:$AH$54,$AE$4:$AE$54,BS43,$L$4:$L$54,1)+SUMIFS($AJ$4:$AJ$54,$AG$4:$AG$54,BS43,$L$4:$L$54,1)-SUMIFS($AJ$4:$AJ$54,$AE$4:$AE$54,BS43,$L$4:$L$54,1)-SUMIFS($AH$4:$AH$54,$AG$4:$AG$54,BS43,$L$4:$L$54,1),)","v":0},{"$f":"IF(AND(CE43>0,COUNTIF(CK40:CK43,CK43)>1),CK43+RANK(CL43,CL40:CL43)-1,CK43)","v":1},{"$f":"IF(AND(CE43>0,COUNTIF(CM40:CM43,CM43)>1),SUMIFS($AH$4:$AH$54,$AE$4:$AE$54,BS43,$L$4:$L$54,1)+SUMIFS($AJ$4:$AJ$54,$AG$4:$AG$54,BS43,$L$4:$L$54,1),)","v":0},{"$f":"IF(AND(CE43>0,COUNTIF(CM40:CM43,CM43)>1),CM43+RANK(CN43,CN40:CN43)-1,CM43)","v":1},1,{"$f":"IF(OR(CP43=\"\",COUNTIF(CP40:CP43,CP43)=1),\"\",$BY43)","v":0},{"$f":"IF(CP43=\"\",\"\",IF(COUNTIF(CP40:CP43,CP43)=1,CP43,CP43+RANK(CQ43,CQ40:CQ43,0)-1))","v":1},{"$f":"IF(OR(CR43=\"\",COUNTIF(CR40:CR43,CR43)=1),\"\",$BW43)","v":0},{"$f":"IF(CP43=\"\",\"\",IF(COUNTIF(CR40:CR43,CR43)=1,CR43,CR43+RANK(CS43,CS40:CS43,0)-1))","v":1},{"$f":"IF(OR(CT43=\"\",COUNTIF(CT40:CT43,CT43)=1),\"\",$BT43)","v":0},{"$f":"IF(CP43=\"\",\"\",IF(COUNTIF(CT40:CT43,CT43)=1,CT43,CT43+RANK(CU43,CU40:CU43,0)-1))","v":1},{"$f":"IF(CE43>0,BL38+RANK(CV43,CV40:CV43,1),)","v":1},null,{"$f":"IF(CB43=2,BS43,)","v":0},0,0,0,0,"E",{"$f":"IF(CY43>0,RANK(DC43,DC40:DC43)+CF38,)","v":0},{"$f":"IF(AND(CY43>0,COUNTIF(DE40:DE43,DE43)>1),SUMIFS($AH$4:$AH$54,$AE$4:$AE$54,BS43,$L$4:$L$54,2)+SUMIFS($AJ$4:$AJ$54,$AG$4:$AG$54,BS43,$L$4:$L$54,2)-SUMIFS($AJ$4:$AJ$54,$AE$4:$AE$54,BS43,$L$4:$L$54,2)-SUMIFS($AH$4:$AH$54,$AG$4:$AG$54,BS43,$L$4:$L$54,2),)","v":0},{"$f":"IF(AND(CY43>0,COUNTIF(DE40:DE43,DE43)>1),DE43+RANK(DF43,DF40:DF43)-1,DE43)","v":0},{"$f":"IF(AND(CY43>0,COUNTIF(DG40:DG43,DG43)>1),SUMIFS($AH$4:$AH$54,$AE$4:$AE$54,BS43,$L$4:$L$54,2)+SUMIFS($AJ$4:$AJ$54,$AG$4:$AG$54,BS43,$L$4:$L$54,2),)","v":0},{"$f":"IF(AND(CY43>0,COUNTIF(DG40:DG43,DG43)>1),DG43+RANK(DH43,DH40:DH43)-1,DG43)","v":0},"",{"$f":"IF(OR(DJ43=\"\",COUNTIF(DJ40:DJ43,DJ43)=1),\"\",$BY43)","v":""},{"$f":"IF(DJ43=\"\",\"\",IF(COUNTIF(DJ40:DJ43,DJ43)=1,DJ43,DJ43+RANK(DK43,DK40:DK43,0)-1))","v":""},{"$f":"IF(OR(DL43=\"\",COUNTIF(DL40:DL43,DL43)=1),\"\",$BW43)","v":""},{"$f":"IF(DJ43=\"\",\"\",IF(COUNTIF(DL40:DL43,DL43)=1,DL43,DL43+RANK(DM43,DM40:DM43,0)-1))","v":""},{"$f":"IF(OR(DN43=\"\",COUNTIF(DN40:DN43,DN43)=1),\"\",$BT43)","v":""},{"$f":"IF(DJ43=\"\",\"\",IF(COUNTIF(DN40:DN43,DN43)=1,DN43,DN43+RANK(DO43,DO40:DO43,0)-1))","v":""},{"$f":"IF(CY43>0,CF38+RANK(DP43,DP40:DP43,1),)","v":0},null,{"$f":"IF(CB43=3,BS43,)","v":0},{"$f":"(SUMIF(AE$4:AE$54,BS43,BE$4:BE$54)+SUMIF(AG$4:AG$54,BS43,BF$4:BF$54))","v":0},{"$f":"(SUMIF(AE$4:AE$54,BS43,BG$4:BG$54)+SUMIF(AG$4:AG$54,BS43,BH$4:BH$54))","v":0},{"$f":"(SUMIF(AE$4:AE$54,BS43,BI$4:BI$54)+SUMIF(AG$4:AG$54,BS43,BJ$4:BJ$54))","v":0},0,{"$f":"CA43","v":"E"},{"$f":"IF(DS43>0,RANK(DW43,DW40:DW43)+CF38+CZ38,)","v":0},{"$f":"IF(AND(DS43>0,COUNTIF(DY40:DY43,DY43)>1),SUMIFS($AH$4:$AH$54,$AE$4:$AE$54,BS43,$L$4:$L$54,3)+SUMIFS($AJ$4:$AJ$54,$AG$4:$AG$54,BS43,$L$4:$L$54,3)-SUMIFS($AJ$4:$AJ$54,$AE$4:$AE$54,BS43,$L$4:$L$54,3)-SUMIFS($AH$4:$AH$54,$AG$4:$AG$54,BS43,$L$4:$L$54,3),)","v":0},{"$f":"IF(AND(DS43>0,COUNTIF(DY40:DY43,DY43)>1),DY43+RANK(DZ43,DZ40:DZ43)-1,DY43)","v":0},{"$f":"IF(AND(DS43>0,COUNTIF(EA40:EA43,EA43)>1),SUMIFS($AH$4:$AH$54,$AE$4:$AE$54,BS43,$L$4:$L$54,3)+SUMIFS($AJ$4:$AJ$54,$AG$4:$AG$54,BS43,$L$4:$L$54,3),)","v":0},{"$f":"IF(AND(DS43>0,COUNTIF(EA40:EA43,EA43)>1),EA43+RANK(EB43,EB40:EB43)-1,EA43)","v":0},"",{"$f":"IF(OR(ED43=\"\",COUNTIF(ED40:ED43,ED43)=1),\"\",$BY43)","v":""},{"$f":"IF(ED43=\"\",\"\",IF(COUNTIF(ED40:ED43,ED43)=1,ED43,ED43+RANK(EE43,EE40:EE43,0)-1))","v":""},{"$f":"IF(OR(EF43=\"\",COUNTIF(EF40:EF43,EF43)=1),\"\",$BW43)","v":""},{"$f":"IF(ED43=\"\",\"\",IF(COUNTIF(EF40:EF43,EF43)=1,EF43,EF43+RANK(EG43,EG40:EG43,0)-1))","v":""},{"$f":"IF(OR(EH43=\"\",COUNTIF(EH40:EH43,EH43)=1),\"\",$BT43)","v":""},{"$f":"IF(ED43=\"\",\"\",IF(COUNTIF(EH40:EH43,EH43)=1,EH43,EH43+RANK(EI43,EI40:EI43,0)-1))","v":""},{"$f":"IF(DS43>0,CF38+CZ38+RANK(EJ43,EJ40:EJ43,1),)","v":0},null,{"$f":"IF(CB43=4,BS43,)","v":0},0,0,0,0,"E",{"$f":"IF(EM43>0,RANK(EQ43,EQ40:EQ43)+CF38+CZ38+DT38,)","v":0},{"$f":"IF(AND(EM43>0,COUNTIF(ES40:ES43,ES43)>1),SUMIFS($AH$4:$AH$54,$AE$4:$AE$54,BS43,$L$4:$L$54,4)+SUMIFS($AJ$4:$AJ$54,$AG$4:$AG$54,BS43,$L$4:$L$54,4)-SUMIFS($AJ$4:$AJ$54,$AE$4:$AE$54,BS43,$L$4:$L$54,4)-SUMIFS($AH$4:$AH$54,$AG$4:$AG$54,BS43,$L$4:$L$54,4),)","v":0},0,{"$f":"IF(AND(EM43>0,COUNTIF(EU40:EU43,EU43)>1),SUMIFS($AH$4:$AH$54,$AE$4:$AE$54,BS43,$L$4:$L$54,4)+SUMIFS($AJ$4:$AJ$54,$AG$4:$AG$54,BS43,$L$4:$L$54,4),)","v":0},{"$f":"IF(AND(EM43>0,COUNTIF(EU40:EU43,EU43)>1),EU43+RANK(EV43,EV40:EV43)-1,EU43)","v":0},"",{"$f":"IF(OR(EX43=\"\",COUNTIF(EX40:EX43,EX43)=1),\"\",$BY43)","v":""},{"$f":"IF(EX43=\"\",\"\",IF(COUNTIF(EX40:EX43,EX43)=1,EX43,EX43+RANK(EY43,EY40:EY43,0)-1))","v":""},{"$f":"IF(OR(EZ43=\"\",COUNTIF(EZ40:EZ43,EZ43)=1),\"\",$BW43)","v":""},{"$f":"IF(EX43=\"\",\"\",IF(COUNTIF(EZ40:EZ43,EZ43)=1,EZ43,EZ43+RANK(FA43,FA40:FA43,0)-1))","v":""},{"$f":"IF(OR(FB43=\"\",COUNTIF(FB40:FB43,FB43)=1),\"\",$BT43)","v":""},{"$f":"IF(EX43=\"\",\"\",IF(COUNTIF(FB40:FB43,FB43)=1,FB43,FB43+RANK(FC43,FC40:FC43,0)-1))","v":""},{"$f":"IF(EM43>0,CF38+CZ38+DT38+RANK(FD43,FD40:FD43,1),)","v":0},null,{"$f":"IFERROR(VLOOKUP(FI43,CE39:CW43,19,FALSE),IFERROR(VLOOKUP(FI43,CY39:DQ43,19,FALSE),IFERROR(VLOOKUP(FI43,DS39:EK43,19,FALSE),VLOOKUP(FI43,EM39:FE43,19,FALSE))))","v":1},{"$f":"RANK(FG43,FG40:FG43,1)+COUNTIF(FG40:FG43,FG43)-1","v":4},{"$f":"BS43","v":"Romania"},null,null,null,null,null,null,null,null,null,null,null,null,null,null,null,null,null,null,null,null,null,null,null,null,null,40]
[null,null,null,"2024-06-26","Slovakia","-","Romania",null,"-",null,"",{"$f":"IF(VLOOKUP(E44,BS39:CB43,10,FALSE)=VLOOKUP(G44,BS39:CB43,10,FALSE),VLOOKUP(E44,BS39:CB43,10,FALSE),\"-\")","v":1},null,{"$f":"IF(COUNTBLANK(H40:H45)+COUNTBLANK(J40:J45)=0,\"Resultat OK\",\"Fyll i resultat\")","v":"Fyll i resultat"},null,null,null,null,null,null,null,null,null,null,null,null,null,null,null,"2024-06-26","Slovakia","-","Romania","","-","","",null,0,0,0,0,0,0,0,0,0,0,0,0,0,0,0,0,0,0,0,0,0,0,0,0,0,0,0,0,0,0,null,null,null,null,null,null,null,null,null,null,null,null,null,null,null,null,null,null,null,null,null,null,null,null,null,null,null,null,null,null,null,null,null,null,null,null,null,null,null,null,null,null,null,null,null,null,null,null,null,null,null,null,null,null,null,null,null,null,null,null,null,null,null,null,null,null,null,null,null,null,null,null,null,null,null,null,null,null,null,null,null,null,null,null,null,null,null,null,null,null,null,null,null,null,null,null,null,null,null,null,null,null,null,null,null,null,null,null,null,null,null,null,null,null,null,null,null,null,null,null,null,null,41]
[null,null,null,"2024-06-26","Ukraine","-","Belgium",null,"-",null,"",{"$f":"IF(VLOOKUP(E45,BS39:CB43,10,FALSE)=VLOOKUP(G45,BS39:CB43,10,FALSE),VLOOKUP(E45,BS39:CB43,10,FALSE),\"-\")","v":1},null,null,null,null,null,null,null,null,null,null,null,null,null,null,null,null,null,"2024-06-26","Ukraine","-","Belgium","","-","","",null,0,0,0,0,0,0,0,0,0,0,0,0,0,0,0,0,0,0,0,0,0,0,0,0,0,0,0,0,0,0,null,null,null,null,null,null,null,null,null,null,null,null,null,null,null,null,null,null,null,null,null,null,null,null,null,null,null,null,null,null,null,null,null,null,null,null,null,null,null,null,null,null,null,null,null,null,null,null,null,null,null,null,null,null,null,null,null,null,null,null,null,null,null,null,null,null,null,null,null,null,null,null,null,null,null,null,null,null,null,null,null,null,null,null,null,null,null,null,null,null,null,null,null,null,null,null,null,null,null,null,null,null,null,null,null,null,null,null,null,null,null,null,null,null,null,null,null,null,null,null,null,null,42]
[null,null,null,null,null,null,null,null,null,null,null,null,null,null,null,null,null,null,null,null,null,null,null,null,null,null,null,null,null,null,null,null,null,null,null,null,null,null,null,null,null,null,null,null,null,null,null,null,null,null,null,null,null,null,null,null,null,null,null,null,null,null,null,null,null,null,null,null,null,null,null,null,null,null,null,null,null,null,null,null,null,null,null,null,null,null,null,null,null,null,null,null,null,null,null,null,null,null,null,null,null,null,null,null,null,null,null,null,null,null,null,null,null,null,null,null,null,null,null,null,null,null,null,null,null,null,null,null,null,null,null,null,null,null,null,null,null,null,null,null,null,null,null,null,null,null,null,null,null,null,null,null,null,null,null,null,null,null,null,null,null,null,null,null,null,null,null,null,null,null,null,null,null,null,null,null,null,null,null,null,null,null,null,null,null,null,null,null,null,null,43]
[null,null,null,"Group F",null,null,null,null,null,null,null,null,null,null,null,null,null,null,null,null,null,null,null,null,null,null,null,null,null,"Grupp F",null,null,null,null,null,null,null,null,null,null,null,null,null,null,null,null,null,null,null,null,null,null,null,null,null,null,null,null,null,null,null,null,null,null,null,null,null,null,null,null,"Rank 0",null,null,null,null,null,null,null,null,null,null,null,"Rank 1",{"$f":"COUNTIF(CB49:CB52,1)","v":4},null,null,null,null,null,null,null,null,null,null,null,null,null,null,null,null,null,null,"Rank 2",{"$f":"COUNTIF(CB49:CB52,2)","v":0},null,null,null,null,null,null,null,null,null,null,null,null,null,null,null,null,null,null,"Rank 3",{"$f":"COUNTIF(CB49:CB52,3)","v":0},null,null,null,null,null,null,null,null,null,null,null,null,null,null,null,null,null,null,"Rank 4",{"$f":"COUNTIF(CB49:CB52,4)","v":0},null,null,null,null,null,null,null,null,null,null,null,null,null,null,null,null,null,null,null,null,null,null,null,null,null,null,null,null,null,null,null,null,null,null,null,null,null,null,null,null,null,null,null,null,null,null,44]
[null,null,"#","Date","Match",null,null,"Result",null,null,"1X2",null,null,"Team","W","D","L","GF","GA","+/-","P",null,null,null,null,null,null,null,null,"Datum","Match",null,null,"Resultat",null,null,"Tecken","Poäng","V1","V2","O1","O2","F1","F2","V1","V2","O1","O2","F1","F2","V1","V2","O1","O2","F1","F2","V1","V2","O1","O2","F1","F2","V1","V2","O1","O2","F1","F2",null,null,"Lag","V","O","F","GM","IM","+/-","P","Grupp","Rank P","Rank +/-",null,"Lag","V","O","F","P","Grupp","Rank P","+/-","+/- rank","GM","GM rank","Rank internal","+/- all","+/- rank all","GM all","GM rank all","V all","V rank all","Rank all",null,"Lag","V","O","F","P","Grupp","Rank P","+/-","+/- rank","GM","GM rank","Rank internal","+/- all","+/- rank all","GM all","GM rank all","V all","V rank all","Rank all",null,"Lag","V","O","F","P","Grupp","Rank P","+/-","+/- rank","GM","GM rank","Rank internal","+/- all","+/- rank all","GM all","GM rank all","V all","V rank all","Rank all",null,"Lag","V","O","F","P","Grupp","Rank P","+/-","+/- rank","GM","GM rank","Rank internal","+/- all","+/- rank all","GM all","GM rank all","V all","V rank all","Rank all",null,"Rank","Rank Ties",null,null,null,null,null,null,null,null,null,null,null,null,null,null,null,null,null,null,null,null,null,null,null,null,null,null,45]
[null,null,null,"2024-06-18","Türkiye","-","Georgia",null,"-",null,{"$f":"IF(OR(ISBLANK(H49),ISBLANK(J49)),\"\",IF(H49>J49,1,IF(H49<J49,2,\"X\")))","v":""},{"$f":"IF(VLOOKUP(E49,BS48:CB52,10,FALSE)=VLOOKUP(G49,BS48:CB52,10,FALSE),VLOOKUP(E49,BS48:CB52,10,FALSE),\"-\")","v":1},1,{"$f":"VLOOKUP(M49,FH49:FI52,2,FALSE)","v":"Portugal"},{"$f":"VLOOKUP($N49,$BS$49:$BZ$52,2,FALSE)","v":0},{"$f":"VLOOKUP($N49,$BS$49:$BZ$52,3,FALSE)","v":0},{"$f":"VLOOKUP($N49,$BS$49:$BZ$52,4,FALSE)","v":0},{"$f":"VLOOKUP($N49,$BS$49:$BZ$52,5,FALSE)","v":0},{"$f":"VLOOKUP($N49,$BS$49:$BZ$52,6,FALSE)","v":0},{"$f":"VLOOKUP($N49,$BS$49:$BZ$52,7,FALSE)","v":0},{"$f":"VLOOKUP($N49,$BS$49:$BZ$52,8,FALSE)","v":0},null,null,null,null,null,null,null,null,{"$f":"D49","v":"2024-06-18"},"Türkiye","-","Georgia",{"$f":"IF(H49=\"\",\"\",H49)","v":""},"-",{"$f":"IF(J49=\"\",\"\",J49)","v":""},{"$f":"K49","v":""},null,{"$f":"IF(AH49>AJ49,1,0)","v":0},{"$f":"IF(AJ49>AH49,1,0)","v":0},{"$f":"IF(AND(AH49=AJ49,AH49<>\"\"),1,0)","v":0},{"$f":"IF(AND(AH49=AJ49,AH49<>\"\"),1,0)","v":0},{"$f":"IF(AH49<AJ49,1,0)","v":0},{"$f":"IF(AJ49<AH49,1,)","v":0},{"$f":"IF(ISERROR(VLOOKUP(AE49,CE:CE,1,FALSE)),0,1)*IF(ISERROR(VLOOKUP(AG49,CE:CE,1,FALSE)),0,1)*AM49","v":0},{"$f":"IF(ISERROR(VLOOKUP(AE49,CE:CE,1,FALSE)),0,1)*IF(ISERROR(VLOOKUP(AG49,CE:CE,1,FALSE)),0,1)*AN49","v":0},{"$f":"IF(ISERROR(VLOOKUP(AE49,CE:CE,1,FALSE)),0,1)*IF(ISERROR(VLOOKUP(AG49,CE:CE,1,FALSE)),0,1)*AO49","v":0},{"$f":"IF(ISERROR(VLOOKUP(AE49,CE:CE,1,FALSE)),0,1)*IF(ISERROR(VLOOKUP(AG49,CE:CE,1,FALSE)),0,1)*AP49","v":0},{"$f":"IF(ISERROR(VLOOKUP(AE49,CE:CE,1,FALSE)),0,1)*IF(ISERROR(VLOOKUP(AG49,CE:CE,1,FALSE)),0,1)*AQ49","v":0},{"$f":"IF(ISERROR(VLOOKUP(AE49,CE:CE,1,FALSE)),0,1)*IF(ISERROR(VLOOKUP(AG49,CE:CE,1,FALSE)),0,1)*AR49","v":0},{"$f":"IF(ISERROR(VLOOKUP(AE49,CY:CY,1,FALSE)),0,1)*IF(ISERROR(VLOOKUP(AG49,CY:CY,1,FALSE)),0,1)*AM49","v":0},{"$f":"IF(ISERROR(VLOOKUP(AE49,CY:CY,1,FALSE)),0,1)*IF(ISERROR(VLOOKUP(AG49,CY:CY,1,FALSE)),0,1)*AN49","v":0},{"$f":"IF(ISERROR(VLOOKUP(AE49,CY:CY,1,FALSE)),0,1)*IF(ISERROR(VLOOKUP(AG49,CY:CY,1,FALSE)),0,1)*AO49","v":0},{"$f":"IF(ISERROR(VLOOKUP(AE49,CY:CY,1,FALSE)),0,1)*IF(ISERROR(VLOOKUP(AG49,CY:CY,1,FALSE)),0,1)*AP49","v":0},{"$f":"IF(ISERROR(VLOOKUP(AE49,CY:CY,1,FALSE)),0,1)*IF(ISERROR(VLOOKUP(AG49,CY:CY,1,FALSE)),0,1)*AQ49","v":0},{"$f":"IF(ISERROR(VLOOKUP(AE49,CY:CY,1,FALSE)),0,1)*IF(ISERROR(VLOOKUP(AG49,CY:CY,1,FALSE)),0,1)*AR49","v":0},{"$f":"IF(ISERROR(VLOOKUP(AE49,DS:DS,1,FALSE)),0,1)*IF(ISERROR(VLOOKUP(AG49,DS:DS,1,FALSE)),0,1)*AM49","v":0},{"$f":"IF(ISERROR(VLOOKUP(AE49,DS:DS,1,FALSE)),0,1)*IF(ISERROR(VLOOKUP(AG49,DS:DS,1,FALSE)),0,1)*AN49","v":0},{"$f":"IF(ISERROR(VLOOKUP(AE49,DS:DS,1,FALSE)),0,1)*IF(ISERROR(VLOOKUP(AG49,DS:DS,1,FALSE)),0,1)*AO49","v":0},{"$f":"IF(ISERROR(VLOOKUP(AE49,DS:DS,1,FALSE)),0,1)*IF(ISERROR(VLOOKUP(AG49,DS:DS,1,FALSE)),0,1)*AP49","v":0},{"$f":"IF(ISERROR(VLOOKUP(AE49,DS:DS,1,FALSE)),0,1)*IF(ISERROR(VLOOKUP(AG49,DS:DS,1,FALSE)),0,1)*AQ49","v":0},{"$f":"IF(ISERROR(VLOOKUP(AE49,DS:DS,1,FALSE)),0,1)*IF(ISERROR(VLOOKUP(AG49,DS:DS,1,FALSE)),0,1)*AR49","v":0},{"$f":"IF(ISERROR(VLOOKUP(AE49,EM:EM,1,FALSE)),0,1)*IF(ISERROR(VLOOKUP(AG49,EM:EM,1,FALSE)),0,1)*AM49","v":0},{"$f":"IF(ISERROR(VLOOKUP(AE49,EM:EM,1,FALSE)),0,1)*IF(ISERROR(VLOOKUP(AG49,EM:EM,1,FALSE)),0,1)*AN49","v":0},{"$f":"IF(ISERROR(VLOOKUP(AE49,EM:EM,1,FALSE)),0,1)*IF(ISERROR(VLOOKUP(AG49,EM:EM,1,FALSE)),0,1)*AO49","v":0},{"$f":"IF(ISERROR(VLOOKUP(AE49,EM:EM,1,FALSE)),0,1)*IF(ISERROR(VLOOKUP(AG49,EM:EM,1,FALSE)),0,1)*AP49","v":0},{"$f":"IF(ISERROR(VLOOKUP(AE49,EM:EM,1,FALSE)),0,1)*IF(ISERROR(VLOOKUP(AG49,EM:EM,1,FALSE)),0,1)*AQ49","v":0},{"$f":"IF(ISERROR(VLOOKUP(AE49,EM:EM,1,FALSE)),0,1)*IF(ISERROR(VLOOKUP(AG49,EM:EM,1,FALSE)),0,1)*AR49","v":0},null,null,"Portugal",{"$f":"(SUMIF(AE$4:AE$54,BS49,AM$4:AM$54)+SUMIF(AG$4:AG$54,BS49,AN$4:AN$54))","v":0},{"$f":"(SUMIF(AE$4:AE$54,BS49,AO$4:AO$54)+SUMIF(AG$4:AG$54,BS49,AP$4:AP$54))","v":0},{"$f":"(SUMIF(AE$4:AE$54,BS49,AQ$4:AQ$54)+SUMIF(AG$4:AG$54,BS49,AR$4:AR$54))","v":0},{"$f":"SUMIF($AE$4:$AE$54,BS49,$AH$4:$AH$54)+SUMIF($AG$4:$AG$54,BS49,$AJ$4:$AJ$54)","v":0},{"$f":"SUMIF($AE$4:$AE$54,BS49,$AJ$4:$AJ$54)+SUMIF($AG$4:$AG$54,BS49,$AH$4:$AH$54)","v":0},{"$f":"BW49-BX49","v":0},{"$f":"IFERROR(BT49*3+BU49*1,0)","v":0},"F",{"$f":"RANK(BZ49,BZ49:BZ52)","v":1},{"$f":"SUMPRODUCT((BZ49:BZ52=BZ49)*(BY49:BY52>BY49))","v":0},null,{"$f":"IF(CB49=1,BS49,)","v":"Portugal"},{"$f":"(SUMIF($AE$4:$AE$54,$BS49,$AS$4:$AS$54)+SUMIF($AG$4:$AG$54,$BS49,$AT$4:$AT$54))","v":0},{"$f":"(SUMIF($AE$4:$AE$54,$BS49,$AU$4:$AU$54)+SUMIF($AG$4:$AG$54,$BS49,$AV$4:$AV$54))","v":0},{"$f":"(SUMIF($AE$4:$AE$54,$BS49,$AW$4:$AW$54)+SUMIF($AG$4:$AG$54,$BS49,$AX$4:$AX$54))","v":0},{"$f":"IFERROR(CF49*3+CG49*1,0)","v":0},{"$f":"CA49","v":"F"},{"$f":"IF(CE49>0,RANK(CI49,CI49:CI52),)","v":1},{"$f":"IF(AND(CE49>0,COUNTIF(CK49:CK52,CK49)>1),SUMIFS($AH$4:$AH$54,$AE$4:$AE$54,$BS49,$L$4:$L$54,1)+SUMIFS($AJ$4:$AJ$54,$AG$4:$AG$54,$BS49,$L$4:$L$54,1)-SUMIFS($AJ$4:$AJ$54,$AE$4:$AE$54,$BS49,$L$4:$L$54,1)-SUMIFS($AH$4:$AH$54,$AG$4:$AG$54,$BS49,$L$4:$L$54,1),)","v":0},{"$f":"IF(AND(CE49>0,COUNTIF(CK49:CK52,CK49)>1),CK49+RANK(CL49,CL49:CL52)-1,CK49)","v":1},{"$f":"IF(AND(CE49>0,COUNTIF(CM49:CM52,CM49)>1),SUMIFS($AH$4:$AH$54,$AE$4:$AE$54,$BS49,$L$4:$L$54,1)+SUMIFS($AJ$4:$AJ$54,$AG$4:$AG$54,$BS49,$L$4:$L$54,1),)","v":0},{"$f":"IF(AND(CE49>0,COUNTIF(CM49:CM52,CM49)>1),CM49+RANK(CN49,CN49:CN52)-1,CM49)","v":1},{"$f":"IF(CO49=0,\"\",CO49)","v":1},{"$f":"IF(OR(CP49=\"\",COUNTIF(CP49:CP52,CP49)=1),\"\",$BY49)","v":0},{"$f":"IF(CP49=\"\",\"\",IF(COUNTIF(CP49:CP52,CP49)=1,CP49,CP49+RANK(CQ49,CQ49:CQ52,0)-1))","v":1},{"$f":"IF(OR(CR49=\"\",COUNTIF(CR49:CR52,CR49)=1),\"\",$BW49)","v":0},{"$f":"IF(CP49=\"\",\"\",IF(COUNTIF(CR49:CR52,CR49)=1,CR49,CR49+RANK(CS49,CS49:CS52,0)-1))","v":1},{"$f":"IF(OR(CT49=\"\",COUNTIF(CT49:CT52,CT49)=1),\"\",$BT49)","v":0},{"$f":"IF(CP49=\"\",\"\",IF(COUNTIF(CT49:CT52,CT49)=1,CT49,CT49+RANK(CU49,CU49:CU52,0)-1))","v":1},{"$f":"IF(CE49>0,BL47+RANK(CV49,CV49:CV52,1),)","v":1},null,{"$f":"IF(CB49=2,BS49,)","v":0},{"$f":"(SUMIF($AE$4:$AE$54,$BS49,$AY$4:$AY$54)+SUMIF($AG$4:$AG$54,$BS49,$AZ$4:$AZ$54))","v":0},{"$f":"(SUMIF($AE$4:$AE$54,$BS49,$BA$4:$BA$54)+SUMIF($AG$4:$AG$54,$BS49,$BB$4:$BB$54))","v":0},{"$f":"(SUMIF($AE$4:$AE$54,$BS49,$BC$4:$BC$54)+SUMIF($AG$4:$AG$54,$BS49,$BD$4:$BD$54))","v":0},{"$f":"IFERROR(CZ49*3+DA49*1,0)","v":0},{"$f":"$CA49","v":"F"},{"$f":"IF(CY49>0,RANK(DC49,DC49:DC52)+CF47,)","v":0},{"$f":"IF(AND(CY49>0,COUNTIF(DE49:DE52,DE49)>1),SUMIFS($AH$4:$AH$54,$AE$4:$AE$54,$BS49,$L$4:$L$54,2)+SUMIFS($AJ$4:$AJ$54,$AG$4:$AG$54,$BS49,$L$4:$L$54,2)-SUMIFS($AJ$4:$AJ$54,$AE$4:$AE$54,$BS49,$L$4:$L$54,2)-SUMIFS($AH$4:$AH$54,$AG$4:$AG$54,$BS49,$L$4:$L$54,2),)","v":0},{"$f":"IF(AND(CY49>0,COUNTIF(DE49:DE52,DE49)>1),DE49+RANK(DF49,DF49:DF52)-1,DE49)","v":0},{"$f":"IF(AND(CY49>0,COUNTIF(DG49:DG52,DG49)>1),SUMIFS($AH$4:$AH$54,$AE$4:$AE$54,$BS49,$L$4:$L$54,2)+SUMIFS($AJ$4:$AJ$54,$AG$4:$AG$54,$BS49,$L$4:$L$54,2),)","v":0},{"$f":"IF(AND(CY49>0,COUNTIF(DG49:DG52,DG49)>1),DG49+RANK(DH49,DH49:DH52)-1,DG49)","v":0},{"$f":"IF(DI49=0,\"\",DI49)","v":""},{"$f":"IF(OR(DJ49=\"\",COUNTIF(DJ49:DJ52,DJ49)=1),\"\",$BY49)","v":""},{"$f":"IF(DJ49=\"\",\"\",IF(COUNTIF(DJ49:DJ52,DJ49)=1,DJ49,DJ49+RANK(DK49,DK49:DK52,0)-1))","v":""},{"$f":"IF(OR(DL49=\"\",COUNTIF(DL49:DL52,DL49)=1),\"\",$BW49)","v":""},{"$f":"IF(DJ49=\"\",\"\",IF(COUNTIF(DL49:DL52,DL49)=1,DL49,DL49+RANK(DM49,DM49:DM52,0)-1))","v":""},{"$f":"IF(OR(DN49=\"\",COUNTIF(DN49:DN52,DN49)=1),\"\",$BT49)","v":""},{"$f":"IF(DJ49=\"\",\"\",IF(COUNTIF(DN49:DN52,DN49)=1,DN49,DN49+RANK(DO49,DO49:DO52,0)-1))","v":""},{"$f":"IF(CY49>0,CF47+RANK(DP49,DP49:DP52,1),)","v":0},null,{"$f":"IF(CB49=3,BS49,)","v":0},{"$f":"(SUMIF($AE$4:$AE$54,BS49,$BE$4:$BE$54)+SUMIF($AG$4:$AG$54,BS49,$BF$4:$BF$54))","v":0},{"$f":"(SUMIF($AE$4:$AE$54,BS49,$BG$4:$BG$54)+SUMIF($AG$4:$AG$54,BS49,$BH$4:$BH$54))","v":0},{"$f":"(SUMIF($AE$4:$AE$54,BS49,$BI$4:$BI$54)+SUMIF($AG$4:$AG$54,BS49,$BJ$4:$BJ$54))","v":0},{"$f":"IFERROR(DT49*3+DU49*1,0)","v":0},{"$f":"CA49","v":"F"},{"$f":"IF(DS49>0,RANK(DW49,DW49:DW52)+CF47+CZ47,)","v":0},{"$f":"IF(AND(DS49>0,COUNTIF(DY49:DY52,DY49)>1),SUMIFS($AH$4:$AH$54,$AE$4:$AE$54,$BS49,$L$4:$L$54,3)+SUMIFS($AJ$4:$AJ$54,$AG$4:$AG$54,$BS49,$L$4:$L$54,3)-SUMIFS($AJ$4:$AJ$54,$AE$4:$AE$54,$BS49,$L$4:$L$54,3)-SUMIFS($AH$4:$AH$54,$AG$4:$AG$54,$BS49,$L$4:$L$54,3),)","v":0},{"$f":"IF(AND(DS49>0,COUNTIF(DY49:DY52,DY49)>1),DY49+RANK(DZ49,DZ49:DZ52)-1,DY49)","v":0},{"$f":"IF(AND(DS49>0,COUNTIF(EA49:EA52,EA49)>1),SUMIFS($AH$4:$AH$54,$AE$4:$AE$54,$BS49,$L$4:$L$54,3)+SUMIFS($AJ$4:$AJ$54,$AG$4:$AG$54,$BS49,$L$4:$L$54,3),)","v":0},{"$f":"IF(AND(DS49>0,COUNTIF(EA49:EA52,EA49)>1),EA49+RANK(EB49,EB49:EB52)-1,EA49)","v":0},{"$f":"IF(EC49=0,\"\",EC49)","v":""},{"$f":"IF(OR(ED49=\"\",COUNTIF(ED49:ED52,ED49)=1),\"\",$BY49)","v":""},{"$f":"IF(ED49=\"\",\"\",IF(COUNTIF(ED49:ED52,ED49)=1,ED49,ED49+RANK(EE49,EE49:EE52,0)-1))","v":""},{"$f":"IF(OR(EF49=\"\",COUNTIF(EF49:EF52,EF49)=1),\"\",$BW49)","v":""},{"$f":"IF(ED49=\"\",\"\",IF(COUNTIF(EF49:EF52,EF49)=1,EF49,EF49+RANK(EG49,EG49:EG52,0)-1))","v":""},{"$f":"IF(OR(EH49=\"\",COUNTIF(EH49:EH52,EH49)=1),\"\",$BT49)","v":""},{"$f":"IF(ED49=\"\",\"\",IF(COUNTIF(EH49:EH52,EH49)=1,EH49,EH49+RANK(EI49,EI49:EI52,0)-1))","v":""},{"$f":"IF(DS49>0,CF47+CZ47+RANK(EJ49,EJ49:EJ52,1),)","v":0},null,{"$f":"IF(CB49=4,BS49,)","v":0},{"$f":"(SUMIF($AE$4:$AE$54,$BS49,$BK$4:$BK$54)+SUMIF($AG$4:$AG$54,$BS49,$BL$4:$BL$54))","v":0},{"$f":"(SUMIF($AE$4:$AE$54,$BS49,$BM$4:$BM$54)+SUMIF($AG$4:$AG$54,$BS49,$BN$4:$BN$54))","v":0},{"$f":"(SUMIF($AE$4:$AE$54,$BS49,$BO$4:$BO$54)+SUMIF($AG$4:$AG$54,$BS49,$BP$4:$BP$54))","v":0},{"$f":"IFERROR(EN49*3+EO49*1,0)","v":0},{"$f":"$CA49","v":"F"},{"$f":"IF(EM49>0,RANK(EQ49,EQ49:EQ52)+CF47+CZ47+DT47,)","v":0},{"$f":"IF(AND(EM49>0,COUNTIF(ES49:ES52,ES49)>1),SUMIFS($AH$4:$AH$54,$AE$4:$AE$54,$BS49,$L$4:$L$54,4)+SUMIFS($AJ$4:$AJ$54,$AG$4:$AG$54,$BS49,$L$4:$L$54,4)-SUMIFS($AJ$4:$AJ$54,$AE$4:$AE$54,$BS49,$L$4:$L$54,4)-SUMIFS($AH$4:$AH$54,$AG$4:$AG$54,$BS49,$L$4:$L$54,4),)","v":0},{"$f":"IF(AND(EM49>0,COUNTIF($ES$4:$ES$7,ES49)>1),ES49+RANK(ET49,$ET$4:$ET$7)-1,ES49)","v":0},{"$f":"IF(AND(EM49>0,COUNTIF(EU49:EU52,EU49)>1),SUMIFS($AH$4:$AH$54,$AE$4:$AE$54,$BS49,$L$4:$L$54,4)+SUMIFS($AJ$4:$AJ$54,$AG$4:$AG$54,$BS49,$L$4:$L$54,4),)","v":0},{"$f":"IF(AND(EM49>0,COUNTIF(EU49:EU52,EU49)>1),EU49+RANK(EV49,EV49:EV52)-1,EU49)","v":0},{"$f":"IF(EW49=0,\"\",EW49)","v":""},{"$f":"IF(OR(EX49=\"\",COUNTIF(EX49:EX52,EX49)=1),\"\",$BY49)","v":""},{"$f":"IF(EX49=\"\",\"\",IF(COUNTIF(EX49:EX52,EX49)=1,EX49,EX49+RANK(EY49,EY49:EY52,0)-1))","v":""},{"$f":"IF(OR(EZ49=\"\",COUNTIF(EZ49:EZ52,EZ49)=1),\"\",$BW49)","v":""},{"$f":"IF(EX49=\"\",\"\",IF(COUNTIF(EZ49:EZ52,EZ49)=1,EZ49,EZ49+RANK(FA49,FA49:FA52,0)-1))","v":""},{"$f":"IF(OR(FB49=\"\",COUNTIF(FB49:FB52,FB49)=1),\"\",$BT49)","v":""},{"$f":"IF(EX49=\"\",\"\",IF(COUNTIF(FB49:FB52,FB49)=1,FB49,FB49+RANK(FC49,FC49:FC52,0)-1))","v":""},{"$f":"IF(EM49>0,CF47+CZ47+DT47+RANK(FD49,FD49:FD52,1),)","v":0},null,{"$f":"IFERROR(VLOOKUP(FI49,CE48:CW52,19,FALSE),IFERROR(VLOOKUP(FI49,CY48:DQ52,19,FALSE),IFERROR(VLOOKUP(FI49,DS48:EK52,19,FALSE),VLOOKUP(FI49,EM48:FE52,19,FALSE))))","v":1},{"$f":"RANK(FG49,FG49:FG52,1)+COUNTIF(FG49:FG49,FG49)-1","v":1},{"$f":"BS49","v":"Portugal"},null,null,null,null,null,null,null,null,null,null,null,null,null,null,null,null,null,null,null,null,null,null,null,null,null,46]
[null,null,null,"2024-06-18","Portugal","-","Czechia",null,"-",null,{"$f":"IF(OR(ISBLANK(H50),ISBLANK(J50)),\"\",IF(H50>J50,1,IF(H50<J50,2,\"X\")))","v":""},{"$f":"IF(VLOOKUP(E50,BS48:CB52,10,FALSE)=VLOOKUP(G50,BS48:CB52,10,FALSE),VLOOKUP(E50,BS48:CB52,10,FALSE),\"-\")","v":1},2,{"$f":"VLOOKUP(M50,FH49:FI52,2,FALSE)","v":"Czechia"},{"$f":"VLOOKUP($N50,$BS$49:$BZ$52,2,FALSE)","v":0},{"$f":"VLOOKUP($N50,$BS$49:$BZ$52,3,FALSE)","v":0},{"$f":"VLOOKUP($N50,$BS$49:$BZ$52,4,FALSE)","v":0},{"$f":"VLOOKUP($N50,$BS$49:$BZ$52,5,FALSE)","v":0},{"$f":"VLOOKUP($N50,$BS$49:$BZ$52,6,FALSE)","v":0},{"$f":"VLOOKUP($N50,$BS$49:$BZ$52,7,FALSE)","v":0},{"$f":"VLOOKUP($N50,$BS$49:$BZ$52,8,FALSE)","v":0},null,null,null,null,null,null,null,null,"2024-06-18","Portugal","-","Czechia","","-","","",null,0,0,0,0,0,0,0,0,0,0,0,0,0,0,0,0,0,0,0,0,0,0,0,0,0,0,0,0,0,0,null,null,"Czechia",{"$f":"(SUMIF(AE$4:AE$54,BS50,AM$4:AM$54)+SUMIF(AG$4:AG$54,BS50,AN$4:AN$54))","v":0},{"$f":"(SUMIF(AE$4:AE$54,BS50,AO$4:AO$54)+SUMIF(AG$4:AG$54,BS50,AP$4:AP$54))","v":0},{"$f":"(SUMIF(AE$4:AE$54,BS50,AQ$4:AQ$54)+SUMIF(AG$4:AG$54,BS50,AR$4:AR$54))","v":0},{"$f":"SUMIF($AE$4:$AE$54,BS50,$AH$4:$AH$54)+SUMIF($AG$4:$AG$54,BS50,$AJ$4:$AJ$54)","v":0},{"$f":"SUMIF($AE$4:$AE$54,BS50,$AJ$4:$AJ$54)+SUMIF($AG$4:$AG$54,BS50,$AH$4:$AH$54)","v":0},{"$f":"BW50-BX50","v":0},{"$f":"IFERROR(BT50*3+BU50*1,0)","v":0},"F",{"$f":"RANK(BZ50,BZ49:BZ52)","v":1},{"$f":"SUMPRODUCT((BZ49:BZ52=BZ50)*(BY49:BY52>BY50))","v":0},null,{"$f":"IF(CB50=1,BS50,)","v":"Czechia"},{"$f":"(SUMIF($AE$4:$AE$54,$BS50,$AS$4:$AS$54)+SUMIF($AG$4:$AG$54,$BS50,$AT$4:$AT$54))","v":0},{"$f":"(SUMIF($AE$4:$AE$54,$BS50,$AU$4:$AU$54)+SUMIF($AG$4:$AG$54,$BS50,$AV$4:$AV$54))","v":0},{"$f":"(SUMIF($AE$4:$AE$54,$BS50,$AW$4:$AW$54)+SUMIF($AG$4:$AG$54,$BS50,$AX$4:$AX$54))","v":0},{"$f":"IFERROR(CF50*3+CG50*1,0)","v":0},{"$f":"CA50","v":"F"},{"$f":"IF(CE50>0,RANK(CI50,CI49:CI52),)","v":1},{"$f":"IF(AND(CE50>0,COUNTIF(CK49:CK52,CK50)>1),SUMIFS($AH$4:$AH$54,$AE$4:$AE$54,BS50,$L$4:$L$54,1)+SUMIFS($AJ$4:$AJ$54,$AG$4:$AG$54,BS50,$L$4:$L$54,1)-SUMIFS($AJ$4:$AJ$54,$AE$4:$AE$54,BS50,$L$4:$L$54,1)-SUMIFS($AH$4:$AH$54,$AG$4:$AG$54,BS50,$L$4:$L$54,1),)","v":0},{"$f":"IF(AND(CE50>0,COUNTIF(CK49:CK52,CK50)>1),CK50+RANK(CL50,CL49:CL52)-1,CK50)","v":1},{"$f":"IF(AND(CE50>0,COUNTIF(CM49:CM52,CM50)>1),SUMIFS($AH$4:$AH$54,$AE$4:$AE$54,BS50,$L$4:$L$54,1)+SUMIFS($AJ$4:$AJ$54,$AG$4:$AG$54,BS50,$L$4:$L$54,1),)","v":0},{"$f":"IF(AND(CE50>0,COUNTIF(CM49:CM52,CM50)>1),CM50+RANK(CN50,CN49:CN52)-1,CM50)","v":1},{"$f":"IF(CO50=0,\"\",CO50)","v":1},{"$f":"IF(OR(CP50=\"\",COUNTIF(CP49:CP52,CP50)=1),\"\",$BY50)","v":0},{"$f":"IF(CP50=\"\",\"\",IF(COUNTIF(CP49:CP52,CP50)=1,CP50,CP50+RANK(CQ50,CQ49:CQ52,0)-1))","v":1},{"$f":"IF(OR(CR50=\"\",COUNTIF(CR49:CR52,CR50)=1),\"\",$BW50)","v":0},{"$f":"IF(CP50=\"\",\"\",IF(COUNTIF(CR49:CR52,CR50)=1,CR50,CR50+RANK(CS50,CS49:CS52,0)-1))","v":1},{"$f":"IF(OR(CT50=\"\",COUNTIF(CT49:CT52,CT50)=1),\"\",$BT50)","v":0},{"$f":"IF(CP50=\"\",\"\",IF(COUNTIF(CT49:CT52,CT50)=1,CT50,CT50+RANK(CU50,CU49:CU52,0)-1))","v":1},{"$f":"IF(CE50>0,BL47+RANK(CV50,CV49:CV52,1),)","v":1},null,{"$f":"IF(CB50=2,BS50,)","v":0},{"$f":"(SUMIF($AE$4:$AE$54,$BS50,$AY$4:$AY$54)+SUMIF($AG$4:$AG$54,$BS50,$AZ$4:$AZ$54))","v":0},{"$f":"(SUMIF($AE$4:$AE$54,$BS50,$BA$4:$BA$54)+SUMIF($AG$4:$AG$54,$BS50,$BB$4:$BB$54))","v":0},{"$f":"(SUMIF($AE$4:$AE$54,$BS50,$BC$4:$BC$54)+SUMIF($AG$4:$AG$54,$BS50,$BD$4:$BD$54))","v":0},{"$f":"IFERROR(CZ50*3+DA50*1,0)","v":0},{"$f":"$CA50","v":"F"},{"$f":"IF(CY50>0,RANK(DC50,DC49:DC52)+CF47,)","v":0},{"$f":"IF(AND(CY50>0,COUNTIF(DE49:DE52,DE50)>1),SUMIFS($AH$4:$AH$54,$AE$4:$AE$54,BS50,$L$4:$L$54,2)+SUMIFS($AJ$4:$AJ$54,$AG$4:$AG$54,BS50,$L$4:$L$54,2)-SUMIFS($AJ$4:$AJ$54,$AE$4:$AE$54,BS50,$L$4:$L$54,2)-SUMIFS($AH$4:$AH$54,$AG$4:$AG$54,BS50,$L$4:$L$54,2),)","v":0},{"$f":"IF(AND(CY50>0,COUNTIF(DE49:DE52,DE50)>1),DE50+RANK(DF50,DF49:DF52)-1,DE50)","v":0},{"$f":"IF(AND(CY50>0,COUNTIF(DG49:DG52,DG50)>1),SUMIFS($AH$4:$AH$54,$AE$4:$AE$54,BS50,$L$4:$L$54,2)+SUMIFS($AJ$4:$AJ$54,$AG$4:$AG$54,BS50,$L$4:$L$54,2),)","v":0},{"$f":"IF(AND(CY50>0,COUNTIF(DG49:DG52,DG50)>1),DG50+RANK(DH50,DH49:DH52)-1,DG50)","v":0},{"$f":"IF(DI50=0,\"\",DI50)","v":""},{"$f":"IF(OR(DJ50=\"\",COUNTIF(DJ49:DJ52,DJ50)=1),\"\",$BY50)","v":""},{"$f":"IF(DJ50=\"\",\"\",IF(COUNTIF(DJ49:DJ52,DJ50)=1,DJ50,DJ50+RANK(DK50,DK49:DK52,0)-1))","v":""},{"$f":"IF(OR(DL50=\"\",COUNTIF(DL49:DL52,DL50)=1),\"\",$BW50)","v":""},{"$f":"IF(DJ50=\"\",\"\",IF(COUNTIF(DL49:DL52,DL50)=1,DL50,DL50+RANK(DM50,DM49:DM52,0)-1))","v":""},{"$f":"IF(OR(DN50=\"\",COUNTIF(DN49:DN52,DN50)=1),\"\",$BT50)","v":""},{"$f":"IF(DJ50=\"\",\"\",IF(COUNTIF(DN49:DN52,DN50)=1,DN50,DN50+RANK(DO50,DO49:DO52,0)-1))","v":""},{"$f":"IF(CY50>0,CF47+RANK(DP50,DP49:DP52,1),)","v":0},null,{"$f":"IF(CB50=3,BS50,)","v":0},{"$f":"(SUMIF(AE$4:AE$54,BS50,BE$4:BE$54)+SUMIF(AG$4:AG$54,BS50,BF$4:BF$54))","v":0},{"$f":"(SUMIF(AE$4:AE$54,BS50,BG$4:BG$54)+SUMIF(AG$4:AG$54,BS50,BH$4:BH$54))","v":0},{"$f":"(SUMIF(AE$4:AE$54,BS50,BI$4:BI$54)+SUMIF(AG$4:AG$54,BS50,BJ$4:BJ$54))","v":0},{"$f":"IFERROR(DT50*3+DU50*1,0)","v":0},{"$f":"CA50","v":"F"},{"$f":"IF(DS50>0,RANK(DW50,DW49:DW52)+CF47+CZ47,)","v":0},{"$f":"IF(AND(DS50>0,COUNTIF(DY49:DY52,DY50)>1),SUMIFS($AH$4:$AH$54,$AE$4:$AE$54,BS50,$L$4:$L$54,3)+SUMIFS($AJ$4:$AJ$54,$AG$4:$AG$54,BS50,$L$4:$L$54,3)-SUMIFS($AJ$4:$AJ$54,$AE$4:$AE$54,BS50,$L$4:$L$54,3)-SUMIFS($AH$4:$AH$54,$AG$4:$AG$54,BS50,$L$4:$L$54,3),)","v":0},{"$f":"IF(AND(DS50>0,COUNTIF(DY49:DY52,DY50)>1),DY50+RANK(DZ50,DZ49:DZ52)-1,DY50)","v":0},{"$f":"IF(AND(DS50>0,COUNTIF(EA49:EA52,EA50)>1),SUMIFS($AH$4:$AH$54,$AE$4:$AE$54,BS50,$L$4:$L$54,3)+SUMIFS($AJ$4:$AJ$54,$AG$4:$AG$54,BS50,$L$4:$L$54,3),)","v":0},{"$f":"IF(AND(DS50>0,COUNTIF(EA49:EA52,EA50)>1),EA50+RANK(EB50,EB49:EB52)-1,EA50)","v":0},{"$f":"IF(EC50=0,\"\",EC50)","v":""},{"$f":"IF(OR(ED50=\"\",COUNTIF(ED49:ED52,ED50)=1),\"\",$BY50)","v":""},{"$f":"IF(ED50=\"\",\"\",IF(COUNTIF(ED49:ED52,ED50)=1,ED50,ED50+RANK(EE50,EE49:EE52,0)-1))","v":""},{"$f":"IF(OR(EF50=\"\",COUNTIF(EF49:EF52,EF50)=1),\"\",$BW50)","v":""},{"$f":"IF(ED50=\"\",\"\",IF(COUNTIF(EF49:EF52,EF50)=1,EF50,EF50+RANK(EG50,EG49:EG52,0)-1))","v":""},{"$f":"IF(OR(EH50=\"\",COUNTIF(EH49:EH52,EH50)=1),\"\",$BT50)","v":""},{"$f":"IF(ED50=\"\",\"\",IF(COUNTIF(EH49:EH52,EH50)=1,EH50,EH50+RANK(EI50,EI49:EI52,0)-1))","v":""},{"$f":"IF(DS50>0,CF47+CZ47+RANK(EJ50,EJ49:EJ52,1),)","v":0},null,{"$f":"IF(CB50=4,BS50,)","v":0},{"$f":"(SUMIF($AE$4:$AE$54,$BS50,$BK$4:$BK$54)+SUMIF($AG$4:$AG$54,$BS50,$BL$4:$BL$54))","v":0},{"$f":"(SUMIF($AE$4:$AE$54,$BS50,$BM$4:$BM$54)+SUMIF($AG$4:$AG$54,$BS50,$BN$4:$BN$54))","v":0},{"$f":"(SUMIF($AE$4:$AE$54,$BS50,$BO$4:$BO$54)+SUMIF($AG$4:$AG$54,$BS50,$BP$4:$BP$54))","v":0},{"$f":"IFERROR(EN50*3+EO50*1,0)","v":0},{"$f":"$CA50","v":"F"},{"$f":"IF(EM50>0,RANK(EQ50,EQ49:EQ52)+CF47+CZ47+DT47,)","v":0},{"$f":"IF(AND(EM50>0,COUNTIF(ES49:ES52,ES50)>1),SUMIFS($AH$4:$AH$54,$AE$4:$AE$54,BS50,$L$4:$L$54,4)+SUMIFS($AJ$4:$AJ$54,$AG$4:$AG$54,BS50,$L$4:$L$54,4)-SUMIFS($AJ$4:$AJ$54,$AE$4:$AE$54,BS50,$L$4:$L$54,4)-SUMIFS($AH$4:$AH$54,$AG$4:$AG$54,BS50,$L$4:$L$54,4),)","v":0},{"$f":"IF(AND(EM50>0,COUNTIF($ES$4:$ES$7,ES50)>1),ES50+RANK(ET50,$ET$4:$ET$7)-1,ES50)","v":0},{"$f":"IF(AND(EM50>0,COUNTIF(EU49:EU52,EU50)>1),SUMIFS($AH$4:$AH$54,$AE$4:$AE$54,BS50,$L$4:$L$54,4)+SUMIFS($AJ$4:$AJ$54,$AG$4:$AG$54,BS50,$L$4:$L$54,4),)","v":0},{"$f":"IF(AND(EM50>0,COUNTIF(EU49:EU52,EU50)>1),EU50+RANK(EV50,EV49:EV52)-1,EU50)","v":0},{"$f":"IF(EW50=0,\"\",EW50)","v":""},{"$f":"IF(OR(EX50=\"\",COUNTIF(EX49:EX52,EX50)=1),\"\",$BY50)","v":""},{"$f":"IF(EX50=\"\",\"\",IF(COUNTIF(EX49:EX52,EX50)=1,EX50,EX50+RANK(EY50,EY49:EY52,0)-1))","v":""},{"$f":"IF(OR(EZ50=\"\",COUNTIF(EZ49:EZ52,EZ50)=1),\"\",$BW50)","v":""},{"$f":"IF(EX50=\"\",\"\",IF(COUNTIF(EZ49:EZ52,EZ50)=1,EZ50,EZ50+RANK(FA50,FA49:FA52,0)-1))","v":""},{"$f":"IF(OR(FB50=\"\",COUNTIF(FB49:FB52,FB50)=1),\"\",$BT50)","v":""},{"$f":"IF(EX50=\"\",\"\",IF(COUNTIF(FB49:FB52,FB50)=1,FB50,FB50+RANK(FC50,FC49:FC52,0)-1))","v":""},{"$f":"IF(EM50>0,CF47+CZ47+DT47+RANK(FD50,FD49:FD52,1),)","v":0},null,{"$f":"IFERROR(VLOOKUP(FI50,CE48:CW52,19,FALSE),IFERROR(VLOOKUP(FI50,CY48:DQ52,19,FALSE),IFERROR(VLOOKUP(FI50,DS48:EK52,19,FALSE),VLOOKUP(FI50,EM48:FE52,19,FALSE))))","v":1},{"$f":"RANK(FG50,FG49:FG52,1)+COUNTIF(FG49:FG50,FG50)-1","v":2},{"$f":"BS50","v":"Czechia"},null,null,null,null,null,null,null,null,null,null,null,null,null,null,null,null,null,null,null,null,null,null,null,null,null,47]
[null,null,null,"2024-06-22","Georgia","-","Czechia",null,"-",null,"",{"$f":"IF(VLOOKUP(E51,BS48:CB52,10,FALSE)=VLOOKUP(G51,BS48:CB52,10,FALSE),VLOOKUP(E51,BS48:CB52,10,FALSE),\"-\")","v":1},3,{"$f":"VLOOKUP(M51,FH49:FI52,2,FALSE)","v":"Georgia"},{"$f":"VLOOKUP($N51,$BS$49:$BZ$52,2,FALSE)","v":0},{"$f":"VLOOKUP($N51,$BS$49:$BZ$52,3,FALSE)","v":0},{"$f":"VLOOKUP($N51,$BS$49:$BZ$52,4,FALSE)","v":0},{"$f":"VLOOKUP($N51,$BS$49:$BZ$52,5,FALSE)","v":0},{"$f":"VLOOKUP($N51,$BS$49:$BZ$52,6,FALSE)","v":0},{"$f":"VLOOKUP($N51,$BS$49:$BZ$52,7,FALSE)","v":0},{"$f":"VLOOKUP($N51,$BS$49:$BZ$52,8,FALSE)","v":0},null,null,null,null,null,null,null,null,"2024-06-22","Georgia","-","Czechia","","-","","",null,0,0,0,0,0,0,0,0,0,0,0,0,0,0,0,0,0,0,0,0,0,0,0,0,0,0,0,0,0,0,null,null,"Georgia",{"$f":"(SUMIF(AE$4:AE$54,BS51,AM$4:AM$54)+SUMIF(AG$4:AG$54,BS51,AN$4:AN$54))","v":0},{"$f":"(SUMIF(AE$4:AE$54,BS51,AO$4:AO$54)+SUMIF(AG$4:AG$54,BS51,AP$4:AP$54))","v":0},{"$f":"(SUMIF(AE$4:AE$54,BS51,AQ$4:AQ$54)+SUMIF(AG$4:AG$54,BS51,AR$4:AR$54))","v":0},{"$f":"SUMIF($AE$4:$AE$54,BS51,$AH$4:$AH$54)+SUMIF($AG$4:$AG$54,BS51,$AJ$4:$AJ$54)","v":0},{"$f":"SUMIF($AE$4:$AE$54,BS51,$AJ$4:$AJ$54)+SUMIF($AG$4:$AG$54,BS51,$AH$4:$AH$54)","v":0},{"$f":"BW51-BX51","v":0},{"$f":"IFERROR(BT51*3+BU51*1,0)","v":0},"F",{"$f":"RANK(BZ51,BZ49:BZ52)","v":1},{"$f":"SUMPRODUCT((BZ49:BZ52=BZ51)*(BY49:BY52>BY51))","v":0},null,{"$f":"IF(CB51=1,BS51,)","v":"Georgia"},0,0,0,0,"F",{"$f":"IF(CE51>0,RANK(CI51,CI49:CI52),)","v":1},{"$f":"IF(AND(CE51>0,COUNTIF(CK49:CK52,CK51)>1),SUMIFS($AH$4:$AH$54,$AE$4:$AE$54,BS51,$L$4:$L$54,1)+SUMIFS($AJ$4:$AJ$54,$AG$4:$AG$54,BS51,$L$4:$L$54,1)-SUMIFS($AJ$4:$AJ$54,$AE$4:$AE$54,BS51,$L$4:$L$54,1)-SUMIFS($AH$4:$AH$54,$AG$4:$AG$54,BS51,$L$4:$L$54,1),)","v":0},{"$f":"IF(AND(CE51>0,COUNTIF(CK49:CK52,CK51)>1),CK51+RANK(CL51,CL49:CL52)-1,CK51)","v":1},{"$f":"IF(AND(CE51>0,COUNTIF(CM49:CM52,CM51)>1),SUMIFS($AH$4:$AH$54,$AE$4:$AE$54,BS51,$L$4:$L$54,1)+SUMIFS($AJ$4:$AJ$54,$AG$4:$AG$54,BS51,$L$4:$L$54,1),)","v":0},{"$f":"IF(AND(CE51>0,COUNTIF(CM49:CM52,CM51)>1),CM51+RANK(CN51,CN49:CN52)-1,CM51)","v":1},1,{"$f":"IF(OR(CP51=\"\",COUNTIF(CP49:CP52,CP51)=1),\"\",$BY51)","v":0},{"$f":"IF(CP51=\"\",\"\",IF(COUNTIF(CP49:CP52,CP51)=1,CP51,CP51+RANK(CQ51,CQ49:CQ52,0)-1))","v":1},{"$f":"IF(OR(CR51=\"\",COUNTIF(CR49:CR52,CR51)=1),\"\",$BW51)","v":0},{"$f":"IF(CP51=\"\",\"\",IF(COUNTIF(CR49:CR52,CR51)=1,CR51,CR51+RANK(CS51,CS49:CS52,0)-1))","v":1},{"$f":"IF(OR(CT51=\"\",COUNTIF(CT49:CT52,CT51)=1),\"\",$BT51)","v":0},{"$f":"IF(CP51=\"\",\"\",IF(COUNTIF(CT49:CT52,CT51)=1,CT51,CT51+RANK(CU51,CU49:CU52,0)-1))","v":1},{"$f":"IF(CE51>0,BL47+RANK(CV51,CV49:CV52,1),)","v":1},null,{"$f":"IF(CB51=2,BS51,)","v":0},0,0,0,0,"F",{"$f":"IF(CY51>0,RANK(DC51,DC49:DC52)+CF47,)","v":0},{"$f":"IF(AND(CY51>0,COUNTIF(DE49:DE52,DE51)>1),SUMIFS($AH$4:$AH$54,$AE$4:$AE$54,BS51,$L$4:$L$54,2)+SUMIFS($AJ$4:$AJ$54,$AG$4:$AG$54,BS51,$L$4:$L$54,2)-SUMIFS($AJ$4:$AJ$54,$AE$4:$AE$54,BS51,$L$4:$L$54,2)-SUMIFS($AH$4:$AH$54,$AG$4:$AG$54,BS51,$L$4:$L$54,2),)","v":0},{"$f":"IF(AND(CY51>0,COUNTIF(DE49:DE52,DE51)>1),DE51+RANK(DF51,DF49:DF52)-1,DE51)","v":0},{"$f":"IF(AND(CY51>0,COUNTIF(DG49:DG52,DG51)>1),SUMIFS($AH$4:$AH$54,$AE$4:$AE$54,BS51,$L$4:$L$54,2)+SUMIFS($AJ$4:$AJ$54,$AG$4:$AG$54,BS51,$L$4:$L$54,2),)","v":0},{"$f":"IF(AND(CY51>0,COUNTIF(DG49:DG52,DG51)>1),DG51+RANK(DH51,DH49:DH52)-1,DG51)","v":0},"",{"$f":"IF(OR(DJ51=\"\",COUNTIF(DJ49:DJ52,DJ51)=1),\"\",$BY51)","v":""},{"$f":"IF(DJ51=\"\",\"\",IF(COUNTIF(DJ49:DJ52,DJ51)=1,DJ51,DJ51+RANK(DK51,DK49:DK52,0)-1))","v":""},{"$f":"IF(OR(DL51=\"\",COUNTIF(DL49:DL52,DL51)=1),\"\",$BW51)","v":""},{"$f":"IF(DJ51=\"\",\"\",IF(COUNTIF(DL49:DL52,DL51)=1,DL51,DL51+RANK(DM51,DM49:DM52,0)-1))","v":""},{"$f":"IF(OR(DN51=\"\",COUNTIF(DN49:DN52,DN51)=1),\"\",$BT51)","v":""},{"$f":"IF(DJ51=\"\",\"\",IF(COUNTIF(DN49:DN52,DN51)=1,DN51,DN51+RANK(DO51,DO49:DO52,0)-1))","v":""},{"$f":"IF(CY51>0,CF47+RANK(DP51,DP49:DP52,1),)","v":0},null,{"$f":"IF(CB51=3,BS51,)","v":0},{"$f":"(SUMIF(AE$4:AE$54,BS51,BE$4:BE$54)+SUMIF(AG$4:AG$54,BS51,BF$4:BF$54))","v":0},{"$f":"(SUMIF(AE$4:AE$54,BS51,BG$4:BG$54)+SUMIF(AG$4:AG$54,BS51,BH$4:BH$54))","v":0},{"$f":"(SUMIF(AE$4:AE$54,BS51,BI$4:BI$54)+SUMIF(AG$4:AG$54,BS51,BJ$4:BJ$54))","v":0},0,{"$f":"CA51","v":"F"},{"$f":"IF(DS51>0,RANK(DW51,DW49:DW52)+CF47+CZ47,)","v":0},{"$f":"IF(AND(DS51>0,COUNTIF(DY49:DY52,DY51)>1),SUMIFS($AH$4:$AH$54,$AE$4:$AE$54,BS51,$L$4:$L$54,3)+SUMIFS($AJ$4:$AJ$54,$AG$4:$AG$54,BS51,$L$4:$L$54,3)-SUMIFS($AJ$4:$AJ$54,$AE$4:$AE$54,BS51,$L$4:$L$54,3)-SUMIFS($AH$4:$AH$54,$AG$4:$AG$54,BS51,$L$4:$L$54,3),)","v":0},{"$f":"IF(AND(DS51>0,COUNTIF(DY49:DY52,DY51)>1),DY51+RANK(DZ51,DZ49:DZ52)-1,DY51)","v":0},{"$f":"IF(AND(DS51>0,COUNTIF(EA49:EA52,EA51)>1),SUMIFS($AH$4:$AH$54,$AE$4:$AE$54,BS51,$L$4:$L$54,3)+SUMIFS($AJ$4:$AJ$54,$AG$4:$AG$54,BS51,$L$4:$L$54,3),)","v":0},{"$f":"IF(AND(DS51>0,COUNTIF(EA49:EA52,EA51)>1),EA51+RANK(EB51,EB49:EB52)-1,EA51)","v":0},"",{"$f":"IF(OR(ED51=\"\",COUNTIF(ED49:ED52,ED51)=1),\"\",$BY51)","v":""},{"$f":"IF(ED51=\"\",\"\",IF(COUNTIF(ED49:ED52,ED51)=1,ED51,ED51+RANK(EE51,EE49:EE52,0)-1))","v":""},{"$f":"IF(OR(EF51=\"\",COUNTIF(EF49:EF52,EF51)=1),\"\",$BW51)","v":""},{"$f":"IF(ED51=\"\",\"\",IF(COUNTIF(EF49:EF52,EF51)=1,EF51,EF51+RANK(EG51,EG49:EG52,0)-1))","v":""},{"$f":"IF(OR(EH51=\"\",COUNTIF(EH49:EH52,EH51)=1),\"\",$BT51)","v":""},{"$f":"IF(ED51=\"\",\"\",IF(COUNTIF(EH49:EH52,EH51)=1,EH51,EH51+RANK(EI51,EI49:EI52,0)-1))","v":""},{"$f":"IF(DS51>0,CF47+CZ47+RANK(EJ51,EJ49:EJ52,1),)","v":0},null,{"$f":"IF(CB51=4,BS51,)","v":0},0,0,0,0,"F",{"$f":"IF(EM51>0,RANK(EQ51,EQ49:EQ52)+CF47+CZ47+DT47,)","v":0},{"$f":"IF(AND(EM51>0,COUNTIF(ES49:ES52,ES51)>1),SUMIFS($AH$4:$AH$54,$AE$4:$AE$54,BS51,$L$4:$L$54,4)+SUMIFS($AJ$4:$AJ$54,$AG$4:$AG$54,BS51,$L$4:$L$54,4)-SUMIFS($AJ$4:$AJ$54,$AE$4:$AE$54,BS51,$L$4:$L$54,4)-SUMIFS($AH$4:$AH$54,$AG$4:$AG$54,BS51,$L$4:$L$54,4),)","v":0},0,{"$f":"IF(AND(EM51>0,COUNTIF(EU49:EU52,EU51)>1),SUMIFS($AH$4:$AH$54,$AE$4:$AE$54,BS51,$L$4:$L$54,4)+SUMIFS($AJ$4:$AJ$54,$AG$4:$AG$54,BS51,$L$4:$L$54,4),)","v":0},{"$f":"IF(AND(EM51>0,COUNTIF(EU49:EU52,EU51)>1),EU51+RANK(EV51,EV49:EV52)-1,EU51)","v":0},"",{"$f":"IF(OR(EX51=\"\",COUNTIF(EX49:EX52,EX51)=1),\"\",$BY51)","v":""},{"$f":"IF(EX51=\"\",\"\",IF(COUNTIF(EX49:EX52,EX51)=1,EX51,EX51+RANK(EY51,EY49:EY52,0)-1))","v":""},{"$f":"IF(OR(EZ51=\"\",COUNTIF(EZ49:EZ52,EZ51)=1),\"\",$BW51)","v":""},{"$f":"IF(EX51=\"\",\"\",IF(COUNTIF(EZ49:EZ52,EZ51)=1,EZ51,EZ51+RANK(FA51,FA49:FA52,0)-1))","v":""},{"$f":"IF(OR(FB51=\"\",COUNTIF(FB49:FB52,FB51)=1),\"\",$BT51)","v":""},{"$f":"IF(EX51=\"\",\"\",IF(COUNTIF(FB49:FB52,FB51)=1,FB51,FB51+RANK(FC51,FC49:FC52,0)-1))","v":""},{"$f":"IF(EM51>0,CF47+CZ47+DT47+RANK(FD51,FD49:FD52,1),)","v":0},null,{"$f":"IFERROR(VLOOKUP(FI51,CE48:CW52,19,FALSE),IFERROR(VLOOKUP(FI51,CY48:DQ52,19,FALSE),IFERROR(VLOOKUP(FI51,DS48:EK52,19,FALSE),VLOOKUP(FI51,EM48:FE52,19,FALSE))))","v":1},{"$f":"RANK(FG51,FG49:FG52,1)+COUNTIF(FG49:FG51,FG51)-1","v":3},{"$f":"BS51","v":"Georgia"},null,null,null,null,null,null,null,null,null,null,null,null,null,null,null,null,null,null,null,null,null,null,null,null,null,48]
[null,null,null,"2024-06-22","Türkiye","-","Portugal",null,"-",null,"",{"$f":"IF(VLOOKUP(E52,BS48:CB52,10,FALSE)=VLOOKUP(G52,BS48:CB52,10,FALSE),VLOOKUP(E52,BS48:CB52,10,FALSE),\"-\")","v":1},4,{"$f":"VLOOKUP(M52,FH49:FI52,2,FALSE)","v":"Türkiye"},{"$f":"VLOOKUP($N52,$BS$49:$BZ$52,2,FALSE)","v":0},{"$f":"VLOOKUP($N52,$BS$49:$BZ$52,3,FALSE)","v":0},{"$f":"VLOOKUP($N52,$BS$49:$BZ$52,4,FALSE)","v":0},{"$f":"VLOOKUP($N52,$BS$49:$BZ$52,5,FALSE)","v":0},{"$f":"VLOOKUP($N52,$BS$49:$BZ$52,6,FALSE)","v":0},{"$f":"VLOOKUP($N52,$BS$49:$BZ$52,7,FALSE)","v":0},{"$f":"VLOOKUP($N52,$BS$49:$BZ$52,8,FALSE)","v":0},null,null,null,null,null,null,null,null,"2024-06-22","Türkiye","-","Portugal","","-","","",null,0,0,0,0,0,0,0,0,0,0,0,0,0,0,0,0,0,0,0,0,0,0,0,0,0,0,0,0,0,0,null,null,"Türkiye",{"$f":"(SUMIF(AE$4:AE$54,BS52,AM$4:AM$54)+SUMIF(AG$4:AG$54,BS52,AN$4:AN$54))","v":0},{"$f":"(SUMIF(AE$4:AE$54,BS52,AO$4:AO$54)+SUMIF(AG$4:AG$54,BS52,AP$4:AP$54))","v":0},{"$f":"(SUMIF(AE$4:AE$54,BS52,AQ$4:AQ$54)+SUMIF(AG$4:AG$54,BS52,AR$4:AR$54))","v":0},{"$f":"SUMIF($AE$4:$AE$54,BS52,$AH$4:$AH$54)+SUMIF($AG$4:$AG$54,BS52,$AJ$4:$AJ$54)","v":0},{"$f":"SUMIF($AE$4:$AE$54,BS52,$AJ$4:$AJ$54)+SUMIF($AG$4:$AG$54,BS52,$AH$4:$AH$54)","v":0},{"$f":"BW52-BX52","v":0},{"$f":"IFERROR(BT52*3+BU52*1,0)","v":0},"F",{"$f":"RANK(BZ52,BZ49:BZ52)","v":1},{"$f":"SUMPRODUCT((BZ49:BZ52=BZ52)*(BY49:BY52>BY52))","v":0},null,{"$f":"IF(CB52=1,BS52,)","v":"Türkiye"},0,0,0,0,"F",{"$f":"IF(CE52>0,RANK(CI52,CI49:CI52),)","v":1},{"$f":"IF(AND(CE52>0,COUNTIF(CK49:CK52,CK52)>1),SUMIFS($AH$4:$AH$54,$AE$4:$AE$54,BS52,$L$4:$L$54,1)+SUMIFS($AJ$4:$AJ$54,$AG$4:$AG$54,BS52,$L$4:$L$54,1)-SUMIFS($AJ$4:$AJ$54,$AE$4:$AE$54,BS52,$L$4:$L$54,1)-SUMIFS($AH$4:$AH$54,$AG$4:$AG$54,BS52,$L$4:$L$54,1),)","v":0},{"$f":"IF(AND(CE52>0,COUNTIF(CK49:CK52,CK52)>1),CK52+RANK(CL52,CL49:CL52)-1,CK52)","v":1},{"$f":"IF(AND(CE52>0,COUNTIF(CM49:CM52,CM52)>1),SUMIFS($AH$4:$AH$54,$AE$4:$AE$54,BS52,$L$4:$L$54,1)+SUMIFS($AJ$4:$AJ$54,$AG$4:$AG$54,BS52,$L$4:$L$54,1),)","v":0},{"$f":"IF(AND(CE52>0,COUNTIF(CM49:CM52,CM52)>1),CM52+RANK(CN52,CN49:CN52)-1,CM52)","v":1},1,{"$f":"IF(OR(CP52=\"\",COUNTIF(CP49:CP52,CP52)=1),\"\",$BY52)","v":0},{"$f":"IF(CP52=\"\",\"\",IF(COUNTIF(CP49:CP52,CP52)=1,CP52,CP52+RANK(CQ52,CQ49:CQ52,0)-1))","v":1},{"$f":"IF(OR(CR52=\"\",COUNTIF(CR49:CR52,CR52)=1),\"\",$BW52)","v":0},{"$f":"IF(CP52=\"\",\"\",IF(COUNTIF(CR49:CR52,CR52)=1,CR52,CR52+RANK(CS52,CS49:CS52,0)-1))","v":1},{"$f":"IF(OR(CT52=\"\",COUNTIF(CT49:CT52,CT52)=1),\"\",$BT52)","v":0},{"$f":"IF(CP52=\"\",\"\",IF(COUNTIF(CT49:CT52,CT52)=1,CT52,CT52+RANK(CU52,CU49:CU52,0)-1))","v":1},{"$f":"IF(CE52>0,BL47+RANK(CV52,CV49:CV52,1),)","v":1},null,{"$f":"IF(CB52=2,BS52,)","v":0},0,0,0,0,"F",{"$f":"IF(CY52>0,RANK(DC52,DC49:DC52)+CF47,)","v":0},{"$f":"IF(AND(CY52>0,COUNTIF(DE49:DE52,DE52)>1),SUMIFS($AH$4:$AH$54,$AE$4:$AE$54,BS52,$L$4:$L$54,2)+SUMIFS($AJ$4:$AJ$54,$AG$4:$AG$54,BS52,$L$4:$L$54,2)-SUMIFS($AJ$4:$AJ$54,$AE$4:$AE$54,BS52,$L$4:$L$54,2)-SUMIFS($AH$4:$AH$54,$AG$4:$AG$54,BS52,$L$4:$L$54,2),)","v":0},{"$f":"IF(AND(CY52>0,COUNTIF(DE49:DE52,DE52)>1),DE52+RANK(DF52,DF49:DF52)-1,DE52)","v":0},{"$f":"IF(AND(CY52>0,COUNTIF(DG49:DG52,DG52)>1),SUMIFS($AH$4:$AH$54,$AE$4:$AE$54,BS52,$L$4:$L$54,2)+SUMIFS($AJ$4:$AJ$54,$AG$4:$AG$54,BS52,$L$4:$L$54,2),)","v":0},{"$f":"IF(AND(CY52>0,COUNTIF(DG49:DG52,DG52)>1),DG52+RANK(DH52,DH49:DH52)-1,DG52)","v":0},"",{"$f":"IF(OR(DJ52=\"\",COUNTIF(DJ49:DJ52,DJ52)=1),\"\",$BY52)","v":""},{"$f":"IF(DJ52=\"\",\"\",IF(COUNTIF(DJ49:DJ52,DJ52)=1,DJ52,DJ52+RANK(DK52,DK49:DK52,0)-1))","v":""},{"$f":"IF(OR(DL52=\"\",COUNTIF(DL49:DL52,DL52)=1),\"\",$BW52)","v":""},{"$f":"IF(DJ52=\"\",\"\",IF(COUNTIF(DL49:DL52,DL52)=1,DL52,DL52+RANK(DM52,DM49:DM52,0)-1))","v":""},{"$f":"IF(OR(DN52=\"\",COUNTIF(DN49:DN52,DN52)=1),\"\",$BT52)","v":""},{"$f":"IF(DJ52=\"\",\"\",IF(COUNTIF(DN49:DN52,DN52)=1,DN52,DN52+RANK(DO52,DO49:DO52,0)-1))","v":""},{"$f":"IF(CY52>0,CF47+RANK(DP52,DP49:DP52,1),)","v":0},null,{"$f":"IF(CB52=3,BS52,)","v":0},{"$f":"(SUMIF(AE$4:AE$54,BS52,BE$4:BE$54)+SUMIF(AG$4:AG$54,BS52,BF$4:BF$54))","v":0},{"$f":"(SUMIF(AE$4:AE$54,BS52,BG$4:BG$54)+SUMIF(AG$4:AG$54,BS52,BH$4:BH$54))","v":0},{"$f":"(SUMIF(AE$4:AE$54,BS52,BI$4:BI$54)+SUMIF(AG$4:AG$54,BS52,BJ$4:BJ$54))","v":0},0,{"$f":"CA52","v":"F"},{"$f":"IF(DS52>0,RANK(DW52,DW49:DW52)+CF47+CZ47,)","v":0},{"$f":"IF(AND(DS52>0,COUNTIF(DY49:DY52,DY52)>1),SUMIFS($AH$4:$AH$54,$AE$4:$AE$54,BS52,$L$4:$L$54,3)+SUMIFS($AJ$4:$AJ$54,$AG$4:$AG$54,BS52,$L$4:$L$54,3)-SUMIFS($AJ$4:$AJ$54,$AE$4:$AE$54,BS52,$L$4:$L$54,3)-SUMIFS($AH$4:$AH$54,$AG$4:$AG$54,BS52,$L$4:$L$54,3),)","v":0},{"$f":"IF(AND(DS52>0,COUNTIF(DY49:DY52,DY52)>1),DY52+RANK(DZ52,DZ49:DZ52)-1,DY52)","v":0},{"$f":"IF(AND(DS52>0,COUNTIF(EA49:EA52,EA52)>1),SUMIFS($AH$4:$AH$54,$AE$4:$AE$54,BS52,$L$4:$L$54,3)+SUMIFS($AJ$4:$AJ$54,$AG$4:$AG$54,BS52,$L$4:$L$54,3),)","v":0},{"$f":"IF(AND(DS52>0,COUNTIF(EA49:EA52,EA52)>1),EA52+RANK(EB52,EB49:EB52)-1,EA52)","v":0},"",{"$f":"IF(OR(ED52=\"\",COUNTIF(ED49:ED52,ED52)=1),\"\",$BY52)","v":""},{"$f":"IF(ED52=\"\",\"\",IF(COUNTIF(ED49:ED52,ED52)=1,ED52,ED52+RANK(EE52,EE49:EE52,0)-1))","v":""},{"$f":"IF(OR(EF52=\"\",COUNTIF(EF49:EF52,EF52)=1),\"\",$BW52)","v":""},{"$f":"IF(ED52=\"\",\"\",IF(COUNTIF(EF49:EF52,EF52)=1,EF52,EF52+RANK(EG52,EG49:EG52,0)-1))","v":""},{"$f":"IF(OR(EH52=\"\",COUNTIF(EH49:EH52,EH52)=1),\"\",$BT52)","v":""},{"$f":"IF(ED52=\"\",\"\",IF(COUNTIF(EH49:EH52,EH52)=1,EH52,EH52+RANK(EI52,EI49:EI52,0)-1))","v":""},{"$f":"IF(DS52>0,CF47+CZ47+RANK(EJ52,EJ49:EJ52,1),)","v":0},null,{"$f":"IF(CB52=4,BS52,)","v":0},0,0,0,0,"F",{"$f":"IF(EM52>0,RANK(EQ52,EQ49:EQ52)+CF47+CZ47+DT47,)","v":0},{"$f":"IF(AND(EM52>0,COUNTIF(ES49:ES52,ES52)>1),SUMIFS($AH$4:$AH$54,$AE$4:$AE$54,BS52,$L$4:$L$54,4)+SUMIFS($AJ$4:$AJ$54,$AG$4:$AG$54,BS52,$L$4:$L$54,4)-SUMIFS($AJ$4:$AJ$54,$AE$4:$AE$54,BS52,$L$4:$L$54,4)-SUMIFS($AH$4:$AH$54,$AG$4:$AG$54,BS52,$L$4:$L$54,4),)","v":0},0,{"$f":"IF(AND(EM52>0,COUNTIF(EU49:EU52,EU52)>1),SUMIFS($AH$4:$AH$54,$AE$4:$AE$54,BS52,$L$4:$L$54,4)+SUMIFS($AJ$4:$AJ$54,$AG$4:$AG$54,BS52,$L$4:$L$54,4),)","v":0},{"$f":"IF(AND(EM52>0,COUNTIF(EU49:EU52,EU52)>1),EU52+RANK(EV52,EV49:EV52)-1,EU52)","v":0},"",{"$f":"IF(OR(EX52=\"\",COUNTIF(EX49:EX52,EX52)=1),\"\",$BY52)","v":""},{"$f":"IF(EX52=\"\",\"\",IF(COUNTIF(EX49:EX52,EX52)=1,EX52,EX52+RANK(EY52,EY49:EY52,0)-1))","v":""},{"$f":"IF(OR(EZ52=\"\",COUNTIF(EZ49:EZ52,EZ52)=1),\"\",$BW52)","v":""},{"$f":"IF(EX52=\"\",\"\",IF(COUNTIF(EZ49:EZ52,EZ52)=1,EZ52,EZ52+RANK(FA52,FA49:FA52,0)-1))","v":""},{"$f":"IF(OR(FB52=\"\",COUNTIF(FB49:FB52,FB52)=1),\"\",$BT52)","v":""},{"$f":"IF(EX52=\"\",\"\",IF(COUNTIF(FB50:FB53,FB52)=1,FB52,FB52+RANK(FC52,FC50:FC53,0)-1))","v":""},{"$f":"IF(EM52>0,CF47+CZ47+DT47+RANK(FD52,FD49:FD52,1),)","v":0},null,{"$f":"IFERROR(VLOOKUP(FI52,CE48:CW52,19,FALSE),IFERROR(VLOOKUP(FI52,CY48:DQ52,19,FALSE),IFERROR(VLOOKUP(FI52,DS48:EK52,19,FALSE),VLOOKUP(FI52,EM48:FE52,19,FALSE))))","v":1},{"$f":"RANK(FG52,FG49:FG52,1)+COUNTIF(FG49:FG52,FG52)-1","v":4},{"$f":"BS52","v":"Türkiye"},null,null,null,null,null,null,null,null,null,null,null,null,null,null,null,null,null,null,null,null,null,null,null,null,null,49]
[null,null,null,"2024-06-26","Georgia","-","Portugal",null,"-",null,"",{"$f":"IF(VLOOKUP(E53,BS48:CB52,10,FALSE)=VLOOKUP(G53,BS48:CB52,10,FALSE),VLOOKUP(E53,BS48:CB52,10,FALSE),\"-\")","v":1},null,{"$f":"IF(COUNTBLANK(H49:H54)+COUNTBLANK(J49:J54)=0,\"Resultat OK\",\"Fyll i resultat\")","v":"Fyll i resultat"},null,null,null,null,null,null,null,null,null,null,null,null,null,null,null,"2024-06-26","Georgia","-","Portugal","","-","","",null,0,0,0,0,0,0,0,0,0,0,0,0,0,0,0,0,0,0,0,0,0,0,0,0,0,0,0,0,0,0,null,null,null,null,null,null,null,null,null,null,null,null,null,null,null,null,null,null,null,null,null,null,null,null,null,null,null,null,null,null,null,null,null,null,null,null,null,null,null,null,null,null,null,null,null,null,null,null,null,null,null,null,null,null,null,null,null,null,null,null,null,null,null,null,null,null,null,null,null,null,null,null,null,null,null,null,null,null,null,null,null,null,null,null,null,null,null,null,null,null,null,null,null,null,null,null,null,null,null,null,null,null,null,null,null,null,null,null,null,null,null,null,null,null,null,null,null,null,null,null,null,null,50]
[null,null,null,"2024-06-26","Czechia","-","Türkiye",null,"-",null,"",{"$f":"IF(VLOOKUP(E54,BS48:CB52,10,FALSE)=VLOOKUP(G54,BS48:CB52,10,FALSE),VLOOKUP(E54,BS48:CB52,10,FALSE),\"-\")","v":1},null,null,null,null,null,null,null,null,null,null,null,null,null,null,null,null,null,"2024-06-26","Czechia","-","Türkiye","","-","","",null,0,0,0,0,0,0,0,0,0,0,0,0,0,0,0,0,0,0,0,0,0,0,0,0,0,0,0,0,0,0,null,null,null,null,null,null,null,null,null,null,null,null,null,null,null,null,null,null,null,null,null,null,null,null,null,null,null,null,null,null,null,null,null,null,null,null,null,null,null,null,null,null,null,null,null,null,null,null,null,null,null,null,null,null,null,null,null,null,null,null,null,null,null,null,null,null,null,null,null,null,null,null,null,null,null,null,null,null,null,null,null,null,null,null,null,null,null,null,null,null,null,null,null,null,null,null,null,null,null,null,null,null,null,null,null,null,null,null,null,null,null,null,null,null,null,null,null,null,null,null,null,null,51]
[null,null,null,null,null,null,null,null,null,null,null,null,null,null,null,null,null,null,null,null,null,null,null,null,null,null,null,null,null,null,null,null,null,null,null,null,null,null,null,null,null,null,null,null,null,null,null,null,null,null,null,null,null,null,null,null,null,null,null,null,null,null,null,null,null,null,null,null,null,null,null,null,null,null,null,null,null,null,null,null,null,null,null,null,null,null,null,null,null,null,null,null,null,null,null,null,null,null,null,null,null,null,null,null,null,null,null,null,null,null,null,null,null,null,null,null,null,null,null,null,null,null,null,null,null,null,null,null,null,null,null,null,null,null,null,null,null,null,null,null,null,null,null,null,null,null,null,null,null,null,null,null,null,null,null,null,null,null,null,null,null,null,null,null,null,null,null,null,null,null,null,null,null,null,null,null,null,null,null,null,null,null,null,null,null,null,null,null,null,null,52]
[null,null,null,"Round of 16",null,null,null,null,null,null,null,null,null,null,null,null,null,null,null,null,null,null,null,null,null,null,null,null,null,"Åttondelsfinaler",null,null,null,null,null,null,null,null,null,null,null,null,null,null,null,null,null,null,null,null,null,null,null,null,null,null,null,null,null,null,null,null,null,null,null,null,null,null,null,null,null,null,null,null,null,null,null,null,null,null,null,null,null,null,null,null,null,null,null,null,null,null,null,null,null,null,null,null,null,null,null,null,null,null,null,null,null,null,null,null,null,null,null,null,null,null,null,null,null,null,null,null,null,null,null,null,null,null,null,null,null,null,null,null,null,null,null,null,null,null,null,null,null,null,null,null,null,null,null,null,null,null,null,null,null,null,null,null,null,null,null,null,null,null,null,null,null,null,null,null,null,null,null,null,null,null,null,null,null,null,null,null,null,null,null,null,null,null,null,null,53]
["#","#","#","Date","Match",null,null,"Result",null,null,"1X2",null,null,"Winner round of 16",null,"Note!",null,null,null,null,null,null,null,null,null,null,null,null,null,"Datum","Match",null,null,"Resultat",null,null,"Tecken","Poäng",null,null,null,null,null,null,"Åttondelsfinaler",null,null,null,null,"List",null,null,null,null,null,null,null,null,null,null,null,null,null,null,null,null,null,null,null,null,null,null,null,null,null,null,null,null,null,null,null,null,null,null,null,null,null,null,null,null,null,null,null,null,null,null,null,null,null,null,null,null,null,null,null,null,null,null,null,null,null,null,null,null,null,null,null,null,null,null,null,null,null,null,null,null,null,null,null,null,null,null,null,null,null,null,null,null,null,null,null,null,null,null,null,null,null,null,null,null,null,null,null,null,null,null,null,null,null,null,null,null,null,null,null,null,null,null,null,null,null,null,null,null,null,null,null,null,null,null,null,null,null,null,null,null,null,null,null,null,54]
[38,38,8,"2024-06-29",{"$f":"IF($N$8=\"Resultat OK\",$N$5,\"Runner up group A\")","v":"Runner up group A"},"-",{"$f":"IF($N$17=\"Resultat OK\",$N$14,\"Runner up group B\")","v":"Runner up group B"},null,"-",null,{"$f":"IF(OR(ISBLANK(H58),ISBLANK(J58)),\"\",IF(H58>J58,1,IF(H58<J58,2,\"X\")))","v":""},null,null,null,null,"The tip cannot take into account the number of yellow/red cards in the tournament, which may affect which teams advances to the Round of 16. Should this happen, you can manually type in the correct teams in the correct places in the Round of 16 (cell D58- D65 & F58-F65)\n\nTo reset, click on thegreen button to the right",null,null,null,null,null,null,null,null,null,null,null,null,null,{"$f":"D61","v":"2024-06-30"},{"$f":"E61","v":"Winner group B"},{"$f":"F61","v":"-"},{"$f":"G61","v":"Third A/D/E/F"},{"$f":"IF(H61=\"\",\"\",H61)","v":""},"-",{"$f":"IF(J61=\"\",\"\",J61)","v":""},{"$f":"K61","v":""},null,null,null,null,null,null,null,"Mitt tips","Resultat & tabell","Utfall","Poäng",null,{"$f":"E61","v":"Winner group B"},{"$f":"G61","v":"Third A/D/E/F"},null,null,null,null,null,null,null,null,null,null,null,null,null,null,null,null,null,null,null,null,null,null,null,null,null,null,null,null,null,null,null,null,null,null,null,null,null,null,null,null,null,null,null,null,null,null,null,null,null,null,null,null,null,null,null,null,null,null,null,null,null,null,null,null,null,null,null,null,null,null,null,null,null,null,null,null,null,null,null,null,null,null,null,null,null,null,null,null,null,null,null,null,null,null,null,null,null,null,null,null,null,null,null,null,null,null,null,null,null,null,null,null,null,null,null,null,null,null,null,null,null,null,null,null,null,null,null,null,null,null,null,null,null,null,null,null,null,null,null,55]
[37,37,2,"2024-06-29",{"$f":"IF($N$8=\"Resultat OK\",$N$4,\"Winner group A\")","v":"Winner group A"},"-",{"$f":"IF($N$26=\"Resultat OK\",$N$23,\"Runner up group C\")","v":"Runner up group C"},null,"-",null,"",null,null,null,null,null,null,null,null,null,null,null,null,null,null,null,null,null,null,{"$f":"D59","v":"2024-06-29"},{"$f":"E59","v":"Winner group A"},{"$f":"F59","v":"-"},{"$f":"G59","v":"Runner up group C"},{"$f":"IF(H59=\"\",\"\",H59)","v":""},"-",{"$f":"IF(J59=\"\",\"\",J59)","v":""},{"$f":"K59","v":""},null,null,null,null,null,null,null,{"$f":"E61","v":"Winner group B"},{"$f":"IF(OR('Results & Table'!H61=\"\",'Results & Table'!J61=\"\"),\"\",'Results & Table'!E61)","v":""},{"$f":"IF(ISERROR(VLOOKUP(AS59,$AT$59:$AT$74,1,FALSE)),0,1)","v":0},{"$f":"2*AU59","v":0},null,{"$f":"E59","v":"Winner group A"},{"$f":"G59","v":"Runner up group C"},null,null,null,null,null,null,null,null,null,null,null,null,null,null,null,"#","Datum","Match",null,null,"Resultat",null,null,"Tecken",null,null,null,null,null,null,null,null,null,null,null,null,null,null,null,null,null,null,null,null,null,null,null,null,null,null,null,null,null,null,null,null,null,null,null,null,null,null,null,null,null,null,null,null,null,null,null,null,null,null,null,null,null,null,null,null,null,null,null,null,null,null,null,null,null,null,null,null,null,null,null,null,null,null,null,null,null,null,null,null,null,null,null,null,null,null,null,null,null,null,null,null,null,null,null,null,null,null,null,null,null,null,null,null,null,null,null,null,null,null,null,null,null,null,null,56]
[40,40,7,"2024-06-30",{"$f":"IF($N$26=\"Resultat OK\",$N$22,\"Winner group C\")","v":"Winner group C"},"-",{"$f":"IF($FL$12=\"Resultat OK\",HLOOKUP(\"C\",$GE$2:$GE$17,$FY$2),\"Third D/E/F\")","v":"Third D/E/F"},null,"-",null,"",null,null,null,null,null,null,null,null,null,null,null,null,null,null,null,null,null,null,{"$f":"D63","v":"2024-07-01"},{"$f":"E63","v":"Winner group F"},{"$f":"F63","v":"-"},{"$f":"G63","v":"Third A/B/C"},{"$f":"IF(H63=\"\",\"\",H63)","v":""},"-",{"$f":"IF(J63=\"\",\"\",J63)","v":""},{"$f":"K63","v":""},null,null,null,null,null,null,null,{"$f":"E59","v":"Winner group A"},{"$f":"IF(OR('Results & Table'!H59=\"\",'Results & Table'!J59=\"\"),\"\",'Results & Table'!E59)","v":""},{"$f":"IF(ISERROR(VLOOKUP(AS60,$AT$59:$AT$74,1,FALSE)),0,1)","v":0},0,null,{"$f":"E63","v":"Winner group F"},{"$f":"G63","v":"Third A/B/C"},null,null,null,null,null,null,null,null,null,null,null,null,null,null,null,1,"2024-06-29",{"$f":"IF($N$8=\"Resultat OK\",$N$5,\"Runner up group A\")","v":"Runner up group A"},"-",{"$f":"IF($N$17=\"Resultat OK\",$N$14,\"Runner up group B\")","v":"Runner up group B"},null,"-",null,{"$f":"IF(OR(ISBLANK(BT60),ISBLANK(BV60)),\"\",IF(BT60>BV60,1,IF(BT60<BV60,2,\"X\")))","v":""},null,null,null,null,null,null,null,null,null,null,null,null,null,null,null,null,null,null,null,null,null,null,null,null,null,null,null,null,null,null,null,null,null,null,null,null,null,null,null,null,null,null,null,null,null,null,null,null,null,null,null,null,null,null,null,null,null,null,null,null,null,null,null,null,null,null,null,null,null,null,null,null,null,null,null,null,null,null,null,null,null,null,null,null,null,null,null,null,null,null,null,null,null,null,null,null,null,null,null,null,null,null,null,null,null,null,null,null,null,null,null,null,null,null,null,57]
[39,39,1,"2024-06-30",{"$f":"IF($N$17=\"Resultat OK\",$N$13,\"Winner group B\")","v":"Winner group B"},"-",{"$f":"IF($FL$12=\"Resultat OK\",HLOOKUP(\"B\",$GD$2:$GD$17,$FY$2),\"Third A/D/E/F\")","v":"Third A/D/E/F"},null,"-",null,"",null,null,null,null,null,null,null,null,null,null,null,null,null,null,null,null,null,null,{"$f":"D62","v":"2024-07-01"},{"$f":"E62","v":"Runner up group D"},{"$f":"F62","v":"-"},{"$f":"G62","v":"Runner up group E"},{"$f":"IF(H62=\"\",\"\",H62)","v":""},"-",{"$f":"IF(J62=\"\",\"\",J62)","v":""},{"$f":"K62","v":""},null,null,null,null,null,null,null,{"$f":"E63","v":"Winner group F"},{"$f":"IF(OR('Results & Table'!H63=\"\",'Results & Table'!J63=\"\"),\"\",'Results & Table'!E63)","v":""},0,0,null,{"$f":"E62","v":"Runner up group D"},{"$f":"G62","v":"Runner up group E"},null,null,null,null,null,null,null,null,null,null,null,null,null,null,null,2,"2024-06-29",{"$f":"IF($N$8=\"Resultat OK\",$N$4,\"Winner group A\")","v":"Winner group A"},"-",{"$f":"IF($N$26=\"Resultat OK\",$N$23,\"Runner up group C\")","v":"Runner up group C"},null,"-",null,{"$f":"IF(OR(ISBLANK(BT61),ISBLANK(BV61)),\"\",IF(BT61>BV61,1,IF(BT61<BV61,2,\"X\")))","v":""},null,null,null,null,null,null,null,null,null,null,null,null,null,null,null,null,null,null,null,null,null,null,null,null,null,null,null,null,null,null,null,null,null,null,null,null,null,null,null,null,null,null,null,null,null,null,null,null,null,null,null,null,null,null,null,null,null,null,null,null,null,null,null,null,null,null,null,null,null,null,null,null,null,null,null,null,null,null,null,null,null,null,null,null,null,null,null,null,null,null,null,null,null,null,null,null,null,null,null,null,null,null,null,null,null,null,null,null,null,null,null,null,null,null,null,58]
[42,42,4,"2024-07-01",{"$f":"IF($N$35=\"Resultat OK\",$N$32,\"Runner up group D\")","v":"Runner up group D"},"-",{"$f":"IF($N$44=\"Resultat OK\",$N$41,\"Runner up group E\")","v":"Runner up group E"},null,"-",null,"",null,null,null,null,null,null,null,null,null,null,null,null,null,null,null,null,null,null,{"$f":"D64","v":"2024-07-02"},"Winner group E","-","Third A/B/C/D",{"$f":"IF(H64=\"\",\"\",H64)","v":""},"-",{"$f":"IF(J64=\"\",\"\",J64)","v":""},{"$f":"K64","v":""},null,null,null,null,null,null,null,{"$f":"E62","v":"Runner up group D"},{"$f":"IF(OR('Results & Table'!H62=\"\",'Results & Table'!J62=\"\"),\"\",'Results & Table'!E62)","v":""},0,0,null,{"$f":"E64","v":"Winner group E"},{"$f":"G64","v":"Third A/B/C/D"},null,null,null,null,null,null,null,null,null,null,null,null,null,null,null,3,"2024-06-30",{"$f":"IF($N$26=\"Resultat OK\",$N$22,\"Winner group C\")","v":"Winner group C"},"-",{"$f":"IF($FL$12=\"Resultat OK\",HLOOKUP(\"C\",$GE$2:$GE$17,$FY$2),\"Third D/E/F\")","v":"Third D/E/F"},null,"-",null,"",null,null,null,null,null,null,null,null,null,null,null,null,null,null,null,null,null,null,null,null,null,null,null,null,null,null,null,null,null,null,null,null,null,null,null,null,null,null,null,null,null,null,null,null,null,null,null,null,null,null,null,null,null,null,null,null,null,null,null,null,null,null,null,null,null,null,null,null,null,null,null,null,null,null,null,null,null,null,null,null,null,null,null,null,null,null,null,null,null,null,null,null,null,null,null,null,null,null,null,null,null,null,null,null,null,null,null,null,null,null,null,null,null,null,null,59]
[41,41,3,"2024-07-01",{"$f":"IF($N$53=\"Resultat OK\",$N$49,\"Winner group F\")","v":"Winner group F"},"-",{"$f":"IF($FL$12=\"Resultat OK\",HLOOKUP(\"F\",$GG$2:$GG$17,$FY$2),\"Third A/B/C\")","v":"Third A/B/C"},null,"-",null,"",null,null,null,null,null,null,null,null,null,null,null,null,null,null,null,null,null,null,"2024-07-02","Winner group D","-","Runner up group F",{"$f":"IF(H65=\"\",\"\",H65)","v":""},"-",{"$f":"IF(J65=\"\",\"\",J65)","v":""},{"$f":"K65","v":""},null,null,null,null,null,null,null,{"$f":"E64","v":"Winner group E"},{"$f":"IF(OR('Results & Table'!H64=\"\",'Results & Table'!J64=\"\"),\"\",'Results & Table'!E64)","v":""},0,0,null,{"$f":"E65","v":"Winner group D"},{"$f":"G65","v":"Runner up group F"},null,null,null,null,null,null,null,null,null,null,null,null,null,null,null,4,"2024-06-30",{"$f":"IF($N$17=\"Resultat OK\",$N$13,\"Winner group B\")","v":"Winner group B"},"-",{"$f":"IF($FL$12=\"Resultat OK\",HLOOKUP(\"B\",$GD$2:$GD$17,$FY$2),\"Third A/D/E/F\")","v":"Third A/D/E/F"},null,"-",null,"",null,null,null,null,null,null,null,null,null,null,null,null,null,null,null,null,null,null,null,null,null,null,null,null,null,null,null,null,null,null,null,null,null,null,null,null,null,null,null,null,null,null,null,null,null,null,null,null,null,null,null,null,null,null,null,null,null,null,null,null,null,null,null,null,null,null,null,null,null,null,null,null,null,null,null,null,null,null,null,null,null,null,null,null,null,null,null,null,null,null,null,null,null,null,null,null,null,null,null,null,null,null,null,null,null,null,null,null,null,null,null,null,null,null,null,60]
[43,43,5,"2024-07-02",{"$f":"IF($N$44=\"Resultat OK\",$N$40,\"Winner group E\")","v":"Winner group E"},"-",{"$f":"IF($FL$12=\"Resultat OK\",HLOOKUP(\"E\",$GF$2:$GF$17,$FY$2),\"Third A/B/C/D\")","v":"Third A/B/C/D"},null,"-",null,"",null,null,null,null,null,null,null,null,null,null,null,null,null,null,null,null,null,null,{"$f":"D60","v":"2024-06-30"},{"$f":"E60","v":"Winner group C"},{"$f":"F60","v":"-"},{"$f":"G60","v":"Third D/E/F"},{"$f":"IF(H60=\"\",\"\",H60)","v":""},"-",{"$f":"IF(J60=\"\",\"\",J60)","v":""},{"$f":"K60","v":""},null,null,null,null,null,null,null,{"$f":"E65","v":"Winner group D"},{"$f":"IF(OR('Results & Table'!H65=\"\",'Results & Table'!J65=\"\"),\"\",'Results & Table'!E65)","v":""},0,0,null,{"$f":"E60","v":"Winner group C"},{"$f":"G60","v":"Third D/E/F"},null,null,null,null,null,null,null,null,null,null,null,null,null,null,null,5,"2024-07-01",{"$f":"IF($N$35=\"Resultat OK\",$N$32,\"Runner up group D\")","v":"Runner up group D"},"-",{"$f":"IF($N$44=\"Resultat OK\",$N$41,\"Runner up group E\")","v":"Runner up group E"},null,"-",null,"",null,null,null,null,null,null,null,null,null,null,null,null,null,null,null,null,null,null,null,null,null,null,null,null,null,null,null,null,null,null,null,null,null,null,null,null,null,null,null,null,null,null,null,null,null,null,null,null,null,null,null,null,null,null,null,null,null,null,null,null,null,null,null,null,null,null,null,null,null,null,null,null,null,null,null,null,null,null,null,null,null,null,null,null,null,null,null,null,null,null,null,null,null,null,null,null,null,null,null,null,null,null,null,null,null,null,null,null,null,null,null,null,null,null,null,61]
[44,44,6,"2024-07-02",{"$f":"IF($N$35=\"Resultat OK\",$N$31,\"Winner group D\")","v":"Winner group D"},"-",{"$f":"IF($N$53=\"Resultat OK\",$N$50,\"Runner up group F\")","v":"Runner up group F"},null,"-",null,"",null,null,null,null,null,null,null,null,null,null,null,null,null,null,null,null,null,null,{"$f":"D58","v":"2024-06-29"},{"$f":"E58","v":"Runner up group A"},{"$f":"F58","v":"-"},{"$f":"G58","v":"Runner up group B"},{"$f":"IF(H58=\"\",\"\",H58)","v":""},"-",{"$f":"IF(J58=\"\",\"\",J58)","v":""},{"$f":"K58","v":""},null,null,null,null,null,null,null,{"$f":"E60","v":"Winner group C"},{"$f":"IF(OR('Results & Table'!H60=\"\",'Results & Table'!J60=\"\"),\"\",'Results & Table'!E60)","v":""},0,0,null,{"$f":"E58","v":"Runner up group A"},{"$f":"G58","v":"Runner up group B"},null,null,null,null,null,null,null,null,null,null,null,null,null,null,null,6,"2024-07-01",{"$f":"IF($N$53=\"Resultat OK\",$N$49,\"Winner group F\")","v":"Winner group F"},"-",{"$f":"IF($FL$12=\"Resultat OK\",HLOOKUP(\"F\",$GG$2:$GG$17,$FY$2),\"Third A/B/C\")","v":"Third A/B/C"},null,"-",null,"",null,null,null,null,null,null,null,null,null,null,null,null,null,null,null,null,null,null,null,null,null,null,null,null,null,null,null,null,null,null,null,null,null,null,null,null,null,null,null,null,null,null,null,null,null,null,null,null,null,null,null,null,null,null,null,null,null,null,null,null,null,null,null,null,null,null,null,null,null,null,null,null,null,null,null,null,null,null,null,null,null,null,null,null,null,null,null,null,null,null,null,null,null,null,null,null,null,null,null,null,null,null,null,null,null,null,null,null,null,null,null,null,null,null,null,62]
[null,null,null,null,null,null,null,null,null,null,null,null,null,null,null,null,null,null,null,null,null,null,null,null,null,null,null,null,null,null,null,null,null,null,null,null,null,null,null,null,null,null,null,null,{"$f":"E58","v":"Runner up group A"},{"$f":"IF(OR('Results & Table'!H58=\"\",'Results & Table'!J58=\"\"),\"\",'Results & Table'!E58)","v":""},0,0,null,null,null,null,null,null,null,null,null,null,null,null,null,null,null,null,null,null,7,"2024-07-02",{"$f":"IF($N$44=\"Resultat OK\",$N$40,\"Winner group E\")","v":"Winner group E"},"-",{"$f":"IF($FL$12=\"Resultat OK\",HLOOKUP(\"E\",$GF$2:$GF$17,$FY$2),\"Third A/B/C/D\")","v":"Third A/B/C/D"},null,"-",null,{"$f":"IF(OR(ISBLANK(BT66),ISBLANK(BV66)),\"\",IF(BT66>BV66,1,IF(BT66<BV66,2,\"X\")))","v":""},null,null,null,null,null,null,null,null,null,null,null,null,null,null,null,null,null,null,null,null,null,null,null,null,null,null,null,null,null,null,null,null,null,null,null,null,null,null,null,null,null,null,null,null,null,null,null,null,null,null,null,null,null,null,null,null,null,null,null,null,null,null,null,null,null,null,null,null,null,null,null,null,null,null,null,null,null,null,null,null,null,null,null,null,null,null,null,null,null,null,null,null,null,null,null,null,null,null,null,null,null,null,null,null,null,null,null,null,null,null,null,null,null,null,null,63]
[null,null,null,"Quarter-finals",null,null,null,null,null,null,null,null,null,null,null,null,null,null,null,null,null,null,null,null,null,null,null,null,null,"Kvartsfinaler",null,null,null,null,null,null,null,null,null,null,null,null,null,null,{"$f":"G61","v":"Third A/D/E/F"},{"$f":"IF(OR('Results & Table'!H61=\"\",'Results & Table'!J61=\"\"),\"\",'Results & Table'!G61)","v":""},0,0,null,null,null,null,null,null,null,null,null,null,null,null,null,null,null,null,null,null,8,"2024-07-02",{"$f":"IF($N$35=\"Resultat OK\",$N$31,\"Winner group D\")","v":"Winner group D"},"-",{"$f":"IF($N$53=\"Resultat OK\",$N$50,\"Runner up group F\")","v":"Runner up group F"},null,"-",null,{"$f":"IF(OR(ISBLANK(BT67),ISBLANK(BV67)),\"\",IF(BT67>BV67,1,IF(BT67<BV67,2,\"X\")))","v":""},null,null,null,null,null,null,null,null,null,null,null,null,null,null,null,null,null,null,null,null,null,null,null,null,null,null,null,null,null,null,null,null,null,null,null,null,null,null,null,null,null,null,null,null,null,null,null,null,null,null,null,null,null,null,null,null,null,null,null,null,null,null,null,null,null,null,null,null,null,null,null,null,null,null,null,null,null,null,null,null,null,null,null,null,null,null,null,null,null,null,null,null,null,null,null,null,null,null,null,null,null,null,null,null,null,null,null,null,null,null,null,null,null,null,null,64]
["#","#","#","Date","Match",null,null,"Result",null,null,"1X2",null,null,"Winner quarter-finals",null,null,null,null,null,null,null,null,null,null,null,null,null,null,null,"Datum","Match",null,null,"Resultat",null,null,"Tecken","Poäng",null,null,null,null,null,null,{"$f":"G59","v":"Runner up group C"},{"$f":"IF(OR('Results & Table'!H59=\"\",'Results & Table'!J59=\"\"),\"\",'Results & Table'!G59)","v":""},0,0,null,null,null,null,null,null,null,null,null,null,null,null,null,null,null,null,null,null,null,null,null,null,null,null,null,null,null,null,null,null,null,null,null,null,null,null,null,null,null,null,null,null,null,null,null,null,null,null,null,null,null,null,null,null,null,null,null,null,null,null,null,null,null,null,null,null,null,null,null,null,null,null,null,null,null,null,null,null,null,null,null,null,null,null,null,null,null,null,null,null,null,null,null,null,null,null,null,null,null,null,null,null,null,null,null,null,null,null,null,null,null,null,null,null,null,null,null,null,null,null,null,null,null,null,null,null,null,null,null,null,null,null,null,null,null,null,null,null,null,null,null,null,65]
[45,45,1,"2021-07-05",{"$f":"IF(OR(N61=\"\",N61=\"Fyll i vinnare oavgjort\"),\"Winner match 39\",N61)","v":"Winner match 39"},"-",{"$f":"IF(OR(N59=\"\",N59=\"Fyll i vinnare oavgjort\"),\"Winner match 37\",N59)","v":"Winner match 37"},null,"-",null,{"$f":"IF(OR(ISBLANK(H69),ISBLANK(J69)),\"\",IF(H69>J69,1,IF(H69<J69,2,\"X\")))","v":""},null,null,null,null,null,null,null,null,null,null,null,null,null,null,null,null,null,null,{"$f":"D69","v":"2021-07-05"},"Winner match 39","-","Winner match 37",{"$f":"IF(H69=\"\",\"\",H69)","v":""},"-",{"$f":"IF(J69=\"\",\"\",J69)","v":""},{"$f":"K69","v":""},null,null,null,null,null,null,null,{"$f":"G63","v":"Third A/B/C"},{"$f":"IF(OR('Results & Table'!H63=\"\",'Results & Table'!J63=\"\"),\"\",'Results & Table'!G63)","v":""},0,0,null,{"$f":"E69","v":"Winner match 39"},{"$f":"G69","v":"Winner match 37"},null,null,null,null,null,null,null,null,null,null,null,null,null,null,null,null,null,null,null,null,null,null,null,null,null,null,null,null,null,null,null,null,null,null,null,null,null,null,null,null,null,null,null,null,null,null,null,null,null,null,null,null,null,null,null,null,null,null,null,null,null,null,null,null,null,null,null,null,null,null,null,null,null,null,null,null,null,null,null,null,null,null,null,null,null,null,null,null,null,null,null,null,null,null,null,null,null,null,null,null,null,null,null,null,null,null,null,null,null,null,null,null,null,null,null,null,null,null,null,null,null,null,null,null,null,null,null,null,null,null,null,null,null,null,null,null,null,null,null,66]
[46,46,2,"2021-07-05",{"$f":"IF(OR(N63=\"\",N63=\"Fyll i vinnare oavgjort\"),\"Winner match 41\",N63)","v":"Winner match 41"},"-",{"$f":"IF(OR(N62=\"\",N62=\"Fyll i vinnare oavgjort\"),\"Winner match 42\",N62)","v":"Winner match 42"},null,"-",null,"",null,null,null,null,null,null,null,null,null,null,null,null,null,null,null,null,null,null,"2021-07-05","Winner match 41","-","Winner match 42",{"$f":"IF(H70=\"\",\"\",H70)","v":""},"-",{"$f":"IF(J70=\"\",\"\",J70)","v":""},{"$f":"K70","v":""},null,null,null,null,null,null,null,{"$f":"G62","v":"Runner up group E"},{"$f":"IF(OR('Results & Table'!H62=\"\",'Results & Table'!J62=\"\"),\"\",'Results & Table'!G62)","v":""},0,0,null,{"$f":"E70","v":"Winner match 41"},{"$f":"G70","v":"Winner match 42"},null,null,null,null,null,null,null,null,null,null,null,null,null,null,null,null,null,null,null,null,null,null,null,null,null,null,null,null,null,null,null,null,null,null,null,null,null,null,null,null,null,null,null,null,null,null,null,null,null,null,null,null,null,null,null,null,null,null,null,null,null,null,null,null,null,null,null,null,null,null,null,null,null,null,null,null,null,null,null,null,null,null,null,null,null,null,null,null,null,null,null,null,null,null,null,null,null,null,null,null,null,null,null,null,null,null,null,null,null,null,null,null,null,null,null,null,null,null,null,null,null,null,null,null,null,null,null,null,null,null,null,null,null,null,null,null,null,null,null,67]
[48,48,4,"2021-07-06",{"$f":"IF(OR(N60=\"\",N60=\"Fyll i vinnare oavgjort\"),\"Winner match 40\",N60)","v":"Winner match 40"},"-",{"$f":"IF(OR(N58=\"\",N58=\"Fyll i vinnare oavgjort\"),\"Winner match 38\",N58)","v":"Winner match 38"},null,"-",null,{"$f":"IF(OR(ISBLANK(H71),ISBLANK(J71)),\"\",IF(H71>J71,1,IF(H71<J71,2,\"X\")))","v":""},null,null,null,null,null,null,null,null,null,null,null,null,null,null,null,null,null,null,{"$f":"D72","v":"2021-07-06"},{"$f":"E72","v":"Winner match 43"},{"$f":"F72","v":"-"},{"$f":"G72","v":"Winner match 44"},{"$f":"IF(H72=\"\",\"\",H72)","v":""},"-",{"$f":"IF(J72=\"\",\"\",J72)","v":""},{"$f":"K72","v":""},null,null,null,null,null,null,null,{"$f":"G64","v":"Third A/B/C/D"},{"$f":"IF(OR('Results & Table'!H64=\"\",'Results & Table'!J64=\"\"),\"\",'Results & Table'!G64)","v":""},0,0,null,{"$f":"E72","v":"Winner match 43"},{"$f":"G72","v":"Winner match 44"},null,null,null,null,null,null,null,null,null,null,null,null,null,null,null,null,null,null,null,null,null,null,null,null,null,null,null,null,null,null,null,null,null,null,null,null,null,null,null,null,null,null,null,null,null,null,null,null,null,null,null,null,null,null,null,null,null,null,null,null,null,null,null,null,null,null,null,null,null,null,null,null,null,null,null,null,null,null,null,null,null,null,null,null,null,null,null,null,null,null,null,null,null,null,null,null,null,null,null,null,null,null,null,null,null,null,null,null,null,null,null,null,null,null,null,null,null,null,null,null,null,null,null,null,null,null,null,null,null,null,null,null,null,null,null,null,null,null,null,68]
[47,47,3,"2021-07-06",{"$f":"IF(OR(N64=\"\",N64=\"Fyll i vinnare oavgjort\"),\"Winner match 43\",N64)","v":"Winner match 43"},"-",{"$f":"IF(OR(N65=\"\",N65=\"Fyll i vinnare oavgjort\"),\"Winner match 44\",N65)","v":"Winner match 44"},null,"-",null,{"$f":"IF(OR(ISBLANK(H72),ISBLANK(J72)),\"\",IF(H72>J72,1,IF(H72<J72,2,\"X\")))","v":""},null,null,null,null,null,null,null,null,null,null,null,null,null,null,null,null,null,null,{"$f":"D71","v":"2021-07-06"},{"$f":"E71","v":"Winner match 40"},{"$f":"F71","v":"-"},{"$f":"G71","v":"Winner match 38"},{"$f":"IF(H71=\"\",\"\",H71)","v":""},"-",{"$f":"IF(J71=\"\",\"\",J71)","v":""},{"$f":"K71","v":""},null,null,null,null,null,null,null,{"$f":"G65","v":"Runner up group F"},{"$f":"IF(OR('Results & Table'!H65=\"\",'Results & Table'!J65=\"\"),\"\",'Results & Table'!G65)","v":""},0,0,null,{"$f":"E71","v":"Winner match 40"},{"$f":"G71","v":"Winner match 38"},null,null,null,null,null,null,null,null,null,null,null,null,null,null,null,null,null,null,null,null,null,null,null,null,null,null,null,null,null,null,null,null,null,null,null,null,null,null,null,null,null,null,null,null,null,null,null,null,null,null,null,null,null,null,null,null,null,null,null,null,null,null,null,null,null,null,null,null,null,null,null,null,null,null,null,null,null,null,null,null,null,null,null,null,null,null,null,null,null,null,null,null,null,null,null,null,null,null,null,null,null,null,null,null,null,null,null,null,null,null,null,null,null,null,null,null,null,null,null,null,null,null,null,null,null,null,null,null,null,null,null,null,null,null,null,null,null,null,null,69]
[null,null,null,null,null,null,null,null,null,null,null,null,null,null,null,null,null,null,null,null,null,null,null,null,null,null,null,null,null,null,null,null,null,null,null,null,null,null,null,null,null,null,null,null,{"$f":"G60","v":"Third D/E/F"},{"$f":"IF(OR('Results & Table'!H60=\"\",'Results & Table'!J60=\"\"),\"\",'Results & Table'!G60)","v":""},0,0,null,null,null,null,null,null,null,null,null,null,null,null,null,null,null,null,null,null,null,null,null,null,null,null,null,null,null,null,null,null,null,null,null,null,null,null,null,null,null,null,null,null,null,null,null,null,null,null,null,null,null,null,null,null,null,null,null,null,null,null,null,null,null,null,null,null,null,null,null,null,null,null,null,null,null,null,null,null,null,null,null,null,null,null,null,null,null,null,null,null,null,null,null,null,null,null,null,null,null,null,null,null,null,null,null,null,null,null,null,null,null,null,null,null,null,null,null,null,null,null,null,null,null,null,null,null,null,null,null,null,null,null,null,null,null,null,null,null,null,null,null,null,70]
[null,null,null,"Semi-finals",null,null,null,null,null,null,null,null,null,null,null,null,null,null,null,null,null,null,null,null,null,null,null,null,null,"Semifinaler",null,null,null,null,null,null,null,null,null,null,null,null,null,null,{"$f":"G58","v":"Runner up group B"},{"$f":"IF(OR('Results & Table'!H58=\"\",'Results & Table'!J58=\"\"),\"\",'Results & Table'!G58)","v":""},0,0,null,null,null,null,null,null,null,null,null,null,null,null,null,null,null,null,null,null,null,null,null,null,null,null,null,null,null,null,null,null,null,null,null,null,null,null,null,null,null,null,null,null,null,null,null,null,null,null,null,null,null,null,null,null,null,null,null,null,null,null,null,null,null,null,null,null,null,null,null,null,null,null,null,null,null,null,null,null,null,null,null,null,null,null,null,null,null,null,null,null,null,null,null,null,null,null,null,null,null,null,null,null,null,null,null,null,null,null,null,null,null,null,null,null,null,null,null,null,null,null,null,null,null,null,null,null,null,null,null,null,null,null,null,null,null,null,null,null,null,null,null,null,71]
["#","#","#","Date","Match",null,null,"Result",null,null,"1X2",null,null,"Winner semi-finals",null,null,null,null,null,null,null,null,null,null,null,null,null,null,null,"Datum","Match",null,null,"Resultat",null,null,"Tecken","Poäng",null,null,null,null,null,null,null,null,"SUMMA",{"$f":"SUM(AV59:AV74)","v":0},null,null,null,null,null,null,null,null,null,null,null,null,null,null,null,null,null,null,null,null,null,null,null,null,null,null,null,null,null,null,null,null,null,null,null,null,null,null,null,null,null,null,null,null,null,null,null,null,null,null,null,null,null,null,null,null,null,null,null,null,null,null,null,null,null,null,null,null,null,null,null,null,null,null,null,null,null,null,null,null,null,null,null,null,null,null,null,null,null,null,null,null,null,null,null,null,null,null,null,null,null,null,null,null,null,null,null,null,null,null,null,null,null,null,null,null,null,null,null,null,null,null,null,null,null,null,null,null,null,null,null,null,null,null,null,null,null,null,null,null,null,null,72]
[49,49,1,"2021-07-09",{"$f":"IF(OR(N69=\"\",N69=\"Fyll i vinnare oavgjort\"),\"Winner match 45\",N69)","v":"Winner match 45"},"-",{"$f":"IF(OR(N70=\"\",N70=\"Fyll i vinnare oavgjort\"),\"Winner match 46\",N70)","v":"Winner match 46"},null,"-",null,{"$f":"IF(OR(ISBLANK(H76),ISBLANK(J76)),\"\",IF(H76>J76,1,IF(H76<J76,2,\"X\")))","v":""},null,null,null,null,null,null,null,null,null,null,null,null,null,null,null,null,null,null,{"$f":"D76","v":"2021-07-09"},"Winner match 45","-","Winner match 46",{"$f":"IF(H76=\"\",\"\",H76)","v":""},"-",{"$f":"IF(J76=\"\",\"\",J76)","v":""},{"$f":"K76","v":""},null,null,null,null,null,null,null,"Kvartsfinaler",null,null,null,null,{"$f":"E76","v":"Winner match 45"},{"$f":"G76","v":"Winner match 46"},null,null,null,null,null,null,null,null,null,null,null,null,null,null,null,null,null,null,null,null,null,null,null,null,null,null,null,null,null,null,null,null,null,null,null,null,null,null,null,null,null,null,null,null,null,null,null,null,null,null,null,null,null,null,null,null,null,null,null,null,null,null,null,null,null,null,null,null,null,null,null,null,null,null,null,null,null,null,null,null,null,null,null,null,null,null,null,null,null,null,null,null,null,null,null,null,null,null,null,null,null,null,null,null,null,null,null,null,null,null,null,null,null,null,null,null,null,null,null,null,null,null,null,null,null,null,null,null,null,null,null,null,null,null,null,null,null,null,null,73]
[50,50,2,"2021-07-10",{"$f":"IF(OR(N72=\"\",N72=\"Fyll i vinnare oavgjort\"),\"Winner match 47\",N72)","v":"Winner match 47"},"-",{"$f":"IF(OR(N71=\"\",N71=\"Fyll i vinnare oavgjort\"),\"Winner match 48\",N71)","v":"Winner match 48"},null,"-",null,"",null,null,null,null,null,null,null,null,null,null,null,null,null,null,null,null,null,null,"2021-07-10","Winner match 47","-","Winner match 48",{"$f":"IF(H77=\"\",\"\",H77)","v":""},"-",{"$f":"IF(J77=\"\",\"\",J77)","v":""},{"$f":"K77","v":""},null,null,null,null,null,null,null,"Mitt tips","Resultat & tabell","Utfall","Poäng",null,{"$f":"E77","v":"Winner match 47"},{"$f":"G77","v":"Winner match 48"},null,null,null,null,null,null,null,null,null,null,null,null,null,null,null,null,null,null,null,null,null,null,null,null,null,null,null,null,null,null,null,null,null,null,null,null,null,null,null,null,null,null,null,null,null,null,null,null,null,null,null,null,null,null,null,null,null,null,null,null,null,null,null,null,null,null,null,null,null,null,null,null,null,null,null,null,null,null,null,null,null,null,null,null,null,null,null,null,null,null,null,null,null,null,null,null,null,null,null,null,null,null,null,null,null,null,null,null,null,null,null,null,null,null,null,null,null,null,null,null,null,null,null,null,null,null,null,null,null,null,null,null,null,null,null,null,null,null,null,74]
[null,null,null,null,null,null,null,null,null,null,null,null,null,null,null,null,null,null,null,null,null,null,null,null,null,null,null,null,null,null,null,null,null,null,null,null,null,null,null,null,null,null,null,null,{"$f":"E69","v":"Winner match 39"},{"$f":"IF(OR('Results & Table'!H69=\"\",'Results & Table'!J69=\"\"),\"\",'Results & Table'!E69)","v":""},{"$f":"IF(ISERROR(VLOOKUP(AS78,$AT$78:$AT$85,1,FALSE)),0,1)","v":0},{"$f":"4*AU78","v":0},null,null,null,null,null,null,null,null,null,null,null,null,null,null,null,null,null,null,null,null,null,null,null,null,null,null,null,null,null,null,null,null,null,null,null,null,null,null,null,null,null,null,null,null,null,null,null,null,null,null,null,null,null,null,null,null,null,null,null,null,null,null,null,null,null,null,null,null,null,null,null,null,null,null,null,null,null,null,null,null,null,null,null,null,null,null,null,null,null,null,null,null,null,null,null,null,null,null,null,null,null,null,null,null,null,null,null,null,null,null,null,null,null,null,null,null,null,null,null,null,null,null,null,null,null,null,null,null,null,null,null,null,null,null,null,null,null,null,null,null,null,null,75]
[null,null,null,"Final",null,null,null,null,null,null,null,null,null,null,null,null,null,null,null,null,null,null,null,null,null,null,null,null,null,"Final",null,null,null,null,null,null,null,null,null,null,null,null,null,null,{"$f":"E70","v":"Winner match 41"},{"$f":"IF(OR('Results & Table'!H70=\"\",'Results & Table'!J70=\"\"),\"\",'Results & Table'!E70)","v":""},{"$f":"IF(ISERROR(VLOOKUP(AS79,$AT$78:$AT$85,1,FALSE)),0,1)","v":0},{"$f":"4*AU79","v":0},null,null,null,null,null,null,null,null,null,null,null,null,null,null,null,null,null,null,null,null,null,null,null,null,null,null,null,null,null,null,null,null,null,null,null,null,null,null,null,null,null,null,null,null,null,null,null,null,null,null,null,null,null,null,null,null,null,null,null,null,null,null,null,null,null,null,null,null,null,null,null,null,null,null,null,null,null,null,null,null,null,null,null,null,null,null,null,null,null,null,null,null,null,null,null,null,null,null,null,null,null,null,null,null,null,null,null,null,null,null,null,null,null,null,null,null,null,null,null,null,null,null,null,null,null,null,null,null,null,null,null,null,null,null,null,null,null,null,null,null,null,null,76]
["#","#","#","Date","Match",null,null,"Result",null,null,"1X2",null,null,null,null,null,null,null,null,null,null,null,null,null,null,null,null,null,null,"Datum","Match",null,null,"Resultat",null,null,"Tecken","Poäng",null,null,null,null,null,null,{"$f":"E72","v":"Winner match 43"},{"$f":"IF(OR('Results & Table'!H72=\"\",'Results & Table'!J72=\"\"),\"\",'Results & Table'!E72)","v":""},0,0,null,null,null,null,null,null,null,null,null,null,null,null,null,null,null,null,null,null,null,null,null,null,null,null,null,null,null,null,null,null,null,null,null,null,null,null,null,null,null,null,null,null,null,null,null,null,null,null,null,null,null,null,null,null,null,null,null,null,null,null,null,null,null,null,null,null,null,null,null,null,null,null,null,null,null,null,null,null,null,null,null,null,null,null,null,null,null,null,null,null,null,null,null,null,null,null,null,null,null,null,null,null,null,null,null,null,null,null,null,null,null,null,null,null,null,null,null,null,null,null,null,null,null,null,null,null,null,null,null,null,null,null,null,null,null,null,null,null,null,null,null,null,77]
[51,51,null,"2021-07-14",{"$f":"IF(OR(N76=\"\",N76=\"Fyll i vinnare oavgjort\"),\"Winner match 49\",N76)","v":"Winner match 49"},"-",{"$f":"IF(OR(N77=\"\",N77=\"Fyll i vinnare oavgjort\"),\"Winner match 50\",N77)","v":"Winner match 50"},null,"-",null,{"$f":"IF(OR(ISBLANK(H81),ISBLANK(J81)),\"\",IF(H81>J81,1,IF(H81<J81,2,\"X\")))","v":""},null,null,null,null,null,null,null,null,null,null,null,null,null,null,null,null,null,null,{"$f":"D81","v":"2021-07-14"},{"$f":"E81","v":"Winner match 49"},{"$f":"F81","v":"-"},{"$f":"G81","v":"Winner match 50"},{"$f":"IF(H81=\"\",\"\",H81)","v":""},"-",{"$f":"IF(J81=\"\",\"\",J81)","v":""},{"$f":"K81","v":""},null,null,null,null,null,null,null,{"$f":"E71","v":"Winner match 40"},{"$f":"IF(OR('Results & Table'!H71=\"\",'Results & Table'!J71=\"\"),\"\",'Results & Table'!E71)","v":""},0,0,null,{"$f":"E81","v":"Winner match 49"},{"$f":"G81","v":"Winner match 50"},null,null,null,null,null,null,null,null,null,null,null,null,null,null,null,null,null,null,null,null,null,null,null,null,null,null,null,null,null,null,null,null,null,null,null,null,null,null,null,null,null,null,null,null,null,null,null,null,null,null,null,null,null,null,null,null,null,null,null,null,null,null,null,null,null,null,null,null,null,null,null,null,null,null,null,null,null,null,null,null,null,null,null,null,null,null,null,null,null,null,null,null,null,null,null,null,null,null,null,null,null,null,null,null,null,null,null,null,null,null,null,null,null,null,null,null,null,null,null,null,null,null,null,null,null,null,null,null,null,null,null,null,null,null,null,null,null,null,null,78]
[null,null,null,null,null,null,null,null,null,null,null,null,null,null,null,null,null,null,null,null,null,null,null,null,null,null,null,null,null,null,null,null,null,null,null,null,null,null,null,null,null,null,null,null,{"$f":"G69","v":"Winner match 37"},{"$f":"IF(OR('Results & Table'!H69=\"\",'Results & Table'!J69=\"\"),\"\",'Results & Table'!G69)","v":""},0,0,null,null,null,null,null,null,null,null,null,null,null,null,null,null,null,null,null,null,null,null,null,null,null,null,null,null,null,null,null,null,null,null,null,null,null,null,null,null,null,null,null,null,null,null,null,null,null,null,null,null,null,null,null,null,null,null,null,null,null,null,null,null,null,null,null,null,null,null,null,null,null,null,null,null,null,null,null,null,null,null,null,null,null,null,null,null,null,null,null,null,null,null,null,null,null,null,null,null,null,null,null,null,null,null,null,null,null,null,null,null,null,null,null,null,null,null,null,null,null,null,null,null,null,null,null,null,null,null,null,null,null,null,null,null,null,null,null,null,null,null,null,null,79]
[null,null,null,null,null,null,null,null,null,null,null,null,null,null,null,null,null,null,null,null,null,null,null,null,null,null,null,null,null,null,null,null,null,null,null,null,null,null,null,null,null,null,null,null,{"$f":"G70","v":"Winner match 42"},{"$f":"IF(OR('Results & Table'!H70=\"\",'Results & Table'!J70=\"\"),\"\",'Results & Table'!G70)","v":""},0,0,null,null,null,null,null,null,null,null,null,null,null,null,null,null,null,null,null,null,null,null,null,null,null,null,null,null,null,null,null,null,null,null,null,null,null,null,null,null,null,null,null,null,null,null,null,null,null,null,null,null,null,null,null,null,null,null,null,null,null,null,null,null,null,null,null,null,null,null,null,null,null,null,null,null,null,null,null,null,null,null,null,null,null,null,null,null,null,null,null,null,null,null,null,null,null,null,null,null,null,null,null,null,null,null,null,null,null,null,null,null,null,null,null,null,null,null,null,null,null,null,null,null,null,null,null,null,null,null,null,null,null,null,null,null,null,null,null,null,null,null,null,null,80]
[null,null,null,null,null,null,null,null,null,null,null,null,null,null,null,null,null,null,null,null,null,null,null,null,null,null,null,null,null,null,null,null,null,null,null,null,null,null,null,null,null,null,null,null,{"$f":"G72","v":"Winner match 44"},{"$f":"IF(OR('Results & Table'!H72=\"\",'Results & Table'!J72=\"\"),\"\",'Results & Table'!G72)","v":""},0,0,null,null,null,null,null,null,null,null,null,null,null,null,null,null,null,null,null,null,null,null,null,null,null,null,null,null,null,null,null,null,null,null,null,null,null,null,null,null,null,null,null,null,null,null,null,null,null,null,null,null,null,null,null,null,null,null,null,null,null,null,null,null,null,null,null,null,null,null,null,null,null,null,null,null,null,null,null,null,null,null,null,null,null,null,null,null,null,null,null,null,null,null,null,null,null,null,null,null,null,null,null,null,null,null,null,null,null,null,null,null,null,null,null,null,null,null,null,null,null,null,null,null,null,null,null,null,null,null,null,null,null,null,null,null,null,null,null,null,null,null,null,null,81]
[null,null,null,null,null,null,null,null,null,null,null,null,null,null,null,null,null,null,null,null,null,null,null,null,null,null,null,null,null,null,null,null,null,null,null,null,null,null,null,null,null,null,null,null,{"$f":"G71","v":"Winner match 38"},{"$f":"IF(OR('Results & Table'!H71=\"\",'Results & Table'!J71=\"\"),\"\",'Results & Table'!G71)","v":""},0,0,null,null,null,null,null,null,null,null,null,null,null,null,null,null,null,null,null,null,null,null,null,null,null,null,null,null,null,null,null,null,null,null,null,null,null,null,null,null,null,null,null,null,null,null,null,null,null,null,null,null,null,null,null,null,null,null,null,null,null,null,null,null,null,null,null,null,null,null,null,null,null,null,null,null,null,null,null,null,null,null,null,null,null,null,null,null,null,null,null,null,null,null,null,null,null,null,null,null,null,null,null,null,null,null,null,null,null,null,null,null,null,null,null,null,null,null,null,null,null,null,null,null,null,null,null,null,null,null,null,null,null,null,null,null,null,null,null,null,null,null,null,null,82]
[null,null,null,null,null,null,null,null,null,null,null,null,null,null,null,null,null,null,null,null,null,null,null,null,null,null,null,null,null,null,null,null,null,null,null,null,null,null,null,null,null,null,null,null,null,null,"SUMMA",{"$f":"SUM(AV78:AV85)","v":0},null,null,null,null,null,null,null,null,null,null,null,null,null,null,null,null,null,null,null,null,null,null,null,null,null,null,null,null,null,null,null,null,null,null,null,null,null,null,null,null,null,null,null,null,null,null,null,null,null,null,null,null,null,null,null,null,null,null,null,null,null,null,null,null,null,null,null,null,null,null,null,null,null,null,null,null,null,null,null,null,null,null,null,null,null,null,null,null,null,null,null,null,null,null,null,null,null,null,null,null,null,null,null,null,null,null,null,null,null,null,null,null,null,null,null,null,null,null,null,null,null,null,null,null,null,null,null,null,null,null,null,null,null,null,null,null,null,null,null,null,null,null,83]
[null,null,null,null,null,null,null,null,null,null,null,null,null,null,null,null,null,null,null,null,null,null,null,null,null,null,null,null,null,null,null,null,null,null,null,null,null,null,null,null,null,null,null,null,"Semifinaler",null,null,null,null,null,null,null,null,null,null,null,null,null,null,null,null,null,null,null,null,null,null,null,null,null,null,null,null,null,null,null,null,null,null,null,null,null,null,null,null,null,null,null,null,null,null,null,null,null,null,null,null,null,null,null,null,null,null,null,null,null,null,null,null,null,null,null,null,null,null,null,null,null,null,null,null,null,null,null,null,null,null,null,null,null,null,null,null,null,null,null,null,null,null,null,null,null,null,null,null,null,null,null,null,null,null,null,null,null,null,null,null,null,null,null,null,null,null,null,null,null,null,null,null,null,null,null,null,null,null,null,null,null,null,null,null,null,null,null,null,null,null,null,null,null,84]
[null,null,null,null,null,null,null,null,null,null,null,null,null,null,null,null,null,null,null,null,null,null,null,null,null,null,null,null,null,null,null,null,null,null,null,null,null,null,null,null,null,null,null,null,"Mitt tips","Resultat & tabell","Utfall","Poäng",null,null,null,null,null,null,null,null,null,null,null,null,null,null,null,null,null,null,null,null,null,null,null,null,null,null,null,null,null,null,null,null,null,null,null,null,null,null,null,null,null,null,null,null,null,null,null,null,null,null,null,null,null,null,null,null,null,null,null,null,null,null,null,null,null,null,null,null,null,null,null,null,null,null,null,null,null,null,null,null,null,null,null,null,null,null,null,null,null,null,null,null,null,null,null,null,null,null,null,null,null,null,null,null,null,null,null,null,null,null,null,null,null,null,null,null,null,null,null,null,null,null,null,null,null,null,null,null,null,null,null,null,null,null,null,null,null,null,null,null,null,null,85]
[null,null,null,null,null,null,null,null,null,null,null,null,null,null,null,null,null,null,null,null,null,null,null,null,null,null,null,null,null,null,null,null,null,null,null,null,null,null,null,null,null,null,null,null,{"$f":"E76","v":"Winner match 45"},{"$f":"IF(OR('Results & Table'!H76=\"\",'Results & Table'!J76=\"\"),\"\",'Results & Table'!E76)","v":""},{"$f":"IF(ISERROR(VLOOKUP(AS89,$AT$89:$AT$92,1,FALSE)),0,1)","v":0},{"$f":"6*AU89","v":0},null,null,null,null,null,null,null,null,null,null,null,null,null,null,null,null,null,null,null,null,null,null,null,null,null,null,null,null,null,null,null,null,null,null,null,null,null,null,null,null,null,null,null,null,null,null,null,null,null,null,null,null,null,null,null,null,null,null,null,null,null,null,null,null,null,null,null,null,null,null,null,null,null,null,null,null,null,null,null,null,null,null,null,null,null,null,null,null,null,null,null,null,null,null,null,null,null,null,null,null,null,null,null,null,null,null,null,null,null,null,null,null,null,null,null,null,null,null,null,null,null,null,null,null,null,null,null,null,null,null,null,null,null,null,null,null,null,null,null,null,null,null,86]
[null,null,null,null,null,null,null,null,null,null,null,null,null,null,null,null,null,null,null,null,null,null,null,null,null,null,null,null,null,null,null,null,null,null,null,null,null,null,null,null,null,null,null,null,{"$f":"E77","v":"Winner match 47"},{"$f":"IF(OR('Results & Table'!H77=\"\",'Results & Table'!J77=\"\"),\"\",'Results & Table'!E77)","v":""},{"$f":"IF(ISERROR(VLOOKUP(AS90,$AT$89:$AT$92,1,FALSE)),0,1)","v":0},{"$f":"6*AU90","v":0},null,null,null,null,null,null,null,null,null,null,null,null,null,null,null,null,null,null,null,null,null,null,null,null,null,null,null,null,null,null,null,null,null,null,null,null,null,null,null,null,null,null,null,null,null,null,null,null,null,null,null,null,null,null,null,null,null,null,null,null,null,null,null,null,null,null,null,null,null,null,null,null,null,null,null,null,null,null,null,null,null,null,null,null,null,null,null,null,null,null,null,null,null,null,null,null,null,null,null,null,null,null,null,null,null,null,null,null,null,null,null,null,null,null,null,null,null,null,null,null,null,null,null,null,null,null,null,null,null,null,null,null,null,null,null,null,null,null,null,null,null,null,87]
[null,null,null,null,null,null,null,null,null,null,null,null,null,null,null,null,null,null,null,null,null,null,null,null,null,null,null,null,null,null,null,null,null,null,null,null,null,null,null,null,null,null,null,null,{"$f":"G76","v":"Winner match 46"},{"$f":"IF(OR('Results & Table'!H76=\"\",'Results & Table'!J76=\"\"),\"\",'Results & Table'!G76)","v":""},0,0,null,null,null,null,null,null,null,null,null,null,null,null,null,null,null,null,null,null,null,null,null,null,null,null,null,null,null,null,null,null,null,null,null,null,null,null,null,null,null,null,null,null,null,null,null,null,null,null,null,null,null,null,null,null,null,null,null,null,null,null,null,null,null,null,null,null,null,null,null,null,null,null,null,null,null,null,null,null,null,null,null,null,null,null,null,null,null,null,null,null,null,null,null,null,null,null,null,null,null,null,null,null,null,null,null,null,null,null,null,null,null,null,null,null,null,null,null,null,null,null,null,null,null,null,null,null,null,null,null,null,null,null,null,null,null,null,null,null,null,null,null,null,88]
[null,null,null,null,null,null,null,null,null,null,null,null,null,null,null,null,null,null,null,null,null,null,null,null,null,null,null,null,null,null,null,null,null,null,null,null,null,null,null,null,null,null,null,null,{"$f":"G77","v":"Winner match 48"},{"$f":"IF(OR('Results & Table'!H77=\"\",'Results & Table'!J77=\"\"),\"\",'Results & Table'!G77)","v":""},0,0,null,null,null,null,null,null,null,null,null,null,null,null,null,null,null,null,null,null,null,null,null,null,null,null,null,null,null,null,null,null,null,null,null,null,null,null,null,null,null,null,null,null,null,null,null,null,null,null,null,null,null,null,null,null,null,null,null,null,null,null,null,null,null,null,null,null,null,null,null,null,null,null,null,null,null,null,null,null,null,null,null,null,null,null,null,null,null,null,null,null,null,null,null,null,null,null,null,null,null,null,null,null,null,null,null,null,null,null,null,null,null,null,null,null,null,null,null,null,null,null,null,null,null,null,null,null,null,null,null,null,null,null,null,null,null,null,null,null,null,null,null,null,89]
[null,null,null,null,null,null,null,null,null,null,null,null,null,null,null,null,null,null,null,null,null,null,null,null,null,null,null,null,null,null,null,null,null,null,null,null,null,null,null,null,null,null,null,null,null,null,"SUMMA",{"$f":"SUM(AV89:AV92)","v":0},null,null,null,null,null,null,null,null,null,null,null,null,null,null,null,null,null,null,null,null,null,null,null,null,null,null,null,null,null,null,null,null,null,null,null,null,null,null,null,null,null,null,null,null,null,null,null,null,null,null,null,null,null,null,null,null,null,null,null,null,null,null,null,null,null,null,null,null,null,null,null,null,null,null,null,null,null,null,null,null,null,null,null,null,null,null,null,null,null,null,null,null,null,null,null,null,null,null,null,null,null,null,null,null,null,null,null,null,null,null,null,null,null,null,null,null,null,null,null,null,null,null,null,null,null,null,null,null,null,null,null,null,null,null,null,null,null,null,null,null,null,null,90]
[null,null,null,null,null,null,null,null,null,null,null,null,null,null,null,null,null,null,null,null,null,null,null,null,null,null,null,null,null,null,null,null,null,null,null,null,null,null,null,null,null,null,null,null,"Final",null,null,null,null,null,null,null,null,null,null,null,null,null,null,null,null,null,null,null,null,null,null,null,null,null,null,null,null,null,null,null,null,null,null,null,null,null,null,null,null,null,null,null,null,null,null,null,null,null,null,null,null,null,null,null,null,null,null,null,null,null,null,null,null,null,null,null,null,null,null,null,null,null,null,null,null,null,null,null,null,null,null,null,null,null,null,null,null,null,null,null,null,null,null,null,null,null,null,null,null,null,null,null,null,null,null,null,null,null,null,null,null,null,null,null,null,null,null,null,null,null,null,null,null,null,null,null,null,null,null,null,null,null,null,null,null,null,null,null,null,null,null,null,null,null,91]
[null,null,null,null,null,null,null,null,null,null,null,null,null,null,null,null,null,null,null,null,null,null,null,null,null,null,null,null,null,null,null,null,null,null,null,null,null,null,null,null,null,null,null,null,"Mitt tips","Resultat & tabell","Utfall","Poäng",null,null,null,null,null,null,null,null,null,null,null,null,null,null,null,null,null,null,null,null,null,null,null,null,null,null,null,null,null,null,null,null,null,null,null,null,null,null,null,null,null,null,null,null,null,null,null,null,null,null,null,null,null,null,null,null,null,null,null,null,null,null,null,null,null,null,null,null,null,null,null,null,null,null,null,null,null,null,null,null,null,null,null,null,null,null,null,null,null,null,null,null,null,null,null,null,null,null,null,null,null,null,null,null,null,null,null,null,null,null,null,null,null,null,null,null,null,null,null,null,null,null,null,null,null,null,null,null,null,null,null,null,null,null,null,null,null,null,null,null,null,null,92]
[null,null,null,null,null,null,null,null,null,null,null,null,null,null,null,null,null,null,null,null,null,null,null,null,null,null,null,null,null,null,null,null,null,null,null,null,null,null,null,null,null,null,null,null,{"$f":"E81","v":"Winner match 49"},{"$f":"IF(OR('Results & Table'!H81=\"\",'Results & Table'!J81=\"\"),\"\",'Results & Table'!E81)","v":""},{"$f":"IF(ISERROR(VLOOKUP(AS96,$AT$96:$AT$97,1,FALSE)),0,1)","v":0},{"$f":"8*AU96","v":0},null,null,null,null,null,null,null,null,null,null,null,null,null,null,null,null,null,null,null,null,null,null,null,null,null,null,null,null,null,null,null,null,null,null,null,null,null,null,null,null,null,null,null,null,null,null,null,null,null,null,null,null,null,null,null,null,null,null,null,null,null,null,null,null,null,null,null,null,null,null,null,null,null,null,null,null,null,null,null,null,null,null,null,null,null,null,null,null,null,null,null,null,null,null,null,null,null,null,null,null,null,null,null,null,null,null,null,null,null,null,null,null,null,null,null,null,null,null,null,null,null,null,null,null,null,null,null,null,null,null,null,null,null,null,null,null,null,null,null,null,null,null,93]
[null,null,null,null,null,null,null,null,null,null,null,null,null,null,null,null,null,null,null,null,null,null,null,null,null,null,null,null,null,null,null,null,null,null,null,null,null,null,null,null,null,null,null,null,{"$f":"G81","v":"Winner match 50"},{"$f":"IF(OR('Results & Table'!H81=\"\",'Results & Table'!J81=\"\"),\"\",'Results & Table'!G81)","v":""},{"$f":"IF(ISERROR(VLOOKUP(AS97,$AT$96:$AT$97,1,FALSE)),0,1)","v":0},{"$f":"8*AU97","v":0},null,null,null,null,null,null,null,null,null,null,null,null,null,null,null,null,null,null,null,null,null,null,null,null,null,null,null,null,null,null,null,null,null,null,null,null,null,null,null,null,null,null,null,null,null,null,null,null,null,null,null,null,null,null,null,null,null,null,null,null,null,null,null,null,null,null,null,null,null,null,null,null,null,null,null,null,null,null,null,null,null,null,null,null,null,null,null,null,null,null,null,null,null,null,null,null,null,null,null,null,null,null,null,null,null,null,null,null,null,null,null,null,null,null,null,null,null,null,null,null,null,null,null,null,null,null,null,null,null,null,null,null,null,null,null,null,null,null,null,null,null,null,94]
[null,null,null,null,null,null,null,null,null,null,null,null,null,null,null,null,null,null,null,null,null,null,null,null,null,null,null,null,null,null,null,null,null,null,null,null,null,null,null,null,null,null,null,null,null,null,"SUMMA",{"$f":"SUM(AV96:AV97)","v":0},null,null,null,null,null,null,null,null,null,null,null,null,null,null,null,null,null,null,null,null,null,null,null,null,null,null,null,null,null,null,null,null,null,null,null,null,null,null,null,null,null,null,null,null,null,null,null,null,null,null,null,null,null,null,null,null,null,null,null,null,null,null,null,null,null,null,null,null,null,null,null,null,null,null,null,null,null,null,null,null,null,null,null,null,null,null,null,null,null,null,null,null,null,null,null,null,null,null,null,null,null,null,null,null,null,null,null,null,null,null,null,null,null,null,null,null,null,null,null,null,null,null,null,null,null,null,null,null,null,null,null,null,null,null,null,null,null,null,null,null,null,null,95]
[null,null,null,null,null,null,null,null,null,null,null,null,null,null,null,null,null,null,null,null,null,null,null,null,null,null,null,null,null,null,null,null,null,null,null,null,null,null,null,null,null,null,null,null,null,null,null,null,null,null,null,null,null,null,null,null,null,null,null,null,null,null,null,null,null,null,null,null,null,null,null,null,null,null,null,null,null,null,null,null,null,null,null,null,null,null,null,null,null,null,null,null,null,null,null,null,null,null,null,null,null,null,null,null,null,null,null,null,null,null,null,null,null,null,null,null,null,null,null,null,null,null,null,null,null,null,null,null,null,null,null,null,null,null,null,null,null,null,null,null,null,null,null,null,null,null,null,null,null,null,null,null,null,null,null,null,null,null,null,null,null,null,null,null,null,null,null,null,null,null,null,null,null,null,null,null,null,null,null,null,null,null,null,null,null,null,null,null,null,null,96]
[null,null,null,null,null,null,null,null,null,null,null,null,null,null,null,null,null,null,null,null,null,null,null,null,null,null,null,null,null,null,null,null,null,null,null,null,null,null,null,null,null,null,null,null,null,null,null,null,null,null,null,null,null,null,null,null,null,null,null,null,null,null,null,null,null,null,null,null,null,null,null,null,null,null,null,null,null,null,null,null,null,null,null,null,null,null,null,null,null,null,null,null,null,null,null,null,null,null,null,null,null,null,null,null,null,null,null,null,null,null,null,null,null,null,null,null,null,null,null,null,null,null,null,null,null,null,null,null,null,null,null,null,null,null,null,null,null,null,null,null,null,null,null,null,null,null,null,null,null,null,null,null,null,null,null,null,null,null,null,null,null,null,null,null,null,null,null,null,null,null,null,null,null,null,null,null,null,null,null,null,null,null,null,null,null,null,null,null,null,null,97]
[null,null,null,null,null,null,null,null,null,null,null,null,null,null,null,null,null,null,null,null,null,null,null,null,null,null,null,null,null,null,null,null,null,null,null,null,null,null,null,null,null,null,null,null,null,null,null,null,null,null,null,null,null,null,null,null,null,null,null,null,null,null,null,null,null,null,null,null,null,null,null,null,null,null,null,null,null,null,null,null,null,null,null,null,null,null,null,null,null,null,null,null,null,null,null,null,null,null,null,null,null,null,null,null,null,null,null,null,null,null,null,null,null,null,null,null,null,null,null,null,null,null,null,null,null,null,null,null,null,null,null,null,null,null,null,null,null,null,null,null,null,null,null,null,null,null,null,null,null,null,null,null,null,null,null,null,null,null,null,null,null,null,null,null,null,null,null,null,null,null,null,null,null,null,null,null,null,null,null,null,null,null,null,null,null,null,null,null,null,null,98]
[null,null,null,null,null,null,null,null,null,null,null,null,null,null,null,null,null,null,null,null,null,null,null,null,null,null,null,null,null,null,null,null,null,null,null,null,null,null,null,null,null,null,null,null,null,null,null,null,null,null,null,null,null,null,null,null,null,null,null,null,null,null,null,null,null,null,null,null,null,null,null,null,null,null,null,null,null,null,null,null,null,null,null,null,null,null,null,null,null,null,null,null,null,null,null,null,null,null,null,null,null,null,null,null,null,null,null,null,null,null,null,null,null,null,null,null,null,null,null,null,null,null,null,null,null,null,null,null,null,null,null,null,null,null,null,null,null,null,null,null,null,null,null,null,null,null,null,null,null,null,null,null,null,null,null,null,null,null,null,null,null,null,null,null,null,null,null,null,null,null,null,null,null,null,null,null,null,null,null,null,null,null,null,null,null,null,null,null,null,null,99]
[null,null,null,null,null,null,null,null,null,null,null,null,null,null,null,null,null,null,null,null,null,null,null,null,null,null,null,null,null,null,null,null,null,null,null,null,null,null,null,null,null,null,null,null,null,null,null,null,null,null,null,null,null,null,null,null,null,null,null,null,null,null,null,null,null,null,null,null,null,null,null,null,null,null,null,null,null,null,null,null,null,null,null,null,null,null,null,null,null,null,null,null,null,null,null,null,null,null,null,null,null,null,null,null,null,null,null,null,null,null,null,null,null,null,null,null,null,null,null,null,null,null,null,null,null,null,null,null,null,null,null,null,null,null,null,null,null,null,null,null,null,null,null,null,null,null,null,null,null,null,null,null,null,null,null,null,null,null,null,null,null,null,null,null,null,null,null,null,null,null,null,null,null,null,null,null,null,null,null,null,null,null,null,null,null,null,null,null,null,null,100]

{"sheet":"My prediction","index":2,"n_rows":98,"n_cols":191,"rows_kept":98,"cut":false,"hidden":false,"merged":[[2,3,2,5],[2,6,2,8],[2,31,2,33],[2,34,2,36],[11,3,11,5],[11,6,11,8],[11,31,11,33],[11,34,11,36],[2,24,2,27],[3,24,3,27],[4,24,4,27],[5,24,5,27],[6,24,6,27],[7,24,7,27],[8,24,8,27],[20,3,20,5],[20,6,20,8],[20,31,20,33],[20,34,20,36],[27,30,27,31],[27,2,27,3],[29,3,29,5],[29,6,29,8],[29,31,29,33],[29,34,29,36],[38,3,38,5],[38,6,38,8],[38,31,38,33],[38,34,38,36],[47,3,47,5],[47,6,47,8],[47,31,47,33],[47,34,47,36],[56,3,56,5],[56,6,56,8],[56,31,56,33],[56,34,56,36],[56,16,56,19],[80,16,80,19],[75,16,75,19],[79,16,79,19],[67,3,67,5],[67,6,67,8],[79,3,79,5],[79,6,79,8],[74,3,74,5],[74,6,74,8],[79,34,79,36],[57,16,57,19],[67,16,67,19],[68,16,68,19],[74,16,74,19],[67,31,67,33],[79,31,79,33],[67,34,67,36],[74,31,74,33],[74,34,74,36]]}
[]
[null,null,"Group A",null,null,null,null,null,null,null,null,null,null,null,null,null,null,null,null,null,null,null,null,"Bonus questions",null,null,null,null,null,null,"Grupp A",null,null,null,null,null,null,null,null,"Rank 0",null,null,null,null,null,"Rank 1",null,null,null,null,null,"Rank 3",null,null,null,null,null,"Rank 3",null,null,null,null,null,"Rank 4",null,null,null,null,null,null,null,"Rank 0",null,null,null,null,null,null,null,null,null,null,null,"Rank 1",{"$f":"COUNTIF(CC4:CC7,1)","v":4},null,null,null,null,null,null,null,null,null,null,null,null,null,null,null,null,null,null,"Rank 2",{"$f":"COUNTIF(CC4:CC7,2)","v":0},null,null,null,null,null,null,null,null,null,null,null,null,null,null,null,null,null,null,"Rank 3",{"$f":"COUNTIF(CC4:CC7,3)","v":0},null,null,null,null,null,null,null,null,null,null,null,null,null,null,null,null,null,null,"Rank 4",{"$f":"COUNTIF(CC4:CC7,4)","v":0},null,null,null,null,null,null,null,null,null,null,null,null,null,null,null,null,null,null,null,null,null,null,"3rd places",null,null,null,null,null,null,null,null,null,null,null,null,"Check row:",{"$f":"MAX(GI3:GI18)","v":2},"Combo",null,null,null,"B","C","E","F","Valid"]
[null,null,"Date","Match",null,null,"Result",null,null,"1X2","Points",null,null,"Team","W","D","L","GF","GA","+/-","P",null,null,"Category","Answer",null,null,null,"Points",null,"Datum","Match",null,null,"Resultat",null,null,"Tecken","Poäng","V1","V2","O1","O2","F1","F2","V1","V2","O1","O2","F1","F2","V1","V2","O1","O2","F1","F2","V1","V2","O1","O2","F1","F2","V1","V2","O1","O2","F1","F2",null,null,"Lag","V","O","F","GM","IM","+/-","P","Grupp","Rank P","Rank +/-",null,"Lag","V","O","F","P","Grupp","Rank P","+/-","+/- rank","GM","GM rank","Rank internal","+/- all","+/- rank all","GM all","GM rank all","V all","V rank all","Rank all",null,"Lag","V","O","F","P","Grupp","Rank P","+/-","+/- rank","GM","GM rank","Rank internal","+/- all","+/- rank all","GM all","GM rank all","V all","V rank all","Rank all",null,"Lag","V","O","F","P","Grupp","Rank P","+/-","+/- rank","GM","GM rank","Rank internal","+/- all","+/- rank all","GM all","GM rank all","V all","V rank all","Rank all",null,"Lag","V","O","F","P","Grupp","Rank P","+/-","+/- rank","GM","GM rank","Rank internal","+/- all","+/- rank all","GM all","GM rank all","V all","V rank all","Rank all",null,"Rank","Rank Ties",null,null,"Grupp","Lag","Rank ties","Rank total","Rank mål","Rank +/-","Rank poäng","Poäng","+/-","GM","Grupp","Team through",null,2,"ABCD","A","B","C","D",{"$f":"VLOOKUP(\"A\",FL3:FM9,2,FALSE)","v":"Hungary"},{"$f":"VLOOKUP(\"D\",FL3:FM9,2,FALSE)","v":"Poland"},{"$f":"VLOOKUP(\"B\",FL3:FM9,2,FALSE)","v":"Italy"},{"$f":"VLOOKUP(\"C\",FL3:FM9,2,FALSE)","v":"Serbia"},{"$f":"IFERROR(IF(AND(VLOOKUP(GA3,FW4:FW9,1,FALSE)=GA3,VLOOKUP(GB3,FW4:FW9,1,FALSE)=GB3,VLOOKUP(GC3,FW4:FW9,1,FALSE)=GC3,VLOOKUP(GD3,FW4:FW9,1,FALSE)=GD3),FY3,\"\"),\"\")","v":2}]
[null,null,"2024-06-14","Germany","-","Scotland",null,"-",null,{"$f":"IF(OR(ISBLANK(G4),ISBLANK(I4)),\"\",IF(G4>I4,1,IF(G4<I4,2,\"X\")))","v":""},{"$f":"IF(OR('Results & Table'!H4=\"\",'Results & Table'!J4=\"\",G4=\"\",I4=\"\"),0,IF(G4='Results & Table'!H4,2,0)+IF(I4='Results & Table'!J4,2,0)+IF(J4='Results & Table'!K4,2,0))","v":0},{"$f":"IF(VLOOKUP(D4,BT3:CC7,10,FALSE)=VLOOKUP(F4,BT3:CC7,10,FALSE),VLOOKUP(D4,BT3:CC7,10,FALSE),\"-\")","v":1},1,{"$f":"VLOOKUP(M4,FI4:FJ7,2,FALSE)","v":"Germany"},{"$f":"VLOOKUP(N4,BT4:CA7,2,FALSE)","v":0},{"$f":"VLOOKUP(N4,BT4:CA7,3,FALSE)","v":0},{"$f":"VLOOKUP(N4,BT4:CA7,4,FALSE)","v":0},{"$f":"VLOOKUP(N4,BT4:CA7,5,FALSE)","v":0},{"$f":"VLOOKUP(N4,BT4:CA7,6,FALSE)","v":0},{"$f":"VLOOKUP(N4,BT4:CA7,7,FALSE)","v":0},{"$f":"VLOOKUP(N4,BT4:CA7,8,FALSE)","v":0},null,null,"European champion",null,null,null,null,{"$f":"IF(AND('Results & Table'!X4:X4<>\"\",Y4='Results & Table'!X4:X4),20,0)","v":0},null,{"$f":"C4","v":"2024-06-14"},"Germany","-","Scotland",{"$f":"IF(G4=\"\",\"\",G4)","v":""},"-",{"$f":"IF(I4=\"\",\"\",I4)","v":""},{"$f":"J4","v":""},null,{"$f":"IF(AI4>AK4,1,0)","v":0},{"$f":"IF(AK4>AI4,1,0)","v":0},{"$f":"IF(AND(AI4=AK4,AI4<>\"\"),1,0)","v":0},{"$f":"IF(AND(AI4=AK4,AI4<>\"\"),1,0)","v":0},{"$f":"IF(AI4<AK4,1,0)","v":0},{"$f":"IF(AK4<AI4,1,)","v":0},{"$f":"IF(ISERROR(VLOOKUP(AF4,CF:CF,1,FALSE)),0,1)*IF(ISERROR(VLOOKUP(AH4,CF:CF,1,FALSE)),0,1)*AN4","v":0},{"$f":"IF(ISERROR(VLOOKUP(AF4,CF:CF,1,FALSE)),0,1)*IF(ISERROR(VLOOKUP(AH4,CF:CF,1,FALSE)),0,1)*AO4","v":0},{"$f":"IF(ISERROR(VLOOKUP(AF4,CF:CF,1,FALSE)),0,1)*IF(ISERROR(VLOOKUP(AH4,CF:CF,1,FALSE)),0,1)*AP4","v":0},{"$f":"IF(ISERROR(VLOOKUP(AF4,CF:CF,1,FALSE)),0,1)*IF(ISERROR(VLOOKUP(AH4,CF:CF,1,FALSE)),0,1)*AQ4","v":0},{"$f":"IF(ISERROR(VLOOKUP(AF4,CF:CF,1,FALSE)),0,1)*IF(ISERROR(VLOOKUP(AH4,CF:CF,1,FALSE)),0,1)*AR4","v":0},{"$f":"IF(ISERROR(VLOOKUP(AF4,CF:CF,1,FALSE)),0,1)*IF(ISERROR(VLOOKUP(AH4,CF:CF,1,FALSE)),0,1)*AS4","v":0},{"$f":"IF(ISERROR(VLOOKUP(AF4,CZ:CZ,1,FALSE)),0,1)*IF(ISERROR(VLOOKUP(AH4,CZ:CZ,1,FALSE)),0,1)*AN4","v":0},{"$f":"IF(ISERROR(VLOOKUP(AF4,CZ:CZ,1,FALSE)),0,1)*IF(ISERROR(VLOOKUP(AH4,CZ:CZ,1,FALSE)),0,1)*AO4","v":0},{"$f":"IF(ISERROR(VLOOKUP(AF4,CZ:CZ,1,FALSE)),0,1)*IF(ISERROR(VLOOKUP(AH4,CZ:CZ,1,FALSE)),0,1)*AP4","v":0},{"$f":"IF(ISERROR(VLOOKUP(AF4,CZ:CZ,1,FALSE)),0,1)*IF(ISERROR(VLOOKUP(AH4,CZ:CZ,1,FALSE)),0,1)*AQ4","v":0},{"$f":"IF(ISERROR(VLOOKUP(AF4,CZ:CZ,1,FALSE)),0,1)*IF(ISERROR(VLOOKUP(AH4,CZ:CZ,1,FALSE)),0,1)*AR4","v":0},{"$f":"IF(ISERROR(VLOOKUP(AF4,CZ:CZ,1,FALSE)),0,1)*IF(ISERROR(VLOOKUP(AH4,CZ:CZ,1,FALSE)),0,1)*AS4","v":0},{"$f":"IF(ISERROR(VLOOKUP(AF4,DT:DT,1,FALSE)),0,1)*IF(ISERROR(VLOOKUP(AH4,DT:DT,1,FALSE)),0,1)*AN4","v":0},{"$f":"IF(ISERROR(VLOOKUP(AF4,DT:DT,1,FALSE)),0,1)*IF(ISERROR(VLOOKUP(AH4,DT:DT,1,FALSE)),0,1)*AO4","v":0},{"$f":"IF(ISERROR(VLOOKUP(AF4,DT:DT,1,FALSE)),0,1)*IF(ISERROR(VLOOKUP(AH4,DT:DT,1,FALSE)),0,1)*AP4","v":0},{"$f":"IF(ISERROR(VLOOKUP(AF4,DT:DT,1,FALSE)),0,1)*IF(ISERROR(VLOOKUP(AH4,DT:DT,1,FALSE)),0,1)*AQ4","v":0},{"$f":"IF(ISERROR(VLOOKUP(AF4,DT:DT,1,FALSE)),0,1)*IF(ISERROR(VLOOKUP(AH4,DT:DT,1,FALSE)),0,1)*AR4","v":0},{"$f":"IF(ISERROR(VLOOKUP(AF4,DT:DT,1,FALSE)),0,1)*IF(ISERROR(VLOOKUP(AH4,DT:DT,1,FALSE)),0,1)*AS4","v":0},{"$f":"IF(ISERROR(VLOOKUP(AF4,EN:EN,1,FALSE)),0,1)*IF(ISERROR(VLOOKUP(AH4,EN:EN,1,FALSE)),0,1)*AN4","v":0},{"$f":"IF(ISERROR(VLOOKUP(AF4,EN:EN,1,FALSE)),0,1)*IF(ISERROR(VLOOKUP(AH4,EN:EN,1,FALSE)),0,1)*AO4","v":0},{"$f":"IF(ISERROR(VLOOKUP(AF4,EN:EN,1,FALSE)),0,1)*IF(ISERROR(VLOOKUP(AH4,EN:EN,1,FALSE)),0,1)*AP4","v":0},{"$f":"IF(ISERROR(VLOOKUP(AF4,EN:EN,1,FALSE)),0,1)*IF(ISERROR(VLOOKUP(AH4,EN:EN,1,FALSE)),0,1)*AQ4","v":0},{"$f":"IF(ISERROR(VLOOKUP(AF4,EN:EN,1,FALSE)),0,1)*IF(ISERROR(VLOOKUP(AH4,EN:EN,1,FALSE)),0,1)*AR4","v":0},{"$f":"IF(ISERROR(VLOOKUP(AF4,EN:EN,1,FALSE)),0,1)*IF(ISERROR(VLOOKUP(AH4,EN:EN,1,FALSE)),0,1)*AS4","v":0},null,null,"Germany",{"$f":"(SUMIF(AF4:AF54,BT4,AN4:AN54)+SUMIF(AH4:AH54,BT4,AO4:AO54))","v":0},{"$f":"(SUMIF(AF4:AF54,BT4,AP4:AP54)+SUMIF(AH4:AH54,BT4,AQ4:AQ54))","v":0},{"$f":"(SUMIF(AF4:AF54,BT4,AR4:AR54)+SUMIF(AH4:AH54,BT4,AS4:AS54))","v":0},{"$f":"SUMIF(AF4:AF54,BT4,AI4:AI54)+SUMIF(AH4:AH54,BT4,AK4:AK54)","v":0},{"$f":"SUMIF(AF4:AF54,BT4,AK4:AK54)+SUMIF(AH4:AH54,BT4,AI4:AI54)","v":0},{"$f":"BX4-BY4","v":0},{"$f":"IFERROR(BU4*3+BV4*1,0)","v":0},"A",{"$f":"RANK(CA4,CA4:CA7)","v":1},{"$f":"SUMPRODUCT((CA4:CA7=CA4)*(BZ4:BZ7>BZ4))","v":0},null,{"$f":"IF(CC4=1,BT4,)","v":"Germany"},{"$f":"(SUMIF(AF4:AF54,BT4,AT4:AT54)+SUMIF(AH4:AH54,BT4,AU4:AU54))","v":0},{"$f":"(SUMIF(AF4:AF54,BT4,AV4:AV54)+SUMIF(AH4:AH54,BT4,AW4:AW54))","v":0},{"$f":"(SUMIF(AF4:AF54,BT4,AX4:AX54)+SUMIF(AH4:AH54,BT4,AY4:AY54))","v":0},{"$f":"IFERROR(CG4*3+CH4*1,0)","v":0},{"$f":"CB4","v":"A"},{"$f":"IF(CF4>0,RANK(CJ4,CJ4:CJ7),)","v":1},{"$f":"IF(AND(CF4>0,COUNTIF(CL4:CL7,CL4)>1),SUMIFS($AI$4:$AI$54,$AF$4:$AF$54,$BT4,$L$4:$L$54,1)+SUMIFS($AK$4:$AK$54,$AH$4:$AH$54,$BT4,$L$4:$L$54,1)-SUMIFS($AK$4:$AK$54,$AF$4:$AF$54,$BT4,$L$4:$L$54,1)-SUMIFS($AI$4:$AI$54,$AH$4:$AH$54,$BT4,$L$4:$L$54,1),)","v":0},{"$f":"IF(AND(CF4>0,COUNTIF(CL4:CL7,CL4)>1),CL4+RANK(CM4,CM4:CM7)-1,CL4)","v":1},{"$f":"IF(AND(CF4>0,COUNTIF(CN4:CN7,CN4)>1),SUMIFS($AI$4:$AI$54,$AF$4:$AF$54,$BT4,$L$4:$L$54,1)+SUMIFS($AK$4:$AK$54,$AH$4:$AH$54,$BT4,$L$4:$L$54,1),)","v":0},{"$f":"IF(AND(CF4>0,COUNTIF(CN4:CN7,CN4)>1),CN4+RANK(CO4,CO4:CO7)-1,CN4)","v":1},{"$f":"IF(CP4=0,\"\",CP4)","v":1},{"$f":"IF(OR(CQ4=\"\",COUNTIF(CQ4:CQ7,CQ4)=1),\"\",$BZ4)","v":0},{"$f":"IF(CQ4=\"\",\"\",IF(COUNTIF(CQ4:CQ7,CQ4)=1,CQ4,CQ4+RANK(CR4,CR4:CR7,0)-1))","v":1},{"$f":"IF(OR(CS4=\"\",COUNTIF(CS4:CS7,CS4)=1),\"\",$BX4)","v":0},{"$f":"IF(CQ4=\"\",\"\",IF(COUNTIF(CS4:CS7,CS4)=1,CS4,CS4+RANK(CT4,CT4:CT7,0)-1))","v":1},{"$f":"IF(OR(CU4=\"\",COUNTIF(CU4:CU7,CU4)=1),\"\",$BU4)","v":0},{"$f":"IF(CQ4=\"\",\"\",IF(COUNTIF(CU4:CU7,CU4)=1,CU4,CU4+RANK(CV4,CV4:CV7,0)-1))","v":1},{"$f":"IF(CF4>0,BM2+RANK(CW4,CW4:CW7,1),)","v":1},null,{"$f":"IF(CC4=2,BT4,)","v":0},{"$f":"(SUMIF(AF4:AF54,BT4,AZ4:AZ54)+SUMIF(AH4:AH54,BT4,BA4:BA54))","v":0},{"$f":"(SUMIF(AF4:AF54,BT4,BB4:BB54)+SUMIF(AH4:AH54,BT4,BC4:BC54))","v":0},{"$f":"(SUMIF(AF4:AF54,BT4,BD4:BD54)+SUMIF(AH4:AH54,BT4,BE4:BE54))","v":0},{"$f":"IFERROR(DA4*3+DB4*1,0)","v":0},{"$f":"CB4","v":"A"},{"$f":"IF(CZ4>0,RANK(DD4,DD4:DD7)+CG2,)","v":0},{"$f":"IF(AND(CZ4>0,COUNTIF(DF4:DF7,DF4)>1),SUMIFS($AI$4:$AI$54,$AF$4:$AF$54,$BT4,$L$4:$L$54,2)+SUMIFS($AK$4:$AK$54,$AH$4:$AH$54,$BT4,$L$4:$L$54,2)-SUMIFS($AK$4:$AK$54,$AF$4:$AF$54,$BT4,$L$4:$L$54,2)-SUMIFS($AI$4:$AI$54,$AH$4:$AH$54,$BT4,$L$4:$L$54,2),)","v":0},{"$f":"IF(AND(CZ4>0,COUNTIF(DF4:DF7,DF4)>1),DF4+RANK(DG4,DG4:DG7)-1,DF4)","v":0},{"$f":"IF(AND(CZ4>0,COUNTIF(DH4:DH7,DH4)>1),SUMIFS($AI$4:$AI$54,$AF$4:$AF$54,$BT4,$L$4:$L$54,2)+SUMIFS($AK$4:$AK$54,$AH$4:$AH$54,$BT4,$L$4:$L$54,2),)","v":0},{"$f":"IF(AND(CZ4>0,COUNTIF(DH4:DH7,DH4)>1),DH4+RANK(DI4,DI4:DI7)-1,DH4)","v":0},{"$f":"IF(DJ4=0,\"\",DJ4)","v":""},{"$f":"IF(OR(DK4=\"\",COUNTIF(DK4:DK7,DK4)=1),\"\",$BZ4)","v":""},{"$f":"IF(DK4=\"\",\"\",IF(COUNTIF(DK4:DK7,DK4)=1,DK4,DK4+RANK(DL4,DL4:DL7,0)-1))","v":""},{"$f":"IF(OR(DM4=\"\",COUNTIF(DM4:DM7,DM4)=1),\"\",$BX4)","v":""},{"$f":"IF(DK4=\"\",\"\",IF(COUNTIF(DM4:DM7,DM4)=1,DM4,DM4+RANK(DN4,DN4:DN7,0)-1))","v":""},{"$f":"IF(OR(DO4=\"\",COUNTIF(DO4:DO7,DO4)=1),\"\",$BU4)","v":""},{"$f":"IF(DK4=\"\",\"\",IF(COUNTIF(DO4:DO7,DO4)=1,DO4,DO4+RANK(DP4,DP4:DP7,0)-1))","v":""},{"$f":"IF(CZ4>0,CG2+RANK(DQ4,DQ4:DQ7,1),)","v":0},null,{"$f":"IF(CC4=3,BT4,)","v":0},{"$f":"(SUMIF(AF4:AF54,BT4,BF4:BF54)+SUMIF(AH4:AH54,BT4,BG4:BG54))","v":0},{"$f":"(SUMIF(AF4:AF54,BT4,BH4:BH54)+SUMIF(AH4:AH54,BT4,BI4:BI54))","v":0},{"$f":"(SUMIF(AF4:AF54,BT4,BJ4:BJ54)+SUMIF(AH4:AH54,BT4,BK4:BK54))","v":0},{"$f":"IFERROR(DU4*3+DV4*1,0)","v":0},{"$f":"CB4","v":"A"},{"$f":"IF(DT4>0,RANK(DX4,DX4:DX7)+CG2+DA2,)","v":0},{"$f":"IF(AND(DT4>0,COUNTIF(DZ4:DZ7,DZ4)>1),SUMIFS($AI$4:$AI$54,$AF$4:$AF$54,$BT4,$L$4:$L$54,3)+SUMIFS($AK$4:$AK$54,$AH$4:$AH$54,$BT4,$L$4:$L$54,3)-SUMIFS($AK$4:$AK$54,$AF$4:$AF$54,$BT4,$L$4:$L$54,3)-SUMIFS($AI$4:$AI$54,$AH$4:$AH$54,$BT4,$L$4:$L$54,3),)","v":0},{"$f":"IF(AND(DT4>0,COUNTIF(DZ4:DZ7,DZ4)>1),DZ4+RANK(EA4,EA4:EA7)-1,DZ4)","v":0},{"$f":"IF(AND(DT4>0,COUNTIF(EB4:EB7,EB4)>1),SUMIFS($AI$4:$AI$54,$AF$4:$AF$54,$BT4,$L$4:$L$54,3)+SUMIFS($AK$4:$AK$54,$AH$4:$AH$54,$BT4,$L$4:$L$54,3),)","v":0},{"$f":"IF(AND(DT4>0,COUNTIF(EB4:EB7,EB4)>1),EB4+RANK(EC4,EC4:EC7)-1,EB4)","v":0},{"$f":"IF(ED4=0,\"\",ED4)","v":""},{"$f":"IF(OR(EE4=\"\",COUNTIF(EE4:EE7,EE4)=1),\"\",$BZ4)","v":""},{"$f":"IF(EE4=\"\",\"\",IF(COUNTIF(EE4:EE7,EE4)=1,EE4,EE4+RANK(EF4,EF4:EF7,0)-1))","v":""},{"$f":"IF(OR(EG4=\"\",COUNTIF(EG4:EG7,EG4)=1),\"\",$BX4)","v":""},{"$f":"IF(EE4=\"\",\"\",IF(COUNTIF(EG4:EG7,EG4)=1,EG4,EG4+RANK(EH4,EH4:EH7,0)-1))","v":""},{"$f":"IF(OR(EI4=\"\",COUNTIF(EI4:EI7,EI4)=1),\"\",$BU4)","v":""},{"$f":"IF(EE4=\"\",\"\",IF(COUNTIF(EI4:EI7,EI4)=1,EI4,EI4+RANK(EJ4,EJ4:EJ7,0)-1))","v":""},{"$f":"IF(DT4>0,CG2+DA2+RANK(EK4,EK4:EK7,1),)","v":0},null,{"$f":"IF(CC4=4,BT4,)","v":0},{"$f":"(SUMIF(AF4:AF54,BT4,BL4:BL54)+SUMIF(AH4:AH54,BT4,BM4:BM54))","v":0},{"$f":"(SUMIF(AF4:AF54,BT4,BN4:BN54)+SUMIF(AH4:AH54,BT4,BO4:BO54))","v":0},{"$f":"(SUMIF(AF4:AF54,BT4,BP4:BP54)+SUMIF(AH4:AH54,BT4,BQ4:BQ54))","v":0},{"$f":"IFERROR(EO4*3+EP4*1,0)","v":0},{"$f":"CB4","v":"A"},{"$f":"IF(EN4>0,RANK(ER4,ER4:ER7)+CG2+DA2+DU2,)","v":0},{"$f":"IF(AND(EN4>0,COUNTIF(ET4:ET7,ET4)>1),SUMIFS($AI$4:$AI$54,$AF$4:$AF$54,$BT4,$L$4:$L$54,4)+SUMIFS($AK$4:$AK$54,$AH$4:$AH$54,$BT4,$L$4:$L$54,4)-SUMIFS($AK$4:$AK$54,$AF$4:$AF$54,$BT4,$L$4:$L$54,4)-SUMIFS($AI$4:$AI$54,$AH$4:$AH$54,$BT4,$L$4:$L$54,4),)","v":0},{"$f":"IF(AND(EN4>0,COUNTIF(ET4:ET7,ET4)>1),ET4+RANK(EU4,EU4:EU7)-1,ET4)","v":0},{"$f":"IF(AND(EN4>0,COUNTIF(EV4:EV7,EV4)>1),SUMIFS($AI$4:$AI$54,$AF$4:$AF$54,$BT4,$L$4:$L$54,4)+SUMIFS($AK$4:$AK$54,$AH$4:$AH$54,$BT4,$L$4:$L$54,4),)","v":0},{"$f":"IF(AND(EN4>0,COUNTIF(EV4:EV7,EV4)>1),EV4+RANK(EW4,EW4:EW7)-1,EV4)","v":0},{"$f":"IF(EX4=0,\"\",EX4)","v":""},{"$f":"IF(OR(EY4=\"\",COUNTIF(EY4:EY7,EY4)=1),\"\",$BZ4)","v":""},{"$f":"IF(EY4=\"\",\"\",IF(COUNTIF(EY4:EY7,EY4)=1,EY4,EY4+RANK(EZ4,EZ4:EZ7,0)-1))","v":""},{"$f":"IF(OR(FA4=\"\",COUNTIF(FA4:FA7,FA4)=1),\"\",$BX4)","v":""},{"$f":"IF(EY4=\"\",\"\",IF(COUNTIF(FA4:FA7,FA4)=1,FA4,FA4+RANK(FB4,FB4:FB7,0)-1))","v":""},{"$f":"IF(OR(FC4=\"\",COUNTIF(FC4:FC7,FC4)=1),\"\",$BU4)","v":""},{"$f":"IF(EY4=\"\",\"\",IF(COUNTIF(FC4:FC7,FC4)=1,FC4,FC4+RANK(FD4,FD4:FD7,0)-1))","v":""},{"$f":"IF(EN4>0,CG2+DA2+DU2+RANK(FE4,FE4:FE7,1),)","v":0},null,{"$f":"IFERROR(VLOOKUP(FJ4,CF3:CX7,19,FALSE),IFERROR(VLOOKUP(FJ4,CZ3:DR7,19,FALSE),IFERROR(VLOOKUP(FJ4,DT3:EL7,19,FALSE),VLOOKUP(FJ4,EN3:FF7,19,FALSE))))","v":1},{"$f":"RANK(FH4,FH4:FH7,1)+COUNTIF(FH4:FH4,FH4)-1","v":1},{"$f":"BT4","v":"Germany"},null,"A",{"$f":"N6","v":"Hungary"},{"$f":"RANK(FO4,FO4:FO9,1)+COUNTIF(FO4:FO4,FO4)-1","v":1},{"$f":"FR4+FQ4+FP4","v":1},{"$f":"SUMPRODUCT((FS4:FS9=FS4)*(FT4:FT9=FT4)*(FU4:FU9>FU4))","v":0},{"$f":"SUMPRODUCT((FS4:FS9=FS4)*(FT4:FT9>FT4))","v":0},{"$f":"RANK(FS4,FS4:FS9)","v":1},{"$f":"U6","v":0},{"$f":"T6","v":0},{"$f":"R6","v":0},"A",{"$f":"IF(FN4<5,FV4,)","v":"A"},null,3,"ABCE","A","B","C","E",{"$f":"VLOOKUP(\"A\",FL3:FM9,2,FALSE)","v":"Hungary"},{"$f":"VLOOKUP(\"E\",FL3:FM9,2,FALSE)","v":"Belgium"},{"$f":"VLOOKUP(\"B\",FL3:FM9,2,FALSE)","v":"Italy"},{"$f":"VLOOKUP(\"C\",FL3:FM9,2,FALSE)","v":"Serbia"},{"$f":"IFERROR(IF(AND(VLOOKUP(GA4,FW4:FW9,1,FALSE)=GA4,VLOOKUP(GB4,FW4:FW9,1,FALSE)=GB4,VLOOKUP(GC4,FW4:FW9,1,FALSE)=GC4,VLOOKUP(GD4,FW4:FW9,1,FALSE)=GD4),FY4,\"\"),\"\")","v":""}]
[null,null,"2024-06-15","Hungary","-","Switzerland",null,"-",null,{"$f":"IF(OR(ISBLANK(G5),ISBLANK(I5)),\"\",IF(G5>I5,1,IF(G5<I5,2,\"X\")))","v":""},{"$f":"IF(OR('Results & Table'!H5=\"\",'Results & Table'!J5=\"\",G5=\"\",I5=\"\"),0,IF(G5='Results & Table'!H5,2,0)+IF(I5='Results & Table'!J5,2,0)+IF(J5='Results & Table'!K5,2,0))","v":0},{"$f":"IF(VLOOKUP(D5,BT3:CC7,10,FALSE)=VLOOKUP(F5,BT3:CC7,10,FALSE),VLOOKUP(D5,BT3:CC7,10,FALSE),\"-\")","v":1},2,{"$f":"VLOOKUP(M5,FI4:FJ7,2,FALSE)","v":"Scotland"},{"$f":"VLOOKUP(N5,BT4:CA7,2,FALSE)","v":0},{"$f":"VLOOKUP(N5,BT4:CA7,3,FALSE)","v":0},{"$f":"VLOOKUP(N5,BT4:CA7,4,FALSE)","v":0},{"$f":"VLOOKUP(N5,BT4:CA7,5,FALSE)","v":0},{"$f":"VLOOKUP(N5,BT4:CA7,6,FALSE)","v":0},{"$f":"VLOOKUP(N5,BT4:CA7,7,FALSE)","v":0},{"$f":"VLOOKUP(N5,BT4:CA7,8,FALSE)","v":0},null,null,"Top scorer",null,null,null,null,{"$f":"IF(AND('Results & Table'!X5:X5<>\"\",Y5='Results & Table'!X5:X5),20,0)","v":0},null,"2024-06-15","Hungary","-","Switzerland","","-","","",null,{"$f":"IF(AI5>AK5,1,0)","v":0},{"$f":"IF(AK5>AI5,1,0)","v":0},{"$f":"IF(AND(AI5=AK5,AI5<>\"\"),1,0)","v":0},{"$f":"IF(AND(AI5=AK5,AI5<>\"\"),1,0)","v":0},{"$f":"IF(AI5<AK5,1,0)","v":0},{"$f":"IF(AK5<AI5,1,)","v":0},0,0,0,0,0,0,0,0,0,0,0,0,0,0,0,0,0,0,0,0,0,0,0,0,null,null,"Scotland",{"$f":"(SUMIF(AF4:AF54,BT5,AN4:AN54)+SUMIF(AH4:AH54,BT5,AO4:AO54))","v":0},{"$f":"(SUMIF(AF4:AF54,BT5,AP4:AP54)+SUMIF(AH4:AH54,BT5,AQ4:AQ54))","v":0},{"$f":"(SUMIF(AF4:AF54,BT5,AR4:AR54)+SUMIF(AH4:AH54,BT5,AS4:AS54))","v":0},{"$f":"SUMIF(AF4:AF54,BT5,AI4:AI54)+SUMIF(AH4:AH54,BT5,AK4:AK54)","v":0},{"$f":"SUMIF(AF4:AF54,BT5,AK4:AK54)+SUMIF(AH4:AH54,BT5,AI4:AI54)","v":0},{"$f":"BX5-BY5","v":0},{"$f":"IFERROR(BU5*3+BV5*1,0)","v":0},"A",{"$f":"RANK(CA5,CA4:CA7)","v":1},{"$f":"SUMPRODUCT((CA4:CA7=CA5)*(BZ4:BZ7>BZ5))","v":0},null,{"$f":"IF(CC5=1,BT5,)","v":"Scotland"},{"$f":"(SUMIF(AF4:AF54,BT5,AT4:AT54)+SUMIF(AH4:AH54,BT5,AU4:AU54))","v":0},{"$f":"(SUMIF(AF4:AF54,BT5,AV4:AV54)+SUMIF(AH4:AH54,BT5,AW4:AW54))","v":0},{"$f":"(SUMIF(AF4:AF54,BT5,AX4:AX54)+SUMIF(AH4:AH54,BT5,AY4:AY54))","v":0},{"$f":"IFERROR(CG5*3+CH5*1,0)","v":0},{"$f":"CB5","v":"A"},{"$f":"IF(CF5>0,RANK(CJ5,CJ4:CJ7),)","v":1},{"$f":"IF(AND(CF5>0,COUNTIF(CL4:CL7,CL5)>1),SUMIFS($AI$4:$AI$54,$AF$4:$AF$54,BT5,$L$4:$L$54,1)+SUMIFS($AK$4:$AK$54,$AH$4:$AH$54,BT5,$L$4:$L$54,1)-SUMIFS($AK$4:$AK$54,$AF$4:$AF$54,BT5,$L$4:$L$54,1)-SUMIFS($AI$4:$AI$54,$AH$4:$AH$54,BT5,$L$4:$L$54,1),)","v":0},{"$f":"IF(AND(CF5>0,COUNTIF(CL4:CL7,CL5)>1),CL5+RANK(CM5,CM4:CM7)-1,CL5)","v":1},{"$f":"IF(AND(CF5>0,COUNTIF(CN4:CN7,CN5)>1),SUMIFS($AI$4:$AI$54,$AF$4:$AF$54,BT5,$L$4:$L$54,1)+SUMIFS($AK$4:$AK$54,$AH$4:$AH$54,BT5,$L$4:$L$54,1),)","v":0},{"$f":"IF(AND(CF5>0,COUNTIF(CN4:CN7,CN5)>1),CN5+RANK(CO5,CO4:CO7)-1,CN5)","v":1},{"$f":"IF(CP5=0,\"\",CP5)","v":1},{"$f":"IF(OR(CQ5=\"\",COUNTIF(CQ4:CQ7,CQ5)=1),\"\",$BZ5)","v":0},{"$f":"IF(CQ5=\"\",\"\",IF(COUNTIF(CQ4:CQ7,CQ5)=1,CQ5,CQ5+RANK(CR5,CR4:CR7,0)-1))","v":1},{"$f":"IF(OR(CS5=\"\",COUNTIF(CS4:CS7,CS5)=1),\"\",$BX5)","v":0},{"$f":"IF(CQ5=\"\",\"\",IF(COUNTIF(CS4:CS7,CS5)=1,CS5,CS5+RANK(CT5,CT4:CT7,0)-1))","v":1},{"$f":"IF(OR(CU5=\"\",COUNTIF(CU4:CU7,CU5)=1),\"\",$BU5)","v":0},{"$f":"IF(CQ5=\"\",\"\",IF(COUNTIF(CU4:CU7,CU5)=1,CU5,CU5+RANK(CV5,CV4:CV7,0)-1))","v":1},{"$f":"IF(CF5>0,BM2+RANK(CW5,CW4:CW7,1),)","v":1},null,{"$f":"IF(CC5=2,BT5,)","v":0},{"$f":"(SUMIF(AF4:AF54,BT5,AZ4:AZ54)+SUMIF(AH4:AH54,BT5,BA4:BA54))","v":0},{"$f":"(SUMIF(AF4:AF54,BT5,BB4:BB54)+SUMIF(AH4:AH54,BT5,BC4:BC54))","v":0},{"$f":"(SUMIF(AF4:AF54,BT5,BD4:BD54)+SUMIF(AH4:AH54,BT5,BE4:BE54))","v":0},{"$f":"IFERROR(DA5*3+DB5*1,0)","v":0},{"$f":"CB5","v":"A"},{"$f":"IF(CZ5>0,RANK(DD5,DD4:DD7)+CG2,)","v":0},{"$f":"IF(AND(CZ5>0,COUNTIF(DF4:DF7,DF5)>1),SUMIFS($AI$4:$AI$54,$AF$4:$AF$54,BT5,$L$4:$L$54,2)+SUMIFS($AK$4:$AK$54,$AH$4:$AH$54,BT5,$L$4:$L$54,2)-SUMIFS($AK$4:$AK$54,$AF$4:$AF$54,BT5,$L$4:$L$54,2)-SUMIFS($AI$4:$AI$54,$AH$4:$AH$54,BT5,$L$4:$L$54,2),)","v":0},{"$f":"IF(AND(CZ5>0,COUNTIF(DF4:DF7,DF5)>1),DF5+RANK(DG5,DG4:DG7)-1,DF5)","v":0},{"$f":"IF(AND(CZ5>0,COUNTIF(DH4:DH7,DH5)>1),SUMIFS($AI$4:$AI$54,$AF$4:$AF$54,BT5,$L$4:$L$54,2)+SUMIFS($AK$4:$AK$54,$AH$4:$AH$54,BT5,$L$4:$L$54,2),)","v":0},{"$f":"IF(AND(CZ5>0,COUNTIF(DH4:DH7,DH5)>1),DH5+RANK(DI5,DI4:DI7)-1,DH5)","v":0},{"$f":"IF(DJ5=0,\"\",DJ5)","v":""},{"$f":"IF(OR(DK5=\"\",COUNTIF(DK4:DK7,DK5)=1),\"\",$BZ5)","v":""},{"$f":"IF(DK5=\"\",\"\",IF(COUNTIF(DK4:DK7,DK5)=1,DK5,DK5+RANK(DL5,DL4:DL7,0)-1))","v":""},{"$f":"IF(OR(DM5=\"\",COUNTIF(DM4:DM7,DM5)=1),\"\",$BX5)","v":""},{"$f":"IF(DK5=\"\",\"\",IF(COUNTIF(DM4:DM7,DM5)=1,DM5,DM5+RANK(DN5,DN4:DN7,0)-1))","v":""},{"$f":"IF(OR(DO5=\"\",COUNTIF(DO4:DO7,DO5)=1),\"\",$BU5)","v":""},{"$f":"IF(DK5=\"\",\"\",IF(COUNTIF(DO4:DO7,DO5)=1,DO5,DO5+RANK(DP5,DP4:DP7,0)-1))","v":""},{"$f":"IF(CZ5>0,CG2+RANK(DQ5,DQ4:DQ7,1),)","v":0},null,{"$f":"IF(CC5=3,BT5,)","v":0},{"$f":"(SUMIF(AF4:AF54,BT5,BF4:BF54)+SUMIF(AH4:AH54,BT5,BG4:BG54))","v":0},{"$f":"(SUMIF(AF4:AF54,BT5,BH4:BH54)+SUMIF(AH4:AH54,BT5,BI4:BI54))","v":0},{"$f":"(SUMIF(AF4:AF54,BT5,BJ4:BJ54)+SUMIF(AH4:AH54,BT5,BK4:BK54))","v":0},{"$f":"IFERROR(DU5*3+DV5*1,0)","v":0},{"$f":"CB5","v":"A"},{"$f":"IF(DT5>0,RANK(DX5,DX4:DX7)+CG2+DA2,)","v":0},{"$f":"IF(AND(DT5>0,COUNTIF(DZ4:DZ7,DZ5)>1),SUMIFS($AI$4:$AI$54,$AF$4:$AF$54,BT5,$L$4:$L$54,3)+SUMIFS($AK$4:$AK$54,$AH$4:$AH$54,BT5,$L$4:$L$54,3)-SUMIFS($AK$4:$AK$54,$AF$4:$AF$54,BT5,$L$4:$L$54,3)-SUMIFS($AI$4:$AI$54,$AH$4:$AH$54,BT5,$L$4:$L$54,3),)","v":0},{"$f":"IF(AND(DT5>0,COUNTIF(DZ4:DZ7,DZ5)>1),DZ5+RANK(EA5,EA4:EA7)-1,DZ5)","v":0},{"$f":"IF(AND(DT5>0,COUNTIF(EB4:EB7,EB5)>1),SUMIFS($AI$4:$AI$54,$AF$4:$AF$54,BT5,$L$4:$L$54,3)+SUMIFS($AK$4:$AK$54,$AH$4:$AH$54,BT5,$L$4:$L$54,3),)","v":0},{"$f":"IF(AND(DT5>0,COUNTIF(EB4:EB7,EB5)>1),EB5+RANK(EC5,EC4:EC7)-1,EB5)","v":0},{"$f":"IF(ED5=0,\"\",ED5)","v":""},{"$f":"IF(OR(EE5=\"\",COUNTIF(EE4:EE7,EE5)=1),\"\",$BZ5)","v":""},{"$f":"IF(EE5=\"\",\"\",IF(COUNTIF(EE4:EE7,EE5)=1,EE5,EE5+RANK(EF5,EF4:EF7,0)-1))","v":""},{"$f":"IF(OR(EG5=\"\",COUNTIF(EG4:EG7,EG5)=1),\"\",$BX5)","v":""},{"$f":"IF(EE5=\"\",\"\",IF(COUNTIF(EG4:EG7,EG5)=1,EG5,EG5+RANK(EH5,EH4:EH7,0)-1))","v":""},{"$f":"IF(OR(EI5=\"\",COUNTIF(EI4:EI7,EI5)=1),\"\",$BU5)","v":""},{"$f":"IF(EE5=\"\",\"\",IF(COUNTIF(EI4:EI7,EI5)=1,EI5,EI5+RANK(EJ5,EJ4:EJ7,0)-1))","v":""},{"$f":"IF(DT5>0,CG2+DA2+RANK(EK5,EK4:EK7,1),)","v":0},null,{"$f":"IF(CC5=4,BT5,)","v":0},{"$f":"(SUMIF(AF4:AF54,BT5,BL4:BL54)+SUMIF(AH4:AH54,BT5,BM4:BM54))","v":0},{"$f":"(SUMIF(AF4:AF54,BT5,BN4:BN54)+SUMIF(AH4:AH54,BT5,BO4:BO54))","v":0},{"$f":"(SUMIF(AF4:AF54,BT5,BP4:BP54)+SUMIF(AH4:AH54,BT5,BQ4:BQ54))","v":0},{"$f":"IFERROR(EO5*3+EP5*1,0)","v":0},{"$f":"CB5","v":"A"},{"$f":"IF(EN5>0,RANK(ER5,ER4:ER7)+CG2+DA2+DU2,)","v":0},{"$f":"IF(AND(EN5>0,COUNTIF(ET4:ET7,ET5)>1),SUMIFS($AI$4:$AI$54,$AF$4:$AF$54,BT5,$L$4:$L$54,4)+SUMIFS($AK$4:$AK$54,$AH$4:$AH$54,BT5,$L$4:$L$54,4)-SUMIFS($AK$4:$AK$54,$AF$4:$AF$54,BT5,$L$4:$L$54,4)-SUMIFS($AI$4:$AI$54,$AH$4:$AH$54,BT5,$L$4:$L$54,4),)","v":0},{"$f":"IF(AND(EN5>0,COUNTIF(ET4:ET7,ET5)>1),ET5+RANK(EU5,EU4:EU7)-1,ET5)","v":0},{"$f":"IF(AND(EN5>0,COUNTIF(EV4:EV7,EV5)>1),SUMIFS($AI$4:$AI$54,$AF$4:$AF$54,BT5,$L$4:$L$54,4)+SUMIFS($AK$4:$AK$54,$AH$4:$AH$54,BT5,$L$4:$L$54,4),)","v":0},{"$f":"IF(AND(EN5>0,COUNTIF(EV4:EV7,EV5)>1),EV5+RANK(EW5,EW4:EW7)-1,EV5)","v":0},{"$f":"IF(EX5=0,\"\",EX5)","v":""},{"$f":"IF(OR(EY5=\"\",COUNTIF(EY4:EY7,EY5)=1),\"\",$BZ5)","v":""},{"$f":"IF(EY5=\"\",\"\",IF(COUNTIF(EY4:EY7,EY5)=1,EY5,EY5+RANK(EZ5,EZ4:EZ7,0)-1))","v":""},{"$f":"IF(OR(FA5=\"\",COUNTIF(FA4:FA7,FA5)=1),\"\",$BX5)","v":""},{"$f":"IF(EY5=\"\",\"\",IF(COUNTIF(FA4:FA7,FA5)=1,FA5,FA5+RANK(FB5,FB4:FB7,0)-1))","v":""},{"$f":"IF(OR(FC5=\"\",COUNTIF(FC4:FC7,FC5)=1),\"\",$BU5)","v":""},{"$f":"IF(EY5=\"\",\"\",IF(COUNTIF(FC4:FC7,FC5)=1,FC5,FC5+RANK(FD5,FD4:FD7,0)-1))","v":""},{"$f":"IF(EN5>0,CG2+DA2+DU2+RANK(FE5,FE4:FE7,1),)","v":0},null,{"$f":"IFERROR(VLOOKUP(FJ5,CF3:CX7,19,FALSE),IFERROR(VLOOKUP(FJ5,CZ3:DR7,19,FALSE),IFERROR(VLOOKUP(FJ5,DT3:EL7,19,FALSE),VLOOKUP(FJ5,EN3:FF7,19,FALSE))))","v":1},{"$f":"RANK(FH5,FH4:FH7,1)+COUNTIF(FH4:FH5,FH5)-1","v":2},{"$f":"BT5","v":"Scotland"},null,"B",{"$f":"N15","v":"Italy"},{"$f":"RANK(FO5,FO4:FO9,1)+COUNTIF(FO4:FO5,FO5)-1","v":2},{"$f":"FR5+FQ5+FP5","v":1},{"$f":"SUMPRODUCT((FS4:FS9=FS5)*(FT4:FT9=FT5)*(FU4:FU9>FU5))","v":0},{"$f":"SUMPRODUCT((FS4:FS9=FS5)*(FT4:FT9>FT5))","v":0},{"$f":"RANK(FS5,FS4:FS9)","v":1},{"$f":"U15","v":0},{"$f":"T15","v":0},{"$f":"R15","v":0},"B",{"$f":"IF(FN5<5,FV5,)","v":"B"},null,4,"ABCF","A","B","C","F",{"$f":"VLOOKUP(\"A\",FL3:FM9,2,FALSE)","v":"Hungary"},{"$f":"VLOOKUP(\"F\",FL3:FM9,2,FALSE)","v":"Georgia"},{"$f":"VLOOKUP(\"B\",FL3:FM9,2,FALSE)","v":"Italy"},{"$f":"VLOOKUP(\"C\",FL3:FM9,2,FALSE)","v":"Serbia"},{"$f":"IFERROR(IF(AND(VLOOKUP(GA5,FW4:FW9,1,FALSE)=GA5,VLOOKUP(GB5,FW4:FW9,1,FALSE)=GB5,VLOOKUP(GC5,FW4:FW9,1,FALSE)=GC5,VLOOKUP(GD5,FW4:FW9,1,FALSE)=GD5),FY5,\"\"),\"\")","v":""}]
[null,null,"2024-06-19","Germany","-","Hungary",null,"-",null,"",{"$f":"IF(OR('Results & Table'!H6=\"\",'Results & Table'!J6=\"\",G6=\"\",I6=\"\"),0,IF(G6='Results & Table'!H6,2,0)+IF(I6='Results & Table'!J6,2,0)+IF(J6='Results & Table'!K6,2,0))","v":0},{"$f":"IF(VLOOKUP(D6,BT3:CC7,10,FALSE)=VLOOKUP(F6,BT3:CC7,10,FALSE),VLOOKUP(D6,BT3:CC7,10,FALSE),\"-\")","v":1},3,{"$f":"VLOOKUP(M6,FI4:FJ7,2,FALSE)","v":"Hungary"},{"$f":"VLOOKUP(N6,BT4:CA7,2,FALSE)","v":0},{"$f":"VLOOKUP(N6,BT4:CA7,3,FALSE)","v":0},{"$f":"VLOOKUP(N6,BT4:CA7,4,FALSE)","v":0},{"$f":"VLOOKUP(N6,BT4:CA7,5,FALSE)","v":0},{"$f":"VLOOKUP(N6,BT4:CA7,6,FALSE)","v":0},{"$f":"VLOOKUP(N6,BT4:CA7,7,FALSE)","v":0},{"$f":"VLOOKUP(N6,BT4:CA7,8,FALSE)","v":0},null,null,"Team scoring most goals in group stage",null,null,null,null,{"$f":"IF(AND('Results & Table'!X6:X6<>\"\",Y6='Results & Table'!X6:X6),10,0)","v":0},null,"2024-06-19","Germany","-","Hungary","","-","","",null,0,0,0,0,0,0,0,0,0,0,0,0,0,0,0,0,0,0,0,0,0,0,0,0,0,0,0,0,0,0,null,null,"Hungary",{"$f":"(SUMIF(AF4:AF54,BT6,AN4:AN54)+SUMIF(AH4:AH54,BT6,AO4:AO54))","v":0},{"$f":"(SUMIF(AF4:AF54,BT6,AP4:AP54)+SUMIF(AH4:AH54,BT6,AQ4:AQ54))","v":0},{"$f":"(SUMIF(AF4:AF54,BT6,AR4:AR54)+SUMIF(AH4:AH54,BT6,AS4:AS54))","v":0},{"$f":"SUMIF(AF4:AF54,BT6,AI4:AI54)+SUMIF(AH4:AH54,BT6,AK4:AK54)","v":0},{"$f":"SUMIF(AF4:AF54,BT6,AK4:AK54)+SUMIF(AH4:AH54,BT6,AI4:AI54)","v":0},0,0,"A",{"$f":"RANK(CA6,CA4:CA7)","v":1},{"$f":"SUMPRODUCT((CA4:CA7=CA6)*(BZ4:BZ7>BZ6))","v":0},null,{"$f":"IF(CC6=1,BT6,)","v":"Hungary"},{"$f":"(SUMIF(AF4:AF54,BT6,AT4:AT54)+SUMIF(AH4:AH54,BT6,AU4:AU54))","v":0},{"$f":"(SUMIF(AF4:AF54,BT6,AV4:AV54)+SUMIF(AH4:AH54,BT6,AW4:AW54))","v":0},{"$f":"(SUMIF(AF4:AF54,BT6,AX4:AX54)+SUMIF(AH4:AH54,BT6,AY4:AY54))","v":0},0,{"$f":"CB6","v":"A"},{"$f":"IF(CF6>0,RANK(CJ6,CJ4:CJ7),)","v":1},{"$f":"IF(AND(CF6>0,COUNTIF(CL4:CL7,CL6)>1),SUMIFS($AI$4:$AI$54,$AF$4:$AF$54,BT6,$L$4:$L$54,1)+SUMIFS($AK$4:$AK$54,$AH$4:$AH$54,BT6,$L$4:$L$54,1)-SUMIFS($AK$4:$AK$54,$AF$4:$AF$54,BT6,$L$4:$L$54,1)-SUMIFS($AI$4:$AI$54,$AH$4:$AH$54,BT6,$L$4:$L$54,1),)","v":0},{"$f":"IF(AND(CF6>0,COUNTIF(CL4:CL7,CL6)>1),CL6+RANK(CM6,CM4:CM7)-1,CL6)","v":1},{"$f":"IF(AND(CF6>0,COUNTIF(CN4:CN7,CN6)>1),SUMIFS($AI$4:$AI$54,$AF$4:$AF$54,BT6,$L$4:$L$54,1)+SUMIFS($AK$4:$AK$54,$AH$4:$AH$54,BT6,$L$4:$L$54,1),)","v":0},{"$f":"IF(AND(CF6>0,COUNTIF(CN4:CN7,CN6)>1),CN6+RANK(CO6,CO4:CO7)-1,CN6)","v":1},1,{"$f":"IF(OR(CQ6=\"\",COUNTIF(CQ4:CQ7,CQ6)=1),\"\",$BZ6)","v":0},{"$f":"IF(CQ6=\"\",\"\",IF(COUNTIF(CQ4:CQ7,CQ6)=1,CQ6,CQ6+RANK(CR6,CR4:CR7,0)-1))","v":1},{"$f":"IF(OR(CS6=\"\",COUNTIF(CS4:CS7,CS6)=1),\"\",$BX6)","v":0},{"$f":"IF(CQ6=\"\",\"\",IF(COUNTIF(CS4:CS7,CS6)=1,CS6,CS6+RANK(CT6,CT4:CT7,0)-1))","v":1},{"$f":"IF(OR(CU6=\"\",COUNTIF(CU4:CU7,CU6)=1),\"\",$BU6)","v":0},{"$f":"IF(CQ6=\"\",\"\",IF(COUNTIF(CU4:CU7,CU6)=1,CU6,CU6+RANK(CV6,CV4:CV7,0)-1))","v":1},{"$f":"IF(CF6>0,BM2+RANK(CW6,CW4:CW7,1),)","v":1},null,{"$f":"IF(CC6=2,BT6,)","v":0},{"$f":"(SUMIF(AF4:AF54,BT6,AZ4:AZ54)+SUMIF(AH4:AH54,BT6,BA4:BA54))","v":0},{"$f":"(SUMIF(AF4:AF54,BT6,BB4:BB54)+SUMIF(AH4:AH54,BT6,BC4:BC54))","v":0},{"$f":"(SUMIF(AF4:AF54,BT6,BD4:BD54)+SUMIF(AH4:AH54,BT6,BE4:BE54))","v":0},0,{"$f":"CB6","v":"A"},{"$f":"IF(CZ6>0,RANK(DD6,DD4:DD7)+CG2,)","v":0},{"$f":"IF(AND(CZ6>0,COUNTIF(DF4:DF7,DF6)>1),SUMIFS($AI$4:$AI$54,$AF$4:$AF$54,BT6,$L$4:$L$54,2)+SUMIFS($AK$4:$AK$54,$AH$4:$AH$54,BT6,$L$4:$L$54,2)-SUMIFS($AK$4:$AK$54,$AF$4:$AF$54,BT6,$L$4:$L$54,2)-SUMIFS($AI$4:$AI$54,$AH$4:$AH$54,BT6,$L$4:$L$54,2),)","v":0},{"$f":"IF(AND(CZ6>0,COUNTIF(DF4:DF7,DF6)>1),DF6+RANK(DG6,DG4:DG7)-1,DF6)","v":0},{"$f":"IF(AND(CZ6>0,COUNTIF(DH4:DH7,DH6)>1),SUMIFS($AI$4:$AI$54,$AF$4:$AF$54,BT6,$L$4:$L$54,2)+SUMIFS($AK$4:$AK$54,$AH$4:$AH$54,BT6,$L$4:$L$54,2),)","v":0},{"$f":"IF(AND(CZ6>0,COUNTIF(DH4:DH7,DH6)>1),DH6+RANK(DI6,DI4:DI7)-1,DH6)","v":0},"",{"$f":"IF(OR(DK6=\"\",COUNTIF(DK4:DK7,DK6)=1),\"\",$BZ6)","v":""},{"$f":"IF(DK6=\"\",\"\",IF(COUNTIF(DK4:DK7,DK6)=1,DK6,DK6+RANK(DL6,DL4:DL7,0)-1))","v":""},{"$f":"IF(OR(DM6=\"\",COUNTIF(DM4:DM7,DM6)=1),\"\",$BX6)","v":""},{"$f":"IF(DK6=\"\",\"\",IF(COUNTIF(DM4:DM7,DM6)=1,DM6,DM6+RANK(DN6,DN4:DN7,0)-1))","v":""},{"$f":"IF(OR(DO6=\"\",COUNTIF(DO4:DO7,DO6)=1),\"\",$BU6)","v":""},{"$f":"IF(DK6=\"\",\"\",IF(COUNTIF(DO4:DO7,DO6)=1,DO6,DO6+RANK(DP6,DP4:DP7,0)-1))","v":""},{"$f":"IF(CZ6>0,CG2+RANK(DQ6,DQ4:DQ7,1),)","v":0},null,{"$f":"IF(CC6=3,BT6,)","v":0},{"$f":"(SUMIF(AF4:AF54,BT6,BF4:BF54)+SUMIF(AH4:AH54,BT6,BG4:BG54))","v":0},{"$f":"(SUMIF(AF4:AF54,BT6,BH4:BH54)+SUMIF(AH4:AH54,BT6,BI4:BI54))","v":0},{"$f":"(SUMIF(AF4:AF54,BT6,BJ4:BJ54)+SUMIF(AH4:AH54,BT6,BK4:BK54))","v":0},0,{"$f":"CB6","v":"A"},{"$f":"IF(DT6>0,RANK(DX6,DX4:DX7)+CG2+DA2,)","v":0},{"$f":"IF(AND(DT6>0,COUNTIF(DZ4:DZ7,DZ6)>1),SUMIFS($AI$4:$AI$54,$AF$4:$AF$54,BT6,$L$4:$L$54,3)+SUMIFS($AK$4:$AK$54,$AH$4:$AH$54,BT6,$L$4:$L$54,3)-SUMIFS($AK$4:$AK$54,$AF$4:$AF$54,BT6,$L$4:$L$54,3)-SUMIFS($AI$4:$AI$54,$AH$4:$AH$54,BT6,$L$4:$L$54,3),)","v":0},{"$f":"IF(AND(DT6>0,COUNTIF(DZ4:DZ7,DZ6)>1),DZ6+RANK(EA6,EA4:EA7)-1,DZ6)","v":0},{"$f":"IF(AND(DT6>0,COUNTIF(EB4:EB7,EB6)>1),SUMIFS($AI$4:$AI$54,$AF$4:$AF$54,BT6,$L$4:$L$54,3)+SUMIFS($AK$4:$AK$54,$AH$4:$AH$54,BT6,$L$4:$L$54,3),)","v":0},{"$f":"IF(AND(DT6>0,COUNTIF(EB4:EB7,EB6)>1),EB6+RANK(EC6,EC4:EC7)-1,EB6)","v":0},"",{"$f":"IF(OR(EE6=\"\",COUNTIF(EE4:EE7,EE6)=1),\"\",$BZ6)","v":""},{"$f":"IF(EE6=\"\",\"\",IF(COUNTIF(EE4:EE7,EE6)=1,EE6,EE6+RANK(EF6,EF4:EF7,0)-1))","v":""},{"$f":"IF(OR(EG6=\"\",COUNTIF(EG4:EG7,EG6)=1),\"\",$BX6)","v":""},{"$f":"IF(EE6=\"\",\"\",IF(COUNTIF(EG4:EG7,EG6)=1,EG6,EG6+RANK(EH6,EH4:EH7,0)-1))","v":""},{"$f":"IF(OR(EI6=\"\",COUNTIF(EI4:EI7,EI6)=1),\"\",$BU6)","v":""},{"$f":"IF(EE6=\"\",\"\",IF(COUNTIF(EI4:EI7,EI6)=1,EI6,EI6+RANK(EJ6,EJ4:EJ7,0)-1))","v":""},{"$f":"IF(DT6>0,CG2+DA2+RANK(EK6,EK4:EK7,1),)","v":0},null,{"$f":"IF(CC6=4,BT6,)","v":0},{"$f":"(SUMIF(AF4:AF54,BT6,BL4:BL54)+SUMIF(AH4:AH54,BT6,BM4:BM54))","v":0},{"$f":"(SUMIF(AF4:AF54,BT6,BN4:BN54)+SUMIF(AH4:AH54,BT6,BO4:BO54))","v":0},{"$f":"(SUMIF(AF4:AF54,BT6,BP4:BP54)+SUMIF(AH4:AH54,BT6,BQ4:BQ54))","v":0},0,{"$f":"CB6","v":"A"},{"$f":"IF(EN6>0,RANK(ER6,ER4:ER7)+CG2+DA2+DU2,)","v":0},{"$f":"IF(AND(EN6>0,COUNTIF(ET4:ET7,ET6)>1),SUMIFS($AI$4:$AI$54,$AF$4:$AF$54,BT6,$L$4:$L$54,4)+SUMIFS($AK$4:$AK$54,$AH$4:$AH$54,BT6,$L$4:$L$54,4)-SUMIFS($AK$4:$AK$54,$AF$4:$AF$54,BT6,$L$4:$L$54,4)-SUMIFS($AI$4:$AI$54,$AH$4:$AH$54,BT6,$L$4:$L$54,4),)","v":0},{"$f":"IF(AND(EN6>0,COUNTIF(ET4:ET7,ET6)>1),ET6+RANK(EU6,EU4:EU7)-1,ET6)","v":0},{"$f":"IF(AND(EN6>0,COUNTIF(EV4:EV7,EV6)>1),SUMIFS($AI$4:$AI$54,$AF$4:$AF$54,BT6,$L$4:$L$54,4)+SUMIFS($AK$4:$AK$54,$AH$4:$AH$54,BT6,$L$4:$L$54,4),)","v":0},{"$f":"IF(AND(EN6>0,COUNTIF(EV4:EV7,EV6)>1),EV6+RANK(EW6,EW4:EW7)-1,EV6)","v":0},"",{"$f":"IF(OR(EY6=\"\",COUNTIF(EY4:EY7,EY6)=1),\"\",$BZ6)","v":""},{"$f":"IF(EY6=\"\",\"\",IF(COUNTIF(EY4:EY7,EY6)=1,EY6,EY6+RANK(EZ6,EZ4:EZ7,0)-1))","v":""},{"$f":"IF(OR(FA6=\"\",COUNTIF(FA4:FA7,FA6)=1),\"\",$BX6)","v":""},{"$f":"IF(EY6=\"\",\"\",IF(COUNTIF(FA4:FA7,FA6)=1,FA6,FA6+RANK(FB6,FB4:FB7,0)-1))","v":""},{"$f":"IF(OR(FC6=\"\",COUNTIF(FC4:FC7,FC6)=1),\"\",$BU6)","v":""},{"$f":"IF(EY6=\"\",\"\",IF(COUNTIF(FC4:FC7,FC6)=1,FC6,FC6+RANK(FD6,FD4:FD7,0)-1))","v":""},{"$f":"IF(EN6>0,CG2+DA2+DU2+RANK(FE6,FE4:FE7,1),)","v":0},null,{"$f":"IFERROR(VLOOKUP(FJ6,CF3:CX7,19,FALSE),IFERROR(VLOOKUP(FJ6,CZ3:DR7,19,FALSE),IFERROR(VLOOKUP(FJ6,DT3:EL7,19,FALSE),VLOOKUP(FJ6,EN3:FF7,19,FALSE))))","v":1},{"$f":"RANK(FH6,FH4:FH7,1)+COUNTIF(FH4:FH6,FH6)-1","v":3},{"$f":"BT6","v":"Hungary"},null,"C",{"$f":"N24","v":"Serbia"},{"$f":"RANK(FO6,FO4:FO9,1)+COUNTIF(FO4:FO6,FO6)-1","v":3},1,{"$f":"SUMPRODUCT((FS4:FS9=FS6)*(FT4:FT9=FT6)*(FU4:FU9>FU6))","v":0},{"$f":"SUMPRODUCT((FS4:FS9=FS6)*(FT4:FT9>FT6))","v":0},{"$f":"RANK(FS6,FS4:FS9)","v":1},{"$f":"U24","v":0},{"$f":"T24","v":0},{"$f":"R24","v":0},"C","C",null,5,"ABDE","A","B","D","E",{"$f":"VLOOKUP(\"D\",FL3:FM9,2,FALSE)","v":"Poland"},{"$f":"VLOOKUP(\"E\",FL3:FM9,2,FALSE)","v":"Belgium"},{"$f":"VLOOKUP(\"A\",FL3:FM9,2,FALSE)","v":"Hungary"},{"$f":"VLOOKUP(\"B\",FL3:FM9,2,FALSE)","v":"Italy"},{"$f":"IFERROR(IF(AND(VLOOKUP(GA6,FW4:FW9,1,FALSE)=GA6,VLOOKUP(GB6,FW4:FW9,1,FALSE)=GB6,VLOOKUP(GC6,FW4:FW9,1,FALSE)=GC6,VLOOKUP(GD6,FW4:FW9,1,FALSE)=GD6),FY6,\"\"),\"\")","v":""}]
[null,null,"2024-06-19","Scotland","-","Switzerland",null,"-",null,"",{"$f":"IF(OR('Results & Table'!H7=\"\",'Results & Table'!J7=\"\",G7=\"\",I7=\"\"),0,IF(G7='Results & Table'!H7,2,0)+IF(I7='Results & Table'!J7,2,0)+IF(J7='Results & Table'!K7,2,0))","v":0},{"$f":"IF(VLOOKUP(D7,BT3:CC7,10,FALSE)=VLOOKUP(F7,BT3:CC7,10,FALSE),VLOOKUP(D7,BT3:CC7,10,FALSE),\"-\")","v":1},4,{"$f":"VLOOKUP(M7,FI4:FJ7,2,FALSE)","v":"Switzerland"},{"$f":"VLOOKUP(N7,BT4:CA7,2,FALSE)","v":0},{"$f":"VLOOKUP(N7,BT4:CA7,3,FALSE)","v":0},{"$f":"VLOOKUP(N7,BT4:CA7,4,FALSE)","v":0},{"$f":"VLOOKUP(N7,BT4:CA7,5,FALSE)","v":0},{"$f":"VLOOKUP(N7,BT4:CA7,6,FALSE)","v":0},{"$f":"VLOOKUP(N7,BT4:CA7,7,FALSE)","v":0},{"$f":"VLOOKUP(N7,BT4:CA7,8,FALSE)","v":0},null,null,"Team conceding most goals in group stage",null,null,null,null,{"$f":"IF(AND('Results & Table'!X7:X7<>\"\",Y7='Results & Table'!X7:X7),10,0)","v":0},null,"2024-06-19","Scotland","-","Switzerland","","-","","",null,0,0,0,0,0,0,0,0,0,0,0,0,0,0,0,0,0,0,0,0,0,0,0,0,0,0,0,0,0,0,null,null,"Switzerland",{"$f":"(SUMIF(AF4:AF54,BT7,AN4:AN54)+SUMIF(AH4:AH54,BT7,AO4:AO54))","v":0},{"$f":"(SUMIF(AF4:AF54,BT7,AP4:AP54)+SUMIF(AH4:AH54,BT7,AQ4:AQ54))","v":0},{"$f":"(SUMIF(AF4:AF54,BT7,AR4:AR54)+SUMIF(AH4:AH54,BT7,AS4:AS54))","v":0},{"$f":"SUMIF(AF4:AF54,BT7,AI4:AI54)+SUMIF(AH4:AH54,BT7,AK4:AK54)","v":0},{"$f":"SUMIF(AF4:AF54,BT7,AK4:AK54)+SUMIF(AH4:AH54,BT7,AI4:AI54)","v":0},0,0,"A",{"$f":"RANK(CA7,CA4:CA7)","v":1},{"$f":"SUMPRODUCT((CA4:CA7=CA7)*(BZ4:BZ7>BZ7))","v":0},null,{"$f":"IF(CC7=1,BT7,)","v":"Switzerland"},{"$f":"(SUMIF(AF4:AF54,BT7,AT4:AT54)+SUMIF(AH4:AH54,BT7,AU4:AU54))","v":0},{"$f":"(SUMIF(AF4:AF54,BT7,AV4:AV54)+SUMIF(AH4:AH54,BT7,AW4:AW54))","v":0},{"$f":"(SUMIF(AF4:AF54,BT7,AX4:AX54)+SUMIF(AH4:AH54,BT7,AY4:AY54))","v":0},0,{"$f":"CB7","v":"A"},{"$f":"IF(CF7>0,RANK(CJ7,CJ4:CJ7),)","v":1},{"$f":"IF(AND(CF7>0,COUNTIF(CL4:CL7,CL7)>1),SUMIFS($AI$4:$AI$54,$AF$4:$AF$54,BT7,$L$4:$L$54,1)+SUMIFS($AK$4:$AK$54,$AH$4:$AH$54,BT7,$L$4:$L$54,1)-SUMIFS($AK$4:$AK$54,$AF$4:$AF$54,BT7,$L$4:$L$54,1)-SUMIFS($AI$4:$AI$54,$AH$4:$AH$54,BT7,$L$4:$L$54,1),)","v":0},{"$f":"IF(AND(CF7>0,COUNTIF(CL4:CL7,CL7)>1),CL7+RANK(CM7,CM4:CM7)-1,CL7)","v":1},{"$f":"IF(AND(CF7>0,COUNTIF(CN4:CN7,CN7)>1),SUMIFS($AI$4:$AI$54,$AF$4:$AF$54,BT7,$L$4:$L$54,1)+SUMIFS($AK$4:$AK$54,$AH$4:$AH$54,BT7,$L$4:$L$54,1),)","v":0},{"$f":"IF(AND(CF7>0,COUNTIF(CN4:CN7,CN7)>1),CN7+RANK(CO7,CO4:CO7)-1,CN7)","v":1},1,{"$f":"IF(OR(CQ7=\"\",COUNTIF(CQ4:CQ7,CQ7)=1),\"\",$BZ7)","v":0},{"$f":"IF(CQ7=\"\",\"\",IF(COUNTIF(CQ4:CQ7,CQ7)=1,CQ7,CQ7+RANK(CR7,CR4:CR7,0)-1))","v":1},{"$f":"IF(OR(CS7=\"\",COUNTIF(CS4:CS7,CS7)=1),\"\",$BX7)","v":0},{"$f":"IF(CQ7=\"\",\"\",IF(COUNTIF(CS4:CS7,CS7)=1,CS7,CS7+RANK(CT7,CT4:CT7,0)-1))","v":1},{"$f":"IF(OR(CU7=\"\",COUNTIF(CU4:CU7,CU7)=1),\"\",$BU7)","v":0},{"$f":"IF(CQ7=\"\",\"\",IF(COUNTIF(CU4:CU7,CU7)=1,CU7,CU7+RANK(CV7,CV4:CV7,0)-1))","v":1},{"$f":"IF(CF7>0,BM2+RANK(CW7,CW4:CW7,1),)","v":1},null,{"$f":"IF(CC7=2,BT7,)","v":0},{"$f":"(SUMIF(AF4:AF54,BT7,AZ4:AZ54)+SUMIF(AH4:AH54,BT7,BA4:BA54))","v":0},{"$f":"(SUMIF(AF4:AF54,BT7,BB4:BB54)+SUMIF(AH4:AH54,BT7,BC4:BC54))","v":0},{"$f":"(SUMIF(AF4:AF54,BT7,BD4:BD54)+SUMIF(AH4:AH54,BT7,BE4:BE54))","v":0},0,{"$f":"CB7","v":"A"},{"$f":"IF(CZ7>0,RANK(DD7,DD4:DD7)+CG2,)","v":0},{"$f":"IF(AND(CZ7>0,COUNTIF(DF4:DF7,DF7)>1),SUMIFS($AI$4:$AI$54,$AF$4:$AF$54,BT7,$L$4:$L$54,2)+SUMIFS($AK$4:$AK$54,$AH$4:$AH$54,BT7,$L$4:$L$54,2)-SUMIFS($AK$4:$AK$54,$AF$4:$AF$54,BT7,$L$4:$L$54,2)-SUMIFS($AI$4:$AI$54,$AH$4:$AH$54,BT7,$L$4:$L$54,2),)","v":0},{"$f":"IF(AND(CZ7>0,COUNTIF(DF4:DF7,DF7)>1),DF7+RANK(DG7,DG4:DG7)-1,DF7)","v":0},{"$f":"IF(AND(CZ7>0,COUNTIF(DH4:DH7,DH7)>1),SUMIFS($AI$4:$AI$54,$AF$4:$AF$54,BT7,$L$4:$L$54,2)+SUMIFS($AK$4:$AK$54,$AH$4:$AH$54,BT7,$L$4:$L$54,2),)","v":0},{"$f":"IF(AND(CZ7>0,COUNTIF(DH4:DH7,DH7)>1),DH7+RANK(DI7,DI4:DI7)-1,DH7)","v":0},"",{"$f":"IF(OR(DK7=\"\",COUNTIF(DK4:DK7,DK7)=1),\"\",$BZ7)","v":""},{"$f":"IF(DK7=\"\",\"\",IF(COUNTIF(DK4:DK7,DK7)=1,DK7,DK7+RANK(DL7,DL4:DL7,0)-1))","v":""},{"$f":"IF(OR(DM7=\"\",COUNTIF(DM4:DM7,DM7)=1),\"\",$BX7)","v":""},{"$f":"IF(DK7=\"\",\"\",IF(COUNTIF(DM4:DM7,DM7)=1,DM7,DM7+RANK(DN7,DN4:DN7,0)-1))","v":""},{"$f":"IF(OR(DO7=\"\",COUNTIF(DO4:DO7,DO7)=1),\"\",$BU7)","v":""},{"$f":"IF(DK7=\"\",\"\",IF(COUNTIF(DO4:DO7,DO7)=1,DO7,DO7+RANK(DP7,DP4:DP7,0)-1))","v":""},{"$f":"IF(CZ7>0,CG2+RANK(DQ7,DQ4:DQ7,1),)","v":0},null,{"$f":"IF(CC7=3,BT7,)","v":0},{"$f":"(SUMIF(AF4:AF54,BT7,BF4:BF54)+SUMIF(AH4:AH54,BT7,BG4:BG54))","v":0},{"$f":"(SUMIF(AF4:AF54,BT7,BH4:BH54)+SUMIF(AH4:AH54,BT7,BI4:BI54))","v":0},{"$f":"(SUMIF(AF4:AF54,BT7,BJ4:BJ54)+SUMIF(AH4:AH54,BT7,BK4:BK54))","v":0},0,{"$f":"CB7","v":"A"},{"$f":"IF(DT7>0,RANK(DX7,DX4:DX7)+CG2+DA2,)","v":0},{"$f":"IF(AND(DT7>0,COUNTIF(DZ4:DZ7,DZ7)>1),SUMIFS($AI$4:$AI$54,$AF$4:$AF$54,BT7,$L$4:$L$54,3)+SUMIFS($AK$4:$AK$54,$AH$4:$AH$54,BT7,$L$4:$L$54,3)-SUMIFS($AK$4:$AK$54,$AF$4:$AF$54,BT7,$L$4:$L$54,3)-SUMIFS($AI$4:$AI$54,$AH$4:$AH$54,BT7,$L$4:$L$54,3),)","v":0},{"$f":"IF(AND(DT7>0,COUNTIF(DZ4:DZ7,DZ7)>1),DZ7+RANK(EA7,EA4:EA7)-1,DZ7)","v":0},{"$f":"IF(AND(DT7>0,COUNTIF(EB4:EB7,EB7)>1),SUMIFS($AI$4:$AI$54,$AF$4:$AF$54,BT7,$L$4:$L$54,3)+SUMIFS($AK$4:$AK$54,$AH$4:$AH$54,BT7,$L$4:$L$54,3),)","v":0},{"$f":"IF(AND(DT7>0,COUNTIF(EB4:EB7,EB7)>1),EB7+RANK(EC7,EC4:EC7)-1,EB7)","v":0},"",{"$f":"IF(OR(EE7=\"\",COUNTIF(EE4:EE7,EE7)=1),\"\",$BZ7)","v":""},{"$f":"IF(EE7=\"\",\"\",IF(COUNTIF(EE4:EE7,EE7)=1,EE7,EE7+RANK(EF7,EF4:EF7,0)-1))","v":""},{"$f":"IF(OR(EG7=\"\",COUNTIF(EG4:EG7,EG7)=1),\"\",$BX7)","v":""},{"$f":"IF(EE7=\"\",\"\",IF(COUNTIF(EG4:EG7,EG7)=1,EG7,EG7+RANK(EH7,EH4:EH7,0)-1))","v":""},{"$f":"IF(OR(EI7=\"\",COUNTIF(EI4:EI7,EI7)=1),\"\",$BU7)","v":""},{"$f":"IF(EE7=\"\",\"\",IF(COUNTIF(EI4:EI7,EI7)=1,EI7,EI7+RANK(EJ7,EJ4:EJ7,0)-1))","v":""},{"$f":"IF(DT7>0,CG2+DA2+RANK(EK7,EK4:EK7,1),)","v":0},null,{"$f":"IF(CC7=4,BT7,)","v":0},{"$f":"(SUMIF(AF4:AF54,BT7,BL4:BL54)+SUMIF(AH4:AH54,BT7,BM4:BM54))","v":0},{"$f":"(SUMIF(AF4:AF54,BT7,BN4:BN54)+SUMIF(AH4:AH54,BT7,BO4:BO54))","v":0},{"$f":"(SUMIF(AF4:AF54,BT7,BP4:BP54)+SUMIF(AH4:AH54,BT7,BQ4:BQ54))","v":0},0,{"$f":"CB7","v":"A"},{"$f":"IF(EN7>0,RANK(ER7,ER4:ER7)+CG2+DA2+DU2,)","v":0},{"$f":"IF(AND(EN7>0,COUNTIF(ET4:ET7,ET7)>1),SUMIFS($AI$4:$AI$54,$AF$4:$AF$54,BT7,$L$4:$L$54,4)+SUMIFS($AK$4:$AK$54,$AH$4:$AH$54,BT7,$L$4:$L$54,4)-SUMIFS($AK$4:$AK$54,$AF$4:$AF$54,BT7,$L$4:$L$54,4)-SUMIFS($AI$4:$AI$54,$AH$4:$AH$54,BT7,$L$4:$L$54,4),)","v":0},{"$f":"IF(AND(EN7>0,COUNTIF(ET4:ET7,ET7)>1),ET7+RANK(EU7,EU4:EU7)-1,ET7)","v":0},{"$f":"IF(AND(EN7>0,COUNTIF(EV4:EV7,EV7)>1),SUMIFS($AI$4:$AI$54,$AF$4:$AF$54,BT7,$L$4:$L$54,4)+SUMIFS($AK$4:$AK$54,$AH$4:$AH$54,BT7,$L$4:$L$54,4),)","v":0},{"$f":"IF(AND(EN7>0,COUNTIF(EV4:EV7,EV7)>1),EV7+RANK(EW7,EW4:EW7)-1,EV7)","v":0},"",{"$f":"IF(OR(EY7=\"\",COUNTIF(EY4:EY7,EY7)=1),\"\",$BZ7)","v":""},{"$f":"IF(EY7=\"\",\"\",IF(COUNTIF(EY4:EY7,EY7)=1,EY7,EY7+RANK(EZ7,EZ4:EZ7,0)-1))","v":""},{"$f":"IF(OR(FA7=\"\",COUNTIF(FA4:FA7,FA7)=1),\"\",$BX7)","v":""},{"$f":"IF(EY7=\"\",\"\",IF(COUNTIF(FA4:FA7,FA7)=1,FA7,FA7+RANK(FB7,FB4:FB7,0)-1))","v":""},{"$f":"IF(OR(FC7=\"\",COUNTIF(FC4:FC7,FC7)=1),\"\",$BU7)","v":""},{"$f":"IF(EY7=\"\",\"\",IF(COUNTIF(FC4:FC7,FC7)=1,FC7,FC7+RANK(FD7,FD4:FD7,0)-1))","v":""},{"$f":"IF(EN7>0,CG2+DA2+DU2+RANK(FE7,FE4:FE7,1),)","v":0},null,{"$f":"IFERROR(VLOOKUP(FJ7,CF3:CX7,19,FALSE),IFERROR(VLOOKUP(FJ7,CZ3:DR7,19,FALSE),IFERROR(VLOOKUP(FJ7,DT3:EL7,19,FALSE),VLOOKUP(FJ7,EN3:FF7,19,FALSE))))","v":1},{"$f":"RANK(FH7,FH4:FH7,1)+COUNTIF(FH4:FH7,FH7)-1","v":4},{"$f":"BT7","v":"Switzerland"},null,"D",{"$f":"N33","v":"Poland"},{"$f":"RANK(FO7,FO4:FO9,1)+COUNTIF(FO4:FO7,FO7)-1","v":4},1,{"$f":"SUMPRODUCT((FS4:FS9=FS7)*(FT4:FT9=FT7)*(FU4:FU9>FU7))","v":0},{"$f":"SUMPRODUCT((FS4:FS9=FS7)*(FT4:FT9>FT7))","v":0},{"$f":"RANK(FS7,FS4:FS9)","v":1},{"$f":"U33","v":0},{"$f":"T33","v":0},{"$f":"R33","v":0},"D","D",null,6,"ABDF","A","B","D","F",{"$f":"VLOOKUP(\"D\",FL3:FM9,2,FALSE)","v":"Poland"},{"$f":"VLOOKUP(\"F\",FL3:FM9,2,FALSE)","v":"Georgia"},{"$f":"VLOOKUP(\"A\",FL3:FM9,2,FALSE)","v":"Hungary"},{"$f":"VLOOKUP(\"B\",FL3:FM9,2,FALSE)","v":"Italy"},{"$f":"IFERROR(IF(AND(VLOOKUP(GA7,FW4:FW9,1,FALSE)=GA7,VLOOKUP(GB7,FW4:FW9,1,FALSE)=GB7,VLOOKUP(GC7,FW4:FW9,1,FALSE)=GC7,VLOOKUP(GD7,FW4:FW9,1,FALSE)=GD7),FY7,\"\"),\"\")","v":""}]
[null,null,"2024-06-23","Switzerland","-","Germany",null,"-",null,"",{"$f":"IF(OR('Results & Table'!H8=\"\",'Results & Table'!J8=\"\",G8=\"\",I8=\"\"),0,IF(G8='Results & Table'!H8,2,0)+IF(I8='Results & Table'!J8,2,0)+IF(J8='Results & Table'!K8,2,0))","v":0},{"$f":"IF(VLOOKUP(D8,BT3:CC7,10,FALSE)=VLOOKUP(F8,BT3:CC7,10,FALSE),VLOOKUP(D8,BT3:CC7,10,FALSE),\"-\")","v":1},null,{"$f":"IF(COUNTBLANK(G4:G9)+COUNTBLANK(I4:I9)=0,\"Resultat OK\",\"Fyll i resultat\")","v":"Fyll i resultat"},null,null,null,null,null,null,null,null,null,"Own bonus question 1",null,null,null,null,{"$f":"IF(AND('Results & Table'!X8:X8<>\"\",Y8='Results & Table'!X8:X8),15,0)","v":0},null,"2024-06-23","Switzerland","-","Germany","","-","","",null,0,0,0,0,0,0,0,0,0,0,0,0,0,0,0,0,0,0,0,0,0,0,0,0,0,0,0,0,0,0,null,null,null,null,null,null,null,null,null,null,null,null,null,null,null,null,null,null,null,null,null,null,null,null,null,null,null,null,null,null,null,null,null,null,null,null,null,null,null,null,null,null,null,null,null,null,null,null,null,null,null,null,null,null,null,null,null,null,null,null,null,null,null,null,null,null,null,null,null,null,null,null,null,null,null,null,null,null,null,null,null,null,null,null,null,null,null,null,null,null,null,null,null,null,null,null,null,null,"E",{"$f":"N42","v":"Belgium"},{"$f":"RANK(FO8,FO4:FO9,1)+COUNTIF(FO4:FO8,FO8)-1","v":5},1,{"$f":"SUMPRODUCT((FS4:FS9=FS8)*(FT4:FT9=FT8)*(FU4:FU9>FU8))","v":0},{"$f":"SUMPRODUCT((FS4:FS9=FS8)*(FT4:FT9>FT8))","v":0},{"$f":"RANK(FS8,FS4:FS9)","v":1},{"$f":"U42","v":0},{"$f":"T42","v":0},{"$f":"R42","v":0},"E",0,null,7,"ABEF","A","B","E","F",{"$f":"VLOOKUP(\"E\",FL3:FM9,2,FALSE)","v":"Belgium"},{"$f":"VLOOKUP(\"F\",FL3:FM9,2,FALSE)","v":"Georgia"},{"$f":"VLOOKUP(\"B\",FL3:FM9,2,FALSE)","v":"Italy"},{"$f":"VLOOKUP(\"A\",FL3:FM9,2,FALSE)","v":"Hungary"},{"$f":"IFERROR(IF(AND(VLOOKUP(GA8,FW4:FW9,1,FALSE)=GA8,VLOOKUP(GB8,FW4:FW9,1,FALSE)=GB8,VLOOKUP(GC8,FW4:FW9,1,FALSE)=GC8,VLOOKUP(GD8,FW4:FW9,1,FALSE)=GD8),FY8,\"\"),\"\")","v":""}]
[null,null,"2024-06-23","Scotland","-","Hungary",null,"-",null,"",{"$f":"IF(OR('Results & Table'!H9=\"\",'Results & Table'!J9=\"\",G9=\"\",I9=\"\"),0,IF(G9='Results & Table'!H9,2,0)+IF(I9='Results & Table'!J9,2,0)+IF(J9='Results & Table'!K9,2,0))","v":0},{"$f":"IF(VLOOKUP(D9,BT3:CC7,10,FALSE)=VLOOKUP(F9,BT3:CC7,10,FALSE),VLOOKUP(D9,BT3:CC7,10,FALSE),\"-\")","v":1},null,null,null,null,null,null,null,null,null,null,null,"Own bonus question 2",null,null,null,null,{"$f":"IF(AND('Results & Table'!X9:X9<>\"\",Y9='Results & Table'!X9:X9),15,0)","v":0},null,"2024-06-23","Scotland","-","Hungary","","-","","",null,0,0,0,0,0,0,0,0,0,0,0,0,0,0,0,0,0,0,0,0,0,0,0,0,0,0,0,0,0,0,null,null,null,null,null,null,null,null,null,null,null,null,null,null,null,null,null,null,null,null,null,null,null,null,null,null,null,null,null,null,null,null,null,null,null,null,null,null,null,null,null,null,null,null,null,null,null,null,null,null,null,null,null,null,null,null,null,null,null,null,null,null,null,null,null,null,null,null,null,null,null,null,null,null,null,null,null,null,null,null,null,null,null,null,null,null,null,null,null,null,null,null,null,null,null,null,null,null,"F",{"$f":"N51","v":"Georgia"},{"$f":"RANK(FO9,FO4:FO9,1)+COUNTIF(FO4:FO9,FO9)-1","v":6},1,{"$f":"SUMPRODUCT((FS4:FS9=FS9)*(FT4:FT9=FT9)*(FU4:FU9>FU9))","v":0},{"$f":"SUMPRODUCT((FS4:FS9=FS9)*(FT4:FT9>FT9))","v":0},{"$f":"RANK(FS9,FS4:FS9)","v":1},{"$f":"U51","v":0},{"$f":"T51","v":0},{"$f":"R51","v":0},"F",0,null,8,"ACDE","A","C","D","E",{"$f":"VLOOKUP(\"E\",FL3:FM9,2,FALSE)","v":"Belgium"},{"$f":"VLOOKUP(\"D\",FL3:FM9,2,FALSE)","v":"Poland"},{"$f":"VLOOKUP(\"C\",FL3:FM9,2,FALSE)","v":"Serbia"},{"$f":"VLOOKUP(\"A\",FL3:FM9,2,FALSE)","v":"Hungary"},{"$f":"IFERROR(IF(AND(VLOOKUP(GA9,FW4:FW9,1,FALSE)=GA9,VLOOKUP(GB9,FW4:FW9,1,FALSE)=GB9,VLOOKUP(GC9,FW4:FW9,1,FALSE)=GC9,VLOOKUP(GD9,FW4:FW9,1,FALSE)=GD9),FY9,\"\"),\"\")","v":""}]
[null,null,null,null,null,null,null,null,null,null,null,null,null,null,null,null,null,null,null,null,null,null,null,null,null,null,null,null,null,null,null,null,null,null,null,null,null,null,null,null,null,null,null,null,null,null,null,null,null,null,null,null,null,null,null,null,null,null,null,null,null,null,null,null,null,null,null,null,null,null,null,null,null,null,null,null,null,null,null,null,null,null,null,null,null,null,null,null,null,null,null,null,null,null,null,null,null,null,null,null,null,null,null,null,null,null,null,null,null,null,null,null,null,null,null,null,null,null,null,null,null,null,null,null,null,null,null,null,null,null,null,null,null,null,null,null,null,null,null,null,null,null,null,null,null,null,null,null,null,null,null,null,null,null,null,null,null,null,null,null,null,null,null,null,null,null,null,null,null,null,null,null,null,null,null,null,null,null,null,null,9,"ACDF","A","C","D","F",{"$f":"VLOOKUP(\"F\",FL3:FM9,2,FALSE)","v":"Georgia"},{"$f":"VLOOKUP(\"D\",FL3:FM9,2,FALSE)","v":"Poland"},{"$f":"VLOOKUP(\"C\",FL3:FM9,2,FALSE)","v":"Serbia"},{"$f":"VLOOKUP(\"A\",FL3:FM9,2,FALSE)","v":"Hungary"},{"$f":"IFERROR(IF(AND(VLOOKUP(GA10,FW4:FW9,1,FALSE)=GA10,VLOOKUP(GB10,FW4:FW9,1,FALSE)=GB10,VLOOKUP(GC10,FW4:FW9,1,FALSE)=GC10,VLOOKUP(GD10,FW4:FW9,1,FALSE)=GD10),FY10,\"\"),\"\")","v":""}]
[null,null,"Group B",null,null,null,null,null,null,null,null,null,null,null,null,null,null,null,null,null,null,null,null,"Total points",null,null,null,null,null,null,"Grupp B",null,null,null,null,null,null,null,null,null,null,null,null,null,null,null,null,null,null,null,null,null,null,null,null,null,null,null,null,null,null,null,null,null,null,null,null,null,null,null,null,"Rank 0",null,null,null,null,null,null,null,null,null,null,null,"Rank 1",{"$f":"COUNTIF(CC13:CC16,1)","v":4},null,null,null,null,null,null,null,null,null,null,null,null,null,null,null,null,null,null,"Rank 2",{"$f":"COUNTIF(CC13:CC16,2)","v":0},null,null,null,null,null,null,null,null,null,null,null,null,null,null,null,null,null,null,"Rank 3",{"$f":"COUNTIF(CC13:CC16,3)","v":0},null,null,null,null,null,null,null,null,null,null,null,null,null,null,null,null,null,null,"Rank 4",{"$f":"COUNTIF(CC13:CC16,4)","v":0},null,null,null,null,null,null,null,null,null,null,null,null,null,null,null,null,null,null,null,null,null,null,null,null,null,null,null,null,null,null,null,null,null,null,null,10,"ACEF","A","C","E","F",{"$f":"VLOOKUP(\"E\",FL3:FM9,2,FALSE)","v":"Belgium"},{"$f":"VLOOKUP(\"F\",FL3:FM9,2,FALSE)","v":"Georgia"},{"$f":"VLOOKUP(\"C\",FL3:FM9,2,FALSE)","v":"Serbia"},{"$f":"VLOOKUP(\"A\",FL3:FM9,2,FALSE)","v":"Hungary"},{"$f":"IFERROR(IF(AND(VLOOKUP(GA11,FW4:FW9,1,FALSE)=GA11,VLOOKUP(GB11,FW4:FW9,1,FALSE)=GB11,VLOOKUP(GC11,FW4:FW9,1,FALSE)=GC11,VLOOKUP(GD11,FW4:FW9,1,FALSE)=GD11),FY11,\"\"),\"\")","v":""}]
[null,null,"Date","Match",null,null,"Result",null,null,"1X2","Points",null,null,"Team","W","D","L","GF","GA","+/-","P",null,null,"Category","Points","Bonus","Total",null,null,null,"Datum","Match",null,null,"Resultat",null,null,"Tecken","Poäng","V1","V2","O1","O2","F1","F2","V1","V2","O1","O2","F1","F2","V1","V2","O1","O2","F1","F2","V1","V2","O1","O2","F1","F2","V1","V2","O1","O2","F1","F2",null,null,"Lag","V","O","F","GM","IM","+/-","P","Grupp","Rank P","Rank +/-",null,"Lag","V","O","F","P","Grupp","Rank P","+/-","+/- rank","GM","GM rank","Rank internal","+/- all","+/- rank all","GM all","GM rank all","V all","V rank all","Rank all",null,"Lag","V","O","F","P","Grupp","Rank P","+/-","+/- rank","GM","GM rank","Rank internal","+/- all","+/- rank all","GM all","GM rank all","V all","V rank all","Rank all",null,"Lag","V","O","F","P","Grupp","Rank P","+/-","+/- rank","GM","GM rank","Rank internal","+/- all","+/- rank all","GM all","GM rank all","V all","V rank all","Rank all",null,"Lag","V","O","F","P","Grupp","Rank P","+/-","+/- rank","GM","GM rank","Rank internal","+/- all","+/- rank all","GM all","GM rank all","V all","V rank all","Rank all",null,"Rank","Rank Ties",null,null,null,{"$f":"IF(COUNTBLANK(G4:G9)+COUNTBLANK(I4:I9)+COUNTBLANK(G22:G27)+COUNTBLANK(I22:I27)+COUNTBLANK(G31:G36)+COUNTBLANK(I31:I36)+COUNTBLANK(G40:G45)+COUNTBLANK(I40:I45)+COUNTBLANK(G49:G54)+COUNTBLANK(I49:I54)++COUNTBLANK(G13:G18)+COUNTBLANK(I13:I18)=0,\"Resultat OK\",\"Fyll i resultat\")","v":"Fyll i resultat"},null,null,null,null,null,null,null,null,null,null,null,11,"ADEF","A","D","E","F",{"$f":"VLOOKUP(\"E\",FL3:FM9,2,FALSE)","v":"Belgium"},{"$f":"VLOOKUP(\"F\",FL3:FM9,2,FALSE)","v":"Georgia"},{"$f":"VLOOKUP(\"D\",FL3:FM9,2,FALSE)","v":"Poland"},{"$f":"VLOOKUP(\"A\",FL3:FM9,2,FALSE)","v":"Hungary"},{"$f":"IFERROR(IF(AND(VLOOKUP(GA12,FW4:FW9,1,FALSE)=GA12,VLOOKUP(GB12,FW4:FW9,1,FALSE)=GB12,VLOOKUP(GC12,FW4:FW9,1,FALSE)=GC12,VLOOKUP(GD12,FW4:FW9,1,FALSE)=GD12),FY12,\"\"),\"\")","v":""}]
[null,null,"2024-06-15","Spain","-","Croatia",null,"-",null,{"$f":"IF(OR(ISBLANK(G13),ISBLANK(I13)),\"\",IF(G13>I13,1,IF(G13<I13,2,\"X\")))","v":""},{"$f":"IF(OR('Results & Table'!H13=\"\",'Results & Table'!J13=\"\",G13=\"\",I13=\"\"),0,IF(G13='Results & Table'!H13,2,0)+IF(I13='Results & Table'!J13,2,0)+IF(J13='Results & Table'!K13,2,0))","v":0},{"$f":"IF(VLOOKUP(D13,BT12:CC16,10,FALSE)=VLOOKUP(F13,BT12:CC16,10,FALSE),VLOOKUP(D13,BT12:CC16,10,FALSE),\"-\")","v":1},1,{"$f":"VLOOKUP(M13,FI13:FJ16,2,FALSE)","v":"Spain"},{"$f":"VLOOKUP(N13,BT13:CA16,2,FALSE)","v":0},{"$f":"VLOOKUP(N13,BT13:CA16,3,FALSE)","v":0},{"$f":"VLOOKUP(N13,BT13:CA16,4,FALSE)","v":0},{"$f":"VLOOKUP(N13,BT13:CA16,5,FALSE)","v":0},{"$f":"VLOOKUP(N13,BT13:CA16,6,FALSE)","v":0},{"$f":"VLOOKUP(N13,BT13:CA16,7,FALSE)","v":0},{"$f":"VLOOKUP(N13,BT13:CA16,8,FALSE)","v":0},null,null,"Group stage",{"$f":"SUM(K4:K9)+SUM(K13:K18)+SUM(K22:K27)+SUM(K31:K36)+SUM(K40:K45)+SUM(K49:K54)","v":0},0,{"$f":"SUM(Y13:Z13)","v":0},null,null,null,{"$f":"C13","v":"2024-06-15"},"Spain","-","Croatia",{"$f":"IF(G13=\"\",\"\",G13)","v":""},"-",{"$f":"IF(I13=\"\",\"\",I13)","v":""},{"$f":"J13","v":""},null,{"$f":"IF(AI13>AK13,1,0)","v":0},{"$f":"IF(AK13>AI13,1,0)","v":0},{"$f":"IF(AND(AI13=AK13,AI13<>\"\"),1,0)","v":0},{"$f":"IF(AND(AI13=AK13,AI13<>\"\"),1,0)","v":0},{"$f":"IF(AI13<AK13,1,0)","v":0},{"$f":"IF(AK13<AI13,1,)","v":0},{"$f":"IF(ISERROR(VLOOKUP(AF13,CF:CF,1,FALSE)),0,1)*IF(ISERROR(VLOOKUP(AH13,CF:CF,1,FALSE)),0,1)*AN13","v":0},{"$f":"IF(ISERROR(VLOOKUP(AF13,CF:CF,1,FALSE)),0,1)*IF(ISERROR(VLOOKUP(AH13,CF:CF,1,FALSE)),0,1)*AO13","v":0},{"$f":"IF(ISERROR(VLOOKUP(AF13,CF:CF,1,FALSE)),0,1)*IF(ISERROR(VLOOKUP(AH13,CF:CF,1,FALSE)),0,1)*AP13","v":0},{"$f":"IF(ISERROR(VLOOKUP(AF13,CF:CF,1,FALSE)),0,1)*IF(ISERROR(VLOOKUP(AH13,CF:CF,1,FALSE)),0,1)*AQ13","v":0},{"$f":"IF(ISERROR(VLOOKUP(AF13,CF:CF,1,FALSE)),0,1)*IF(ISERROR(VLOOKUP(AH13,CF:CF,1,FALSE)),0,1)*AR13","v":0},{"$f":"IF(ISERROR(VLOOKUP(AF13,CF:CF,1,FALSE)),0,1)*IF(ISERROR(VLOOKUP(AH13,CF:CF,1,FALSE)),0,1)*AS13","v":0},{"$f":"IF(ISERROR(VLOOKUP(AF13,CZ:CZ,1,FALSE)),0,1)*IF(ISERROR(VLOOKUP(AH13,CZ:CZ,1,FALSE)),0,1)*AN13","v":0},{"$f":"IF(ISERROR(VLOOKUP(AF13,CZ:CZ,1,FALSE)),0,1)*IF(ISERROR(VLOOKUP(AH13,CZ:CZ,1,FALSE)),0,1)*AO13","v":0},{"$f":"IF(ISERROR(VLOOKUP(AF13,CZ:CZ,1,FALSE)),0,1)*IF(ISERROR(VLOOKUP(AH13,CZ:CZ,1,FALSE)),0,1)*AP13","v":0},{"$f":"IF(ISERROR(VLOOKUP(AF13,CZ:CZ,1,FALSE)),0,1)*IF(ISERROR(VLOOKUP(AH13,CZ:CZ,1,FALSE)),0,1)*AQ13","v":0},{"$f":"IF(ISERROR(VLOOKUP(AF13,CZ:CZ,1,FALSE)),0,1)*IF(ISERROR(VLOOKUP(AH13,CZ:CZ,1,FALSE)),0,1)*AR13","v":0},{"$f":"IF(ISERROR(VLOOKUP(AF13,CZ:CZ,1,FALSE)),0,1)*IF(ISERROR(VLOOKUP(AH13,CZ:CZ,1,FALSE)),0,1)*AS13","v":0},{"$f":"IF(ISERROR(VLOOKUP(AF13,DT:DT,1,FALSE)),0,1)*IF(ISERROR(VLOOKUP(AH13,DT:DT,1,FALSE)),0,1)*AN13","v":0},{"$f":"IF(ISERROR(VLOOKUP(AF13,DT:DT,1,FALSE)),0,1)*IF(ISERROR(VLOOKUP(AH13,DT:DT,1,FALSE)),0,1)*AO13","v":0},{"$f":"IF(ISERROR(VLOOKUP(AF13,DT:DT,1,FALSE)),0,1)*IF(ISERROR(VLOOKUP(AH13,DT:DT,1,FALSE)),0,1)*AP13","v":0},{"$f":"IF(ISERROR(VLOOKUP(AF13,DT:DT,1,FALSE)),0,1)*IF(ISERROR(VLOOKUP(AH13,DT:DT,1,FALSE)),0,1)*AQ13","v":0},{"$f":"IF(ISERROR(VLOOKUP(AF13,DT:DT,1,FALSE)),0,1)*IF(ISERROR(VLOOKUP(AH13,DT:DT,1,FALSE)),0,1)*AR13","v":0},{"$f":"IF(ISERROR(VLOOKUP(AF13,DT:DT,1,FALSE)),0,1)*IF(ISERROR(VLOOKUP(AH13,DT:DT,1,FALSE)),0,1)*AS13","v":0},{"$f":"IF(ISERROR(VLOOKUP(AF13,EN:EN,1,FALSE)),0,1)*IF(ISERROR(VLOOKUP(AH13,EN:EN,1,FALSE)),0,1)*AN13","v":0},{"$f":"IF(ISERROR(VLOOKUP(AF13,EN:EN,1,FALSE)),0,1)*IF(ISERROR(VLOOKUP(AH13,EN:EN,1,FALSE)),0,1)*AO13","v":0},{"$f":"IF(ISERROR(VLOOKUP(AF13,EN:EN,1,FALSE)),0,1)*IF(ISERROR(VLOOKUP(AH13,EN:EN,1,FALSE)),0,1)*AP13","v":0},{"$f":"IF(ISERROR(VLOOKUP(AF13,EN:EN,1,FALSE)),0,1)*IF(ISERROR(VLOOKUP(AH13,EN:EN,1,FALSE)),0,1)*AQ13","v":0},{"$f":"IF(ISERROR(VLOOKUP(AF13,EN:EN,1,FALSE)),0,1)*IF(ISERROR(VLOOKUP(AH13,EN:EN,1,FALSE)),0,1)*AR13","v":0},{"$f":"IF(ISERROR(VLOOKUP(AF13,EN:EN,1,FALSE)),0,1)*IF(ISERROR(VLOOKUP(AH13,EN:EN,1,FALSE)),0,1)*AS13","v":0},null,null,"Spain",{"$f":"(SUMIF(AF4:AF54,BT13,AN4:AN54)+SUMIF(AH4:AH54,BT13,AO4:AO54))","v":0},{"$f":"(SUMIF(AF4:AF54,BT13,AP4:AP54)+SUMIF(AH4:AH54,BT13,AQ4:AQ54))","v":0},{"$f":"(SUMIF(AF4:AF54,BT13,AR4:AR54)+SUMIF(AH4:AH54,BT13,AS4:AS54))","v":0},{"$f":"SUMIF(AF4:AF54,BT13,AI4:AI54)+SUMIF(AH4:AH54,BT13,AK4:AK54)","v":0},{"$f":"SUMIF(AF4:AF54,BT13,AK4:AK54)+SUMIF(AH4:AH54,BT13,AI4:AI54)","v":0},{"$f":"BX13-BY13","v":0},{"$f":"IFERROR(BU13*3+BV13*1,0)","v":0},"B",{"$f":"RANK(CA13,CA13:CA16)","v":1},{"$f":"SUMPRODUCT((CA13:CA16=CA13)*(BZ13:BZ16>BZ13))","v":0},null,{"$f":"IF(CC13=1,BT13,)","v":"Spain"},{"$f":"(SUMIF(AF4:AF54,BT13,AT4:AT54)+SUMIF(AH4:AH54,BT13,AU4:AU54))","v":0},{"$f":"(SUMIF(AF4:AF54,BT13,AV4:AV54)+SUMIF(AH4:AH54,BT13,AW4:AW54))","v":0},{"$f":"(SUMIF(AF4:AF54,BT13,AX4:AX54)+SUMIF(AH4:AH54,BT13,AY4:AY54))","v":0},{"$f":"IFERROR(CG13*3+CH13*1,0)","v":0},{"$f":"CB13","v":"B"},{"$f":"IF(CF13>0,RANK(CJ13,CJ13:CJ16),)","v":1},{"$f":"IF(AND(CF13>0,COUNTIF(CL13:CL16,CL13)>1),SUMIFS($AI$4:$AI$54,$AF$4:$AF$54,$BT13,$L$4:$L$54,1)+SUMIFS($AK$4:$AK$54,$AH$4:$AH$54,$BT13,$L$4:$L$54,1)-SUMIFS($AK$4:$AK$54,$AF$4:$AF$54,$BT13,$L$4:$L$54,1)-SUMIFS($AI$4:$AI$54,$AH$4:$AH$54,$BT13,$L$4:$L$54,1),)","v":0},{"$f":"IF(AND(CF13>0,COUNTIF(CL13:CL16,CL13)>1),CL13+RANK(CM13,CM13:CM16)-1,CL13)","v":1},{"$f":"IF(AND(CF13>0,COUNTIF(CN13:CN16,CN13)>1),SUMIFS($AI$4:$AI$54,$AF$4:$AF$54,$BT13,$L$4:$L$54,1)+SUMIFS($AK$4:$AK$54,$AH$4:$AH$54,$BT13,$L$4:$L$54,1),)","v":0},{"$f":"IF(AND(CF13>0,COUNTIF(CN13:CN16,CN13)>1),CN13+RANK(CO13,CO13:CO16)-1,CN13)","v":1},{"$f":"IF(CP13=0,\"\",CP13)","v":1},{"$f":"IF(OR(CQ13=\"\",COUNTIF(CQ13:CQ16,CQ13)=1),\"\",$BZ13)","v":0},{"$f":"IF(CQ13=\"\",\"\",IF(COUNTIF(CQ13:CQ16,CQ13)=1,CQ13,CQ13+RANK(CR13,CR13:CR16,0)-1))","v":1},{"$f":"IF(OR(CS13=\"\",COUNTIF(CS13:CS16,CS13)=1),\"\",$BX13)","v":0},{"$f":"IF(CQ13=\"\",\"\",IF(COUNTIF(CS13:CS16,CS13)=1,CS13,CS13+RANK(CT13,CT13:CT16,0)-1))","v":1},{"$f":"IF(OR(CU13=\"\",COUNTIF(CU13:CU16,CU13)=1),\"\",$BU13)","v":0},{"$f":"IF(CQ13=\"\",\"\",IF(COUNTIF(CU13:CU16,CU13)=1,CU13,CU13+RANK(CV13,CV13:CV16,0)-1))","v":1},{"$f":"IF(CF13>0,BM11+RANK(CW13,CW13:CW16,1),)","v":1},null,{"$f":"IF(CC13=2,BT13,)","v":0},{"$f":"(SUMIF(AF4:AF54,BT13,AZ4:AZ54)+SUMIF(AH4:AH54,BT13,BA4:BA54))","v":0},{"$f":"(SUMIF(AF4:AF54,BT13,BB4:BB54)+SUMIF(AH4:AH54,BT13,BC4:BC54))","v":0},{"$f":"(SUMIF(AF4:AF54,BT13,BD4:BD54)+SUMIF(AH4:AH54,BT13,BE4:BE54))","v":0},{"$f":"IFERROR(DA13*3+DB13*1,0)","v":0},{"$f":"CB13","v":"B"},{"$f":"IF(CZ13>0,RANK(DD13,DD13:DD16)+CG11,)","v":0},{"$f":"IF(AND(CZ13>0,COUNTIF(DF13:DF16,DF13)>1),SUMIFS($AI$4:$AI$54,$AF$4:$AF$54,$BT13,$L$4:$L$54,2)+SUMIFS($AK$4:$AK$54,$AH$4:$AH$54,$BT13,$L$4:$L$54,2)-SUMIFS($AK$4:$AK$54,$AF$4:$AF$54,$BT13,$L$4:$L$54,2)-SUMIFS($AI$4:$AI$54,$AH$4:$AH$54,$BT13,$L$4:$L$54,2),)","v":0},{"$f":"IF(AND(CZ13>0,COUNTIF(DF13:DF16,DF13)>1),DF13+RANK(DG13,DG13:DG16)-1,DF13)","v":0},{"$f":"IF(AND(CZ13>0,COUNTIF(DH13:DH16,DH13)>1),SUMIFS($AI$4:$AI$54,$AF$4:$AF$54,$BT13,$L$4:$L$54,2)+SUMIFS($AK$4:$AK$54,$AH$4:$AH$54,$BT13,$L$4:$L$54,2),)","v":0},{"$f":"IF(AND(CZ13>0,COUNTIF(DH13:DH16,DH13)>1),DH13+RANK(DI13,DI13:DI16)-1,DH13)","v":0},{"$f":"IF(DJ13=0,\"\",DJ13)","v":""},{"$f":"IF(OR(DK13=\"\",COUNTIF(DK13:DK16,DK13)=1),\"\",$BZ13)","v":""},{"$f":"IF(DK13=\"\",\"\",IF(COUNTIF(DK13:DK16,DK13)=1,DK13,DK13+RANK(DL13,DL13:DL16,0)-1))","v":""},{"$f":"IF(OR(DM13=\"\",COUNTIF(DM13:DM16,DM13)=1),\"\",$BX13)","v":""},{"$f":"IF(DK13=\"\",\"\",IF(COUNTIF(DM13:DM16,DM13)=1,DM13,DM13+RANK(DN13,DN13:DN16,0)-1))","v":""},{"$f":"IF(OR(DO13=\"\",COUNTIF(DO13:DO16,DO13)=1),\"\",$BU13)","v":""},{"$f":"IF(DK13=\"\",\"\",IF(COUNTIF(DO13:DO16,DO13)=1,DO13,DO13+RANK(DP13,DP13:DP16,0)-1))","v":""},{"$f":"IF(CZ13>0,CG11+RANK(DQ13,DQ13:DQ16,1),)","v":0},null,{"$f":"IF(CC13=3,BT13,)","v":0},{"$f":"(SUMIF(AF4:AF54,BT13,BF4:BF54)+SUMIF(AH4:AH54,BT13,BG4:BG54))","v":0},{"$f":"(SUMIF(AF4:AF54,BT13,BH4:BH54)+SUMIF(AH4:AH54,BT13,BI4:BI54))","v":0},{"$f":"(SUMIF(AF4:AF54,BT13,BJ4:BJ54)+SUMIF(AH4:AH54,BT13,BK4:BK54))","v":0},{"$f":"IFERROR(DU13*3+DV13*1,0)","v":0},{"$f":"CB13","v":"B"},{"$f":"IF(DT13>0,RANK(DX13,DX13:DX16)+CG11+DA11,)","v":0},{"$f":"IF(AND(DT13>0,COUNTIF(DZ13:DZ16,DZ13)>1),SUMIFS($AI$4:$AI$54,$AF$4:$AF$54,$BT13,$L$4:$L$54,3)+SUMIFS($AK$4:$AK$54,$AH$4:$AH$54,$BT13,$L$4:$L$54,3)-SUMIFS($AK$4:$AK$54,$AF$4:$AF$54,$BT13,$L$4:$L$54,3)-SUMIFS($AI$4:$AI$54,$AH$4:$AH$54,$BT13,$L$4:$L$54,3),)","v":0},{"$f":"IF(AND(DT13>0,COUNTIF(DZ13:DZ16,DZ13)>1),DZ13+RANK(EA13,EA13:EA16)-1,DZ13)","v":0},{"$f":"IF(AND(DT13>0,COUNTIF(EB13:EB16,EB13)>1),SUMIFS($AI$4:$AI$54,$AF$4:$AF$54,$BT13,$L$4:$L$54,3)+SUMIFS($AK$4:$AK$54,$AH$4:$AH$54,$BT13,$L$4:$L$54,3),)","v":0},{"$f":"IF(AND(DT13>0,COUNTIF(EB13:EB16,EB13)>1),EB13+RANK(EC13,EC13:EC16)-1,EB13)","v":0},{"$f":"IF(ED13=0,\"\",ED13)","v":""},{"$f":"IF(OR(EE13=\"\",COUNTIF(EE13:EE16,EE13)=1),\"\",$BZ13)","v":""},{"$f":"IF(EE13=\"\",\"\",IF(COUNTIF(EE13:EE16,EE13)=1,EE13,EE13+RANK(EF13,EF13:EF16,0)-1))","v":""},{"$f":"IF(OR(EG13=\"\",COUNTIF(EG13:EG16,EG13)=1),\"\",$BX13)","v":""},{"$f":"IF(EE13=\"\",\"\",IF(COUNTIF(EG13:EG16,EG13)=1,EG13,EG13+RANK(EH13,EH13:EH16,0)-1))","v":""},{"$f":"IF(OR(EI13=\"\",COUNTIF(EI13:EI16,EI13)=1),\"\",$BU13)","v":""},{"$f":"IF(EE13=\"\",\"\",IF(COUNTIF(EI13:EI16,EI13)=1,EI13,EI13+RANK(EJ13,EJ13:EJ16,0)-1))","v":""},{"$f":"IF(DT13>0,CG11+DA11+RANK(EK13,EK13:EK16,1),)","v":0},null,{"$f":"IF(CC13=4,BT13,)","v":0},{"$f":"(SUMIF(AF4:AF54,BT13,BL4:BL54)+SUMIF(AH4:AH54,BT13,BM4:BM54))","v":0},{"$f":"(SUMIF(AF4:AF54,BT13,BN4:BN54)+SUMIF(AH4:AH54,BT13,BO4:BO54))","v":0},{"$f":"(SUMIF(AF4:AF54,BT13,BP4:BP54)+SUMIF(AH4:AH54,BT13,BQ4:BQ54))","v":0},{"$f":"IFERROR(EO13*3+EP13*1,0)","v":0},{"$f":"CB13","v":"B"},{"$f":"IF(EN13>0,RANK(ER13,ER13:ER16)+CG11+DA11+DU11,)","v":0},{"$f":"IF(AND(EN13>0,COUNTIF(ET13:ET16,ET13)>1),SUMIFS($AI$4:$AI$54,$AF$4:$AF$54,$BT13,$L$4:$L$54,4)+SUMIFS($AK$4:$AK$54,$AH$4:$AH$54,$BT13,$L$4:$L$54,4)-SUMIFS($AK$4:$AK$54,$AF$4:$AF$54,$BT13,$L$4:$L$54,4)-SUMIFS($AI$4:$AI$54,$AH$4:$AH$54,$BT13,$L$4:$L$54,4),)","v":0},{"$f":"IF(AND(EN13>0,COUNTIF(ET4:ET7,ET13)>1),ET13+RANK(EU13,EU4:EU7)-1,ET13)","v":0},{"$f":"IF(AND(EN13>0,COUNTIF(EV13:EV16,EV13)>1),SUMIFS($AI$4:$AI$54,$AF$4:$AF$54,$BT13,$L$4:$L$54,4)+SUMIFS($AK$4:$AK$54,$AH$4:$AH$54,$BT13,$L$4:$L$54,4),)","v":0},{"$f":"IF(AND(EN13>0,COUNTIF(EV13:EV16,EV13)>1),EV13+RANK(EW13,EW13:EW16)-1,EV13)","v":0},{"$f":"IF(EX13=0,\"\",EX13)","v":""},{"$f":"IF(OR(EY13=\"\",COUNTIF(EY13:EY16,EY13)=1),\"\",$BZ13)","v":""},{"$f":"IF(EY13=\"\",\"\",IF(COUNTIF(EY13:EY16,EY13)=1,EY13,EY13+RANK(EZ13,EZ13:EZ16,0)-1))","v":""},{"$f":"IF(OR(FA13=\"\",COUNTIF(FA13:FA16,FA13)=1),\"\",$BX13)","v":""},{"$f":"IF(EY13=\"\",\"\",IF(COUNTIF(FA13:FA16,FA13)=1,FA13,FA13+RANK(FB13,FB13:FB16,0)-1))","v":""},{"$f":"IF(OR(FC13=\"\",COUNTIF(FC13:FC16,FC13)=1),\"\",$BU13)","v":""},{"$f":"IF(EY13=\"\",\"\",IF(COUNTIF(FC13:FC16,FC13)=1,FC13,FC13+RANK(FD13,FD13:FD16,0)-1))","v":""},{"$f":"IF(EN13>0,CG11+DA11+DU11+RANK(FE13,FE13:FE16,1),)","v":0},null,{"$f":"IFERROR(VLOOKUP(FJ13,CF12:CX16,19,FALSE),IFERROR(VLOOKUP(FJ13,CZ12:DR16,19,FALSE),IFERROR(VLOOKUP(FJ13,DT12:EL16,19,FALSE),VLOOKUP(FJ13,EN12:FF16,19,FALSE))))","v":1},{"$f":"RANK(FH13,FH13:FH16,1)+COUNTIF(FH13:FH13,FH13)-1","v":1},{"$f":"BT13","v":"Spain"},null,null,null,null,null,null,null,null,null,null,null,null,null,null,12,"BCDE","B","C","D","E",{"$f":"VLOOKUP(\"E\",FL3:FM9,2,FALSE)","v":"Belgium"},{"$f":"VLOOKUP(\"D\",FL3:FM9,2,FALSE)","v":"Poland"},{"$f":"VLOOKUP(\"B\",FL3:FM9,2,FALSE)","v":"Italy"},{"$f":"VLOOKUP(\"C\",FL3:FM9,2,FALSE)","v":"Serbia"},{"$f":"IFERROR(IF(AND(VLOOKUP(GA13,FW4:FW9,1,FALSE)=GA13,VLOOKUP(GB13,FW4:FW9,1,FALSE)=GB13,VLOOKUP(GC13,FW4:FW9,1,FALSE)=GC13,VLOOKUP(GD13,FW4:FW9,1,FALSE)=GD13),FY13,\"\"),\"\")","v":""}]
[null,null,"2024-06-15","Italy","-","Albania",null,"-",null,{"$f":"IF(OR(ISBLANK(G14),ISBLANK(I14)),\"\",IF(G14>I14,1,IF(G14<I14,2,\"X\")))","v":""},{"$f":"IF(OR('Results & Table'!H14=\"\",'Results & Table'!J14=\"\",G14=\"\",I14=\"\"),0,IF(G14='Results & Table'!H14,2,0)+IF(I14='Results & Table'!J14,2,0)+IF(J14='Results & Table'!K14,2,0))","v":0},{"$f":"IF(VLOOKUP(D14,BT12:CC16,10,FALSE)=VLOOKUP(F14,BT12:CC16,10,FALSE),VLOOKUP(D14,BT12:CC16,10,FALSE),\"-\")","v":1},2,{"$f":"VLOOKUP(M14,FI13:FJ16,2,FALSE)","v":"Croatia"},{"$f":"VLOOKUP(N14,BT13:CA16,2,FALSE)","v":0},{"$f":"VLOOKUP(N14,BT13:CA16,3,FALSE)","v":0},{"$f":"VLOOKUP(N14,BT13:CA16,4,FALSE)","v":0},{"$f":"VLOOKUP(N14,BT13:CA16,5,FALSE)","v":0},{"$f":"VLOOKUP(N14,BT13:CA16,6,FALSE)","v":0},{"$f":"VLOOKUP(N14,BT13:CA16,7,FALSE)","v":0},{"$f":"VLOOKUP(N14,BT13:CA16,8,FALSE)","v":0},null,null,"Round of 16",{"$f":"SUM(K58:K65)","v":0},{"$f":"Q58","v":0},{"$f":"SUM(Y14:Z14)","v":0},null,null,null,"2024-06-15","Italy","-","Albania","","-","","",null,0,0,0,0,0,0,0,0,0,0,0,0,0,0,0,0,0,0,0,0,0,0,0,0,0,0,0,0,0,0,null,null,"Croatia",{"$f":"(SUMIF(AF4:AF54,BT14,AN4:AN54)+SUMIF(AH4:AH54,BT14,AO4:AO54))","v":0},{"$f":"(SUMIF(AF4:AF54,BT14,AP4:AP54)+SUMIF(AH4:AH54,BT14,AQ4:AQ54))","v":0},{"$f":"(SUMIF(AF4:AF54,BT14,AR4:AR54)+SUMIF(AH4:AH54,BT14,AS4:AS54))","v":0},{"$f":"SUMIF(AF4:AF54,BT14,AI4:AI54)+SUMIF(AH4:AH54,BT14,AK4:AK54)","v":0},{"$f":"SUMIF(AF4:AF54,BT14,AK4:AK54)+SUMIF(AH4:AH54,BT14,AI4:AI54)","v":0},{"$f":"BX14-BY14","v":0},{"$f":"IFERROR(BU14*3+BV14*1,0)","v":0},"B",{"$f":"RANK(CA14,CA13:CA16)","v":1},{"$f":"SUMPRODUCT((CA13:CA16=CA14)*(BZ13:BZ16>BZ14))","v":0},null,{"$f":"IF(CC14=1,BT14,)","v":"Croatia"},{"$f":"(SUMIF(AF4:AF54,BT14,AT4:AT54)+SUMIF(AH4:AH54,BT14,AU4:AU54))","v":0},{"$f":"(SUMIF(AF4:AF54,BT14,AV4:AV54)+SUMIF(AH4:AH54,BT14,AW4:AW54))","v":0},{"$f":"(SUMIF(AF4:AF54,BT14,AX4:AX54)+SUMIF(AH4:AH54,BT14,AY4:AY54))","v":0},{"$f":"IFERROR(CG14*3+CH14*1,0)","v":0},{"$f":"CB14","v":"B"},{"$f":"IF(CF14>0,RANK(CJ14,CJ13:CJ16),)","v":1},{"$f":"IF(AND(CF14>0,COUNTIF(CL13:CL16,CL14)>1),SUMIFS($AI$4:$AI$54,$AF$4:$AF$54,BT14,$L$4:$L$54,1)+SUMIFS($AK$4:$AK$54,$AH$4:$AH$54,BT14,$L$4:$L$54,1)-SUMIFS($AK$4:$AK$54,$AF$4:$AF$54,BT14,$L$4:$L$54,1)-SUMIFS($AI$4:$AI$54,$AH$4:$AH$54,BT14,$L$4:$L$54,1),)","v":0},{"$f":"IF(AND(CF14>0,COUNTIF(CL13:CL16,CL14)>1),CL14+RANK(CM14,CM13:CM16)-1,CL14)","v":1},{"$f":"IF(AND(CF14>0,COUNTIF(CN13:CN16,CN14)>1),SUMIFS($AI$4:$AI$54,$AF$4:$AF$54,BT14,$L$4:$L$54,1)+SUMIFS($AK$4:$AK$54,$AH$4:$AH$54,BT14,$L$4:$L$54,1),)","v":0},{"$f":"IF(AND(CF14>0,COUNTIF(CN13:CN16,CN14)>1),CN14+RANK(CO14,CO13:CO16)-1,CN14)","v":1},{"$f":"IF(CP14=0,\"\",CP14)","v":1},{"$f":"IF(OR(CQ14=\"\",COUNTIF(CQ13:CQ16,CQ14)=1),\"\",$BZ14)","v":0},{"$f":"IF(CQ14=\"\",\"\",IF(COUNTIF(CQ13:CQ16,CQ14)=1,CQ14,CQ14+RANK(CR14,CR13:CR16,0)-1))","v":1},{"$f":"IF(OR(CS14=\"\",COUNTIF(CS13:CS16,CS14)=1),\"\",$BX14)","v":0},{"$f":"IF(CQ14=\"\",\"\",IF(COUNTIF(CS13:CS16,CS14)=1,CS14,CS14+RANK(CT14,CT13:CT16,0)-1))","v":1},{"$f":"IF(OR(CU14=\"\",COUNTIF(CU13:CU16,CU14)=1),\"\",$BU14)","v":0},{"$f":"IF(CQ14=\"\",\"\",IF(COUNTIF(CU13:CU16,CU14)=1,CU14,CU14+RANK(CV14,CV13:CV16,0)-1))","v":1},{"$f":"IF(CF14>0,BM11+RANK(CW14,CW13:CW16,1),)","v":1},null,{"$f":"IF(CC14=2,BT14,)","v":0},{"$f":"(SUMIF(AF4:AF54,BT14,AZ4:AZ54)+SUMIF(AH4:AH54,BT14,BA4:BA54))","v":0},{"$f":"(SUMIF(AF4:AF54,BT14,BB4:BB54)+SUMIF(AH4:AH54,BT14,BC4:BC54))","v":0},{"$f":"(SUMIF(AF4:AF54,BT14,BD4:BD54)+SUMIF(AH4:AH54,BT14,BE4:BE54))","v":0},{"$f":"IFERROR(DA14*3+DB14*1,0)","v":0},{"$f":"CB14","v":"B"},{"$f":"IF(CZ14>0,RANK(DD14,DD13:DD16)+CG11,)","v":0},{"$f":"IF(AND(CZ14>0,COUNTIF(DF13:DF16,DF14)>1),SUMIFS($AI$4:$AI$54,$AF$4:$AF$54,BT14,$L$4:$L$54,2)+SUMIFS($AK$4:$AK$54,$AH$4:$AH$54,BT14,$L$4:$L$54,2)-SUMIFS($AK$4:$AK$54,$AF$4:$AF$54,BT14,$L$4:$L$54,2)-SUMIFS($AI$4:$AI$54,$AH$4:$AH$54,BT14,$L$4:$L$54,2),)","v":0},{"$f":"IF(AND(CZ14>0,COUNTIF(DF13:DF16,DF14)>1),DF14+RANK(DG14,DG13:DG16)-1,DF14)","v":0},{"$f":"IF(AND(CZ14>0,COUNTIF(DH13:DH16,DH14)>1),SUMIFS($AI$4:$AI$54,$AF$4:$AF$54,BT14,$L$4:$L$54,2)+SUMIFS($AK$4:$AK$54,$AH$4:$AH$54,BT14,$L$4:$L$54,2),)","v":0},{"$f":"IF(AND(CZ14>0,COUNTIF(DH13:DH16,DH14)>1),DH14+RANK(DI14,DI13:DI16)-1,DH14)","v":0},{"$f":"IF(DJ14=0,\"\",DJ14)","v":""},{"$f":"IF(OR(DK14=\"\",COUNTIF(DK13:DK16,DK14)=1),\"\",$BZ14)","v":""},{"$f":"IF(DK14=\"\",\"\",IF(COUNTIF(DK13:DK16,DK14)=1,DK14,DK14+RANK(DL14,DL13:DL16,0)-1))","v":""},{"$f":"IF(OR(DM14=\"\",COUNTIF(DM13:DM16,DM14)=1),\"\",$BX14)","v":""},{"$f":"IF(DK14=\"\",\"\",IF(COUNTIF(DM13:DM16,DM14)=1,DM14,DM14+RANK(DN14,DN13:DN16,0)-1))","v":""},{"$f":"IF(OR(DO14=\"\",COUNTIF(DO13:DO16,DO14)=1),\"\",$BU14)","v":""},{"$f":"IF(DK14=\"\",\"\",IF(COUNTIF(DO13:DO16,DO14)=1,DO14,DO14+RANK(DP14,DP13:DP16,0)-1))","v":""},{"$f":"IF(CZ14>0,CG11+RANK(DQ14,DQ13:DQ16,1),)","v":0},null,{"$f":"IF(CC14=3,BT14,)","v":0},{"$f":"(SUMIF(AF4:AF54,BT14,BF4:BF54)+SUMIF(AH4:AH54,BT14,BG4:BG54))","v":0},{"$f":"(SUMIF(AF4:AF54,BT14,BH4:BH54)+SUMIF(AH4:AH54,BT14,BI4:BI54))","v":0},{"$f":"(SUMIF(AF4:AF54,BT14,BJ4:BJ54)+SUMIF(AH4:AH54,BT14,BK4:BK54))","v":0},{"$f":"IFERROR(DU14*3+DV14*1,0)","v":0},{"$f":"CB14","v":"B"},{"$f":"IF(DT14>0,RANK(DX14,DX13:DX16)+CG11+DA11,)","v":0},{"$f":"IF(AND(DT14>0,COUNTIF(DZ13:DZ16,DZ14)>1),SUMIFS($AI$4:$AI$54,$AF$4:$AF$54,BT14,$L$4:$L$54,3)+SUMIFS($AK$4:$AK$54,$AH$4:$AH$54,BT14,$L$4:$L$54,3)-SUMIFS($AK$4:$AK$54,$AF$4:$AF$54,BT14,$L$4:$L$54,3)-SUMIFS($AI$4:$AI$54,$AH$4:$AH$54,BT14,$L$4:$L$54,3),)","v":0},{"$f":"IF(AND(DT14>0,COUNTIF(DZ13:DZ16,DZ14)>1),DZ14+RANK(EA14,EA13:EA16)-1,DZ14)","v":0},{"$f":"IF(AND(DT14>0,COUNTIF(EB13:EB16,EB14)>1),SUMIFS($AI$4:$AI$54,$AF$4:$AF$54,BT14,$L$4:$L$54,3)+SUMIFS($AK$4:$AK$54,$AH$4:$AH$54,BT14,$L$4:$L$54,3),)","v":0},{"$f":"IF(AND(DT14>0,COUNTIF(EB13:EB16,EB14)>1),EB14+RANK(EC14,EC13:EC16)-1,EB14)","v":0},{"$f":"IF(ED14=0,\"\",ED14)","v":""},{"$f":"IF(OR(EE14=\"\",COUNTIF(EE13:EE16,EE14)=1),\"\",$BZ14)","v":""},{"$f":"IF(EE14=\"\",\"\",IF(COUNTIF(EE13:EE16,EE14)=1,EE14,EE14+RANK(EF14,EF13:EF16,0)-1))","v":""},{"$f":"IF(OR(EG14=\"\",COUNTIF(EG13:EG16,EG14)=1),\"\",$BX14)","v":""},{"$f":"IF(EE14=\"\",\"\",IF(COUNTIF(EG13:EG16,EG14)=1,EG14,EG14+RANK(EH14,EH13:EH16,0)-1))","v":""},{"$f":"IF(OR(EI14=\"\",COUNTIF(EI13:EI16,EI14)=1),\"\",$BU14)","v":""},{"$f":"IF(EE14=\"\",\"\",IF(COUNTIF(EI13:EI16,EI14)=1,EI14,EI14+RANK(EJ14,EJ13:EJ16,0)-1))","v":""},{"$f":"IF(DT14>0,CG11+DA11+RANK(EK14,EK13:EK16,1),)","v":0},null,{"$f":"IF(CC14=4,BT14,)","v":0},{"$f":"(SUMIF(AF4:AF54,BT14,BL4:BL54)+SUMIF(AH4:AH54,BT14,BM4:BM54))","v":0},{"$f":"(SUMIF(AF4:AF54,BT14,BN4:BN54)+SUMIF(AH4:AH54,BT14,BO4:BO54))","v":0},{"$f":"(SUMIF(AF4:AF54,BT14,BP4:BP54)+SUMIF(AH4:AH54,BT14,BQ4:BQ54))","v":0},{"$f":"IFERROR(EO14*3+EP14*1,0)","v":0},{"$f":"CB14","v":"B"},{"$f":"IF(EN14>0,RANK(ER14,ER13:ER16)+CG11+DA11+DU11,)","v":0},{"$f":"IF(AND(EN14>0,COUNTIF(ET13:ET16,ET14)>1),SUMIFS($AI$4:$AI$54,$AF$4:$AF$54,BT14,$L$4:$L$54,4)+SUMIFS($AK$4:$AK$54,$AH$4:$AH$54,BT14,$L$4:$L$54,4)-SUMIFS($AK$4:$AK$54,$AF$4:$AF$54,BT14,$L$4:$L$54,4)-SUMIFS($AI$4:$AI$54,$AH$4:$AH$54,BT14,$L$4:$L$54,4),)","v":0},{"$f":"IF(AND(EN14>0,COUNTIF(ET4:ET7,ET14)>1),ET14+RANK(EU14,EU4:EU7)-1,ET14)","v":0},{"$f":"IF(AND(EN14>0,COUNTIF(EV13:EV16,EV14)>1),SUMIFS($AI$4:$AI$54,$AF$4:$AF$54,BT14,$L$4:$L$54,4)+SUMIFS($AK$4:$AK$54,$AH$4:$AH$54,BT14,$L$4:$L$54,4),)","v":0},{"$f":"IF(AND(EN14>0,COUNTIF(EV13:EV16,EV14)>1),EV14+RANK(EW14,EW13:EW16)-1,EV14)","v":0},{"$f":"IF(EX14=0,\"\",EX14)","v":""},{"$f":"IF(OR(EY14=\"\",COUNTIF(EY13:EY16,EY14)=1),\"\",$BZ14)","v":""},{"$f":"IF(EY14=\"\",\"\",IF(COUNTIF(EY13:EY16,EY14)=1,EY14,EY14+RANK(EZ14,EZ13:EZ16,0)-1))","v":""},{"$f":"IF(OR(FA14=\"\",COUNTIF(FA13:FA16,FA14)=1),\"\",$BX14)","v":""},{"$f":"IF(EY14=\"\",\"\",IF(COUNTIF(FA13:FA16,FA14)=1,FA14,FA14+RANK(FB14,FB13:FB16,0)-1))","v":""},{"$f":"IF(OR(FC14=\"\",COUNTIF(FC13:FC16,FC14)=1),\"\",$BU14)","v":""},{"$f":"IF(EY14=\"\",\"\",IF(COUNTIF(FC13:FC16,FC14)=1,FC14,FC14+RANK(FD14,FD13:FD16,0)-1))","v":""},{"$f":"IF(EN14>0,CG11+DA11+DU11+RANK(FE14,FE13:FE16,1),)","v":0},null,{"$f":"IFERROR(VLOOKUP(FJ14,CF12:CX16,19,FALSE),IFERROR(VLOOKUP(FJ14,CZ12:DR16,19,FALSE),IFERROR(VLOOKUP(FJ14,DT12:EL16,19,FALSE),VLOOKUP(FJ14,EN12:FF16,19,FALSE))))","v":1},{"$f":"RANK(FH14,FH13:FH16,1)+COUNTIF(FH13:FH14,FH14)-1","v":2},{"$f":"BT14","v":"Croatia"},null,null,null,null,null,null,null,null,null,null,null,null,null,null,13,"BCDF","B","C","D","F",{"$f":"VLOOKUP(\"F\",FL3:FM9,2,FALSE)","v":"Georgia"},{"$f":"VLOOKUP(\"D\",FL3:FM9,2,FALSE)","v":"Poland"},{"$f":"VLOOKUP(\"C\",FL3:FM9,2,FALSE)","v":"Serbia"},{"$f":"VLOOKUP(\"B\",FL3:FM9,2,FALSE)","v":"Italy"},{"$f":"IFERROR(IF(AND(VLOOKUP(GA14,FW4:FW9,1,FALSE)=GA14,VLOOKUP(GB14,FW4:FW9,1,FALSE)=GB14,VLOOKUP(GC14,FW4:FW9,1,FALSE)=GC14,VLOOKUP(GD14,FW4:FW9,1,FALSE)=GD14),FY14,\"\"),\"\")","v":""}]
[null,null,"2024-06-19","Croatia","-","Albania",null,"-",null,"",{"$f":"IF(OR('Results & Table'!H15=\"\",'Results & Table'!J15=\"\",G15=\"\",I15=\"\"),0,IF(G15='Results & Table'!H15,2,0)+IF(I15='Results & Table'!J15,2,0)+IF(J15='Results & Table'!K15,2,0))","v":0},{"$f":"IF(VLOOKUP(D15,BT12:CC16,10,FALSE)=VLOOKUP(F15,BT12:CC16,10,FALSE),VLOOKUP(D15,BT12:CC16,10,FALSE),\"-\")","v":1},3,{"$f":"VLOOKUP(M15,FI13:FJ16,2,FALSE)","v":"Italy"},{"$f":"VLOOKUP(N15,BT13:CA16,2,FALSE)","v":0},{"$f":"VLOOKUP(N15,BT13:CA16,3,FALSE)","v":0},{"$f":"VLOOKUP(N15,BT13:CA16,4,FALSE)","v":0},{"$f":"VLOOKUP(N15,BT13:CA16,5,FALSE)","v":0},{"$f":"VLOOKUP(N15,BT13:CA16,6,FALSE)","v":0},{"$f":"VLOOKUP(N15,BT13:CA16,7,FALSE)","v":0},{"$f":"VLOOKUP(N15,BT13:CA16,8,FALSE)","v":0},null,null,"Quarter-finals",{"$f":"SUM(K69:K72)","v":0},{"$f":"Q69","v":0},{"$f":"SUM(Y15:Z15)","v":0},null,null,null,"2024-06-19","Croatia","-","Albania","","-","","",null,0,0,0,0,0,0,0,0,0,0,0,0,0,0,0,0,0,0,0,0,0,0,0,0,0,0,0,0,0,0,null,null,"Italy",{"$f":"(SUMIF(AF4:AF54,BT15,AN4:AN54)+SUMIF(AH4:AH54,BT15,AO4:AO54))","v":0},{"$f":"(SUMIF(AF4:AF54,BT15,AP4:AP54)+SUMIF(AH4:AH54,BT15,AQ4:AQ54))","v":0},{"$f":"(SUMIF(AF4:AF54,BT15,AR4:AR54)+SUMIF(AH4:AH54,BT15,AS4:AS54))","v":0},{"$f":"SUMIF(AF4:AF54,BT15,AI4:AI54)+SUMIF(AH4:AH54,BT15,AK4:AK54)","v":0},{"$f":"SUMIF(AF4:AF54,BT15,AK4:AK54)+SUMIF(AH4:AH54,BT15,AI4:AI54)","v":0},{"$f":"BX15-BY15","v":0},{"$f":"IFERROR(BU15*3+BV15*1,0)","v":0},"B",{"$f":"RANK(CA15,CA13:CA16)","v":1},{"$f":"SUMPRODUCT((CA13:CA16=CA15)*(BZ13:BZ16>BZ15))","v":0},null,{"$f":"IF(CC15=1,BT15,)","v":"Italy"},{"$f":"(SUMIF(AF4:AF54,BT15,AT4:AT54)+SUMIF(AH4:AH54,BT15,AU4:AU54))","v":0},{"$f":"(SUMIF(AF4:AF54,BT15,AV4:AV54)+SUMIF(AH4:AH54,BT15,AW4:AW54))","v":0},{"$f":"(SUMIF(AF4:AF54,BT15,AX4:AX54)+SUMIF(AH4:AH54,BT15,AY4:AY54))","v":0},0,{"$f":"CB15","v":"B"},{"$f":"IF(CF15>0,RANK(CJ15,CJ13:CJ16),)","v":1},{"$f":"IF(AND(CF15>0,COUNTIF(CL13:CL16,CL15)>1),SUMIFS($AI$4:$AI$54,$AF$4:$AF$54,BT15,$L$4:$L$54,1)+SUMIFS($AK$4:$AK$54,$AH$4:$AH$54,BT15,$L$4:$L$54,1)-SUMIFS($AK$4:$AK$54,$AF$4:$AF$54,BT15,$L$4:$L$54,1)-SUMIFS($AI$4:$AI$54,$AH$4:$AH$54,BT15,$L$4:$L$54,1),)","v":0},{"$f":"IF(AND(CF15>0,COUNTIF(CL13:CL16,CL15)>1),CL15+RANK(CM15,CM13:CM16)-1,CL15)","v":1},{"$f":"IF(AND(CF15>0,COUNTIF(CN13:CN16,CN15)>1),SUMIFS($AI$4:$AI$54,$AF$4:$AF$54,BT15,$L$4:$L$54,1)+SUMIFS($AK$4:$AK$54,$AH$4:$AH$54,BT15,$L$4:$L$54,1),)","v":0},{"$f":"IF(AND(CF15>0,COUNTIF(CN13:CN16,CN15)>1),CN15+RANK(CO15,CO13:CO16)-1,CN15)","v":1},1,{"$f":"IF(OR(CQ15=\"\",COUNTIF(CQ13:CQ16,CQ15)=1),\"\",$BZ15)","v":0},{"$f":"IF(CQ15=\"\",\"\",IF(COUNTIF(CQ13:CQ16,CQ15)=1,CQ15,CQ15+RANK(CR15,CR13:CR16,0)-1))","v":1},{"$f":"IF(OR(CS15=\"\",COUNTIF(CS13:CS16,CS15)=1),\"\",$BX15)","v":0},{"$f":"IF(CQ15=\"\",\"\",IF(COUNTIF(CS13:CS16,CS15)=1,CS15,CS15+RANK(CT15,CT13:CT16,0)-1))","v":1},{"$f":"IF(OR(CU15=\"\",COUNTIF(CU13:CU16,CU15)=1),\"\",$BU15)","v":0},{"$f":"IF(CQ15=\"\",\"\",IF(COUNTIF(CU13:CU16,CU15)=1,CU15,CU15+RANK(CV15,CV13:CV16,0)-1))","v":1},{"$f":"IF(CF15>0,BM11+RANK(CW15,CW13:CW16,1),)","v":1},null,{"$f":"IF(CC15=2,BT15,)","v":0},{"$f":"(SUMIF(AF4:AF54,BT15,AZ4:AZ54)+SUMIF(AH4:AH54,BT15,BA4:BA54))","v":0},{"$f":"(SUMIF(AF4:AF54,BT15,BB4:BB54)+SUMIF(AH4:AH54,BT15,BC4:BC54))","v":0},{"$f":"(SUMIF(AF4:AF54,BT15,BD4:BD54)+SUMIF(AH4:AH54,BT15,BE4:BE54))","v":0},0,{"$f":"CB15","v":"B"},{"$f":"IF(CZ15>0,RANK(DD15,DD13:DD16)+CG11,)","v":0},{"$f":"IF(AND(CZ15>0,COUNTIF(DF13:DF16,DF15)>1),SUMIFS($AI$4:$AI$54,$AF$4:$AF$54,BT15,$L$4:$L$54,2)+SUMIFS($AK$4:$AK$54,$AH$4:$AH$54,BT15,$L$4:$L$54,2)-SUMIFS($AK$4:$AK$54,$AF$4:$AF$54,BT15,$L$4:$L$54,2)-SUMIFS($AI$4:$AI$54,$AH$4:$AH$54,BT15,$L$4:$L$54,2),)","v":0},{"$f":"IF(AND(CZ15>0,COUNTIF(DF13:DF16,DF15)>1),DF15+RANK(DG15,DG13:DG16)-1,DF15)","v":0},{"$f":"IF(AND(CZ15>0,COUNTIF(DH13:DH16,DH15)>1),SUMIFS($AI$4:$AI$54,$AF$4:$AF$54,BT15,$L$4:$L$54,2)+SUMIFS($AK$4:$AK$54,$AH$4:$AH$54,BT15,$L$4:$L$54,2),)","v":0},{"$f":"IF(AND(CZ15>0,COUNTIF(DH13:DH16,DH15)>1),DH15+RANK(DI15,DI13:DI16)-1,DH15)","v":0},"",{"$f":"IF(OR(DK15=\"\",COUNTIF(DK13:DK16,DK15)=1),\"\",$BZ15)","v":""},{"$f":"IF(DK15=\"\",\"\",IF(COUNTIF(DK13:DK16,DK15)=1,DK15,DK15+RANK(DL15,DL13:DL16,0)-1))","v":""},{"$f":"IF(OR(DM15=\"\",COUNTIF(DM13:DM16,DM15)=1),\"\",$BX15)","v":""},{"$f":"IF(DK15=\"\",\"\",IF(COUNTIF(DM13:DM16,DM15)=1,DM15,DM15+RANK(DN15,DN13:DN16,0)-1))","v":""},{"$f":"IF(OR(DO15=\"\",COUNTIF(DO13:DO16,DO15)=1),\"\",$BU15)","v":""},{"$f":"IF(DK15=\"\",\"\",IF(COUNTIF(DO13:DO16,DO15)=1,DO15,DO15+RANK(DP15,DP13:DP16,0)-1))","v":""},{"$f":"IF(CZ15>0,CG11+RANK(DQ15,DQ13:DQ16,1),)","v":0},null,{"$f":"IF(CC15=3,BT15,)","v":0},{"$f":"(SUMIF(AF4:AF54,BT15,BF4:BF54)+SUMIF(AH4:AH54,BT15,BG4:BG54))","v":0},{"$f":"(SUMIF(AF4:AF54,BT15,BH4:BH54)+SUMIF(AH4:AH54,BT15,BI4:BI54))","v":0},{"$f":"(SUMIF(AF4:AF54,BT15,BJ4:BJ54)+SUMIF(AH4:AH54,BT15,BK4:BK54))","v":0},0,{"$f":"CB15","v":"B"},{"$f":"IF(DT15>0,RANK(DX15,DX13:DX16)+CG11+DA11,)","v":0},{"$f":"IF(AND(DT15>0,COUNTIF(DZ13:DZ16,DZ15)>1),SUMIFS($AI$4:$AI$54,$AF$4:$AF$54,BT15,$L$4:$L$54,3)+SUMIFS($AK$4:$AK$54,$AH$4:$AH$54,BT15,$L$4:$L$54,3)-SUMIFS($AK$4:$AK$54,$AF$4:$AF$54,BT15,$L$4:$L$54,3)-SUMIFS($AI$4:$AI$54,$AH$4:$AH$54,BT15,$L$4:$L$54,3),)","v":0},{"$f":"IF(AND(DT15>0,COUNTIF(DZ13:DZ16,DZ15)>1),DZ15+RANK(EA15,EA13:EA16)-1,DZ15)","v":0},{"$f":"IF(AND(DT15>0,COUNTIF(EB13:EB16,EB15)>1),SUMIFS($AI$4:$AI$54,$AF$4:$AF$54,BT15,$L$4:$L$54,3)+SUMIFS($AK$4:$AK$54,$AH$4:$AH$54,BT15,$L$4:$L$54,3),)","v":0},{"$f":"IF(AND(DT15>0,COUNTIF(EB13:EB16,EB15)>1),EB15+RANK(EC15,EC13:EC16)-1,EB15)","v":0},"",{"$f":"IF(OR(EE15=\"\",COUNTIF(EE13:EE16,EE15)=1),\"\",$BZ15)","v":""},{"$f":"IF(EE15=\"\",\"\",IF(COUNTIF(EE13:EE16,EE15)=1,EE15,EE15+RANK(EF15,EF13:EF16,0)-1))","v":""},{"$f":"IF(OR(EG15=\"\",COUNTIF(EG13:EG16,EG15)=1),\"\",$BX15)","v":""},{"$f":"IF(EE15=\"\",\"\",IF(COUNTIF(EG13:EG16,EG15)=1,EG15,EG15+RANK(EH15,EH13:EH16,0)-1))","v":""},{"$f":"IF(OR(EI15=\"\",COUNTIF(EI13:EI16,EI15)=1),\"\",$BU15)","v":""},{"$f":"IF(EE15=\"\",\"\",IF(COUNTIF(EI13:EI16,EI15)=1,EI15,EI15+RANK(EJ15,EJ13:EJ16,0)-1))","v":""},{"$f":"IF(DT15>0,CG11+DA11+RANK(EK15,EK13:EK16,1),)","v":0},null,{"$f":"IF(CC15=4,BT15,)","v":0},{"$f":"(SUMIF(AF4:AF54,BT15,BL4:BL54)+SUMIF(AH4:AH54,BT15,BM4:BM54))","v":0},{"$f":"(SUMIF(AF4:AF54,BT15,BN4:BN54)+SUMIF(AH4:AH54,BT15,BO4:BO54))","v":0},{"$f":"(SUMIF(AF4:AF54,BT15,BP4:BP54)+SUMIF(AH4:AH54,BT15,BQ4:BQ54))","v":0},0,{"$f":"CB15","v":"B"},{"$f":"IF(EN15>0,RANK(ER15,ER13:ER16)+CG11+DA11+DU11,)","v":0},{"$f":"IF(AND(EN15>0,COUNTIF(ET13:ET16,ET15)>1),SUMIFS($AI$4:$AI$54,$AF$4:$AF$54,BT15,$L$4:$L$54,4)+SUMIFS($AK$4:$AK$54,$AH$4:$AH$54,BT15,$L$4:$L$54,4)-SUMIFS($AK$4:$AK$54,$AF$4:$AF$54,BT15,$L$4:$L$54,4)-SUMIFS($AI$4:$AI$54,$AH$4:$AH$54,BT15,$L$4:$L$54,4),)","v":0},{"$f":"IF(AND(EN15>0,COUNTIF(ET4:ET7,ET15)>1),ET15+RANK(EU15,EU4:EU7)-1,ET15)","v":0},{"$f":"IF(AND(EN15>0,COUNTIF(EV13:EV16,EV15)>1),SUMIFS($AI$4:$AI$54,$AF$4:$AF$54,BT15,$L$4:$L$54,4)+SUMIFS($AK$4:$AK$54,$AH$4:$AH$54,BT15,$L$4:$L$54,4),)","v":0},{"$f":"IF(AND(EN15>0,COUNTIF(EV13:EV16,EV15)>1),EV15+RANK(EW15,EW13:EW16)-1,EV15)","v":0},"",{"$f":"IF(OR(EY15=\"\",COUNTIF(EY13:EY16,EY15)=1),\"\",$BZ15)","v":""},{"$f":"IF(EY15=\"\",\"\",IF(COUNTIF(EY13:EY16,EY15)=1,EY15,EY15+RANK(EZ15,EZ13:EZ16,0)-1))","v":""},{"$f":"IF(OR(FA15=\"\",COUNTIF(FA13:FA16,FA15)=1),\"\",$BX15)","v":""},{"$f":"IF(EY15=\"\",\"\",IF(COUNTIF(FA13:FA16,FA15)=1,FA15,FA15+RANK(FB15,FB13:FB16,0)-1))","v":""},{"$f":"IF(OR(FC15=\"\",COUNTIF(FC13:FC16,FC15)=1),\"\",$BU15)","v":""},{"$f":"IF(EY15=\"\",\"\",IF(COUNTIF(FC13:FC16,FC15)=1,FC15,FC15+RANK(FD15,FD13:FD16,0)-1))","v":""},{"$f":"IF(EN15>0,CG11+DA11+DU11+RANK(FE15,FE13:FE16,1),)","v":0},null,{"$f":"IFERROR(VLOOKUP(FJ15,CF12:CX16,19,FALSE),IFERROR(VLOOKUP(FJ15,CZ12:DR16,19,FALSE),IFERROR(VLOOKUP(FJ15,DT12:EL16,19,FALSE),VLOOKUP(FJ15,EN12:FF16,19,FALSE))))","v":1},{"$f":"RANK(FH15,FH13:FH16,1)+COUNTIF(FH13:FH15,FH15)-1","v":3},{"$f":"BT15","v":"Italy"},null,null,null,null,null,null,null,null,null,null,null,null,null,null,14,"BCEF","B","C","E","F",{"$f":"VLOOKUP(\"F\",FL3:FM9,2,FALSE)","v":"Georgia"},{"$f":"VLOOKUP(\"E\",FL3:FM9,2,FALSE)","v":"Belgium"},{"$f":"VLOOKUP(\"C\",FL3:FM9,2,FALSE)","v":"Serbia"},{"$f":"VLOOKUP(\"B\",FL3:FM9,2,FALSE)","v":"Italy"},{"$f":"IFERROR(IF(AND(VLOOKUP(GA15,FW4:FW9,1,FALSE)=GA15,VLOOKUP(GB15,FW4:FW9,1,FALSE)=GB15,VLOOKUP(GC15,FW4:FW9,1,FALSE)=GC15,VLOOKUP(GD15,FW4:FW9,1,FALSE)=GD15),FY15,\"\"),\"\")","v":""}]
[null,null,"2024-06-20","Spain","-","Italy",null,"-",null,"",{"$f":"IF(OR('Results & Table'!H16=\"\",'Results & Table'!J16=\"\",G16=\"\",I16=\"\"),0,IF(G16='Results & Table'!H16,2,0)+IF(I16='Results & Table'!J16,2,0)+IF(J16='Results & Table'!K16,2,0))","v":0},{"$f":"IF(VLOOKUP(D16,BT12:CC16,10,FALSE)=VLOOKUP(F16,BT12:CC16,10,FALSE),VLOOKUP(D16,BT12:CC16,10,FALSE),\"-\")","v":1},4,{"$f":"VLOOKUP(M16,FI13:FJ16,2,FALSE)","v":"Albania"},{"$f":"VLOOKUP(N16,BT13:CA16,2,FALSE)","v":0},{"$f":"VLOOKUP(N16,BT13:CA16,3,FALSE)","v":0},{"$f":"VLOOKUP(N16,BT13:CA16,4,FALSE)","v":0},{"$f":"VLOOKUP(N16,BT13:CA16,5,FALSE)","v":0},{"$f":"VLOOKUP(N16,BT13:CA16,6,FALSE)","v":0},{"$f":"VLOOKUP(N16,BT13:CA16,7,FALSE)","v":0},{"$f":"VLOOKUP(N16,BT13:CA16,8,FALSE)","v":0},null,null,"Semi-finals",{"$f":"SUM(K76:K77)","v":0},{"$f":"Q76","v":0},0,null,null,null,"2024-06-20","Spain","-","Italy","","-","","",null,0,0,0,0,0,0,0,0,0,0,0,0,0,0,0,0,0,0,0,0,0,0,0,0,0,0,0,0,0,0,null,null,"Albania",{"$f":"(SUMIF(AF4:AF54,BT16,AN4:AN54)+SUMIF(AH4:AH54,BT16,AO4:AO54))","v":0},{"$f":"(SUMIF(AF4:AF54,BT16,AP4:AP54)+SUMIF(AH4:AH54,BT16,AQ4:AQ54))","v":0},{"$f":"(SUMIF(AF4:AF54,BT16,AR4:AR54)+SUMIF(AH4:AH54,BT16,AS4:AS54))","v":0},{"$f":"SUMIF(AF4:AF54,BT16,AI4:AI54)+SUMIF(AH4:AH54,BT16,AK4:AK54)","v":0},{"$f":"SUMIF(AF4:AF54,BT16,AK4:AK54)+SUMIF(AH4:AH54,BT16,AI4:AI54)","v":0},{"$f":"BX16-BY16","v":0},{"$f":"IFERROR(BU16*3+BV16*1,0)","v":0},"B",{"$f":"RANK(CA16,CA13:CA16)","v":1},{"$f":"SUMPRODUCT((CA13:CA16=CA16)*(BZ13:BZ16>BZ16))","v":0},null,{"$f":"IF(CC16=1,BT16,)","v":"Albania"},{"$f":"(SUMIF(AF4:AF54,BT16,AT4:AT54)+SUMIF(AH4:AH54,BT16,AU4:AU54))","v":0},{"$f":"(SUMIF(AF4:AF54,BT16,AV4:AV54)+SUMIF(AH4:AH54,BT16,AW4:AW54))","v":0},{"$f":"(SUMIF(AF4:AF54,BT16,AX4:AX54)+SUMIF(AH4:AH54,BT16,AY4:AY54))","v":0},0,{"$f":"CB16","v":"B"},{"$f":"IF(CF16>0,RANK(CJ16,CJ13:CJ16),)","v":1},{"$f":"IF(AND(CF16>0,COUNTIF(CL13:CL16,CL16)>1),SUMIFS($AI$4:$AI$54,$AF$4:$AF$54,BT16,$L$4:$L$54,1)+SUMIFS($AK$4:$AK$54,$AH$4:$AH$54,BT16,$L$4:$L$54,1)-SUMIFS($AK$4:$AK$54,$AF$4:$AF$54,BT16,$L$4:$L$54,1)-SUMIFS($AI$4:$AI$54,$AH$4:$AH$54,BT16,$L$4:$L$54,1),)","v":0},{"$f":"IF(AND(CF16>0,COUNTIF(CL13:CL16,CL16)>1),CL16+RANK(CM16,CM13:CM16)-1,CL16)","v":1},{"$f":"IF(AND(CF16>0,COUNTIF(CN13:CN16,CN16)>1),SUMIFS($AI$4:$AI$54,$AF$4:$AF$54,BT16,$L$4:$L$54,1)+SUMIFS($AK$4:$AK$54,$AH$4:$AH$54,BT16,$L$4:$L$54,1),)","v":0},{"$f":"IF(AND(CF16>0,COUNTIF(CN13:CN16,CN16)>1),CN16+RANK(CO16,CO13:CO16)-1,CN16)","v":1},1,{"$f":"IF(OR(CQ16=\"\",COUNTIF(CQ13:CQ16,CQ16)=1),\"\",$BZ16)","v":0},{"$f":"IF(CQ16=\"\",\"\",IF(COUNTIF(CQ13:CQ16,CQ16)=1,CQ16,CQ16+RANK(CR16,CR13:CR16,0)-1))","v":1},{"$f":"IF(OR(CS16=\"\",COUNTIF(CS13:CS16,CS16)=1),\"\",$BX16)","v":0},{"$f":"IF(CQ16=\"\",\"\",IF(COUNTIF(CS13:CS16,CS16)=1,CS16,CS16+RANK(CT16,CT13:CT16,0)-1))","v":1},{"$f":"IF(OR(CU16=\"\",COUNTIF(CU13:CU16,CU16)=1),\"\",$BU16)","v":0},{"$f":"IF(CQ16=\"\",\"\",IF(COUNTIF(CU13:CU16,CU16)=1,CU16,CU16+RANK(CV16,CV13:CV16,0)-1))","v":1},{"$f":"IF(CF16>0,BM11+RANK(CW16,CW13:CW16,1),)","v":1},null,{"$f":"IF(CC16=2,BT16,)","v":0},{"$f":"(SUMIF(AF4:AF54,BT16,AZ4:AZ54)+SUMIF(AH4:AH54,BT16,BA4:BA54))","v":0},{"$f":"(SUMIF(AF4:AF54,BT16,BB4:BB54)+SUMIF(AH4:AH54,BT16,BC4:BC54))","v":0},{"$f":"(SUMIF(AF4:AF54,BT16,BD4:BD54)+SUMIF(AH4:AH54,BT16,BE4:BE54))","v":0},0,{"$f":"CB16","v":"B"},{"$f":"IF(CZ16>0,RANK(DD16,DD13:DD16)+CG11,)","v":0},{"$f":"IF(AND(CZ16>0,COUNTIF(DF13:DF16,DF16)>1),SUMIFS($AI$4:$AI$54,$AF$4:$AF$54,BT16,$L$4:$L$54,2)+SUMIFS($AK$4:$AK$54,$AH$4:$AH$54,BT16,$L$4:$L$54,2)-SUMIFS($AK$4:$AK$54,$AF$4:$AF$54,BT16,$L$4:$L$54,2)-SUMIFS($AI$4:$AI$54,$AH$4:$AH$54,BT16,$L$4:$L$54,2),)","v":0},{"$f":"IF(AND(CZ16>0,COUNTIF(DF13:DF16,DF16)>1),DF16+RANK(DG16,DG13:DG16)-1,DF16)","v":0},{"$f":"IF(AND(CZ16>0,COUNTIF(DH13:DH16,DH16)>1),SUMIFS($AI$4:$AI$54,$AF$4:$AF$54,BT16,$L$4:$L$54,2)+SUMIFS($AK$4:$AK$54,$AH$4:$AH$54,BT16,$L$4:$L$54,2),)","v":0},{"$f":"IF(AND(CZ16>0,COUNTIF(DH13:DH16,DH16)>1),DH16+RANK(DI16,DI13:DI16)-1,DH16)","v":0},"",{"$f":"IF(OR(DK16=\"\",COUNTIF(DK13:DK16,DK16)=1),\"\",$BZ16)","v":""},{"$f":"IF(DK16=\"\",\"\",IF(COUNTIF(DK13:DK16,DK16)=1,DK16,DK16+RANK(DL16,DL13:DL16,0)-1))","v":""},{"$f":"IF(OR(DM16=\"\",COUNTIF(DM13:DM16,DM16)=1),\"\",$BX16)","v":""},{"$f":"IF(DK16=\"\",\"\",IF(COUNTIF(DM14:DM17,DM16)=1,DM16,DM16+RANK(DN16,DN14:DN17,0)-1))","v":""},{"$f":"IF(OR(DO16=\"\",COUNTIF(DO13:DO16,DO16)=1),\"\",$BU16)","v":""},{"$f":"IF(DK16=\"\",\"\",IF(COUNTIF(DO13:DO16,DO16)=1,DO16,DO16+RANK(DP16,DP13:DP16,0)-1))","v":""},{"$f":"IF(CZ16>0,CG11+RANK(DQ16,DQ13:DQ16,1),)","v":0},null,{"$f":"IF(CC16=3,BT16,)","v":0},{"$f":"(SUMIF(AF4:AF54,BT16,BF4:BF54)+SUMIF(AH4:AH54,BT16,BG4:BG54))","v":0},{"$f":"(SUMIF(AF4:AF54,BT16,BH4:BH54)+SUMIF(AH4:AH54,BT16,BI4:BI54))","v":0},{"$f":"(SUMIF(AF4:AF54,BT16,BJ4:BJ54)+SUMIF(AH4:AH54,BT16,BK4:BK54))","v":0},0,{"$f":"CB16","v":"B"},{"$f":"IF(DT16>0,RANK(DX16,DX13:DX16)+CG11+DA11,)","v":0},{"$f":"IF(AND(DT16>0,COUNTIF(DZ13:DZ16,DZ16)>1),SUMIFS($AI$4:$AI$54,$AF$4:$AF$54,BT16,$L$4:$L$54,3)+SUMIFS($AK$4:$AK$54,$AH$4:$AH$54,BT16,$L$4:$L$54,3)-SUMIFS($AK$4:$AK$54,$AF$4:$AF$54,BT16,$L$4:$L$54,3)-SUMIFS($AI$4:$AI$54,$AH$4:$AH$54,BT16,$L$4:$L$54,3),)","v":0},{"$f":"IF(AND(DT16>0,COUNTIF(DZ13:DZ16,DZ16)>1),DZ16+RANK(EA16,EA13:EA16)-1,DZ16)","v":0},{"$f":"IF(AND(DT16>0,COUNTIF(EB13:EB16,EB16)>1),SUMIFS($AI$4:$AI$54,$AF$4:$AF$54,BT16,$L$4:$L$54,3)+SUMIFS($AK$4:$AK$54,$AH$4:$AH$54,BT16,$L$4:$L$54,3),)","v":0},{"$f":"IF(AND(DT16>0,COUNTIF(EB13:EB16,EB16)>1),EB16+RANK(EC16,EC13:EC16)-1,EB16)","v":0},"",{"$f":"IF(OR(EE16=\"\",COUNTIF(EE13:EE16,EE16)=1),\"\",$BZ16)","v":""},{"$f":"IF(EE16=\"\",\"\",IF(COUNTIF(EE13:EE16,EE16)=1,EE16,EE16+RANK(EF16,EF13:EF16,0)-1))","v":""},{"$f":"IF(OR(EG16=\"\",COUNTIF(EG13:EG16,EG16)=1),\"\",$BX16)","v":""},{"$f":"IF(EE16=\"\",\"\",IF(COUNTIF(EG13:EG16,EG16)=1,EG16,EG16+RANK(EH16,EH13:EH16,0)-1))","v":""},{"$f":"IF(OR(EI16=\"\",COUNTIF(EI13:EI16,EI16)=1),\"\",$BU16)","v":""},{"$f":"IF(EE16=\"\",\"\",IF(COUNTIF(EI13:EI16,EI16)=1,EI16,EI16+RANK(EJ16,EJ13:EJ16,0)-1))","v":""},{"$f":"IF(DT16>0,CG11+DA11+RANK(EK16,EK13:EK16,1),)","v":0},null,{"$f":"IF(CC16=4,BT16,)","v":0},{"$f":"(SUMIF(AF4:AF54,BT16,BL4:BL54)+SUMIF(AH4:AH54,BT16,BM4:BM54))","v":0},{"$f":"(SUMIF(AF4:AF54,BT16,BN4:BN54)+SUMIF(AH4:AH54,BT16,BO4:BO54))","v":0},{"$f":"(SUMIF(AF4:AF54,BT16,BP4:BP54)+SUMIF(AH4:AH54,BT16,BQ4:BQ54))","v":0},0,{"$f":"CB16","v":"B"},{"$f":"IF(EN16>0,RANK(ER16,ER13:ER16)+CG11+DA11+DU11,)","v":0},{"$f":"IF(AND(EN16>0,COUNTIF(ET13:ET16,ET16)>1),SUMIFS($AI$4:$AI$54,$AF$4:$AF$54,BT16,$L$4:$L$54,4)+SUMIFS($AK$4:$AK$54,$AH$4:$AH$54,BT16,$L$4:$L$54,4)-SUMIFS($AK$4:$AK$54,$AF$4:$AF$54,BT16,$L$4:$L$54,4)-SUMIFS($AI$4:$AI$54,$AH$4:$AH$54,BT16,$L$4:$L$54,4),)","v":0},{"$f":"IF(AND(EN16>0,COUNTIF(ET4:ET7,ET16)>1),ET16+RANK(EU16,EU4:EU7)-1,ET16)","v":0},{"$f":"IF(AND(EN16>0,COUNTIF(EV13:EV16,EV16)>1),SUMIFS($AI$4:$AI$54,$AF$4:$AF$54,BT16,$L$4:$L$54,4)+SUMIFS($AK$4:$AK$54,$AH$4:$AH$54,BT16,$L$4:$L$54,4),)","v":0},{"$f":"IF(AND(EN16>0,COUNTIF(EV13:EV16,EV16)>1),EV16+RANK(EW16,EW13:EW16)-1,EV16)","v":0},"",{"$f":"IF(OR(EY16=\"\",COUNTIF(EY13:EY16,EY16)=1),\"\",$BZ16)","v":""},{"$f":"IF(EY16=\"\",\"\",IF(COUNTIF(EY13:EY16,EY16)=1,EY16,EY16+RANK(EZ16,EZ13:EZ16,0)-1))","v":""},{"$f":"IF(OR(FA16=\"\",COUNTIF(FA13:FA16,FA16)=1),\"\",$BX16)","v":""},{"$f":"IF(EY16=\"\",\"\",IF(COUNTIF(FA13:FA16,FA16)=1,FA16,FA16+RANK(FB16,FB13:FB16,0)-1))","v":""},{"$f":"IF(OR(FC16=\"\",COUNTIF(FC13:FC16,FC16)=1),\"\",$BU16)","v":""},{"$f":"IF(EY16=\"\",\"\",IF(COUNTIF(FC13:FC16,FC16)=1,FC16,FC16+RANK(FD16,FD13:FD16,0)-1))","v":""},{"$f":"IF(EN16>0,CG11+DA11+DU11+RANK(FE16,FE13:FE16,1),)","v":0},null,{"$f":"IFERROR(VLOOKUP(FJ16,CF12:CX16,19,FALSE),IFERROR(VLOOKUP(FJ16,CZ12:DR16,19,FALSE),IFERROR(VLOOKUP(FJ16,DT12:EL16,19,FALSE),VLOOKUP(FJ16,EN12:FF16,19,FALSE))))","v":1},{"$f":"RANK(FH16,FH13:FH16,1)+COUNTIF(FH13:FH16,FH16)-1","v":4},{"$f":"BT16","v":"Albania"},null,null,null,null,null,null,null,null,null,null,null,null,null,null,15,"BDEF","B","D","E","F",{"$f":"VLOOKUP(\"F\",FL3:FM9,2,FALSE)","v":"Georgia"},{"$f":"VLOOKUP(\"E\",FL3:FM9,2,FALSE)","v":"Belgium"},{"$f":"VLOOKUP(\"D\",FL3:FM9,2,FALSE)","v":"Poland"},{"$f":"VLOOKUP(\"B\",FL3:FM9,2,FALSE)","v":"Italy"},{"$f":"IFERROR(IF(AND(VLOOKUP(GA16,FW4:FW9,1,FALSE)=GA16,VLOOKUP(GB16,FW4:FW9,1,FALSE)=GB16,VLOOKUP(GC16,FW4:FW9,1,FALSE)=GC16,VLOOKUP(GD16,FW4:FW9,1,FALSE)=GD16),FY16,\"\"),\"\")","v":""}]
[null,null,"2024-06-24","Albania","-","Spain",null,"-",null,"",{"$f":"IF(OR('Results & Table'!H17=\"\",'Results & Table'!J17=\"\",G17=\"\",I17=\"\"),0,IF(G17='Results & Table'!H17,2,0)+IF(I17='Results & Table'!J17,2,0)+IF(J17='Results & Table'!K17,2,0))","v":0},{"$f":"IF(VLOOKUP(D17,BT12:CC16,10,FALSE)=VLOOKUP(F17,BT12:CC16,10,FALSE),VLOOKUP(D17,BT12:CC16,10,FALSE),\"-\")","v":1},null,{"$f":"IF(COUNTBLANK(G13:G18)+COUNTBLANK(I13:I18)=0,\"Resultat OK\",\"Fyll i resultat\")","v":"Fyll i resultat"},null,null,null,null,null,null,null,null,null,"Final",{"$f":"K81","v":0},{"$f":"Q81","v":0},0,null,null,null,"2024-06-24","Albania","-","Spain","","-","","",null,0,0,0,0,0,0,0,0,0,0,0,0,0,0,0,0,0,0,0,0,0,0,0,0,0,0,0,0,0,0,null,null,null,null,null,null,null,null,null,null,null,null,null,null,null,null,null,null,null,null,null,null,null,null,null,null,null,null,null,null,null,null,null,null,null,null,null,null,null,null,null,null,null,null,null,null,null,null,null,null,null,null,null,null,null,null,null,null,null,null,null,null,null,null,null,null,null,null,null,null,null,null,null,null,null,null,null,null,null,null,null,null,null,null,null,null,null,null,null,null,null,null,null,null,null,null,null,null,null,null,null,null,null,null,null,null,null,null,null,null,null,16,"CDEF","C","D","E","F",{"$f":"VLOOKUP(\"F\",FL3:FM9,2,FALSE)","v":"Georgia"},{"$f":"VLOOKUP(\"E\",FL3:FM9,2,FALSE)","v":"Belgium"},{"$f":"VLOOKUP(\"D\",FL3:FM9,2,FALSE)","v":"Poland"},{"$f":"VLOOKUP(\"C\",FL3:FM9,2,FALSE)","v":"Serbia"},{"$f":"IFERROR(IF(AND(VLOOKUP(GA17,FW4:FW9,1,FALSE)=GA17,VLOOKUP(GB17,FW4:FW9,1,FALSE)=GB17,VLOOKUP(GC17,FW4:FW9,1,FALSE)=GC17,VLOOKUP(GD17,FW4:FW9,1,FALSE)=GD17),FY17,\"\"),\"\")","v":""}]
[null,null,"2024-06-24","Croatia","-","Italy",null,"-",null,"",{"$f":"IF(OR('Results & Table'!H18=\"\",'Results & Table'!J18=\"\",G18=\"\",I18=\"\"),0,IF(G18='Results & Table'!H18,2,0)+IF(I18='Results & Table'!J18,2,0)+IF(J18='Results & Table'!K18,2,0))","v":0},{"$f":"IF(VLOOKUP(D18,BT12:CC16,10,FALSE)=VLOOKUP(F18,BT12:CC16,10,FALSE),VLOOKUP(D18,BT12:CC16,10,FALSE),\"-\")","v":1},null,null,null,null,null,null,null,null,null,null,null,"Bonus questions",{"$f":"SUM(AC4:AC9)","v":0},0,0,null,null,null,"2024-06-24","Croatia","-","Italy","","-","","",null,0,0,0,0,0,0,0,0,0,0,0,0,0,0,0,0,0,0,0,0,0,0,0,0,0,0,0,0,0,0]
[null,null,null,null,null,null,null,null,null,null,null,null,null,null,null,null,null,null,null,null,null,null,null,"Total",null,null,{"$f":"SUM(AA13:AA18)","v":0}]
[null,null,"Group C",null,null,null,null,null,null,null,null,null,null,null,null,null,null,null,null,null,null,null,null,null,null,null,null,null,null,null,"Grupp C",null,null,null,null,null,null,null,null,null,null,null,null,null,null,null,null,null,null,null,null,null,null,null,null,null,null,null,null,null,null,null,null,null,null,null,null,null,null,null,null,"Rank 0",null,null,null,null,null,null,null,null,null,null,null,"Rank 1",{"$f":"COUNTIF(CC22:CC25,1)","v":4},null,null,null,null,null,null,null,null,null,null,null,null,null,null,null,null,null,null,"Rank 2",{"$f":"COUNTIF(CC22:CC25,2)","v":0},null,null,null,null,null,null,null,null,null,null,null,null,null,null,null,null,null,null,"Rank 3",{"$f":"COUNTIF(CC22:CC25,3)","v":0},null,null,null,null,null,null,null,null,null,null,null,null,null,null,null,null,null,null,"Rank 4",{"$f":"COUNTIF(CC22:CC25,4)","v":0}]
[null,null,"Date","Match",null,null,"Result",null,null,"1X2","Points",null,null,"Team","W","D","L","GF","GA","+/-","P",null,null,null,null,null,null,null,null,null,"Datum","Match",null,null,"Resultat",null,null,"Tecken","Poäng","V1","V2","O1","O2","F1","F2","V1","V2","O1","O2","F1","F2","V1","V2","O1","O2","F1","F2","V1","V2","O1","O2","F1","F2","V1","V2","O1","O2","F1","F2",null,null,"Lag","V","O","F","GM","IM","+/-","P","Grupp","Rank P","Rank +/-",null,"Lag","V","O","F","P","Grupp","Rank P","+/-","+/- rank","GM","GM rank","Rank internal","+/- all","+/- rank all","GM all","GM rank all","V all","V rank all","Rank all",null,"Lag","V","O","F","P","Grupp","Rank P","+/-","+/- rank","GM","GM rank","Rank internal","+/- all","+/- rank all","GM all","GM rank all","V all","V rank all","Rank all",null,"Lag","V","O","F","P","Grupp","Rank P","+/-","+/- rank","GM","GM rank","Rank internal","+/- all","+/- rank all","GM all","GM rank all","V all","V rank all","Rank all",null,"Lag","V","O","F","P","Grupp","Rank P","+/-","+/- rank","GM","GM rank","Rank internal","+/- all","+/- rank all","GM all","GM rank all","V all","V rank all","Rank all",null,"Rank","Rank Ties"]
[null,null,"2024-06-16","Slovenia","-","Denmark",null,"-",null,{"$f":"IF(OR(ISBLANK(G22),ISBLANK(I22)),\"\",IF(G22>I22,1,IF(G22<I22,2,\"X\")))","v":""},{"$f":"IF(OR('Results & Table'!H22=\"\",'Results & Table'!J22=\"\",G22=\"\",I22=\"\"),0,IF(G22='Results & Table'!H22,2,0)+IF(I22='Results & Table'!J22,2,0)+IF(J22='Results & Table'!K22,2,0))","v":0},{"$f":"IF(VLOOKUP(D22,BT21:CC25,10,FALSE)=VLOOKUP(F22,BT21:CC25,10,FALSE),VLOOKUP(D22,BT21:CC25,10,FALSE),\"-\")","v":1},1,{"$f":"VLOOKUP(M22,FI22:FJ25,2,FALSE)","v":"Slovenia"},{"$f":"VLOOKUP(N22,BT22:CA25,2,FALSE)","v":0},{"$f":"VLOOKUP(N22,BT22:CA25,3,FALSE)","v":0},{"$f":"VLOOKUP(N22,BT22:CA25,4,FALSE)","v":0},{"$f":"VLOOKUP(N22,BT22:CA25,5,FALSE)","v":0},{"$f":"VLOOKUP(N22,BT22:CA25,6,FALSE)","v":0},{"$f":"VLOOKUP(N22,BT22:CA25,7,FALSE)","v":0},{"$f":"VLOOKUP(N22,BT22:CA25,8,FALSE)","v":0},null,null,null,null,null,null,null,null,null,{"$f":"C22","v":"2024-06-16"},"Slovenia","-","Denmark",{"$f":"IF(G22=\"\",\"\",G22)","v":""},"-",{"$f":"IF(I22=\"\",\"\",I22)","v":""},{"$f":"J22","v":""},null,{"$f":"IF(AI22>AK22,1,0)","v":0},{"$f":"IF(AK22>AI22,1,0)","v":0},{"$f":"IF(AND(AI22=AK22,AI22<>\"\"),1,0)","v":0},{"$f":"IF(AND(AI22=AK22,AI22<>\"\"),1,0)","v":0},{"$f":"IF(AI22<AK22,1,0)","v":0},{"$f":"IF(AK22<AI22,1,)","v":0},{"$f":"IF(ISERROR(VLOOKUP(AF22,CF:CF,1,FALSE)),0,1)*IF(ISERROR(VLOOKUP(AH22,CF:CF,1,FALSE)),0,1)*AN22","v":0},{"$f":"IF(ISERROR(VLOOKUP(AF22,CF:CF,1,FALSE)),0,1)*IF(ISERROR(VLOOKUP(AH22,CF:CF,1,FALSE)),0,1)*AO22","v":0},{"$f":"IF(ISERROR(VLOOKUP(AF22,CF:CF,1,FALSE)),0,1)*IF(ISERROR(VLOOKUP(AH22,CF:CF,1,FALSE)),0,1)*AP22","v":0},{"$f":"IF(ISERROR(VLOOKUP(AF22,CF:CF,1,FALSE)),0,1)*IF(ISERROR(VLOOKUP(AH22,CF:CF,1,FALSE)),0,1)*AQ22","v":0},{"$f":"IF(ISERROR(VLOOKUP(AF22,CF:CF,1,FALSE)),0,1)*IF(ISERROR(VLOOKUP(AH22,CF:CF,1,FALSE)),0,1)*AR22","v":0},{"$f":"IF(ISERROR(VLOOKUP(AF22,CF:CF,1,FALSE)),0,1)*IF(ISERROR(VLOOKUP(AH22,CF:CF,1,FALSE)),0,1)*AS22","v":0},{"$f":"IF(ISERROR(VLOOKUP(AF22,CZ:CZ,1,FALSE)),0,1)*IF(ISERROR(VLOOKUP(AH22,CZ:CZ,1,FALSE)),0,1)*AN22","v":0},{"$f":"IF(ISERROR(VLOOKUP(AF22,CZ:CZ,1,FALSE)),0,1)*IF(ISERROR(VLOOKUP(AH22,CZ:CZ,1,FALSE)),0,1)*AO22","v":0},{"$f":"IF(ISERROR(VLOOKUP(AF22,CZ:CZ,1,FALSE)),0,1)*IF(ISERROR(VLOOKUP(AH22,CZ:CZ,1,FALSE)),0,1)*AP22","v":0},{"$f":"IF(ISERROR(VLOOKUP(AF22,CZ:CZ,1,FALSE)),0,1)*IF(ISERROR(VLOOKUP(AH22,CZ:CZ,1,FALSE)),0,1)*AQ22","v":0},{"$f":"IF(ISERROR(VLOOKUP(AF22,CZ:CZ,1,FALSE)),0,1)*IF(ISERROR(VLOOKUP(AH22,CZ:CZ,1,FALSE)),0,1)*AR22","v":0},{"$f":"IF(ISERROR(VLOOKUP(AF22,CZ:CZ,1,FALSE)),0,1)*IF(ISERROR(VLOOKUP(AH22,CZ:CZ,1,FALSE)),0,1)*AS22","v":0},{"$f":"IF(ISERROR(VLOOKUP(AF22,DT:DT,1,FALSE)),0,1)*IF(ISERROR(VLOOKUP(AH22,DT:DT,1,FALSE)),0,1)*AN22","v":0},{"$f":"IF(ISERROR(VLOOKUP(AF22,DT:DT,1,FALSE)),0,1)*IF(ISERROR(VLOOKUP(AH22,DT:DT,1,FALSE)),0,1)*AO22","v":0},{"$f":"IF(ISERROR(VLOOKUP(AF22,DT:DT,1,FALSE)),0,1)*IF(ISERROR(VLOOKUP(AH22,DT:DT,1,FALSE)),0,1)*AP22","v":0},{"$f":"IF(ISERROR(VLOOKUP(AF22,DT:DT,1,FALSE)),0,1)*IF(ISERROR(VLOOKUP(AH22,DT:DT,1,FALSE)),0,1)*AQ22","v":0},{"$f":"IF(ISERROR(VLOOKUP(AF22,DT:DT,1,FALSE)),0,1)*IF(ISERROR(VLOOKUP(AH22,DT:DT,1,FALSE)),0,1)*AR22","v":0},{"$f":"IF(ISERROR(VLOOKUP(AF22,DT:DT,1,FALSE)),0,1)*IF(ISERROR(VLOOKUP(AH22,DT:DT,1,FALSE)),0,1)*AS22","v":0},{"$f":"IF(ISERROR(VLOOKUP(AF22,EN:EN,1,FALSE)),0,1)*IF(ISERROR(VLOOKUP(AH22,EN:EN,1,FALSE)),0,1)*AN22","v":0},{"$f":"IF(ISERROR(VLOOKUP(AF22,EN:EN,1,FALSE)),0,1)*IF(ISERROR(VLOOKUP(AH22,EN:EN,1,FALSE)),0,1)*AO22","v":0},{"$f":"IF(ISERROR(VLOOKUP(AF22,EN:EN,1,FALSE)),0,1)*IF(ISERROR(VLOOKUP(AH22,EN:EN,1,FALSE)),0,1)*AP22","v":0},{"$f":"IF(ISERROR(VLOOKUP(AF22,EN:EN,1,FALSE)),0,1)*IF(ISERROR(VLOOKUP(AH22,EN:EN,1,FALSE)),0,1)*AQ22","v":0},{"$f":"IF(ISERROR(VLOOKUP(AF22,EN:EN,1,FALSE)),0,1)*IF(ISERROR(VLOOKUP(AH22,EN:EN,1,FALSE)),0,1)*AR22","v":0},{"$f":"IF(ISERROR(VLOOKUP(AF22,EN:EN,1,FALSE)),0,1)*IF(ISERROR(VLOOKUP(AH22,EN:EN,1,FALSE)),0,1)*AS22","v":0},null,null,"Slovenia",{"$f":"(SUMIF(AF4:AF54,BT22,AN4:AN54)+SUMIF(AH4:AH54,BT22,AO4:AO54))","v":0},{"$f":"(SUMIF(AF4:AF54,BT22,AP4:AP54)+SUMIF(AH4:AH54,BT22,AQ4:AQ54))","v":0},{"$f":"(SUMIF(AF4:AF54,BT22,AR4:AR54)+SUMIF(AH4:AH54,BT22,AS4:AS54))","v":0},{"$f":"SUMIF(AF4:AF54,BT22,AI4:AI54)+SUMIF(AH4:AH54,BT22,AK4:AK54)","v":0},{"$f":"SUMIF(AF4:AF54,BT22,AK4:AK54)+SUMIF(AH4:AH54,BT22,AI4:AI54)","v":0},{"$f":"BX22-BY22","v":0},{"$f":"IFERROR(BU22*3+BV22*1,0)","v":0},"C",{"$f":"RANK(CA22,CA22:CA25)","v":1},{"$f":"SUMPRODUCT((CA22:CA25=CA22)*(BZ22:BZ25>BZ22))","v":0},null,{"$f":"IF(CC22=1,BT22,)","v":"Slovenia"},{"$f":"(SUMIF(AF4:AF54,BT22,AT4:AT54)+SUMIF(AH4:AH54,BT22,AU4:AU54))","v":0},{"$f":"(SUMIF(AF4:AF54,BT22,AV4:AV54)+SUMIF(AH4:AH54,BT22,AW4:AW54))","v":0},{"$f":"(SUMIF(AF4:AF54,BT22,AX4:AX54)+SUMIF(AH4:AH54,BT22,AY4:AY54))","v":0},{"$f":"IFERROR(CG22*3+CH22*1,0)","v":0},{"$f":"CB22","v":"C"},{"$f":"IF(CF22>0,RANK(CJ22,CJ22:CJ25),)","v":1},{"$f":"IF(AND(CF22>0,COUNTIF(CL22:CL25,CL22)>1),SUMIFS($AI$4:$AI$54,$AF$4:$AF$54,$BT22,$L$4:$L$54,1)+SUMIFS($AK$4:$AK$54,$AH$4:$AH$54,$BT22,$L$4:$L$54,1)-SUMIFS($AK$4:$AK$54,$AF$4:$AF$54,$BT22,$L$4:$L$54,1)-SUMIFS($AI$4:$AI$54,$AH$4:$AH$54,$BT22,$L$4:$L$54,1),)","v":0},{"$f":"IF(AND(CF22>0,COUNTIF(CL22:CL25,CL22)>1),CL22+RANK(CM22,CM22:CM25)-1,CL22)","v":1},{"$f":"IF(AND(CF22>0,COUNTIF(CN22:CN25,CN22)>1),SUMIFS($AI$4:$AI$54,$AF$4:$AF$54,$BT22,$L$4:$L$54,1)+SUMIFS($AK$4:$AK$54,$AH$4:$AH$54,$BT22,$L$4:$L$54,1),)","v":0},{"$f":"IF(AND(CF22>0,COUNTIF(CN22:CN25,CN22)>1),CN22+RANK(CO22,CO22:CO25)-1,CN22)","v":1},{"$f":"IF(CP22=0,\"\",CP22)","v":1},{"$f":"IF(OR(CQ22=\"\",COUNTIF(CQ22:CQ25,CQ22)=1),\"\",$BZ22)","v":0},{"$f":"IF(CQ22=\"\",\"\",IF(COUNTIF(CQ22:CQ25,CQ22)=1,CQ22,CQ22+RANK(CR22,CR22:CR25,0)-1))","v":1},{"$f":"IF(OR(CS22=\"\",COUNTIF(CS22:CS25,CS22)=1),\"\",$BX22)","v":0},{"$f":"IF(CQ22=\"\",\"\",IF(COUNTIF(CS22:CS25,CS22)=1,CS22,CS22+RANK(CT22,CT22:CT25,0)-1))","v":1},{"$f":"IF(OR(CU22=\"\",COUNTIF(CU22:CU25,CU22)=1),\"\",$BU22)","v":0},{"$f":"IF(CQ22=\"\",\"\",IF(COUNTIF(CU22:CU25,CU22)=1,CU22,CU22+RANK(CV22,CV22:CV25,0)-1))","v":1},{"$f":"IF(CF22>0,BM20+RANK(CW22,CW22:CW25,1),)","v":1},null,{"$f":"IF(CC22=2,BT22,)","v":0},{"$f":"(SUMIF(AF4:AF54,BT22,AZ4:AZ54)+SUMIF(AH4:AH54,BT22,BA4:BA54))","v":0},{"$f":"(SUMIF(AF4:AF54,BT22,BB4:BB54)+SUMIF(AH4:AH54,BT22,BC4:BC54))","v":0},{"$f":"(SUMIF(AF4:AF54,BT22,BD4:BD54)+SUMIF(AH4:AH54,BT22,BE4:BE54))","v":0},{"$f":"IFERROR(DA22*3+DB22*1,0)","v":0},{"$f":"CB22","v":"C"},{"$f":"IF(CZ22>0,RANK(DD22,DD22:DD25)+CG20,)","v":0},{"$f":"IF(AND(CZ22>0,COUNTIF(DF22:DF25,DF22)>1),SUMIFS($AI$4:$AI$54,$AF$4:$AF$54,$BT22,$L$4:$L$54,2)+SUMIFS($AK$4:$AK$54,$AH$4:$AH$54,$BT22,$L$4:$L$54,2)-SUMIFS($AK$4:$AK$54,$AF$4:$AF$54,$BT22,$L$4:$L$54,2)-SUMIFS($AI$4:$AI$54,$AH$4:$AH$54,$BT22,$L$4:$L$54,2),)","v":0},{"$f":"IF(AND(CZ22>0,COUNTIF(DF22:DF25,DF22)>1),DF22+RANK(DG22,DG22:DG25)-1,DF22)","v":0},{"$f":"IF(AND(CZ22>0,COUNTIF(DH22:DH25,DH22)>1),SUMIFS($AI$4:$AI$54,$AF$4:$AF$54,$BT22,$L$4:$L$54,2)+SUMIFS($AK$4:$AK$54,$AH$4:$AH$54,$BT22,$L$4:$L$54,2),)","v":0},{"$f":"IF(AND(CZ22>0,COUNTIF(DH22:DH25,DH22)>1),DH22+RANK(DI22,DI22:DI25)-1,DH22)","v":0},{"$f":"IF(DJ22=0,\"\",DJ22)","v":""},{"$f":"IF(OR(DK22=\"\",COUNTIF(DK22:DK25,DK22)=1),\"\",$BZ22)","v":""},{"$f":"IF(DK22=\"\",\"\",IF(COUNTIF(DK22:DK25,DK22)=1,DK22,DK22+RANK(DL22,DL22:DL25,0)-1))","v":""},{"$f":"IF(OR(DM22=\"\",COUNTIF(DM22:DM25,DM22)=1),\"\",$BX22)","v":""},{"$f":"IF(DK22=\"\",\"\",IF(COUNTIF(DM22:DM25,DM22)=1,DM22,DM22+RANK(DN22,DN22:DN25,0)-1))","v":""},{"$f":"IF(OR(DO22=\"\",COUNTIF(DO22:DO25,DO22)=1),\"\",$BU22)","v":""},{"$f":"IF(DK22=\"\",\"\",IF(COUNTIF(DO22:DO25,DO22)=1,DO22,DO22+RANK(DP22,DP22:DP25,0)-1))","v":""},{"$f":"IF(CZ22>0,CG20+RANK(DQ22,DQ22:DQ25,1),)","v":0},null,{"$f":"IF(CC22=3,BT22,)","v":0},{"$f":"(SUMIF(AF4:AF54,BT22,BF4:BF54)+SUMIF(AH4:AH54,BT22,BG4:BG54))","v":0},{"$f":"(SUMIF(AF4:AF54,BT22,BH4:BH54)+SUMIF(AH4:AH54,BT22,BI4:BI54))","v":0},{"$f":"(SUMIF(AF4:AF54,BT22,BJ4:BJ54)+SUMIF(AH4:AH54,BT22,BK4:BK54))","v":0},{"$f":"IFERROR(DU22*3+DV22*1,0)","v":0},{"$f":"CB22","v":"C"},{"$f":"IF(DT22>0,RANK(DX22,DX22:DX25)+CG20+DA20,)","v":0},{"$f":"IF(AND(DT22>0,COUNTIF(DZ22:DZ25,DZ22)>1),SUMIFS($AI$4:$AI$54,$AF$4:$AF$54,$BT22,$L$4:$L$54,3)+SUMIFS($AK$4:$AK$54,$AH$4:$AH$54,$BT22,$L$4:$L$54,3)-SUMIFS($AK$4:$AK$54,$AF$4:$AF$54,$BT22,$L$4:$L$54,3)-SUMIFS($AI$4:$AI$54,$AH$4:$AH$54,$BT22,$L$4:$L$54,3),)","v":0},{"$f":"IF(AND(DT22>0,COUNTIF(DZ22:DZ25,DZ22)>1),DZ22+RANK(EA22,EA22:EA25)-1,DZ22)","v":0},{"$f":"IF(AND(DT22>0,COUNTIF(EB22:EB25,EB22)>1),SUMIFS($AI$4:$AI$54,$AF$4:$AF$54,$BT22,$L$4:$L$54,3)+SUMIFS($AK$4:$AK$54,$AH$4:$AH$54,$BT22,$L$4:$L$54,3),)","v":0},{"$f":"IF(AND(DT22>0,COUNTIF(EB22:EB25,EB22)>1),EB22+RANK(EC22,EC22:EC25)-1,EB22)","v":0},{"$f":"IF(ED22=0,\"\",ED22)","v":""},{"$f":"IF(OR(EE22=\"\",COUNTIF(EE22:EE25,EE22)=1),\"\",$BZ22)","v":""},{"$f":"IF(EE22=\"\",\"\",IF(COUNTIF(EE22:EE25,EE22)=1,EE22,EE22+RANK(EF22,EF22:EF25,0)-1))","v":""},{"$f":"IF(OR(EG22=\"\",COUNTIF(EG22:EG25,EG22)=1),\"\",$BX22)","v":""},{"$f":"IF(EE22=\"\",\"\",IF(COUNTIF(EG22:EG25,EG22)=1,EG22,EG22+RANK(EH22,EH22:EH25,0)-1))","v":""},{"$f":"IF(OR(EI22=\"\",COUNTIF(EI22:EI25,EI22)=1),\"\",$BU22)","v":""},{"$f":"IF(EE22=\"\",\"\",IF(COUNTIF(EI22:EI25,EI22)=1,EI22,EI22+RANK(EJ22,EJ22:EJ25,0)-1))","v":""},{"$f":"IF(DT22>0,CG20+DA20+RANK(EK22,EK22:EK25,1),)","v":0},null,{"$f":"IF(CC22=4,BT22,)","v":0},{"$f":"(SUMIF(AF4:AF54,BT22,BL4:BL54)+SUMIF(AH4:AH54,BT22,BM4:BM54))","v":0},{"$f":"(SUMIF(AF4:AF54,BT22,BN4:BN54)+SUMIF(AH4:AH54,BT22,BO4:BO54))","v":0},{"$f":"(SUMIF(AF4:AF54,BT22,BP4:BP54)+SUMIF(AH4:AH54,BT22,BQ4:BQ54))","v":0},{"$f":"IFERROR(EO22*3+EP22*1,0)","v":0},{"$f":"CB22","v":"C"},{"$f":"IF(EN22>0,RANK(ER22,ER22:ER25)+CG20+DA20+DU20,)","v":0},{"$f":"IF(AND(EN22>0,COUNTIF(ET22:ET25,ET22)>1),SUMIFS($AI$4:$AI$54,$AF$4:$AF$54,$BT22,$L$4:$L$54,4)+SUMIFS($AK$4:$AK$54,$AH$4:$AH$54,$BT22,$L$4:$L$54,4)-SUMIFS($AK$4:$AK$54,$AF$4:$AF$54,$BT22,$L$4:$L$54,4)-SUMIFS($AI$4:$AI$54,$AH$4:$AH$54,$BT22,$L$4:$L$54,4),)","v":0},{"$f":"IF(AND(EN22>0,COUNTIF(ET4:ET7,ET22)>1),ET22+RANK(EU22,EU4:EU7)-1,ET22)","v":0},{"$f":"IF(AND(EN22>0,COUNTIF(EV22:EV25,EV22)>1),SUMIFS($AI$4:$AI$54,$AF$4:$AF$54,$BT22,$L$4:$L$54,4)+SUMIFS($AK$4:$AK$54,$AH$4:$AH$54,$BT22,$L$4:$L$54,4),)","v":0},{"$f":"IF(AND(EN22>0,COUNTIF(EV22:EV25,EV22)>1),EV22+RANK(EW22,EW22:EW25)-1,EV22)","v":0},{"$f":"IF(EX22=0,\"\",EX22)","v":""},{"$f":"IF(OR(EY22=\"\",COUNTIF(EY22:EY25,EY22)=1),\"\",$BZ22)","v":""},{"$f":"IF(EY22=\"\",\"\",IF(COUNTIF(EY22:EY25,EY22)=1,EY22,EY22+RANK(EZ22,EZ22:EZ25,0)-1))","v":""},{"$f":"IF(OR(FA22=\"\",COUNTIF(FA22:FA25,FA22)=1),\"\",$BX22)","v":""},{"$f":"IF(EY22=\"\",\"\",IF(COUNTIF(FA22:FA25,FA22)=1,FA22,FA22+RANK(FB22,FB22:FB25,0)-1))","v":""},{"$f":"IF(OR(FC22=\"\",COUNTIF(FC22:FC25,FC22)=1),\"\",$BU22)","v":""},{"$f":"IF(EY22=\"\",\"\",IF(COUNTIF(FC22:FC25,FC22)=1,FC22,FC22+RANK(FD22,FD22:FD25,0)-1))","v":""},{"$f":"IF(EN22>0,CG20+DA20+DU20+RANK(FE22,FE22:FE25,1),)","v":0},null,{"$f":"IFERROR(VLOOKUP(FJ22,CF21:CX25,19,FALSE),IFERROR(VLOOKUP(FJ22,CZ21:DR25,19,FALSE),IFERROR(VLOOKUP(FJ22,DT21:EL25,19,FALSE),VLOOKUP(FJ22,EN21:FF25,19,FALSE))))","v":1},{"$f":"RANK(FH22,FH22:FH25,1)+COUNTIF(FH22:FH22,FH22)-1","v":1},{"$f":"BT22","v":"Slovenia"}]
[null,null,"2024-06-16","Serbia","-","England",null,"-",null,{"$f":"IF(OR(ISBLANK(G23),ISBLANK(I23)),\"\",IF(G23>I23,1,IF(G23<I23,2,\"X\")))","v":""},{"$f":"IF(OR('Results & Table'!H23=\"\",'Results & Table'!J23=\"\",G23=\"\",I23=\"\"),0,IF(G23='Results & Table'!H23,2,0)+IF(I23='Results & Table'!J23,2,0)+IF(J23='Results & Table'!K23,2,0))","v":0},{"$f":"IF(VLOOKUP(D23,BT21:CC25,10,FALSE)=VLOOKUP(F23,BT21:CC25,10,FALSE),VLOOKUP(D23,BT21:CC25,10,FALSE),\"-\")","v":1},2,{"$f":"VLOOKUP(M23,FI22:FJ25,2,FALSE)","v":"Denmark"},{"$f":"VLOOKUP(N23,BT22:CA25,2,FALSE)","v":0},{"$f":"VLOOKUP(N23,BT22:CA25,3,FALSE)","v":0},{"$f":"VLOOKUP(N23,BT22:CA25,4,FALSE)","v":0},{"$f":"VLOOKUP(N23,BT22:CA25,5,FALSE)","v":0},{"$f":"VLOOKUP(N23,BT22:CA25,6,FALSE)","v":0},{"$f":"VLOOKUP(N23,BT22:CA25,7,FALSE)","v":0},{"$f":"VLOOKUP(N23,BT22:CA25,8,FALSE)","v":0},null,null,null,null,null,null,null,null,null,"2024-06-16","Serbia","-","England","","-","","",null,0,0,0,0,0,0,0,0,0,0,0,0,0,0,0,0,0,0,0,0,0,0,0,0,0,0,0,0,0,0,null,null,"Denmark",{"$f":"(SUMIF(AF4:AF54,BT23,AN4:AN54)+SUMIF(AH4:AH54,BT23,AO4:AO54))","v":0},{"$f":"(SUMIF(AF4:AF54,BT23,AP4:AP54)+SUMIF(AH4:AH54,BT23,AQ4:AQ54))","v":0},{"$f":"(SUMIF(AF4:AF54,BT23,AR4:AR54)+SUMIF(AH4:AH54,BT23,AS4:AS54))","v":0},{"$f":"SUMIF(AF4:AF54,BT23,AI4:AI54)+SUMIF(AH4:AH54,BT23,AK4:AK54)","v":0},{"$f":"SUMIF(AF4:AF54,BT23,AK4:AK54)+SUMIF(AH4:AH54,BT23,AI4:AI54)","v":0},{"$f":"BX23-BY23","v":0},{"$f":"IFERROR(BU23*3+BV23*1,0)","v":0},"C",{"$f":"RANK(CA23,CA22:CA25)","v":1},{"$f":"SUMPRODUCT((CA22:CA25=CA23)*(BZ22:BZ25>BZ23))","v":0},null,{"$f":"IF(CC23=1,BT23,)","v":"Denmark"},{"$f":"(SUMIF(AF4:AF54,BT23,AT4:AT54)+SUMIF(AH4:AH54,BT23,AU4:AU54))","v":0},{"$f":"(SUMIF(AF4:AF54,BT23,AV4:AV54)+SUMIF(AH4:AH54,BT23,AW4:AW54))","v":0},{"$f":"(SUMIF(AF4:AF54,BT23,AX4:AX54)+SUMIF(AH4:AH54,BT23,AY4:AY54))","v":0},{"$f":"IFERROR(CG23*3+CH23*1,0)","v":0},{"$f":"CB23","v":"C"},{"$f":"IF(CF23>0,RANK(CJ23,CJ22:CJ25),)","v":1},{"$f":"IF(AND(CF23>0,COUNTIF(CL22:CL25,CL23)>1),SUMIFS($AI$4:$AI$54,$AF$4:$AF$54,BT23,$L$4:$L$54,1)+SUMIFS($AK$4:$AK$54,$AH$4:$AH$54,BT23,$L$4:$L$54,1)-SUMIFS($AK$4:$AK$54,$AF$4:$AF$54,BT23,$L$4:$L$54,1)-SUMIFS($AI$4:$AI$54,$AH$4:$AH$54,BT23,$L$4:$L$54,1),)","v":0},{"$f":"IF(AND(CF23>0,COUNTIF(CL22:CL25,CL23)>1),CL23+RANK(CM23,CM22:CM25)-1,CL23)","v":1},{"$f":"IF(AND(CF23>0,COUNTIF(CN22:CN25,CN23)>1),SUMIFS($AI$4:$AI$54,$AF$4:$AF$54,BT23,$L$4:$L$54,1)+SUMIFS($AK$4:$AK$54,$AH$4:$AH$54,BT23,$L$4:$L$54,1),)","v":0},{"$f":"IF(AND(CF23>0,COUNTIF(CN22:CN25,CN23)>1),CN23+RANK(CO23,CO22:CO25)-1,CN23)","v":1},{"$f":"IF(CP23=0,\"\",CP23)","v":1},{"$f":"IF(OR(CQ23=\"\",COUNTIF(CQ22:CQ25,CQ23)=1),\"\",$BZ23)","v":0},{"$f":"IF(CQ23=\"\",\"\",IF(COUNTIF(CQ22:CQ25,CQ23)=1,CQ23,CQ23+RANK(CR23,CR22:CR25,0)-1))","v":1},{"$f":"IF(OR(CS23=\"\",COUNTIF(CS22:CS25,CS23)=1),\"\",$BX23)","v":0},{"$f":"IF(CQ23=\"\",\"\",IF(COUNTIF(CS22:CS25,CS23)=1,CS23,CS23+RANK(CT23,CT22:CT25,0)-1))","v":1},{"$f":"IF(OR(CU23=\"\",COUNTIF(CU22:CU25,CU23)=1),\"\",$BU23)","v":0},{"$f":"IF(CQ23=\"\",\"\",IF(COUNTIF(CU22:CU25,CU23)=1,CU23,CU23+RANK(CV23,CV22:CV25,0)-1))","v":1},{"$f":"IF(CF23>0,BM20+RANK(CW23,CW22:CW25,1),)","v":1},null,{"$f":"IF(CC23=2,BT23,)","v":0},{"$f":"(SUMIF(AF4:AF54,BT23,AZ4:AZ54)+SUMIF(AH4:AH54,BT23,BA4:BA54))","v":0},{"$f":"(SUMIF(AF4:AF54,BT23,BB4:BB54)+SUMIF(AH4:AH54,BT23,BC4:BC54))","v":0},{"$f":"(SUMIF(AF4:AF54,BT23,BD4:BD54)+SUMIF(AH4:AH54,BT23,BE4:BE54))","v":0},{"$f":"IFERROR(DA23*3+DB23*1,0)","v":0},{"$f":"CB23","v":"C"},{"$f":"IF(CZ23>0,RANK(DD23,DD22:DD25)+CG20,)","v":0},{"$f":"IF(AND(CZ23>0,COUNTIF(DF22:DF25,DF23)>1),SUMIFS($AI$4:$AI$54,$AF$4:$AF$54,BT23,$L$4:$L$54,2)+SUMIFS($AK$4:$AK$54,$AH$4:$AH$54,BT23,$L$4:$L$54,2)-SUMIFS($AK$4:$AK$54,$AF$4:$AF$54,BT23,$L$4:$L$54,2)-SUMIFS($AI$4:$AI$54,$AH$4:$AH$54,BT23,$L$4:$L$54,2),)","v":0},{"$f":"IF(AND(CZ23>0,COUNTIF(DF22:DF25,DF23)>1),DF23+RANK(DG23,DG22:DG25)-1,DF23)","v":0},{"$f":"IF(AND(CZ23>0,COUNTIF(DH22:DH25,DH23)>1),SUMIFS($AI$4:$AI$54,$AF$4:$AF$54,BT23,$L$4:$L$54,2)+SUMIFS($AK$4:$AK$54,$AH$4:$AH$54,BT23,$L$4:$L$54,2),)","v":0},{"$f":"IF(AND(CZ23>0,COUNTIF(DH22:DH25,DH23)>1),DH23+RANK(DI23,DI22:DI25)-1,DH23)","v":0},{"$f":"IF(DJ23=0,\"\",DJ23)","v":""},{"$f":"IF(OR(DK23=\"\",COUNTIF(DK22:DK25,DK23)=1),\"\",$BZ23)","v":""},{"$f":"IF(DK23=\"\",\"\",IF(COUNTIF(DK22:DK25,DK23)=1,DK23,DK23+RANK(DL23,DL22:DL25,0)-1))","v":""},{"$f":"IF(OR(DM23=\"\",COUNTIF(DM22:DM25,DM23)=1),\"\",$BX23)","v":""},{"$f":"IF(DK23=\"\",\"\",IF(COUNTIF(DM22:DM25,DM23)=1,DM23,DM23+RANK(DN23,DN22:DN25,0)-1))","v":""},{"$f":"IF(OR(DO23=\"\",COUNTIF(DO22:DO25,DO23)=1),\"\",$BU23)","v":""},{"$f":"IF(DK23=\"\",\"\",IF(COUNTIF(DO22:DO25,DO23)=1,DO23,DO23+RANK(DP23,DP22:DP25,0)-1))","v":""},{"$f":"IF(CZ23>0,CG20+RANK(DQ23,DQ22:DQ25,1),)","v":0},null,{"$f":"IF(CC23=3,BT23,)","v":0},{"$f":"(SUMIF(AF4:AF54,BT23,BF4:BF54)+SUMIF(AH4:AH54,BT23,BG4:BG54))","v":0},{"$f":"(SUMIF(AF4:AF54,BT23,BH4:BH54)+SUMIF(AH4:AH54,BT23,BI4:BI54))","v":0},{"$f":"(SUMIF(AF4:AF54,BT23,BJ4:BJ54)+SUMIF(AH4:AH54,BT23,BK4:BK54))","v":0},{"$f":"IFERROR(DU23*3+DV23*1,0)","v":0},{"$f":"CB23","v":"C"},{"$f":"IF(DT23>0,RANK(DX23,DX22:DX25)+CG20+DA20,)","v":0},{"$f":"IF(AND(DT23>0,COUNTIF(DZ22:DZ25,DZ23)>1),SUMIFS($AI$4:$AI$54,$AF$4:$AF$54,BT23,$L$4:$L$54,3)+SUMIFS($AK$4:$AK$54,$AH$4:$AH$54,BT23,$L$4:$L$54,3)-SUMIFS($AK$4:$AK$54,$AF$4:$AF$54,BT23,$L$4:$L$54,3)-SUMIFS($AI$4:$AI$54,$AH$4:$AH$54,BT23,$L$4:$L$54,3),)","v":0},{"$f":"IF(AND(DT23>0,COUNTIF(DZ22:DZ25,DZ23)>1),DZ23+RANK(EA23,EA22:EA25)-1,DZ23)","v":0},{"$f":"IF(AND(DT23>0,COUNTIF(EB22:EB25,EB23)>1),SUMIFS($AI$4:$AI$54,$AF$4:$AF$54,BT23,$L$4:$L$54,3)+SUMIFS($AK$4:$AK$54,$AH$4:$AH$54,BT23,$L$4:$L$54,3),)","v":0},{"$f":"IF(AND(DT23>0,COUNTIF(EB22:EB25,EB23)>1),EB23+RANK(EC23,EC22:EC25)-1,EB23)","v":0},{"$f":"IF(ED23=0,\"\",ED23)","v":""},{"$f":"IF(OR(EE23=\"\",COUNTIF(EE22:EE25,EE23)=1),\"\",$BZ23)","v":""},{"$f":"IF(EE23=\"\",\"\",IF(COUNTIF(EE22:EE25,EE23)=1,EE23,EE23+RANK(EF23,EF22:EF25,0)-1))","v":""},{"$f":"IF(OR(EG23=\"\",COUNTIF(EG22:EG25,EG23)=1),\"\",$BX23)","v":""},{"$f":"IF(EE23=\"\",\"\",IF(COUNTIF(EG22:EG25,EG23)=1,EG23,EG23+RANK(EH23,EH22:EH25,0)-1))","v":""},{"$f":"IF(OR(EI23=\"\",COUNTIF(EI22:EI25,EI23)=1),\"\",$BU23)","v":""},{"$f":"IF(EE23=\"\",\"\",IF(COUNTIF(EI22:EI25,EI23)=1,EI23,EI23+RANK(EJ23,EJ22:EJ25,0)-1))","v":""},{"$f":"IF(DT23>0,CG20+DA20+RANK(EK23,EK22:EK25,1),)","v":0},null,{"$f":"IF(CC23=4,BT23,)","v":0},{"$f":"(SUMIF(AF4:AF54,BT23,BL4:BL54)+SUMIF(AH4:AH54,BT23,BM4:BM54))","v":0},{"$f":"(SUMIF(AF4:AF54,BT23,BN4:BN54)+SUMIF(AH4:AH54,BT23,BO4:BO54))","v":0},{"$f":"(SUMIF(AF4:AF54,BT23,BP4:BP54)+SUMIF(AH4:AH54,BT23,BQ4:BQ54))","v":0},{"$f":"IFERROR(EO23*3+EP23*1,0)","v":0},{"$f":"CB23","v":"C"},{"$f":"IF(EN23>0,RANK(ER23,ER22:ER25)+CG20+DA20+DU20,)","v":0},{"$f":"IF(AND(EN23>0,COUNTIF(ET22:ET25,ET23)>1),SUMIFS($AI$4:$AI$54,$AF$4:$AF$54,BT23,$L$4:$L$54,4)+SUMIFS($AK$4:$AK$54,$AH$4:$AH$54,BT23,$L$4:$L$54,4)-SUMIFS($AK$4:$AK$54,$AF$4:$AF$54,BT23,$L$4:$L$54,4)-SUMIFS($AI$4:$AI$54,$AH$4:$AH$54,BT23,$L$4:$L$54,4),)","v":0},{"$f":"IF(AND(EN23>0,COUNTIF(ET4:ET7,ET23)>1),ET23+RANK(EU23,EU4:EU7)-1,ET23)","v":0},{"$f":"IF(AND(EN23>0,COUNTIF(EV22:EV25,EV23)>1),SUMIFS($AI$4:$AI$54,$AF$4:$AF$54,BT23,$L$4:$L$54,4)+SUMIFS($AK$4:$AK$54,$AH$4:$AH$54,BT23,$L$4:$L$54,4),)","v":0},{"$f":"IF(AND(EN23>0,COUNTIF(EV22:EV25,EV23)>1),EV23+RANK(EW23,EW22:EW25)-1,EV23)","v":0},{"$f":"IF(EX23=0,\"\",EX23)","v":""},{"$f":"IF(OR(EY23=\"\",COUNTIF(EY22:EY25,EY23)=1),\"\",$BZ23)","v":""},{"$f":"IF(EY23=\"\",\"\",IF(COUNTIF(EY22:EY25,EY23)=1,EY23,EY23+RANK(EZ23,EZ22:EZ25,0)-1))","v":""},{"$f":"IF(OR(FA23=\"\",COUNTIF(FA22:FA25,FA23)=1),\"\",$BX23)","v":""},{"$f":"IF(EY23=\"\",\"\",IF(COUNTIF(FA22:FA25,FA23)=1,FA23,FA23+RANK(FB23,FB22:FB25,0)-1))","v":""},{"$f":"IF(OR(FC23=\"\",COUNTIF(FC22:FC25,FC23)=1),\"\",$BU23)","v":""},{"$f":"IF(EY23=\"\",\"\",IF(COUNTIF(FC22:FC25,FC23)=1,FC23,FC23+RANK(FD23,FD22:FD25,0)-1))","v":""},{"$f":"IF(EN23>0,CG20+DA20+DU20+RANK(FE23,FE22:FE25,1),)","v":0},null,{"$f":"IFERROR(VLOOKUP(FJ23,CF21:CX25,19,FALSE),IFERROR(VLOOKUP(FJ23,CZ21:DR25,19,FALSE),IFERROR(VLOOKUP(FJ23,DT21:EL25,19,FALSE),VLOOKUP(FJ23,EN21:FF25,19,FALSE))))","v":1},{"$f":"RANK(FH23,FH22:FH25,1)+COUNTIF(FH22:FH23,FH23)-1","v":2},{"$f":"BT23","v":"Denmark"}]
[null,null,"2024-06-20","Slovenia","-","Serbia",null,"-",null,"",{"$f":"IF(OR('Results & Table'!H24=\"\",'Results & Table'!J24=\"\",G24=\"\",I24=\"\"),0,IF(G24='Results & Table'!H24,2,0)+IF(I24='Results & Table'!J24,2,0)+IF(J24='Results & Table'!K24,2,0))","v":0},{"$f":"IF(VLOOKUP(D24,BT21:CC25,10,FALSE)=VLOOKUP(F24,BT21:CC25,10,FALSE),VLOOKUP(D24,BT21:CC25,10,FALSE),\"-\")","v":1},3,{"$f":"VLOOKUP(M24,FI22:FJ25,2,FALSE)","v":"Serbia"},{"$f":"VLOOKUP(N24,BT22:CA25,2,FALSE)","v":0},{"$f":"VLOOKUP(N24,BT22:CA25,3,FALSE)","v":0},{"$f":"VLOOKUP(N24,BT22:CA25,4,FALSE)","v":0},{"$f":"VLOOKUP(N24,BT22:CA25,5,FALSE)","v":0},{"$f":"VLOOKUP(N24,BT22:CA25,6,FALSE)","v":0},{"$f":"VLOOKUP(N24,BT22:CA25,7,FALSE)","v":0},{"$f":"VLOOKUP(N24,BT22:CA25,8,FALSE)","v":0},null,null,null,null,null,null,null,null,null,"2024-06-20","Slovenia","-","Serbia","","-","","",null,0,0,0,0,0,0,0,0,0,0,0,0,0,0,0,0,0,0,0,0,0,0,0,0,0,0,0,0,0,0,null,null,"Serbia",{"$f":"(SUMIF(AF4:AF54,BT24,AN4:AN54)+SUMIF(AH4:AH54,BT24,AO4:AO54))","v":0},{"$f":"(SUMIF(AF4:AF54,BT24,AP4:AP54)+SUMIF(AH4:AH54,BT24,AQ4:AQ54))","v":0},{"$f":"(SUMIF(AF4:AF54,BT24,AR4:AR54)+SUMIF(AH4:AH54,BT24,AS4:AS54))","v":0},{"$f":"SUMIF(AF4:AF54,BT24,AI4:AI54)+SUMIF(AH4:AH54,BT24,AK4:AK54)","v":0},{"$f":"SUMIF(AF4:AF54,BT24,AK4:AK54)+SUMIF(AH4:AH54,BT24,AI4:AI54)","v":0},{"$f":"BX24-BY24","v":0},{"$f":"IFERROR(BU24*3+BV24*1,0)","v":0},"C",{"$f":"RANK(CA24,CA22:CA25)","v":1},{"$f":"SUMPRODUCT((CA22:CA25=CA24)*(BZ22:BZ25>BZ24))","v":0},null,{"$f":"IF(CC24=1,BT24,)","v":"Serbia"},{"$f":"(SUMIF(AF4:AF54,BT24,AT4:AT54)+SUMIF(AH4:AH54,BT24,AU4:AU54))","v":0},{"$f":"(SUMIF(AF4:AF54,BT24,AV4:AV54)+SUMIF(AH4:AH54,BT24,AW4:AW54))","v":0},{"$f":"(SUMIF(AF4:AF54,BT24,AX4:AX54)+SUMIF(AH4:AH54,BT24,AY4:AY54))","v":0},0,{"$f":"CB24","v":"C"},{"$f":"IF(CF24>0,RANK(CJ24,CJ22:CJ25),)","v":1},{"$f":"IF(AND(CF24>0,COUNTIF(CL22:CL25,CL24)>1),SUMIFS($AI$4:$AI$54,$AF$4:$AF$54,BT24,$L$4:$L$54,1)+SUMIFS($AK$4:$AK$54,$AH$4:$AH$54,BT24,$L$4:$L$54,1)-SUMIFS($AK$4:$AK$54,$AF$4:$AF$54,BT24,$L$4:$L$54,1)-SUMIFS($AI$4:$AI$54,$AH$4:$AH$54,BT24,$L$4:$L$54,1),)","v":0},{"$f":"IF(AND(CF24>0,COUNTIF(CL22:CL25,CL24)>1),CL24+RANK(CM24,CM22:CM25)-1,CL24)","v":1},{"$f":"IF(AND(CF24>0,COUNTIF(CN22:CN25,CN24)>1),SUMIFS($AI$4:$AI$54,$AF$4:$AF$54,BT24,$L$4:$L$54,1)+SUMIFS($AK$4:$AK$54,$AH$4:$AH$54,BT24,$L$4:$L$54,1),)","v":0},{"$f":"IF(AND(CF24>0,COUNTIF(CN22:CN25,CN24)>1),CN24+RANK(CO24,CO22:CO25)-1,CN24)","v":1},1,{"$f":"IF(OR(CQ24=\"\",COUNTIF(CQ22:CQ25,CQ24)=1),\"\",$BZ24)","v":0},{"$f":"IF(CQ24=\"\",\"\",IF(COUNTIF(CQ22:CQ25,CQ24)=1,CQ24,CQ24+RANK(CR24,CR22:CR25,0)-1))","v":1},{"$f":"IF(OR(CS24=\"\",COUNTIF(CS22:CS25,CS24)=1),\"\",$BX24)","v":0},{"$f":"IF(CQ24=\"\",\"\",IF(COUNTIF(CS22:CS25,CS24)=1,CS24,CS24+RANK(CT24,CT22:CT25,0)-1))","v":1},{"$f":"IF(OR(CU24=\"\",COUNTIF(CU22:CU25,CU24)=1),\"\",$BU24)","v":0},{"$f":"IF(CQ24=\"\",\"\",IF(COUNTIF(CU22:CU25,CU24)=1,CU24,CU24+RANK(CV24,CV22:CV25,0)-1))","v":1},{"$f":"IF(CF24>0,BM20+RANK(CW24,CW22:CW25,1),)","v":1},null,{"$f":"IF(CC24=2,BT24,)","v":0},{"$f":"(SUMIF(AF4:AF54,BT24,AZ4:AZ54)+SUMIF(AH4:AH54,BT24,BA4:BA54))","v":0},{"$f":"(SUMIF(AF4:AF54,BT24,BB4:BB54)+SUMIF(AH4:AH54,BT24,BC4:BC54))","v":0},{"$f":"(SUMIF(AF4:AF54,BT24,BD4:BD54)+SUMIF(AH4:AH54,BT24,BE4:BE54))","v":0},0,{"$f":"CB24","v":"C"},{"$f":"IF(CZ24>0,RANK(DD24,DD22:DD25)+CG20,)","v":0},{"$f":"IF(AND(CZ24>0,COUNTIF(DF22:DF25,DF24)>1),SUMIFS($AI$4:$AI$54,$AF$4:$AF$54,BT24,$L$4:$L$54,2)+SUMIFS($AK$4:$AK$54,$AH$4:$AH$54,BT24,$L$4:$L$54,2)-SUMIFS($AK$4:$AK$54,$AF$4:$AF$54,BT24,$L$4:$L$54,2)-SUMIFS($AI$4:$AI$54,$AH$4:$AH$54,BT24,$L$4:$L$54,2),)","v":0},{"$f":"IF(AND(CZ24>0,COUNTIF(DF22:DF25,DF24)>1),DF24+RANK(DG24,DG22:DG25)-1,DF24)","v":0},{"$f":"IF(AND(CZ24>0,COUNTIF(DH22:DH25,DH24)>1),SUMIFS($AI$4:$AI$54,$AF$4:$AF$54,BT24,$L$4:$L$54,2)+SUMIFS($AK$4:$AK$54,$AH$4:$AH$54,BT24,$L$4:$L$54,2),)","v":0},{"$f":"IF(AND(CZ24>0,COUNTIF(DH22:DH25,DH24)>1),DH24+RANK(DI24,DI22:DI25)-1,DH24)","v":0},"",{"$f":"IF(OR(DK24=\"\",COUNTIF(DK22:DK25,DK24)=1),\"\",$BZ24)","v":""},{"$f":"IF(DK24=\"\",\"\",IF(COUNTIF(DK22:DK25,DK24)=1,DK24,DK24+RANK(DL24,DL22:DL25,0)-1))","v":""},{"$f":"IF(OR(DM24=\"\",COUNTIF(DM22:DM25,DM24)=1),\"\",$BX24)","v":""},{"$f":"IF(DK24=\"\",\"\",IF(COUNTIF(DM22:DM25,DM24)=1,DM24,DM24+RANK(DN24,DN22:DN25,0)-1))","v":""},{"$f":"IF(OR(DO24=\"\",COUNTIF(DO22:DO25,DO24)=1),\"\",$BU24)","v":""},{"$f":"IF(DK24=\"\",\"\",IF(COUNTIF(DO22:DO25,DO24)=1,DO24,DO24+RANK(DP24,DP22:DP25,0)-1))","v":""},{"$f":"IF(CZ24>0,CG20+RANK(DQ24,DQ22:DQ25,1),)","v":0},null,{"$f":"IF(CC24=3,BT24,)","v":0},{"$f":"(SUMIF(AF4:AF54,BT24,BF4:BF54)+SUMIF(AH4:AH54,BT24,BG4:BG54))","v":0},{"$f":"(SUMIF(AF4:AF54,BT24,BH4:BH54)+SUMIF(AH4:AH54,BT24,BI4:BI54))","v":0},{"$f":"(SUMIF(AF4:AF54,BT24,BJ4:BJ54)+SUMIF(AH4:AH54,BT24,BK4:BK54))","v":0},0,{"$f":"CB24","v":"C"},{"$f":"IF(DT24>0,RANK(DX24,DX22:DX25)+CG20+DA20,)","v":0},{"$f":"IF(AND(DT24>0,COUNTIF(DZ22:DZ25,DZ24)>1),SUMIFS($AI$4:$AI$54,$AF$4:$AF$54,BT24,$L$4:$L$54,3)+SUMIFS($AK$4:$AK$54,$AH$4:$AH$54,BT24,$L$4:$L$54,3)-SUMIFS($AK$4:$AK$54,$AF$4:$AF$54,BT24,$L$4:$L$54,3)-SUMIFS($AI$4:$AI$54,$AH$4:$AH$54,BT24,$L$4:$L$54,3),)","v":0},{"$f":"IF(AND(DT24>0,COUNTIF(DZ22:DZ25,DZ24)>1),DZ24+RANK(EA24,EA22:EA25)-1,DZ24)","v":0},{"$f":"IF(AND(DT24>0,COUNTIF(EB22:EB25,EB24)>1),SUMIFS($AI$4:$AI$54,$AF$4:$AF$54,BT24,$L$4:$L$54,3)+SUMIFS($AK$4:$AK$54,$AH$4:$AH$54,BT24,$L$4:$L$54,3),)","v":0},{"$f":"IF(AND(DT24>0,COUNTIF(EB22:EB25,EB24)>1),EB24+RANK(EC24,EC22:EC25)-1,EB24)","v":0},"",{"$f":"IF(OR(EE24=\"\",COUNTIF(EE22:EE25,EE24)=1),\"\",$BZ24)","v":""},{"$f":"IF(EE24=\"\",\"\",IF(COUNTIF(EE22:EE25,EE24)=1,EE24,EE24+RANK(EF24,EF22:EF25,0)-1))","v":""},{"$f":"IF(OR(EG24=\"\",COUNTIF(EG22:EG25,EG24)=1),\"\",$BX24)","v":""},{"$f":"IF(EE24=\"\",\"\",IF(COUNTIF(EG22:EG25,EG24)=1,EG24,EG24+RANK(EH24,EH22:EH25,0)-1))","v":""},{"$f":"IF(OR(EI24=\"\",COUNTIF(EI22:EI25,EI24)=1),\"\",$BU24)","v":""},{"$f":"IF(EE24=\"\",\"\",IF(COUNTIF(EI22:EI25,EI24)=1,EI24,EI24+RANK(EJ24,EJ22:EJ25,0)-1))","v":""},{"$f":"IF(DT24>0,CG20+DA20+RANK(EK24,EK22:EK25,1),)","v":0},null,{"$f":"IF(CC24=4,BT24,)","v":0},{"$f":"(SUMIF(AF4:AF54,BT24,BL4:BL54)+SUMIF(AH4:AH54,BT24,BM4:BM54))","v":0},{"$f":"(SUMIF(AF4:AF54,BT24,BN4:BN54)+SUMIF(AH4:AH54,BT24,BO4:BO54))","v":0},{"$f":"(SUMIF(AF4:AF54,BT24,BP4:BP54)+SUMIF(AH4:AH54,BT24,BQ4:BQ54))","v":0},0,{"$f":"CB24","v":"C"},{"$f":"IF(EN24>0,RANK(ER24,ER22:ER25)+CG20+DA20+DU20,)","v":0},{"$f":"IF(AND(EN24>0,COUNTIF(ET22:ET25,ET24)>1),SUMIFS($AI$4:$AI$54,$AF$4:$AF$54,BT24,$L$4:$L$54,4)+SUMIFS($AK$4:$AK$54,$AH$4:$AH$54,BT24,$L$4:$L$54,4)-SUMIFS($AK$4:$AK$54,$AF$4:$AF$54,BT24,$L$4:$L$54,4)-SUMIFS($AI$4:$AI$54,$AH$4:$AH$54,BT24,$L$4:$L$54,4),)","v":0},{"$f":"IF(AND(EN24>0,COUNTIF(ET4:ET7,ET24)>1),ET24+RANK(EU24,EU4:EU7)-1,ET24)","v":0},{"$f":"IF(AND(EN24>0,COUNTIF(EV22:EV25,EV24)>1),SUMIFS($AI$4:$AI$54,$AF$4:$AF$54,BT24,$L$4:$L$54,4)+SUMIFS($AK$4:$AK$54,$AH$4:$AH$54,BT24,$L$4:$L$54,4),)","v":0},{"$f":"IF(AND(EN24>0,COUNTIF(EV22:EV25,EV24)>1),EV24+RANK(EW24,EW22:EW25)-1,EV24)","v":0},"",{"$f":"IF(OR(EY24=\"\",COUNTIF(EY22:EY25,EY24)=1),\"\",$BZ24)","v":""},{"$f":"IF(EY24=\"\",\"\",IF(COUNTIF(EY22:EY25,EY24)=1,EY24,EY24+RANK(EZ24,EZ22:EZ25,0)-1))","v":""},{"$f":"IF(OR(FA24=\"\",COUNTIF(FA22:FA25,FA24)=1),\"\",$BX24)","v":""},{"$f":"IF(EY24=\"\",\"\",IF(COUNTIF(FA22:FA25,FA24)=1,FA24,FA24+RANK(FB24,FB22:FB25,0)-1))","v":""},{"$f":"IF(OR(FC24=\"\",COUNTIF(FC22:FC25,FC24)=1),\"\",$BU24)","v":""},{"$f":"IF(EY24=\"\",\"\",IF(COUNTIF(FC22:FC25,FC24)=1,FC24,FC24+RANK(FD24,FD22:FD25,0)-1))","v":""},{"$f":"IF(EN24>0,CG20+DA20+DU20+RANK(FE24,FE22:FE25,1),)","v":0},null,{"$f":"IFERROR(VLOOKUP(FJ24,CF21:CX25,19,FALSE),IFERROR(VLOOKUP(FJ24,CZ21:DR25,19,FALSE),IFERROR(VLOOKUP(FJ24,DT21:EL25,19,FALSE),VLOOKUP(FJ24,EN21:FF25,19,FALSE))))","v":1},{"$f":"RANK(FH24,FH22:FH25,1)+COUNTIF(FH22:FH24,FH24)-1","v":3},{"$f":"BT24","v":"Serbia"}]
[null,null,"2024-06-20","Denmark","-","England",null,"-",null,"",{"$f":"IF(OR('Results & Table'!H25=\"\",'Results & Table'!J25=\"\",G25=\"\",I25=\"\"),0,IF(G25='Results & Table'!H25,2,0)+IF(I25='Results & Table'!J25,2,0)+IF(J25='Results & Table'!K25,2,0))","v":0},{"$f":"IF(VLOOKUP(D25,BT21:CC25,10,FALSE)=VLOOKUP(F25,BT21:CC25,10,FALSE),VLOOKUP(D25,BT21:CC25,10,FALSE),\"-\")","v":1},4,{"$f":"VLOOKUP(M25,FI22:FJ25,2,FALSE)","v":"England"},{"$f":"VLOOKUP(N25,BT22:CA25,2,FALSE)","v":0},{"$f":"VLOOKUP(N25,BT22:CA25,3,FALSE)","v":0},{"$f":"VLOOKUP(N25,BT22:CA25,4,FALSE)","v":0},{"$f":"VLOOKUP(N25,BT22:CA25,5,FALSE)","v":0},{"$f":"VLOOKUP(N25,BT22:CA25,6,FALSE)","v":0},{"$f":"VLOOKUP(N25,BT22:CA25,7,FALSE)","v":0},{"$f":"VLOOKUP(N25,BT22:CA25,8,FALSE)","v":0},null,null,null,null,null,null,null,null,null,"2024-06-20","Denmark","-","England","","-","","",null,0,0,0,0,0,0,0,0,0,0,0,0,0,0,0,0,0,0,0,0,0,0,0,0,0,0,0,0,0,0,null,null,"England",{"$f":"(SUMIF(AF4:AF54,BT25,AN4:AN54)+SUMIF(AH4:AH54,BT25,AO4:AO54))","v":0},{"$f":"(SUMIF(AF4:AF54,BT25,AP4:AP54)+SUMIF(AH4:AH54,BT25,AQ4:AQ54))","v":0},{"$f":"(SUMIF(AF4:AF54,BT25,AR4:AR54)+SUMIF(AH4:AH54,BT25,AS4:AS54))","v":0},{"$f":"SUMIF(AF4:AF54,BT25,AI4:AI54)+SUMIF(AH4:AH54,BT25,AK4:AK54)","v":0},{"$f":"SUMIF(AF4:AF54,BT25,AK4:AK54)+SUMIF(AH4:AH54,BT25,AI4:AI54)","v":0},{"$f":"BX25-BY25","v":0},{"$f":"IFERROR(BU25*3+BV25*1,0)","v":0},"C",{"$f":"RANK(CA25,CA22:CA25)","v":1},{"$f":"SUMPRODUCT((CA22:CA25=CA25)*(BZ22:BZ25>BZ25))","v":0},null,{"$f":"IF(CC25=1,BT25,)","v":"England"},{"$f":"(SUMIF(AF4:AF54,BT25,AT4:AT54)+SUMIF(AH4:AH54,BT25,AU4:AU54))","v":0},{"$f":"(SUMIF(AF4:AF54,BT25,AV4:AV54)+SUMIF(AH4:AH54,BT25,AW4:AW54))","v":0},{"$f":"(SUMIF(AF4:AF54,BT25,AX4:AX54)+SUMIF(AH4:AH54,BT25,AY4:AY54))","v":0},0,{"$f":"CB25","v":"C"},{"$f":"IF(CF25>0,RANK(CJ25,CJ22:CJ25),)","v":1},{"$f":"IF(AND(CF25>0,COUNTIF(CL22:CL25,CL25)>1),SUMIFS($AI$4:$AI$54,$AF$4:$AF$54,BT25,$L$4:$L$54,1)+SUMIFS($AK$4:$AK$54,$AH$4:$AH$54,BT25,$L$4:$L$54,1)-SUMIFS($AK$4:$AK$54,$AF$4:$AF$54,BT25,$L$4:$L$54,1)-SUMIFS($AI$4:$AI$54,$AH$4:$AH$54,BT25,$L$4:$L$54,1),)","v":0},{"$f":"IF(AND(CF25>0,COUNTIF(CL22:CL25,CL25)>1),CL25+RANK(CM25,CM22:CM25)-1,CL25)","v":1},{"$f":"IF(AND(CF25>0,COUNTIF(CN22:CN25,CN25)>1),SUMIFS($AI$4:$AI$54,$AF$4:$AF$54,BT25,$L$4:$L$54,1)+SUMIFS($AK$4:$AK$54,$AH$4:$AH$54,BT25,$L$4:$L$54,1),)","v":0},{"$f":"IF(AND(CF25>0,COUNTIF(CN22:CN25,CN25)>1),CN25+RANK(CO25,CO22:CO25)-1,CN25)","v":1},1,{"$f":"IF(OR(CQ25=\"\",COUNTIF(CQ22:CQ25,CQ25)=1),\"\",$BZ25)","v":0},{"$f":"IF(CQ25=\"\",\"\",IF(COUNTIF(CQ22:CQ25,CQ25)=1,CQ25,CQ25+RANK(CR25,CR22:CR25,0)-1))","v":1},{"$f":"IF(OR(CS25=\"\",COUNTIF(CS22:CS25,CS25)=1),\"\",$BX25)","v":0},{"$f":"IF(CQ25=\"\",\"\",IF(COUNTIF(CS22:CS25,CS25)=1,CS25,CS25+RANK(CT25,CT22:CT25,0)-1))","v":1},{"$f":"IF(OR(CU25=\"\",COUNTIF(CU22:CU25,CU25)=1),\"\",$BU25)","v":0},{"$f":"IF(CQ25=\"\",\"\",IF(COUNTIF(CU22:CU25,CU25)=1,CU25,CU25+RANK(CV25,CV22:CV25,0)-1))","v":1},{"$f":"IF(CF25>0,BM20+RANK(CW25,CW22:CW25,1),)","v":1},null,{"$f":"IF(CC25=2,BT25,)","v":0},{"$f":"(SUMIF(AF4:AF54,BT25,AZ4:AZ54)+SUMIF(AH4:AH54,BT25,BA4:BA54))","v":0},{"$f":"(SUMIF(AF4:AF54,BT25,BB4:BB54)+SUMIF(AH4:AH54,BT25,BC4:BC54))","v":0},{"$f":"(SUMIF(AF4:AF54,BT25,BD4:BD54)+SUMIF(AH4:AH54,BT25,BE4:BE54))","v":0},0,{"$f":"CB25","v":"C"},{"$f":"IF(CZ25>0,RANK(DD25,DD22:DD25)+CG20,)","v":0},{"$f":"IF(AND(CZ25>0,COUNTIF(DF22:DF25,DF25)>1),SUMIFS($AI$4:$AI$54,$AF$4:$AF$54,BT25,$L$4:$L$54,2)+SUMIFS($AK$4:$AK$54,$AH$4:$AH$54,BT25,$L$4:$L$54,2)-SUMIFS($AK$4:$AK$54,$AF$4:$AF$54,BT25,$L$4:$L$54,2)-SUMIFS($AI$4:$AI$54,$AH$4:$AH$54,BT25,$L$4:$L$54,2),)","v":0},{"$f":"IF(AND(CZ25>0,COUNTIF(DF22:DF25,DF25)>1),DF25+RANK(DG25,DG22:DG25)-1,DF25)","v":0},{"$f":"IF(AND(CZ25>0,COUNTIF(DH22:DH25,DH25)>1),SUMIFS($AI$4:$AI$54,$AF$4:$AF$54,BT25,$L$4:$L$54,2)+SUMIFS($AK$4:$AK$54,$AH$4:$AH$54,BT25,$L$4:$L$54,2),)","v":0},{"$f":"IF(AND(CZ25>0,COUNTIF(DH22:DH25,DH25)>1),DH25+RANK(DI25,DI22:DI25)-1,DH25)","v":0},"",{"$f":"IF(OR(DK25=\"\",COUNTIF(DK22:DK25,DK25)=1),\"\",$BZ25)","v":""},{"$f":"IF(DK25=\"\",\"\",IF(COUNTIF(DK22:DK25,DK25)=1,DK25,DK25+RANK(DL25,DL22:DL25,0)-1))","v":""},{"$f":"IF(OR(DM25=\"\",COUNTIF(DM22:DM25,DM25)=1),\"\",$BX25)","v":""},{"$f":"IF(DK25=\"\",\"\",IF(COUNTIF(DM22:DM25,DM25)=1,DM25,DM25+RANK(DN25,DN22:DN25,0)-1))","v":""},{"$f":"IF(OR(DO25=\"\",COUNTIF(DO22:DO25,DO25)=1),\"\",$BU25)","v":""},{"$f":"IF(DK25=\"\",\"\",IF(COUNTIF(DO22:DO25,DO25)=1,DO25,DO25+RANK(DP25,DP22:DP25,0)-1))","v":""},{"$f":"IF(CZ25>0,CG20+RANK(DQ25,DQ22:DQ25,1),)","v":0},null,{"$f":"IF(CC25=3,BT25,)","v":0},{"$f":"(SUMIF(AF4:AF54,BT25,BF4:BF54)+SUMIF(AH4:AH54,BT25,BG4:BG54))","v":0},{"$f":"(SUMIF(AF4:AF54,BT25,BH4:BH54)+SUMIF(AH4:AH54,BT25,BI4:BI54))","v":0},{"$f":"(SUMIF(AF4:AF54,BT25,BJ4:BJ54)+SUMIF(AH4:AH54,BT25,BK4:BK54))","v":0},0,{"$f":"CB25","v":"C"},{"$f":"IF(DT25>0,RANK(DX25,DX22:DX25)+CG20+DA20,)","v":0},{"$f":"IF(AND(DT25>0,COUNTIF(DZ22:DZ25,DZ25)>1),SUMIFS($AI$4:$AI$54,$AF$4:$AF$54,BT25,$L$4:$L$54,3)+SUMIFS($AK$4:$AK$54,$AH$4:$AH$54,BT25,$L$4:$L$54,3)-SUMIFS($AK$4:$AK$54,$AF$4:$AF$54,BT25,$L$4:$L$54,3)-SUMIFS($AI$4:$AI$54,$AH$4:$AH$54,BT25,$L$4:$L$54,3),)","v":0},{"$f":"IF(AND(DT25>0,COUNTIF(DZ22:DZ25,DZ25)>1),DZ25+RANK(EA25,EA22:EA25)-1,DZ25)","v":0},{"$f":"IF(AND(DT25>0,COUNTIF(EB22:EB25,EB25)>1),SUMIFS($AI$4:$AI$54,$AF$4:$AF$54,BT25,$L$4:$L$54,3)+SUMIFS($AK$4:$AK$54,$AH$4:$AH$54,BT25,$L$4:$L$54,3),)","v":0},{"$f":"IF(AND(DT25>0,COUNTIF(EB22:EB25,EB25)>1),EB25+RANK(EC25,EC22:EC25)-1,EB25)","v":0},"",{"$f":"IF(OR(EE25=\"\",COUNTIF(EE22:EE25,EE25)=1),\"\",$BZ25)","v":""},{"$f":"IF(EE25=\"\",\"\",IF(COUNTIF(EE22:EE25,EE25)=1,EE25,EE25+RANK(EF25,EF22:EF25,0)-1))","v":""},{"$f":"IF(OR(EG25=\"\",COUNTIF(EG22:EG25,EG25)=1),\"\",$BX25)","v":""},{"$f":"IF(EE25=\"\",\"\",IF(COUNTIF(EG22:EG25,EG25)=1,EG25,EG25+RANK(EH25,EH22:EH25,0)-1))","v":""},{"$f":"IF(OR(EI25=\"\",COUNTIF(EI22:EI25,EI25)=1),\"\",$BU25)","v":""},{"$f":"IF(EE25=\"\",\"\",IF(COUNTIF(EI22:EI25,EI25)=1,EI25,EI25+RANK(EJ25,EJ22:EJ25,0)-1))","v":""},{"$f":"IF(DT25>0,CG20+DA20+RANK(EK25,EK22:EK25,1),)","v":0},null,{"$f":"IF(CC25=4,BT25,)","v":0},{"$f":"(SUMIF(AF4:AF54,BT25,BL4:BL54)+SUMIF(AH4:AH54,BT25,BM4:BM54))","v":0},{"$f":"(SUMIF(AF4:AF54,BT25,BN4:BN54)+SUMIF(AH4:AH54,BT25,BO4:BO54))","v":0},{"$f":"(SUMIF(AF4:AF54,BT25,BP4:BP54)+SUMIF(AH4:AH54,BT25,BQ4:BQ54))","v":0},0,{"$f":"CB25","v":"C"},{"$f":"IF(EN25>0,RANK(ER25,ER22:ER25)+CG20+DA20+DU20,)","v":0},{"$f":"IF(AND(EN25>0,COUNTIF(ET22:ET25,ET25)>1),SUMIFS($AI$4:$AI$54,$AF$4:$AF$54,BT25,$L$4:$L$54,4)+SUMIFS($AK$4:$AK$54,$AH$4:$AH$54,BT25,$L$4:$L$54,4)-SUMIFS($AK$4:$AK$54,$AF$4:$AF$54,BT25,$L$4:$L$54,4)-SUMIFS($AI$4:$AI$54,$AH$4:$AH$54,BT25,$L$4:$L$54,4),)","v":0},{"$f":"IF(AND(EN25>0,COUNTIF(ET4:ET7,ET25)>1),ET25+RANK(EU25,EU4:EU7)-1,ET25)","v":0},{"$f":"IF(AND(EN25>0,COUNTIF(EV22:EV25,EV25)>1),SUMIFS($AI$4:$AI$54,$AF$4:$AF$54,BT25,$L$4:$L$54,4)+SUMIFS($AK$4:$AK$54,$AH$4:$AH$54,BT25,$L$4:$L$54,4),)","v":0},{"$f":"IF(AND(EN25>0,COUNTIF(EV22:EV25,EV25)>1),EV25+RANK(EW25,EW22:EW25)-1,EV25)","v":0},"",{"$f":"IF(OR(EY25=\"\",COUNTIF(EY22:EY25,EY25)=1),\"\",$BZ25)","v":""},{"$f":"IF(EY25=\"\",\"\",IF(COUNTIF(EY22:EY25,EY25)=1,EY25,EY25+RANK(EZ25,EZ22:EZ25,0)-1))","v":""},{"$f":"IF(OR(FA25=\"\",COUNTIF(FA22:FA25,FA25)=1),\"\",$BX25)","v":""},{"$f":"IF(EY25=\"\",\"\",IF(COUNTIF(FA22:FA25,FA25)=1,FA25,FA25+RANK(FB25,FB22:FB25,0)-1))","v":""},{"$f":"IF(OR(FC25=\"\",COUNTIF(FC22:FC25,FC25)=1),\"\",$BU25)","v":""},{"$f":"IF(EY25=\"\",\"\",IF(COUNTIF(FC22:FC25,FC25)=1,FC25,FC25+RANK(FD25,FD22:FD25,0)-1))","v":""},{"$f":"IF(EN25>0,CG20+DA20+DU20+RANK(FE25,FE22:FE25,1),)","v":0},null,{"$f":"IFERROR(VLOOKUP(FJ25,CF21:CX25,19,FALSE),IFERROR(VLOOKUP(FJ25,CZ21:DR25,19,FALSE),IFERROR(VLOOKUP(FJ25,DT21:EL25,19,FALSE),VLOOKUP(FJ25,EN21:FF25,19,FALSE))))","v":1},{"$f":"RANK(FH25,FH22:FH25,1)+COUNTIF(FH22:FH25,FH25)-1","v":4},{"$f":"BT25","v":"England"}]
[null,null,"2024-06-25","England","-","Slovenia",null,"-",null,"",{"$f":"IF(OR('Results & Table'!H26=\"\",'Results & Table'!J26=\"\",G26=\"\",I26=\"\"),0,IF(G26='Results & Table'!H26,2,0)+IF(I26='Results & Table'!J26,2,0)+IF(J26='Results & Table'!K26,2,0))","v":0},{"$f":"IF(VLOOKUP(D26,BT21:CC25,10,FALSE)=VLOOKUP(F26,BT21:CC25,10,FALSE),VLOOKUP(D26,BT21:CC25,10,FALSE),\"-\")","v":1},null,{"$f":"IF(COUNTBLANK(G22:G27)+COUNTBLANK(I22:I27)=0,\"Resultat OK\",\"Fyll i resultat\")","v":"Fyll i resultat"},null,null,null,null,null,null,null,null,null,null,null,null,null,null,null,null,"2024-06-25","England","-","Slovenia","","-","","",null,0,0,0,0,0,0,0,0,0,0,0,0,0,0,0,0,0,0,0,0,0,0,0,0,0,0,0,0,0,0]
[null,null,"2024-06-25","Denmark","-","Serbia",null,"-",null,"",{"$f":"IF(OR('Results & Table'!H27=\"\",'Results & Table'!J27=\"\",G27=\"\",I27=\"\"),0,IF(G27='Results & Table'!H27,2,0)+IF(I27='Results & Table'!J27,2,0)+IF(J27='Results & Table'!K27,2,0))","v":0},{"$f":"IF(VLOOKUP(D27,BT21:CC25,10,FALSE)=VLOOKUP(F27,BT21:CC25,10,FALSE),VLOOKUP(D27,BT21:CC25,10,FALSE),\"-\")","v":1},null,null,null,null,null,null,null,null,null,null,null,null,null,null,null,null,null,null,"2024-06-25","Denmark","-","Serbia","","-","","",null,0,0,0,0,0,0,0,0,0,0,0,0,0,0,0,0,0,0,0,0,0,0,0,0,0,0,0,0,0,0]
[]
[null,null,"Group D",null,null,null,null,null,null,null,null,null,null,null,null,null,null,null,null,null,null,null,null,null,null,null,null,null,null,null,"Grupp D",null,null,null,null,null,null,null,null,null,null,null,null,null,null,null,null,null,null,null,null,null,null,null,null,null,null,null,null,null,null,null,null,null,null,null,null,null,null,null,null,"Rank 0",null,null,null,null,null,null,null,null,null,null,null,"Rank 1",{"$f":"COUNTIF(CC31:CC34,1)","v":4},null,null,null,null,null,null,null,null,null,null,null,null,null,null,null,null,null,null,"Rank 2",{"$f":"COUNTIF(CC31:CC34,2)","v":0},null,null,null,null,null,null,null,null,null,null,null,null,null,null,null,null,null,null,"Rank 3",{"$f":"COUNTIF(CC31:CC34,3)","v":0},null,null,null,null,null,null,null,null,null,null,null,null,null,null,null,null,null,null,"Rank 4",{"$f":"COUNTIF(CC31:CC34,4)","v":0}]
[null,null,"Date","Match",null,null,"Result",null,null,"1X2","Points",null,null,"Team","W","D","L","GF","GA","+/-","P",null,null,null,null,null,null,null,null,null,"Datum","Match",null,null,"Resultat",null,null,"Tecken","Poäng","V1","V2","O1","O2","F1","F2","V1","V2","O1","O2","F1","F2","V1","V2","O1","O2","F1","F2","V1","V2","O1","O2","F1","F2","V1","V2","O1","O2","F1","F2",null,null,"Lag","V","O","F","GM","IM","+/-","P","Grupp","Rank P","Rank +/-",null,"Lag","V","O","F","P","Grupp","Rank P","+/-","+/- rank","GM","GM rank","Rank internal","+/- all","+/- rank all","GM all","GM rank all","V all","V rank all","Rank all",null,"Lag","V","O","F","P","Grupp","Rank P","+/-","+/- rank","GM","GM rank","Rank internal","+/- all","+/- rank all","GM all","GM rank all","V all","V rank all","Rank all",null,"Lag","V","O","F","P","Grupp","Rank P","+/-","+/- rank","GM","GM rank","Rank internal","+/- all","+/- rank all","GM all","GM rank all","V all","V rank all","Rank all",null,"Lag","V","O","F","P","Grupp","Rank P","+/-","+/- rank","GM","GM rank","Rank internal","+/- all","+/- rank all","GM all","GM rank all","V all","V rank all","Rank all",null,"Rank","Rank Ties"]
[null,null,"2024-06-16","Poland","-","Netherlands",null,"-",null,{"$f":"IF(OR(ISBLANK(G31),ISBLANK(I31)),\"\",IF(G31>I31,1,IF(G31<I31,2,\"X\")))","v":""},{"$f":"IF(OR('Results & Table'!H31=\"\",'Results & Table'!J31=\"\",G31=\"\",I31=\"\"),0,IF(G31='Results & Table'!H31,2,0)+IF(I31='Results & Table'!J31,2,0)+IF(J31='Results & Table'!K31,2,0))","v":0},{"$f":"IF(VLOOKUP(D31,BT30:CC34,10,FALSE)=VLOOKUP(F31,BT30:CC34,10,FALSE),VLOOKUP(D31,BT30:CC34,10,FALSE),\"-\")","v":1},1,{"$f":"VLOOKUP(M31,FI31:FJ34,2,FALSE)","v":"Netherlands"},{"$f":"VLOOKUP(N31,BT31:CA34,2,FALSE)","v":0},{"$f":"VLOOKUP(N31,BT31:CA34,3,FALSE)","v":0},{"$f":"VLOOKUP(N31,BT31:CA34,4,FALSE)","v":0},{"$f":"VLOOKUP(N31,BT31:CA34,5,FALSE)","v":0},{"$f":"VLOOKUP(N31,BT31:CA34,6,FALSE)","v":0},{"$f":"VLOOKUP(N31,BT31:CA34,7,FALSE)","v":0},{"$f":"VLOOKUP(N31,BT31:CA34,8,FALSE)","v":0},null,null,null,null,null,null,null,null,null,{"$f":"C31","v":"2024-06-16"},"Poland","-","Netherlands",{"$f":"IF(G31=\"\",\"\",G31)","v":""},"-",{"$f":"IF(I31=\"\",\"\",I31)","v":""},{"$f":"J31","v":""},null,{"$f":"IF(AI31>AK31,1,0)","v":0},{"$f":"IF(AK31>AI31,1,0)","v":0},{"$f":"IF(AND(AI31=AK31,AI31<>\"\"),1,0)","v":0},{"$f":"IF(AND(AI31=AK31,AI31<>\"\"),1,0)","v":0},{"$f":"IF(AI31<AK31,1,0)","v":0},{"$f":"IF(AK31<AI31,1,)","v":0},{"$f":"IF(ISERROR(VLOOKUP(AF31,CF:CF,1,FALSE)),0,1)*IF(ISERROR(VLOOKUP(AH31,CF:CF,1,FALSE)),0,1)*AN31","v":0},{"$f":"IF(ISERROR(VLOOKUP(AF31,CF:CF,1,FALSE)),0,1)*IF(ISERROR(VLOOKUP(AH31,CF:CF,1,FALSE)),0,1)*AO31","v":0},{"$f":"IF(ISERROR(VLOOKUP(AF31,CF:CF,1,FALSE)),0,1)*IF(ISERROR(VLOOKUP(AH31,CF:CF,1,FALSE)),0,1)*AP31","v":0},{"$f":"IF(ISERROR(VLOOKUP(AF31,CF:CF,1,FALSE)),0,1)*IF(ISERROR(VLOOKUP(AH31,CF:CF,1,FALSE)),0,1)*AQ31","v":0},{"$f":"IF(ISERROR(VLOOKUP(AF31,CF:CF,1,FALSE)),0,1)*IF(ISERROR(VLOOKUP(AH31,CF:CF,1,FALSE)),0,1)*AR31","v":0},{"$f":"IF(ISERROR(VLOOKUP(AF31,CF:CF,1,FALSE)),0,1)*IF(ISERROR(VLOOKUP(AH31,CF:CF,1,FALSE)),0,1)*AS31","v":0},{"$f":"IF(ISERROR(VLOOKUP(AF31,CZ:CZ,1,FALSE)),0,1)*IF(ISERROR(VLOOKUP(AH31,CZ:CZ,1,FALSE)),0,1)*AN31","v":0},{"$f":"IF(ISERROR(VLOOKUP(AF31,CZ:CZ,1,FALSE)),0,1)*IF(ISERROR(VLOOKUP(AH31,CZ:CZ,1,FALSE)),0,1)*AO31","v":0},{"$f":"IF(ISERROR(VLOOKUP(AF31,CZ:CZ,1,FALSE)),0,1)*IF(ISERROR(VLOOKUP(AH31,CZ:CZ,1,FALSE)),0,1)*AP31","v":0},{"$f":"IF(ISERROR(VLOOKUP(AF31,CZ:CZ,1,FALSE)),0,1)*IF(ISERROR(VLOOKUP(AH31,CZ:CZ,1,FALSE)),0,1)*AQ31","v":0},{"$f":"IF(ISERROR(VLOOKUP(AF31,CZ:CZ,1,FALSE)),0,1)*IF(ISERROR(VLOOKUP(AH31,CZ:CZ,1,FALSE)),0,1)*AR31","v":0},{"$f":"IF(ISERROR(VLOOKUP(AF31,CZ:CZ,1,FALSE)),0,1)*IF(ISERROR(VLOOKUP(AH31,CZ:CZ,1,FALSE)),0,1)*AS31","v":0},{"$f":"IF(ISERROR(VLOOKUP(AF31,DT:DT,1,FALSE)),0,1)*IF(ISERROR(VLOOKUP(AH31,DT:DT,1,FALSE)),0,1)*AN31","v":0},{"$f":"IF(ISERROR(VLOOKUP(AF31,DT:DT,1,FALSE)),0,1)*IF(ISERROR(VLOOKUP(AH31,DT:DT,1,FALSE)),0,1)*AO31","v":0},{"$f":"IF(ISERROR(VLOOKUP(AF31,DT:DT,1,FALSE)),0,1)*IF(ISERROR(VLOOKUP(AH31,DT:DT,1,FALSE)),0,1)*AP31","v":0},{"$f":"IF(ISERROR(VLOOKUP(AF31,DT:DT,1,FALSE)),0,1)*IF(ISERROR(VLOOKUP(AH31,DT:DT,1,FALSE)),0,1)*AQ31","v":0},{"$f":"IF(ISERROR(VLOOKUP(AF31,DT:DT,1,FALSE)),0,1)*IF(ISERROR(VLOOKUP(AH31,DT:DT,1,FALSE)),0,1)*AR31","v":0},{"$f":"IF(ISERROR(VLOOKUP(AF31,DT:DT,1,FALSE)),0,1)*IF(ISERROR(VLOOKUP(AH31,DT:DT,1,FALSE)),0,1)*AS31","v":0},{"$f":"IF(ISERROR(VLOOKUP(AF31,EN:EN,1,FALSE)),0,1)*IF(ISERROR(VLOOKUP(AH31,EN:EN,1,FALSE)),0,1)*AN31","v":0},{"$f":"IF(ISERROR(VLOOKUP(AF31,EN:EN,1,FALSE)),0,1)*IF(ISERROR(VLOOKUP(AH31,EN:EN,1,FALSE)),0,1)*AO31","v":0},{"$f":"IF(ISERROR(VLOOKUP(AF31,EN:EN,1,FALSE)),0,1)*IF(ISERROR(VLOOKUP(AH31,EN:EN,1,FALSE)),0,1)*AP31","v":0},{"$f":"IF(ISERROR(VLOOKUP(AF31,EN:EN,1,FALSE)),0,1)*IF(ISERROR(VLOOKUP(AH31,EN:EN,1,FALSE)),0,1)*AQ31","v":0},{"$f":"IF(ISERROR(VLOOKUP(AF31,EN:EN,1,FALSE)),0,1)*IF(ISERROR(VLOOKUP(AH31,EN:EN,1,FALSE)),0,1)*AR31","v":0},{"$f":"IF(ISERROR(VLOOKUP(AF31,EN:EN,1,FALSE)),0,1)*IF(ISERROR(VLOOKUP(AH31,EN:EN,1,FALSE)),0,1)*AS31","v":0},null,null,"Netherlands",{"$f":"(SUMIF(AF4:AF54,BT31,AN4:AN54)+SUMIF(AH4:AH54,BT31,AO4:AO54))","v":0},{"$f":"(SUMIF(AF4:AF54,BT31,AP4:AP54)+SUMIF(AH4:AH54,BT31,AQ4:AQ54))","v":0},{"$f":"(SUMIF(AF4:AF54,BT31,AR4:AR54)+SUMIF(AH4:AH54,BT31,AS4:AS54))","v":0},{"$f":"SUMIF(AF4:AF54,BT31,AI4:AI54)+SUMIF(AH4:AH54,BT31,AK4:AK54)","v":0},{"$f":"SUMIF(AF4:AF54,BT31,AK4:AK54)+SUMIF(AH4:AH54,BT31,AI4:AI54)","v":0},{"$f":"BX31-BY31","v":0},{"$f":"IFERROR(BU31*3+BV31*1,0)","v":0},"D",{"$f":"RANK(CA31,CA31:CA34)","v":1},{"$f":"SUMPRODUCT((CA31:CA34=CA31)*(BZ31:BZ34>BZ31))","v":0},null,{"$f":"IF(CC31=1,BT31,)","v":"Netherlands"},{"$f":"(SUMIF(AF4:AF54,BT31,AT4:AT54)+SUMIF(AH4:AH54,BT31,AU4:AU54))","v":0},{"$f":"(SUMIF(AF4:AF54,BT31,AV4:AV54)+SUMIF(AH4:AH54,BT31,AW4:AW54))","v":0},{"$f":"(SUMIF(AF4:AF54,BT31,AX4:AX54)+SUMIF(AH4:AH54,BT31,AY4:AY54))","v":0},{"$f":"IFERROR(CG31*3+CH31*1,0)","v":0},{"$f":"CB31","v":"D"},{"$f":"IF(CF31>0,RANK(CJ31,CJ31:CJ34),)","v":1},{"$f":"IF(AND(CF31>0,COUNTIF(CL31:CL34,CL31)>1),SUMIFS($AI$4:$AI$54,$AF$4:$AF$54,$BT31,$L$4:$L$54,1)+SUMIFS($AK$4:$AK$54,$AH$4:$AH$54,$BT31,$L$4:$L$54,1)-SUMIFS($AK$4:$AK$54,$AF$4:$AF$54,$BT31,$L$4:$L$54,1)-SUMIFS($AI$4:$AI$54,$AH$4:$AH$54,$BT31,$L$4:$L$54,1),)","v":0},{"$f":"IF(AND(CF31>0,COUNTIF(CL31:CL34,CL31)>1),CL31+RANK(CM31,CM31:CM34)-1,CL31)","v":1},{"$f":"IF(AND(CF31>0,COUNTIF(CN31:CN34,CN31)>1),SUMIFS($AI$4:$AI$54,$AF$4:$AF$54,$BT31,$L$4:$L$54,1)+SUMIFS($AK$4:$AK$54,$AH$4:$AH$54,$BT31,$L$4:$L$54,1),)","v":0},{"$f":"IF(AND(CF31>0,COUNTIF(CN31:CN34,CN31)>1),CN31+RANK(CO31,CO31:CO34)-1,CN31)","v":1},{"$f":"IF(CP31=0,\"\",CP31)","v":1},{"$f":"IF(OR(CQ31=\"\",COUNTIF(CQ31:CQ34,CQ31)=1),\"\",$BZ31)","v":0},{"$f":"IF(CQ31=\"\",\"\",IF(COUNTIF(CQ31:CQ34,CQ31)=1,CQ31,CQ31+RANK(CR31,CR31:CR34,0)-1))","v":1},{"$f":"IF(OR(CS31=\"\",COUNTIF(CS31:CS34,CS31)=1),\"\",$BX31)","v":0},{"$f":"IF(CQ31=\"\",\"\",IF(COUNTIF(CS31:CS34,CS31)=1,CS31,CS31+RANK(CT31,CT31:CT34,0)-1))","v":1},{"$f":"IF(OR(CU31=\"\",COUNTIF(CU31:CU34,CU31)=1),\"\",$BU31)","v":0},{"$f":"IF(CQ31=\"\",\"\",IF(COUNTIF(CU31:CU34,CU31)=1,CU31,CU31+RANK(CV31,CV31:CV34,0)-1))","v":1},{"$f":"IF(CF31>0,BM29+RANK(CW31,CW31:CW34,1),)","v":1},null,{"$f":"IF(CC31=2,BT31,)","v":0},{"$f":"(SUMIF(AF4:AF54,BT31,AZ4:AZ54)+SUMIF(AH4:AH54,BT31,BA4:BA54))","v":0},{"$f":"(SUMIF(AF4:AF54,BT31,BB4:BB54)+SUMIF(AH4:AH54,BT31,BC4:BC54))","v":0},{"$f":"(SUMIF(AF4:AF54,BT31,BD4:BD54)+SUMIF(AH4:AH54,BT31,BE4:BE54))","v":0},{"$f":"IFERROR(DA31*3+DB31*1,0)","v":0},{"$f":"CB31","v":"D"},{"$f":"IF(CZ31>0,RANK(DD31,DD31:DD34)+CG29,)","v":0},{"$f":"IF(AND(CZ31>0,COUNTIF(DF31:DF34,DF31)>1),SUMIFS($AI$4:$AI$54,$AF$4:$AF$54,$BT31,$L$4:$L$54,2)+SUMIFS($AK$4:$AK$54,$AH$4:$AH$54,$BT31,$L$4:$L$54,2)-SUMIFS($AK$4:$AK$54,$AF$4:$AF$54,$BT31,$L$4:$L$54,2)-SUMIFS($AI$4:$AI$54,$AH$4:$AH$54,$BT31,$L$4:$L$54,2),)","v":0},{"$f":"IF(AND(CZ31>0,COUNTIF(DF31:DF34,DF31)>1),DF31+RANK(DG31,DG31:DG34)-1,DF31)","v":0},{"$f":"IF(AND(CZ31>0,COUNTIF(DH31:DH34,DH31)>1),SUMIFS($AI$4:$AI$54,$AF$4:$AF$54,$BT31,$L$4:$L$54,2)+SUMIFS($AK$4:$AK$54,$AH$4:$AH$54,$BT31,$L$4:$L$54,2),)","v":0},{"$f":"IF(AND(CZ31>0,COUNTIF(DH31:DH34,DH31)>1),DH31+RANK(DI31,DI31:DI34)-1,DH31)","v":0},{"$f":"IF(DJ31=0,\"\",DJ31)","v":""},{"$f":"IF(OR(DK31=\"\",COUNTIF(DK31:DK34,DK31)=1),\"\",$BZ31)","v":""},{"$f":"IF(DK31=\"\",\"\",IF(COUNTIF(DK31:DK34,DK31)=1,DK31,DK31+RANK(DL31,DL31:DL34,0)-1))","v":""},{"$f":"IF(OR(DM31=\"\",COUNTIF(DM31:DM34,DM31)=1),\"\",$BX31)","v":""},{"$f":"IF(DK31=\"\",\"\",IF(COUNTIF(DM31:DM34,DM31)=1,DM31,DM31+RANK(DN31,DN31:DN34,0)-1))","v":""},{"$f":"IF(OR(DO31=\"\",COUNTIF(DO31:DO34,DO31)=1),\"\",$BU31)","v":""},{"$f":"IF(DK31=\"\",\"\",IF(COUNTIF(DO31:DO34,DO31)=1,DO31,DO31+RANK(DP31,DP31:DP34,0)-1))","v":""},{"$f":"IF(CZ31>0,CG29+RANK(DQ31,DQ31:DQ34,1),)","v":0},null,{"$f":"IF(CC31=3,BT31,)","v":0},{"$f":"(SUMIF(AF4:AF54,BT31,BF4:BF54)+SUMIF(AH4:AH54,BT31,BG4:BG54))","v":0},{"$f":"(SUMIF(AF4:AF54,BT31,BH4:BH54)+SUMIF(AH4:AH54,BT31,BI4:BI54))","v":0},{"$f":"(SUMIF(AF4:AF54,BT31,BJ4:BJ54)+SUMIF(AH4:AH54,BT31,BK4:BK54))","v":0},{"$f":"IFERROR(DU31*3+DV31*1,0)","v":0},{"$f":"CB31","v":"D"},{"$f":"IF(DT31>0,RANK(DX31,DX31:DX34)+CG29+DA29,)","v":0},{"$f":"IF(AND(DT31>0,COUNTIF(DZ31:DZ34,DZ31)>1),SUMIFS($AI$4:$AI$54,$AF$4:$AF$54,$BT31,$L$4:$L$54,3)+SUMIFS($AK$4:$AK$54,$AH$4:$AH$54,$BT31,$L$4:$L$54,3)-SUMIFS($AK$4:$AK$54,$AF$4:$AF$54,$BT31,$L$4:$L$54,3)-SUMIFS($AI$4:$AI$54,$AH$4:$AH$54,$BT31,$L$4:$L$54,3),)","v":0},{"$f":"IF(AND(DT31>0,COUNTIF(DZ31:DZ34,DZ31)>1),DZ31+RANK(EA31,EA31:EA34)-1,DZ31)","v":0},{"$f":"IF(AND(DT31>0,COUNTIF(EB31:EB34,EB31)>1),SUMIFS($AI$4:$AI$54,$AF$4:$AF$54,$BT31,$L$4:$L$54,3)+SUMIFS($AK$4:$AK$54,$AH$4:$AH$54,$BT31,$L$4:$L$54,3),)","v":0},{"$f":"IF(AND(DT31>0,COUNTIF(EB31:EB34,EB31)>1),EB31+RANK(EC31,EC31:EC34)-1,EB31)","v":0},{"$f":"IF(ED31=0,\"\",ED31)","v":""},{"$f":"IF(OR(EE31=\"\",COUNTIF(EE31:EE34,EE31)=1),\"\",$BZ31)","v":""},{"$f":"IF(EE31=\"\",\"\",IF(COUNTIF(EE31:EE34,EE31)=1,EE31,EE31+RANK(EF31,EF31:EF34,0)-1))","v":""},{"$f":"IF(OR(EG31=\"\",COUNTIF(EG31:EG34,EG31)=1),\"\",$BX31)","v":""},{"$f":"IF(EE31=\"\",\"\",IF(COUNTIF(EG31:EG34,EG31)=1,EG31,EG31+RANK(EH31,EH31:EH34,0)-1))","v":""},{"$f":"IF(OR(EI31=\"\",COUNTIF(EI31:EI34,EI31)=1),\"\",$BU31)","v":""},{"$f":"IF(EE31=\"\",\"\",IF(COUNTIF(EI31:EI34,EI31)=1,EI31,EI31+RANK(EJ31,EJ31:EJ34,0)-1))","v":""},{"$f":"IF(DT31>0,CG29+DA29+RANK(EK31,EK31:EK34,1),)","v":0},null,{"$f":"IF(CC31=4,BT31,)","v":0},{"$f":"(SUMIF(AF4:AF54,BT31,BL4:BL54)+SUMIF(AH4:AH54,BT31,BM4:BM54))","v":0},{"$f":"(SUMIF(AF4:AF54,BT31,BN4:BN54)+SUMIF(AH4:AH54,BT31,BO4:BO54))","v":0},{"$f":"(SUMIF(AF4:AF54,BT31,BP4:BP54)+SUMIF(AH4:AH54,BT31,BQ4:BQ54))","v":0},{"$f":"IFERROR(EO31*3+EP31*1,0)","v":0},{"$f":"CB31","v":"D"},{"$f":"IF(EN31>0,RANK(ER31,ER31:ER34)+CG29+DA29+DU29,)","v":0},{"$f":"IF(AND(EN31>0,COUNTIF(ET31:ET34,ET31)>1),SUMIFS($AI$4:$AI$54,$AF$4:$AF$54,$BT31,$L$4:$L$54,4)+SUMIFS($AK$4:$AK$54,$AH$4:$AH$54,$BT31,$L$4:$L$54,4)-SUMIFS($AK$4:$AK$54,$AF$4:$AF$54,$BT31,$L$4:$L$54,4)-SUMIFS($AI$4:$AI$54,$AH$4:$AH$54,$BT31,$L$4:$L$54,4),)","v":0},{"$f":"IF(AND(EN31>0,COUNTIF(ET4:ET7,ET31)>1),ET31+RANK(EU31,EU4:EU7)-1,ET31)","v":0},{"$f":"IF(AND(EN31>0,COUNTIF(EV31:EV34,EV31)>1),SUMIFS($AI$4:$AI$54,$AF$4:$AF$54,$BT31,$L$4:$L$54,4)+SUMIFS($AK$4:$AK$54,$AH$4:$AH$54,$BT31,$L$4:$L$54,4),)","v":0},{"$f":"IF(AND(EN31>0,COUNTIF(EV31:EV34,EV31)>1),EV31+RANK(EW31,EW31:EW34)-1,EV31)","v":0},{"$f":"IF(EX31=0,\"\",EX31)","v":""},{"$f":"IF(OR(EY31=\"\",COUNTIF(EY31:EY34,EY31)=1),\"\",$BZ31)","v":""},{"$f":"IF(EY31=\"\",\"\",IF(COUNTIF(EY31:EY34,EY31)=1,EY31,EY31+RANK(EZ31,EZ31:EZ34,0)-1))","v":""},{"$f":"IF(OR(FA31=\"\",COUNTIF(FA31:FA34,FA31)=1),\"\",$BX31)","v":""},{"$f":"IF(EY31=\"\",\"\",IF(COUNTIF(FA31:FA34,FA31)=1,FA31,FA31+RANK(FB31,FB31:FB34,0)-1))","v":""},{"$f":"IF(OR(FC31=\"\",COUNTIF(FC31:FC34,FC31)=1),\"\",$BU31)","v":""},{"$f":"IF(EY31=\"\",\"\",IF(COUNTIF(FC31:FC34,FC31)=1,FC31,FC31+RANK(FD31,FD31:FD34,0)-1))","v":""},{"$f":"IF(EN31>0,CG29+DA29+DU29+RANK(FE31,FE31:FE34,1),)","v":0},null,{"$f":"IFERROR(VLOOKUP(FJ31,CF30:CX34,19,FALSE),IFERROR(VLOOKUP(FJ31,CZ30:DR34,19,FALSE),IFERROR(VLOOKUP(FJ31,DT30:EL34,19,FALSE),VLOOKUP(FJ31,EN30:FF34,19,FALSE))))","v":1},{"$f":"RANK(FH31,FH31:FH34,1)+COUNTIF(FH31:FH31,FH31)-1","v":1},{"$f":"BT31","v":"Netherlands"}]
[null,null,"2024-06-17","Austria","-","France",null,"-",null,{"$f":"IF(OR(ISBLANK(G32),ISBLANK(I32)),\"\",IF(G32>I32,1,IF(G32<I32,2,\"X\")))","v":""},{"$f":"IF(OR('Results & Table'!H32=\"\",'Results & Table'!J32=\"\",G32=\"\",I32=\"\"),0,IF(G32='Results & Table'!H32,2,0)+IF(I32='Results & Table'!J32,2,0)+IF(J32='Results & Table'!K32,2,0))","v":0},{"$f":"IF(VLOOKUP(D32,BT30:CC34,10,FALSE)=VLOOKUP(F32,BT30:CC34,10,FALSE),VLOOKUP(D32,BT30:CC34,10,FALSE),\"-\")","v":1},2,{"$f":"VLOOKUP(M32,FI31:FJ34,2,FALSE)","v":"France"},{"$f":"VLOOKUP(N32,BT31:CA34,2,FALSE)","v":0},{"$f":"VLOOKUP(N32,BT31:CA34,3,FALSE)","v":0},{"$f":"VLOOKUP(N32,BT31:CA34,4,FALSE)","v":0},{"$f":"VLOOKUP(N32,BT31:CA34,5,FALSE)","v":0},{"$f":"VLOOKUP(N32,BT31:CA34,6,FALSE)","v":0},{"$f":"VLOOKUP(N32,BT31:CA34,7,FALSE)","v":0},{"$f":"VLOOKUP(N32,BT31:CA34,8,FALSE)","v":0},null,null,null,null,null,null,null,null,null,"2024-06-17","Austria","-","France","","-","","",null,0,0,0,0,0,0,0,0,0,0,0,0,0,0,0,0,0,0,0,0,0,0,0,0,0,0,0,0,0,0,null,null,"France",{"$f":"(SUMIF(AF4:AF54,BT32,AN4:AN54)+SUMIF(AH4:AH54,BT32,AO4:AO54))","v":0},{"$f":"(SUMIF(AF4:AF54,BT32,AP4:AP54)+SUMIF(AH4:AH54,BT32,AQ4:AQ54))","v":0},{"$f":"(SUMIF(AF4:AF54,BT32,AR4:AR54)+SUMIF(AH4:AH54,BT32,AS4:AS54))","v":0},{"$f":"SUMIF(AF4:AF54,BT32,AI4:AI54)+SUMIF(AH4:AH54,BT32,AK4:AK54)","v":0},{"$f":"SUMIF(AF4:AF54,BT32,AK4:AK54)+SUMIF(AH4:AH54,BT32,AI4:AI54)","v":0},{"$f":"BX32-BY32","v":0},{"$f":"IFERROR(BU32*3+BV32*1,0)","v":0},"D",{"$f":"RANK(CA32,CA31:CA34)","v":1},{"$f":"SUMPRODUCT((CA31:CA34=CA32)*(BZ31:BZ34>BZ32))","v":0},null,{"$f":"IF(CC32=1,BT32,)","v":"France"},{"$f":"(SUMIF(AF4:AF54,BT32,AT4:AT54)+SUMIF(AH4:AH54,BT32,AU4:AU54))","v":0},{"$f":"(SUMIF(AF4:AF54,BT32,AV4:AV54)+SUMIF(AH4:AH54,BT32,AW4:AW54))","v":0},{"$f":"(SUMIF(AF4:AF54,BT32,AX4:AX54)+SUMIF(AH4:AH54,BT32,AY4:AY54))","v":0},{"$f":"IFERROR(CG32*3+CH32*1,0)","v":0},{"$f":"CB32","v":"D"},{"$f":"IF(CF32>0,RANK(CJ32,CJ31:CJ34),)","v":1},{"$f":"IF(AND(CF32>0,COUNTIF(CL31:CL34,CL32)>1),SUMIFS($AI$4:$AI$54,$AF$4:$AF$54,BT32,$L$4:$L$54,1)+SUMIFS($AK$4:$AK$54,$AH$4:$AH$54,BT32,$L$4:$L$54,1)-SUMIFS($AK$4:$AK$54,$AF$4:$AF$54,BT32,$L$4:$L$54,1)-SUMIFS($AI$4:$AI$54,$AH$4:$AH$54,BT32,$L$4:$L$54,1),)","v":0},{"$f":"IF(AND(CF32>0,COUNTIF(CL31:CL34,CL32)>1),CL32+RANK(CM32,CM31:CM34)-1,CL32)","v":1},{"$f":"IF(AND(CF32>0,COUNTIF(CN31:CN34,CN32)>1),SUMIFS($AI$4:$AI$54,$AF$4:$AF$54,BT32,$L$4:$L$54,1)+SUMIFS($AK$4:$AK$54,$AH$4:$AH$54,BT32,$L$4:$L$54,1),)","v":0},{"$f":"IF(AND(CF32>0,COUNTIF(CN31:CN34,CN32)>1),CN32+RANK(CO32,CO31:CO34)-1,CN32)","v":1},{"$f":"IF(CP32=0,\"\",CP32)","v":1},{"$f":"IF(OR(CQ32=\"\",COUNTIF(CQ31:CQ34,CQ32)=1),\"\",$BZ32)","v":0},{"$f":"IF(CQ32=\"\",\"\",IF(COUNTIF(CQ31:CQ34,CQ32)=1,CQ32,CQ32+RANK(CR32,CR31:CR34,0)-1))","v":1},{"$f":"IF(OR(CS32=\"\",COUNTIF(CS31:CS34,CS32)=1),\"\",$BX32)","v":0},{"$f":"IF(CQ32=\"\",\"\",IF(COUNTIF(CS31:CS34,CS32)=1,CS32,CS32+RANK(CT32,CT31:CT34,0)-1))","v":1},{"$f":"IF(OR(CU32=\"\",COUNTIF(CU31:CU34,CU32)=1),\"\",$BU32)","v":0},{"$f":"IF(CQ32=\"\",\"\",IF(COUNTIF(CU31:CU34,CU32)=1,CU32,CU32+RANK(CV32,CV31:CV34,0)-1))","v":1},{"$f":"IF(CF32>0,BM29+RANK(CW32,CW31:CW34,1),)","v":1},null,{"$f":"IF(CC32=2,BT32,)","v":0},{"$f":"(SUMIF(AF4:AF54,BT32,AZ4:AZ54)+SUMIF(AH4:AH54,BT32,BA4:BA54))","v":0},{"$f":"(SUMIF(AF4:AF54,BT32,BB4:BB54)+SUMIF(AH4:AH54,BT32,BC4:BC54))","v":0},{"$f":"(SUMIF(AF4:AF54,BT32,BD4:BD54)+SUMIF(AH4:AH54,BT32,BE4:BE54))","v":0},{"$f":"IFERROR(DA32*3+DB32*1,0)","v":0},{"$f":"CB32","v":"D"},{"$f":"IF(CZ32>0,RANK(DD32,DD31:DD34)+CG29,)","v":0},{"$f":"IF(AND(CZ32>0,COUNTIF(DF31:DF34,DF32)>1),SUMIFS($AI$4:$AI$54,$AF$4:$AF$54,BT32,$L$4:$L$54,2)+SUMIFS($AK$4:$AK$54,$AH$4:$AH$54,BT32,$L$4:$L$54,2)-SUMIFS($AK$4:$AK$54,$AF$4:$AF$54,BT32,$L$4:$L$54,2)-SUMIFS($AI$4:$AI$54,$AH$4:$AH$54,BT32,$L$4:$L$54,2),)","v":0},{"$f":"IF(AND(CZ32>0,COUNTIF(DF31:DF34,DF32)>1),DF32+RANK(DG32,DG31:DG34)-1,DF32)","v":0},{"$f":"IF(AND(CZ32>0,COUNTIF(DH31:DH34,DH32)>1),SUMIFS($AI$4:$AI$54,$AF$4:$AF$54,BT32,$L$4:$L$54,2)+SUMIFS($AK$4:$AK$54,$AH$4:$AH$54,BT32,$L$4:$L$54,2),)","v":0},{"$f":"IF(AND(CZ32>0,COUNTIF(DH31:DH34,DH32)>1),DH32+RANK(DI32,DI31:DI34)-1,DH32)","v":0},{"$f":"IF(DJ32=0,\"\",DJ32)","v":""},{"$f":"IF(OR(DK32=\"\",COUNTIF(DK31:DK34,DK32)=1),\"\",$BZ32)","v":""},{"$f":"IF(DK32=\"\",\"\",IF(COUNTIF(DK31:DK34,DK32)=1,DK32,DK32+RANK(DL32,DL31:DL34,0)-1))","v":""},{"$f":"IF(OR(DM32=\"\",COUNTIF(DM31:DM34,DM32)=1),\"\",$BX32)","v":""},{"$f":"IF(DK32=\"\",\"\",IF(COUNTIF(DM31:DM34,DM32)=1,DM32,DM32+RANK(DN32,DN31:DN34,0)-1))","v":""},{"$f":"IF(OR(DO32=\"\",COUNTIF(DO31:DO34,DO32)=1),\"\",$BU32)","v":""},{"$f":"IF(DK32=\"\",\"\",IF(COUNTIF(DO31:DO34,DO32)=1,DO32,DO32+RANK(DP32,DP31:DP34,0)-1))","v":""},{"$f":"IF(CZ32>0,CG29+RANK(DQ32,DQ31:DQ34,1),)","v":0},null,{"$f":"IF(CC32=3,BT32,)","v":0},{"$f":"(SUMIF(AF4:AF54,BT32,BF4:BF54)+SUMIF(AH4:AH54,BT32,BG4:BG54))","v":0},{"$f":"(SUMIF(AF4:AF54,BT32,BH4:BH54)+SUMIF(AH4:AH54,BT32,BI4:BI54))","v":0},{"$f":"(SUMIF(AF4:AF54,BT32,BJ4:BJ54)+SUMIF(AH4:AH54,BT32,BK4:BK54))","v":0},{"$f":"IFERROR(DU32*3+DV32*1,0)","v":0},{"$f":"CB32","v":"D"},{"$f":"IF(DT32>0,RANK(DX32,DX31:DX34)+CG29+DA29,)","v":0},{"$f":"IF(AND(DT32>0,COUNTIF(DZ31:DZ34,DZ32)>1),SUMIFS($AI$4:$AI$54,$AF$4:$AF$54,BT32,$L$4:$L$54,3)+SUMIFS($AK$4:$AK$54,$AH$4:$AH$54,BT32,$L$4:$L$54,3)-SUMIFS($AK$4:$AK$54,$AF$4:$AF$54,BT32,$L$4:$L$54,3)-SUMIFS($AI$4:$AI$54,$AH$4:$AH$54,BT32,$L$4:$L$54,3),)","v":0},{"$f":"IF(AND(DT32>0,COUNTIF(DZ31:DZ34,DZ32)>1),DZ32+RANK(EA32,EA31:EA34)-1,DZ32)","v":0},{"$f":"IF(AND(DT32>0,COUNTIF(EB31:EB34,EB32)>1),SUMIFS($AI$4:$AI$54,$AF$4:$AF$54,BT32,$L$4:$L$54,3)+SUMIFS($AK$4:$AK$54,$AH$4:$AH$54,BT32,$L$4:$L$54,3),)","v":0},{"$f":"IF(AND(DT32>0,COUNTIF(EB31:EB34,EB32)>1),EB32+RANK(EC32,EC31:EC34)-1,EB32)","v":0},{"$f":"IF(ED32=0,\"\",ED32)","v":""},{"$f":"IF(OR(EE32=\"\",COUNTIF(EE31:EE34,EE32)=1),\"\",$BZ32)","v":""},{"$f":"IF(EE32=\"\",\"\",IF(COUNTIF(EE31:EE34,EE32)=1,EE32,EE32+RANK(EF32,EF31:EF34,0)-1))","v":""},{"$f":"IF(OR(EG32=\"\",COUNTIF(EG31:EG34,EG32)=1),\"\",$BX32)","v":""},{"$f":"IF(EE32=\"\",\"\",IF(COUNTIF(EG31:EG34,EG32)=1,EG32,EG32+RANK(EH32,EH31:EH34,0)-1))","v":""},{"$f":"IF(OR(EI32=\"\",COUNTIF(EI31:EI34,EI32)=1),\"\",$BU32)","v":""},{"$f":"IF(EE32=\"\",\"\",IF(COUNTIF(EI31:EI34,EI32)=1,EI32,EI32+RANK(EJ32,EJ31:EJ34,0)-1))","v":""},{"$f":"IF(DT32>0,CG29+DA29+RANK(EK32,EK31:EK34,1),)","v":0},null,{"$f":"IF(CC32=4,BT32,)","v":0},{"$f":"(SUMIF(AF4:AF54,BT32,BL4:BL54)+SUMIF(AH4:AH54,BT32,BM4:BM54))","v":0},{"$f":"(SUMIF(AF4:AF54,BT32,BN4:BN54)+SUMIF(AH4:AH54,BT32,BO4:BO54))","v":0},{"$f":"(SUMIF(AF4:AF54,BT32,BP4:BP54)+SUMIF(AH4:AH54,BT32,BQ4:BQ54))","v":0},{"$f":"IFERROR(EO32*3+EP32*1,0)","v":0},{"$f":"CB32","v":"D"},{"$f":"IF(EN32>0,RANK(ER32,ER31:ER34)+CG29+DA29+DU29,)","v":0},{"$f":"IF(AND(EN32>0,COUNTIF(ET31:ET34,ET32)>1),SUMIFS($AI$4:$AI$54,$AF$4:$AF$54,BT32,$L$4:$L$54,4)+SUMIFS($AK$4:$AK$54,$AH$4:$AH$54,BT32,$L$4:$L$54,4)-SUMIFS($AK$4:$AK$54,$AF$4:$AF$54,BT32,$L$4:$L$54,4)-SUMIFS($AI$4:$AI$54,$AH$4:$AH$54,BT32,$L$4:$L$54,4),)","v":0},{"$f":"IF(AND(EN32>0,COUNTIF(ET4:ET7,ET32)>1),ET32+RANK(EU32,EU4:EU7)-1,ET32)","v":0},{"$f":"IF(AND(EN32>0,COUNTIF(EV31:EV34,EV32)>1),SUMIFS($AI$4:$AI$54,$AF$4:$AF$54,BT32,$L$4:$L$54,4)+SUMIFS($AK$4:$AK$54,$AH$4:$AH$54,BT32,$L$4:$L$54,4),)","v":0},{"$f":"IF(AND(EN32>0,COUNTIF(EV31:EV34,EV32)>1),EV32+RANK(EW32,EW31:EW34)-1,EV32)","v":0},{"$f":"IF(EX32=0,\"\",EX32)","v":""},{"$f":"IF(OR(EY32=\"\",COUNTIF(EY31:EY34,EY32)=1),\"\",$BZ32)","v":""},{"$f":"IF(EY32=\"\",\"\",IF(COUNTIF(EY31:EY34,EY32)=1,EY32,EY32+RANK(EZ32,EZ31:EZ34,0)-1))","v":""},{"$f":"IF(OR(FA32=\"\",COUNTIF(FA31:FA34,FA32)=1),\"\",$BX32)","v":""},{"$f":"IF(EY32=\"\",\"\",IF(COUNTIF(FA31:FA34,FA32)=1,FA32,FA32+RANK(FB32,FB31:FB34,0)-1))","v":""},{"$f":"IF(OR(FC32=\"\",COUNTIF(FC31:FC34,FC32)=1),\"\",$BU32)","v":""},{"$f":"IF(EY32=\"\",\"\",IF(COUNTIF(FC31:FC34,FC32)=1,FC32,FC32+RANK(FD32,FD31:FD34,0)-1))","v":""},{"$f":"IF(EN32>0,CG29+DA29+DU29+RANK(FE32,FE31:FE34,1),)","v":0},null,{"$f":"IFERROR(VLOOKUP(FJ32,CF30:CX34,19,FALSE),IFERROR(VLOOKUP(FJ32,CZ30:DR34,19,FALSE),IFERROR(VLOOKUP(FJ32,DT30:EL34,19,FALSE),VLOOKUP(FJ32,EN30:FF34,19,FALSE))))","v":1},{"$f":"RANK(FH32,FH31:FH34,1)+COUNTIF(FH31:FH32,FH32)-1","v":2},{"$f":"BT32","v":"France"}]
[null,null,"2024-06-21","Poland","-","Austria",null,"-",null,"",{"$f":"IF(OR('Results & Table'!H33=\"\",'Results & Table'!J33=\"\",G33=\"\",I33=\"\"),0,IF(G33='Results & Table'!H33,2,0)+IF(I33='Results & Table'!J33,2,0)+IF(J33='Results & Table'!K33,2,0))","v":0},{"$f":"IF(VLOOKUP(D33,BT30:CC34,10,FALSE)=VLOOKUP(F33,BT30:CC34,10,FALSE),VLOOKUP(D33,BT30:CC34,10,FALSE),\"-\")","v":1},3,{"$f":"VLOOKUP(M33,FI31:FJ34,2,FALSE)","v":"Poland"},{"$f":"VLOOKUP(N33,BT31:CA34,2,FALSE)","v":0},{"$f":"VLOOKUP(N33,BT31:CA34,3,FALSE)","v":0},{"$f":"VLOOKUP(N33,BT31:CA34,4,FALSE)","v":0},{"$f":"VLOOKUP(N33,BT31:CA34,5,FALSE)","v":0},{"$f":"VLOOKUP(N33,BT31:CA34,6,FALSE)","v":0},{"$f":"VLOOKUP(N33,BT31:CA34,7,FALSE)","v":0},{"$f":"VLOOKUP(N33,BT31:CA34,8,FALSE)","v":0},null,null,null,null,null,null,null,null,null,"2024-06-21","Poland","-","Austria","","-","","",null,0,0,0,0,0,0,0,0,0,0,0,0,0,0,0,0,0,0,0,0,0,0,0,0,0,0,0,0,0,0,null,null,"Poland",{"$f":"(SUMIF(AF4:AF54,BT33,AN4:AN54)+SUMIF(AH4:AH54,BT33,AO4:AO54))","v":0},{"$f":"(SUMIF(AF4:AF54,BT33,AP4:AP54)+SUMIF(AH4:AH54,BT33,AQ4:AQ54))","v":0},{"$f":"(SUMIF(AF4:AF54,BT33,AR4:AR54)+SUMIF(AH4:AH54,BT33,AS4:AS54))","v":0},{"$f":"SUMIF(AF4:AF54,BT33,AI4:AI54)+SUMIF(AH4:AH54,BT33,AK4:AK54)","v":0},{"$f":"SUMIF(AF4:AF54,BT33,AK4:AK54)+SUMIF(AH4:AH54,BT33,AI4:AI54)","v":0},{"$f":"BX33-BY33","v":0},{"$f":"IFERROR(BU33*3+BV33*1,0)","v":0},"D",{"$f":"RANK(CA33,CA31:CA34)","v":1},{"$f":"SUMPRODUCT((CA31:CA34=CA33)*(BZ31:BZ34>BZ33))","v":0},null,{"$f":"IF(CC33=1,BT33,)","v":"Poland"},{"$f":"(SUMIF(AF4:AF54,BT33,AT4:AT54)+SUMIF(AH4:AH54,BT33,AU4:AU54))","v":0},{"$f":"(SUMIF(AF4:AF54,BT33,AV4:AV54)+SUMIF(AH4:AH54,BT33,AW4:AW54))","v":0},{"$f":"(SUMIF(AF4:AF54,BT33,AX4:AX54)+SUMIF(AH4:AH54,BT33,AY4:AY54))","v":0},0,{"$f":"CB33","v":"D"},{"$f":"IF(CF33>0,RANK(CJ33,CJ31:CJ34),)","v":1},{"$f":"IF(AND(CF33>0,COUNTIF(CL31:CL34,CL33)>1),SUMIFS($AI$4:$AI$54,$AF$4:$AF$54,BT33,$L$4:$L$54,1)+SUMIFS($AK$4:$AK$54,$AH$4:$AH$54,BT33,$L$4:$L$54,1)-SUMIFS($AK$4:$AK$54,$AF$4:$AF$54,BT33,$L$4:$L$54,1)-SUMIFS($AI$4:$AI$54,$AH$4:$AH$54,BT33,$L$4:$L$54,1),)","v":0},{"$f":"IF(AND(CF33>0,COUNTIF(CL31:CL34,CL33)>1),CL33+RANK(CM33,CM31:CM34)-1,CL33)","v":1},{"$f":"IF(AND(CF33>0,COUNTIF(CN31:CN34,CN33)>1),SUMIFS($AI$4:$AI$54,$AF$4:$AF$54,BT33,$L$4:$L$54,1)+SUMIFS($AK$4:$AK$54,$AH$4:$AH$54,BT33,$L$4:$L$54,1),)","v":0},{"$f":"IF(AND(CF33>0,COUNTIF(CN31:CN34,CN33)>1),CN33+RANK(CO33,CO31:CO34)-1,CN33)","v":1},1,{"$f":"IF(OR(CQ33=\"\",COUNTIF(CQ31:CQ34,CQ33)=1),\"\",$BZ33)","v":0},{"$f":"IF(CQ33=\"\",\"\",IF(COUNTIF(CQ31:CQ34,CQ33)=1,CQ33,CQ33+RANK(CR33,CR31:CR34,0)-1))","v":1},{"$f":"IF(OR(CS33=\"\",COUNTIF(CS31:CS34,CS33)=1),\"\",$BX33)","v":0},{"$f":"IF(CQ33=\"\",\"\",IF(COUNTIF(CS31:CS34,CS33)=1,CS33,CS33+RANK(CT33,CT31:CT34,0)-1))","v":1},{"$f":"IF(OR(CU33=\"\",COUNTIF(CU31:CU34,CU33)=1),\"\",$BU33)","v":0},{"$f":"IF(CQ33=\"\",\"\",IF(COUNTIF(CU31:CU34,CU33)=1,CU33,CU33+RANK(CV33,CV31:CV34,0)-1))","v":1},{"$f":"IF(CF33>0,BM29+RANK(CW33,CW31:CW34,1),)","v":1},null,{"$f":"IF(CC33=2,BT33,)","v":0},{"$f":"(SUMIF(AF4:AF54,BT33,AZ4:AZ54)+SUMIF(AH4:AH54,BT33,BA4:BA54))","v":0},{"$f":"(SUMIF(AF4:AF54,BT33,BB4:BB54)+SUMIF(AH4:AH54,BT33,BC4:BC54))","v":0},{"$f":"(SUMIF(AF4:AF54,BT33,BD4:BD54)+SUMIF(AH4:AH54,BT33,BE4:BE54))","v":0},0,{"$f":"CB33","v":"D"},{"$f":"IF(CZ33>0,RANK(DD33,DD31:DD34)+CG29,)","v":0},{"$f":"IF(AND(CZ33>0,COUNTIF(DF31:DF34,DF33)>1),SUMIFS($AI$4:$AI$54,$AF$4:$AF$54,BT33,$L$4:$L$54,2)+SUMIFS($AK$4:$AK$54,$AH$4:$AH$54,BT33,$L$4:$L$54,2)-SUMIFS($AK$4:$AK$54,$AF$4:$AF$54,BT33,$L$4:$L$54,2)-SUMIFS($AI$4:$AI$54,$AH$4:$AH$54,BT33,$L$4:$L$54,2),)","v":0},{"$f":"IF(AND(CZ33>0,COUNTIF(DF31:DF34,DF33)>1),DF33+RANK(DG33,DG31:DG34)-1,DF33)","v":0},{"$f":"IF(AND(CZ33>0,COUNTIF(DH31:DH34,DH33)>1),SUMIFS($AI$4:$AI$54,$AF$4:$AF$54,BT33,$L$4:$L$54,2)+SUMIFS($AK$4:$AK$54,$AH$4:$AH$54,BT33,$L$4:$L$54,2),)","v":0},{"$f":"IF(AND(CZ33>0,COUNTIF(DH31:DH34,DH33)>1),DH33+RANK(DI33,DI31:DI34)-1,DH33)","v":0},"",{"$f":"IF(OR(DK33=\"\",COUNTIF(DK31:DK34,DK33)=1),\"\",$BZ33)","v":""},{"$f":"IF(DK33=\"\",\"\",IF(COUNTIF(DK31:DK34,DK33)=1,DK33,DK33+RANK(DL33,DL31:DL34,0)-1))","v":""},{"$f":"IF(OR(DM33=\"\",COUNTIF(DM31:DM34,DM33)=1),\"\",$BX33)","v":""},{"$f":"IF(DK33=\"\",\"\",IF(COUNTIF(DM31:DM34,DM33)=1,DM33,DM33+RANK(DN33,DN31:DN34,0)-1))","v":""},{"$f":"IF(OR(DO33=\"\",COUNTIF(DO31:DO34,DO33)=1),\"\",$BU33)","v":""},{"$f":"IF(DK33=\"\",\"\",IF(COUNTIF(DO31:DO34,DO33)=1,DO33,DO33+RANK(DP33,DP31:DP34,0)-1))","v":""},{"$f":"IF(CZ33>0,CG29+RANK(DQ33,DQ31:DQ34,1),)","v":0},null,{"$f":"IF(CC33=3,BT33,)","v":0},{"$f":"(SUMIF(AF4:AF54,BT33,BF4:BF54)+SUMIF(AH4:AH54,BT33,BG4:BG54))","v":0},{"$f":"(SUMIF(AF4:AF54,BT33,BH4:BH54)+SUMIF(AH4:AH54,BT33,BI4:BI54))","v":0},{"$f":"(SUMIF(AF4:AF54,BT33,BJ4:BJ54)+SUMIF(AH4:AH54,BT33,BK4:BK54))","v":0},0,{"$f":"CB33","v":"D"},{"$f":"IF(DT33>0,RANK(DX33,DX31:DX34)+CG29+DA29,)","v":0},{"$f":"IF(AND(DT33>0,COUNTIF(DZ31:DZ34,DZ33)>1),SUMIFS($AI$4:$AI$54,$AF$4:$AF$54,BT33,$L$4:$L$54,3)+SUMIFS($AK$4:$AK$54,$AH$4:$AH$54,BT33,$L$4:$L$54,3)-SUMIFS($AK$4:$AK$54,$AF$4:$AF$54,BT33,$L$4:$L$54,3)-SUMIFS($AI$4:$AI$54,$AH$4:$AH$54,BT33,$L$4:$L$54,3),)","v":0},{"$f":"IF(AND(DT33>0,COUNTIF(DZ31:DZ34,DZ33)>1),DZ33+RANK(EA33,EA31:EA34)-1,DZ33)","v":0},{"$f":"IF(AND(DT33>0,COUNTIF(EB31:EB34,EB33)>1),SUMIFS($AI$4:$AI$54,$AF$4:$AF$54,BT33,$L$4:$L$54,3)+SUMIFS($AK$4:$AK$54,$AH$4:$AH$54,BT33,$L$4:$L$54,3),)","v":0},{"$f":"IF(AND(DT33>0,COUNTIF(EB31:EB34,EB33)>1),EB33+RANK(EC33,EC31:EC34)-1,EB33)","v":0},"",{"$f":"IF(OR(EE33=\"\",COUNTIF(EE31:EE34,EE33)=1),\"\",$BZ33)","v":""},{"$f":"IF(EE33=\"\",\"\",IF(COUNTIF(EE31:EE34,EE33)=1,EE33,EE33+RANK(EF33,EF31:EF34,0)-1))","v":""},{"$f":"IF(OR(EG33=\"\",COUNTIF(EG31:EG34,EG33)=1),\"\",$BX33)","v":""},{"$f":"IF(EE33=\"\",\"\",IF(COUNTIF(EG31:EG34,EG33)=1,EG33,EG33+RANK(EH33,EH31:EH34,0)-1))","v":""},{"$f":"IF(OR(EI33=\"\",COUNTIF(EI31:EI34,EI33)=1),\"\",$BU33)","v":""},{"$f":"IF(EE33=\"\",\"\",IF(COUNTIF(EI31:EI34,EI33)=1,EI33,EI33+RANK(EJ33,EJ31:EJ34,0)-1))","v":""},{"$f":"IF(DT33>0,CG29+DA29+RANK(EK33,EK31:EK34,1),)","v":0},null,{"$f":"IF(CC33=4,BT33,)","v":0},{"$f":"(SUMIF(AF4:AF54,BT33,BL4:BL54)+SUMIF(AH4:AH54,BT33,BM4:BM54))","v":0},{"$f":"(SUMIF(AF4:AF54,BT33,BN4:BN54)+SUMIF(AH4:AH54,BT33,BO4:BO54))","v":0},{"$f":"(SUMIF(AF4:AF54,BT33,BP4:BP54)+SUMIF(AH4:AH54,BT33,BQ4:BQ54))","v":0},0,{"$f":"CB33","v":"D"},{"$f":"IF(EN33>0,RANK(ER33,ER31:ER34)+CG29+DA29+DU29,)","v":0},{"$f":"IF(AND(EN33>0,COUNTIF(ET31:ET34,ET33)>1),SUMIFS($AI$4:$AI$54,$AF$4:$AF$54,BT33,$L$4:$L$54,4)+SUMIFS($AK$4:$AK$54,$AH$4:$AH$54,BT33,$L$4:$L$54,4)-SUMIFS($AK$4:$AK$54,$AF$4:$AF$54,BT33,$L$4:$L$54,4)-SUMIFS($AI$4:$AI$54,$AH$4:$AH$54,BT33,$L$4:$L$54,4),)","v":0},{"$f":"IF(AND(EN33>0,COUNTIF(ET4:ET7,ET33)>1),ET33+RANK(EU33,EU4:EU7)-1,ET33)","v":0},{"$f":"IF(AND(EN33>0,COUNTIF(EV31:EV34,EV33)>1),SUMIFS($AI$4:$AI$54,$AF$4:$AF$54,BT33,$L$4:$L$54,4)+SUMIFS($AK$4:$AK$54,$AH$4:$AH$54,BT33,$L$4:$L$54,4),)","v":0},{"$f":"IF(AND(EN33>0,COUNTIF(EV31:EV34,EV33)>1),EV33+RANK(EW33,EW31:EW34)-1,EV33)","v":0},"",{"$f":"IF(OR(EY33=\"\",COUNTIF(EY31:EY34,EY33)=1),\"\",$BZ33)","v":""},{"$f":"IF(EY33=\"\",\"\",IF(COUNTIF(EY31:EY34,EY33)=1,EY33,EY33+RANK(EZ33,EZ31:EZ34,0)-1))","v":""},{"$f":"IF(OR(FA33=\"\",COUNTIF(FA31:FA34,FA33)=1),\"\",$BX33)","v":""},{"$f":"IF(EY33=\"\",\"\",IF(COUNTIF(FA31:FA34,FA33)=1,FA33,FA33+RANK(FB33,FB31:FB34,0)-1))","v":""},{"$f":"IF(OR(FC33=\"\",COUNTIF(FC31:FC34,FC33)=1),\"\",$BU33)","v":""},{"$f":"IF(EY33=\"\",\"\",IF(COUNTIF(FC31:FC34,FC33)=1,FC33,FC33+RANK(FD33,FD31:FD34,0)-1))","v":""},{"$f":"IF(EN33>0,CG29+DA29+DU29+RANK(FE33,FE31:FE34,1),)","v":0},null,{"$f":"IFERROR(VLOOKUP(FJ33,CF30:CX34,19,FALSE),IFERROR(VLOOKUP(FJ33,CZ30:DR34,19,FALSE),IFERROR(VLOOKUP(FJ33,DT30:EL34,19,FALSE),VLOOKUP(FJ33,EN30:FF34,19,FALSE))))","v":1},{"$f":"RANK(FH33,FH31:FH34,1)+COUNTIF(FH31:FH33,FH33)-1","v":3},{"$f":"BT33","v":"Poland"}]
[null,null,"2024-06-21","Netherlands","-","France",null,"-",null,"",{"$f":"IF(OR('Results & Table'!H34=\"\",'Results & Table'!J34=\"\",G34=\"\",I34=\"\"),0,IF(G34='Results & Table'!H34,2,0)+IF(I34='Results & Table'!J34,2,0)+IF(J34='Results & Table'!K34,2,0))","v":0},{"$f":"IF(VLOOKUP(D34,BT30:CC34,10,FALSE)=VLOOKUP(F34,BT30:CC34,10,FALSE),VLOOKUP(D34,BT30:CC34,10,FALSE),\"-\")","v":1},4,{"$f":"VLOOKUP(M34,FI31:FJ34,2,FALSE)","v":"Austria"},{"$f":"VLOOKUP(N34,BT31:CA34,2,FALSE)","v":0},{"$f":"VLOOKUP(N34,BT31:CA34,3,FALSE)","v":0},{"$f":"VLOOKUP(N34,BT31:CA34,4,FALSE)","v":0},{"$f":"VLOOKUP(N34,BT31:CA34,5,FALSE)","v":0},{"$f":"VLOOKUP(N34,BT31:CA34,6,FALSE)","v":0},{"$f":"VLOOKUP(N34,BT31:CA34,7,FALSE)","v":0},{"$f":"VLOOKUP(N34,BT31:CA34,8,FALSE)","v":0},null,null,null,null,null,null,null,null,null,"2024-06-21","Netherlands","-","France","","-","","",null,0,0,0,0,0,0,0,0,0,0,0,0,0,0,0,0,0,0,0,0,0,0,0,0,0,0,0,0,0,0,null,null,"Austria",{"$f":"(SUMIF(AF4:AF54,BT34,AN4:AN54)+SUMIF(AH4:AH54,BT34,AO4:AO54))","v":0},{"$f":"(SUMIF(AF4:AF54,BT34,AP4:AP54)+SUMIF(AH4:AH54,BT34,AQ4:AQ54))","v":0},{"$f":"(SUMIF(AF4:AF54,BT34,AR4:AR54)+SUMIF(AH4:AH54,BT34,AS4:AS54))","v":0},{"$f":"SUMIF(AF4:AF54,BT34,AI4:AI54)+SUMIF(AH4:AH54,BT34,AK4:AK54)","v":0},{"$f":"SUMIF(AF4:AF54,BT34,AK4:AK54)+SUMIF(AH4:AH54,BT34,AI4:AI54)","v":0},{"$f":"BX34-BY34","v":0},{"$f":"IFERROR(BU34*3+BV34*1,0)","v":0},"D",{"$f":"RANK(CA34,CA31:CA34)","v":1},{"$f":"SUMPRODUCT((CA31:CA34=CA34)*(BZ31:BZ34>BZ34))","v":0},null,{"$f":"IF(CC34=1,BT34,)","v":"Austria"},{"$f":"(SUMIF(AF4:AF54,BT34,AT4:AT54)+SUMIF(AH4:AH54,BT34,AU4:AU54))","v":0},{"$f":"(SUMIF(AF4:AF54,BT34,AV4:AV54)+SUMIF(AH4:AH54,BT34,AW4:AW54))","v":0},{"$f":"(SUMIF(AF4:AF54,BT34,AX4:AX54)+SUMIF(AH4:AH54,BT34,AY4:AY54))","v":0},0,{"$f":"CB34","v":"D"},{"$f":"IF(CF34>0,RANK(CJ34,CJ31:CJ34),)","v":1},{"$f":"IF(AND(CF34>0,COUNTIF(CL31:CL34,CL34)>1),SUMIFS($AI$4:$AI$54,$AF$4:$AF$54,BT34,$L$4:$L$54,1)+SUMIFS($AK$4:$AK$54,$AH$4:$AH$54,BT34,$L$4:$L$54,1)-SUMIFS($AK$4:$AK$54,$AF$4:$AF$54,BT34,$L$4:$L$54,1)-SUMIFS($AI$4:$AI$54,$AH$4:$AH$54,BT34,$L$4:$L$54,1),)","v":0},{"$f":"IF(AND(CF34>0,COUNTIF(CL31:CL34,CL34)>1),CL34+RANK(CM34,CM31:CM34)-1,CL34)","v":1},{"$f":"IF(AND(CF34>0,COUNTIF(CN31:CN34,CN34)>1),SUMIFS($AI$4:$AI$54,$AF$4:$AF$54,BT34,$L$4:$L$54,1)+SUMIFS($AK$4:$AK$54,$AH$4:$AH$54,BT34,$L$4:$L$54,1),)","v":0},{"$f":"IF(AND(CF34>0,COUNTIF(CN31:CN34,CN34)>1),CN34+RANK(CO34,CO31:CO34)-1,CN34)","v":1},1,{"$f":"IF(OR(CQ34=\"\",COUNTIF(CQ31:CQ34,CQ34)=1),\"\",$BZ34)","v":0},{"$f":"IF(CQ34=\"\",\"\",IF(COUNTIF(CQ31:CQ34,CQ34)=1,CQ34,CQ34+RANK(CR34,CR31:CR34,0)-1))","v":1},{"$f":"IF(OR(CS34=\"\",COUNTIF(CS31:CS34,CS34)=1),\"\",$BX34)","v":0},{"$f":"IF(CQ34=\"\",\"\",IF(COUNTIF(CS31:CS34,CS34)=1,CS34,CS34+RANK(CT34,CT31:CT34,0)-1))","v":1},{"$f":"IF(OR(CU34=\"\",COUNTIF(CU31:CU34,CU34)=1),\"\",$BU34)","v":0},{"$f":"IF(CQ34=\"\",\"\",IF(COUNTIF(CU31:CU34,CU34)=1,CU34,CU34+RANK(CV34,CV31:CV34,0)-1))","v":1},{"$f":"IF(CF34>0,BM29+RANK(CW34,CW31:CW34,1),)","v":1},null,{"$f":"IF(CC34=2,BT34,)","v":0},{"$f":"(SUMIF(AF4:AF54,BT34,AZ4:AZ54)+SUMIF(AH4:AH54,BT34,BA4:BA54))","v":0},{"$f":"(SUMIF(AF4:AF54,BT34,BB4:BB54)+SUMIF(AH4:AH54,BT34,BC4:BC54))","v":0},{"$f":"(SUMIF(AF4:AF54,BT34,BD4:BD54)+SUMIF(AH4:AH54,BT34,BE4:BE54))","v":0},0,{"$f":"CB34","v":"D"},{"$f":"IF(CZ34>0,RANK(DD34,DD31:DD34)+CG29,)","v":0},{"$f":"IF(AND(CZ34>0,COUNTIF(DF31:DF34,DF34)>1),SUMIFS($AI$4:$AI$54,$AF$4:$AF$54,BT34,$L$4:$L$54,2)+SUMIFS($AK$4:$AK$54,$AH$4:$AH$54,BT34,$L$4:$L$54,2)-SUMIFS($AK$4:$AK$54,$AF$4:$AF$54,BT34,$L$4:$L$54,2)-SUMIFS($AI$4:$AI$54,$AH$4:$AH$54,BT34,$L$4:$L$54,2),)","v":0},{"$f":"IF(AND(CZ34>0,COUNTIF(DF31:DF34,DF34)>1),DF34+RANK(DG34,DG31:DG34)-1,DF34)","v":0},{"$f":"IF(AND(CZ34>0,COUNTIF(DH31:DH34,DH34)>1),SUMIFS($AI$4:$AI$54,$AF$4:$AF$54,BT34,$L$4:$L$54,2)+SUMIFS($AK$4:$AK$54,$AH$4:$AH$54,BT34,$L$4:$L$54,2),)","v":0},{"$f":"IF(AND(CZ34>0,COUNTIF(DH31:DH34,DH34)>1),DH34+RANK(DI34,DI31:DI34)-1,DH34)","v":0},"",{"$f":"IF(OR(DK34=\"\",COUNTIF(DK31:DK34,DK34)=1),\"\",$BZ34)","v":""},{"$f":"IF(DK34=\"\",\"\",IF(COUNTIF(DK31:DK34,DK34)=1,DK34,DK34+RANK(DL34,DL31:DL34,0)-1))","v":""},{"$f":"IF(OR(DM34=\"\",COUNTIF(DM31:DM34,DM34)=1),\"\",$BX34)","v":""},{"$f":"IF(DK34=\"\",\"\",IF(COUNTIF(DM31:DM34,DM34)=1,DM34,DM34+RANK(DN34,DN31:DN34,0)-1))","v":""},{"$f":"IF(OR(DO34=\"\",COUNTIF(DO31:DO34,DO34)=1),\"\",$BU34)","v":""},{"$f":"IF(DK34=\"\",\"\",IF(COUNTIF(DO31:DO34,DO34)=1,DO34,DO34+RANK(DP34,DP31:DP34,0)-1))","v":""},{"$f":"IF(CZ34>0,CG29+RANK(DQ34,DQ31:DQ34,1),)","v":0},null,{"$f":"IF(CC34=3,BT34,)","v":0},{"$f":"(SUMIF(AF4:AF54,BT34,BF4:BF54)+SUMIF(AH4:AH54,BT34,BG4:BG54))","v":0},{"$f":"(SUMIF(AF4:AF54,BT34,BH4:BH54)+SUMIF(AH4:AH54,BT34,BI4:BI54))","v":0},{"$f":"(SUMIF(AF4:AF54,BT34,BJ4:BJ54)+SUMIF(AH4:AH54,BT34,BK4:BK54))","v":0},0,{"$f":"CB34","v":"D"},{"$f":"IF(DT34>0,RANK(DX34,DX31:DX34)+CG29+DA29,)","v":0},{"$f":"IF(AND(DT34>0,COUNTIF(DZ31:DZ34,DZ34)>1),SUMIFS($AI$4:$AI$54,$AF$4:$AF$54,BT34,$L$4:$L$54,3)+SUMIFS($AK$4:$AK$54,$AH$4:$AH$54,BT34,$L$4:$L$54,3)-SUMIFS($AK$4:$AK$54,$AF$4:$AF$54,BT34,$L$4:$L$54,3)-SUMIFS($AI$4:$AI$54,$AH$4:$AH$54,BT34,$L$4:$L$54,3),)","v":0},{"$f":"IF(AND(DT34>0,COUNTIF(DZ31:DZ34,DZ34)>1),DZ34+RANK(EA34,EA31:EA34)-1,DZ34)","v":0},{"$f":"IF(AND(DT34>0,COUNTIF(EB31:EB34,EB34)>1),SUMIFS($AI$4:$AI$54,$AF$4:$AF$54,BT34,$L$4:$L$54,3)+SUMIFS($AK$4:$AK$54,$AH$4:$AH$54,BT34,$L$4:$L$54,3),)","v":0},{"$f":"IF(AND(DT34>0,COUNTIF(EB31:EB34,EB34)>1),EB34+RANK(EC34,EC31:EC34)-1,EB34)","v":0},"",{"$f":"IF(OR(EE34=\"\",COUNTIF(EE31:EE34,EE34)=1),\"\",$BZ34)","v":""},{"$f":"IF(EE34=\"\",\"\",IF(COUNTIF(EE31:EE34,EE34)=1,EE34,EE34+RANK(EF34,EF31:EF34,0)-1))","v":""},{"$f":"IF(OR(EG34=\"\",COUNTIF(EG31:EG34,EG34)=1),\"\",$BX34)","v":""},{"$f":"IF(EE34=\"\",\"\",IF(COUNTIF(EG31:EG34,EG34)=1,EG34,EG34+RANK(EH34,EH31:EH34,0)-1))","v":""},{"$f":"IF(OR(EI34=\"\",COUNTIF(EI31:EI34,EI34)=1),\"\",$BU34)","v":""},{"$f":"IF(EE34=\"\",\"\",IF(COUNTIF(EI31:EI34,EI34)=1,EI34,EI34+RANK(EJ34,EJ31:EJ34,0)-1))","v":""},{"$f":"IF(DT34>0,CG29+DA29+RANK(EK34,EK31:EK34,1),)","v":0},null,{"$f":"IF(CC34=4,BT34,)","v":0},{"$f":"(SUMIF(AF4:AF54,BT34,BL4:BL54)+SUMIF(AH4:AH54,BT34,BM4:BM54))","v":0},{"$f":"(SUMIF(AF4:AF54,BT34,BN4:BN54)+SUMIF(AH4:AH54,BT34,BO4:BO54))","v":0},{"$f":"(SUMIF(AF4:AF54,BT34,BP4:BP54)+SUMIF(AH4:AH54,BT34,BQ4:BQ54))","v":0},0,{"$f":"CB34","v":"D"},{"$f":"IF(EN34>0,RANK(ER34,ER31:ER34)+CG29+DA29+DU29,)","v":0},{"$f":"IF(AND(EN34>0,COUNTIF(ET31:ET34,ET34)>1),SUMIFS($AI$4:$AI$54,$AF$4:$AF$54,BT34,$L$4:$L$54,4)+SUMIFS($AK$4:$AK$54,$AH$4:$AH$54,BT34,$L$4:$L$54,4)-SUMIFS($AK$4:$AK$54,$AF$4:$AF$54,BT34,$L$4:$L$54,4)-SUMIFS($AI$4:$AI$54,$AH$4:$AH$54,BT34,$L$4:$L$54,4),)","v":0},{"$f":"IF(AND(EN34>0,COUNTIF(ET4:ET7,ET34)>1),ET34+RANK(EU34,EU4:EU7)-1,ET34)","v":0},{"$f":"IF(AND(EN34>0,COUNTIF(EV31:EV34,EV34)>1),SUMIFS($AI$4:$AI$54,$AF$4:$AF$54,BT34,$L$4:$L$54,4)+SUMIFS($AK$4:$AK$54,$AH$4:$AH$54,BT34,$L$4:$L$54,4),)","v":0},{"$f":"IF(AND(EN34>0,COUNTIF(EV31:EV34,EV34)>1),EV34+RANK(EW34,EW31:EW34)-1,EV34)","v":0},"",{"$f":"IF(OR(EY34=\"\",COUNTIF(EY31:EY34,EY34)=1),\"\",$BZ34)","v":""},{"$f":"IF(EY34=\"\",\"\",IF(COUNTIF(EY31:EY34,EY34)=1,EY34,EY34+RANK(EZ34,EZ31:EZ34,0)-1))","v":""},{"$f":"IF(OR(FA34=\"\",COUNTIF(FA31:FA34,FA34)=1),\"\",$BX34)","v":""},{"$f":"IF(EY34=\"\",\"\",IF(COUNTIF(FA31:FA34,FA34)=1,FA34,FA34+RANK(FB34,FB31:FB34,0)-1))","v":""},{"$f":"IF(OR(FC34=\"\",COUNTIF(FC31:FC34,FC34)=1),\"\",$BU34)","v":""},{"$f":"IF(EY34=\"\",\"\",IF(COUNTIF(FC31:FC34,FC34)=1,FC34,FC34+RANK(FD34,FD31:FD34,0)-1))","v":""},{"$f":"IF(EN34>0,CG29+DA29+DU29+RANK(FE34,FE31:FE34,1),)","v":0},null,{"$f":"IFERROR(VLOOKUP(FJ34,CF30:CX34,19,FALSE),IFERROR(VLOOKUP(FJ34,CZ30:DR34,19,FALSE),IFERROR(VLOOKUP(FJ34,DT30:EL34,19,FALSE),VLOOKUP(FJ34,EN30:FF34,19,FALSE))))","v":1},{"$f":"RANK(FH34,FH31:FH34,1)+COUNTIF(FH31:FH34,FH34)-1","v":4},{"$f":"BT34","v":"Austria"}]
[null,null,"2024-06-25","Netherlands","-","Austria",null,"-",null,"",{"$f":"IF(OR('Results & Table'!H35=\"\",'Results & Table'!J35=\"\",G35=\"\",I35=\"\"),0,IF(G35='Results & Table'!H35,2,0)+IF(I35='Results & Table'!J35,2,0)+IF(J35='Results & Table'!K35,2,0))","v":0},{"$f":"IF(VLOOKUP(D35,BT30:CC34,10,FALSE)=VLOOKUP(F35,BT30:CC34,10,FALSE),VLOOKUP(D35,BT30:CC34,10,FALSE),\"-\")","v":1},null,{"$f":"IF(COUNTBLANK(G31:G36)+COUNTBLANK(I31:I36)=0,\"Resultat OK\",\"Fyll i resultat\")","v":"Fyll i resultat"},null,null,null,null,null,null,null,null,null,null,null,null,null,null,null,null,"2024-06-25","Netherlands","-","Austria","","-","","",null,0,0,0,0,0,0,0,0,0,0,0,0,0,0,0,0,0,0,0,0,0,0,0,0,0,0,0,0,0,0]
[null,null,"2024-06-25","France","-","Poland",null,"-",null,"",{"$f":"IF(OR('Results & Table'!H36=\"\",'Results & Table'!J36=\"\",G36=\"\",I36=\"\"),0,IF(G36='Results & Table'!H36,2,0)+IF(I36='Results & Table'!J36,2,0)+IF(J36='Results & Table'!K36,2,0))","v":0},{"$f":"IF(VLOOKUP(D36,BT30:CC34,10,FALSE)=VLOOKUP(F36,BT30:CC34,10,FALSE),VLOOKUP(D36,BT30:CC34,10,FALSE),\"-\")","v":1},null,null,null,null,null,null,null,null,null,null,null,null,null,null,null,null,null,null,"2024-06-25","France","-","Poland","","-","","",null,0,0,0,0,0,0,0,0,0,0,0,0,0,0,0,0,0,0,0,0,0,0,0,0,0,0,0,0,0,0]
[]
[null,null,"Group E",null,null,null,null,null,null,null,null,null,null,null,null,null,null,null,null,null,null,null,null,null,null,null,null,null,null,null,"Grupp E",null,null,null,null,null,null,null,null,null,null,null,null,null,null,null,null,null,null,null,null,null,null,null,null,null,null,null,null,null,null,null,null,null,null,null,null,null,null,null,null,"Rank 0",null,null,null,null,null,null,null,null,null,null,null,"Rank 1",{"$f":"COUNTIF(CC40:CC43,1)","v":4},null,null,null,null,null,null,null,null,null,null,null,null,null,null,null,null,null,null,"Rank 2",{"$f":"COUNTIF(CC40:CC43,2)","v":0},null,null,null,null,null,null,null,null,null,null,null,null,null,null,null,null,null,null,"Rank 3",{"$f":"COUNTIF(CC40:CC43,3)","v":0},null,null,null,null,null,null,null,null,null,null,null,null,null,null,null,null,null,null,"Rank 4",{"$f":"COUNTIF(CC40:CC43,4)","v":0}]
[null,null,"Date","Match",null,null,"Result",null,null,"1X2","Points",null,null,"Team","W","D","L","GF","GA","+/-","P",null,null,null,null,null,null,null,null,null,"Datum","Match",null,null,"Resultat",null,null,"Tecken","Poäng","V1","V2","O1","O2","F1","F2","V1","V2","O1","O2","F1","F2","V1","V2","O1","O2","F1","F2","V1","V2","O1","O2","F1","F2","V1","V2","O1","O2","F1","F2",null,null,"Lag","V","O","F","GM","IM","+/-","P","Grupp","Rank P","Rank +/-",null,"Lag","V","O","F","P","Grupp","Rank P","+/-","+/- rank","GM","GM rank","Rank internal","+/- all","+/- rank all","GM all","GM rank all","V all","V rank all","Rank all",null,"Lag","V","O","F","P","Grupp","Rank P","+/-","+/- rank","GM","GM rank","Rank internal","+/- all","+/- rank all","GM all","GM rank all","V all","V rank all","Rank all",null,"Lag","V","O","F","P","Grupp","Rank P","+/-","+/- rank","GM","GM rank","Rank internal","+/- all","+/- rank all","GM all","GM rank all","V all","V rank all","Rank all",null,"Lag","V","O","F","P","Grupp","Rank P","+/-","+/- rank","GM","GM rank","Rank internal","+/- all","+/- rank all","GM all","GM rank all","V all","V rank all","Rank all",null,"Rank","Rank Ties"]
[null,null,"2024-06-17","Romania","-","Ukraine",null,"-",null,{"$f":"IF(OR(ISBLANK(G40),ISBLANK(I40)),\"\",IF(G40>I40,1,IF(G40<I40,2,\"X\")))","v":""},{"$f":"IF(OR('Results & Table'!H40=\"\",'Results & Table'!J40=\"\",G40=\"\",I40=\"\"),0,IF(G40='Results & Table'!H40,2,0)+IF(I40='Results & Table'!J40,2,0)+IF(J40='Results & Table'!K40,2,0))","v":0},{"$f":"IF(VLOOKUP(D40,BT39:CC43,10,FALSE)=VLOOKUP(F40,BT39:CC43,10,FALSE),VLOOKUP(D40,BT39:CC43,10,FALSE),\"-\")","v":1},1,{"$f":"VLOOKUP(M40,FI40:FJ43,2,FALSE)","v":"Ukraine"},{"$f":"VLOOKUP(N40,BT40:CA43,2,FALSE)","v":0},{"$f":"VLOOKUP(N40,BT40:CA43,3,FALSE)","v":0},{"$f":"VLOOKUP(N40,BT40:CA43,4,FALSE)","v":0},{"$f":"VLOOKUP(N40,BT40:CA43,5,FALSE)","v":0},{"$f":"VLOOKUP(N40,BT40:CA43,6,FALSE)","v":0},{"$f":"VLOOKUP(N40,BT40:CA43,7,FALSE)","v":0},{"$f":"VLOOKUP(N40,BT40:CA43,8,FALSE)","v":0},null,null,null,null,null,null,null,null,null,{"$f":"C40","v":"2024-06-17"},"Romania","-","Ukraine",{"$f":"IF(G40=\"\",\"\",G40)","v":""},"-",{"$f":"IF(I40=\"\",\"\",I40)","v":""},{"$f":"J40","v":""},null,{"$f":"IF(AI40>AK40,1,0)","v":0},{"$f":"IF(AK40>AI40,1,0)","v":0},{"$f":"IF(AND(AI40=AK40,AI40<>\"\"),1,0)","v":0},{"$f":"IF(AND(AI40=AK40,AI40<>\"\"),1,0)","v":0},{"$f":"IF(AI40<AK40,1,0)","v":0},{"$f":"IF(AK40<AI40,1,)","v":0},{"$f":"IF(ISERROR(VLOOKUP(AF40,CF:CF,1,FALSE)),0,1)*IF(ISERROR(VLOOKUP(AH40,CF:CF,1,FALSE)),0,1)*AN40","v":0},{"$f":"IF(ISERROR(VLOOKUP(AF40,CF:CF,1,FALSE)),0,1)*IF(ISERROR(VLOOKUP(AH40,CF:CF,1,FALSE)),0,1)*AO40","v":0},{"$f":"IF(ISERROR(VLOOKUP(AF40,CF:CF,1,FALSE)),0,1)*IF(ISERROR(VLOOKUP(AH40,CF:CF,1,FALSE)),0,1)*AP40","v":0},{"$f":"IF(ISERROR(VLOOKUP(AF40,CF:CF,1,FALSE)),0,1)*IF(ISERROR(VLOOKUP(AH40,CF:CF,1,FALSE)),0,1)*AQ40","v":0},{"$f":"IF(ISERROR(VLOOKUP(AF40,CF:CF,1,FALSE)),0,1)*IF(ISERROR(VLOOKUP(AH40,CF:CF,1,FALSE)),0,1)*AR40","v":0},{"$f":"IF(ISERROR(VLOOKUP(AF40,CF:CF,1,FALSE)),0,1)*IF(ISERROR(VLOOKUP(AH40,CF:CF,1,FALSE)),0,1)*AS40","v":0},{"$f":"IF(ISERROR(VLOOKUP(AF40,CZ:CZ,1,FALSE)),0,1)*IF(ISERROR(VLOOKUP(AH40,CZ:CZ,1,FALSE)),0,1)*AN40","v":0},{"$f":"IF(ISERROR(VLOOKUP(AF40,CZ:CZ,1,FALSE)),0,1)*IF(ISERROR(VLOOKUP(AH40,CZ:CZ,1,FALSE)),0,1)*AO40","v":0},{"$f":"IF(ISERROR(VLOOKUP(AF40,CZ:CZ,1,FALSE)),0,1)*IF(ISERROR(VLOOKUP(AH40,CZ:CZ,1,FALSE)),0,1)*AP40","v":0},{"$f":"IF(ISERROR(VLOOKUP(AF40,CZ:CZ,1,FALSE)),0,1)*IF(ISERROR(VLOOKUP(AH40,CZ:CZ,1,FALSE)),0,1)*AQ40","v":0},{"$f":"IF(ISERROR(VLOOKUP(AF40,CZ:CZ,1,FALSE)),0,1)*IF(ISERROR(VLOOKUP(AH40,CZ:CZ,1,FALSE)),0,1)*AR40","v":0},{"$f":"IF(ISERROR(VLOOKUP(AF40,CZ:CZ,1,FALSE)),0,1)*IF(ISERROR(VLOOKUP(AH40,CZ:CZ,1,FALSE)),0,1)*AS40","v":0},{"$f":"IF(ISERROR(VLOOKUP(AF40,DT:DT,1,FALSE)),0,1)*IF(ISERROR(VLOOKUP(AH40,DT:DT,1,FALSE)),0,1)*AN40","v":0},{"$f":"IF(ISERROR(VLOOKUP(AF40,DT:DT,1,FALSE)),0,1)*IF(ISERROR(VLOOKUP(AH40,DT:DT,1,FALSE)),0,1)*AO40","v":0},{"$f":"IF(ISERROR(VLOOKUP(AF40,DT:DT,1,FALSE)),0,1)*IF(ISERROR(VLOOKUP(AH40,DT:DT,1,FALSE)),0,1)*AP40","v":0},{"$f":"IF(ISERROR(VLOOKUP(AF40,DT:DT,1,FALSE)),0,1)*IF(ISERROR(VLOOKUP(AH40,DT:DT,1,FALSE)),0,1)*AQ40","v":0},{"$f":"IF(ISERROR(VLOOKUP(AF40,DT:DT,1,FALSE)),0,1)*IF(ISERROR(VLOOKUP(AH40,DT:DT,1,FALSE)),0,1)*AR40","v":0},{"$f":"IF(ISERROR(VLOOKUP(AF40,DT:DT,1,FALSE)),0,1)*IF(ISERROR(VLOOKUP(AH40,DT:DT,1,FALSE)),0,1)*AS40","v":0},{"$f":"IF(ISERROR(VLOOKUP(AF40,EN:EN,1,FALSE)),0,1)*IF(ISERROR(VLOOKUP(AH40,EN:EN,1,FALSE)),0,1)*AN40","v":0},{"$f":"IF(ISERROR(VLOOKUP(AF40,EN:EN,1,FALSE)),0,1)*IF(ISERROR(VLOOKUP(AH40,EN:EN,1,FALSE)),0,1)*AO40","v":0},{"$f":"IF(ISERROR(VLOOKUP(AF40,EN:EN,1,FALSE)),0,1)*IF(ISERROR(VLOOKUP(AH40,EN:EN,1,FALSE)),0,1)*AP40","v":0},{"$f":"IF(ISERROR(VLOOKUP(AF40,EN:EN,1,FALSE)),0,1)*IF(ISERROR(VLOOKUP(AH40,EN:EN,1,FALSE)),0,1)*AQ40","v":0},{"$f":"IF(ISERROR(VLOOKUP(AF40,EN:EN,1,FALSE)),0,1)*IF(ISERROR(VLOOKUP(AH40,EN:EN,1,FALSE)),0,1)*AR40","v":0},{"$f":"IF(ISERROR(VLOOKUP(AF40,EN:EN,1,FALSE)),0,1)*IF(ISERROR(VLOOKUP(AH40,EN:EN,1,FALSE)),0,1)*AS40","v":0},null,null,"Ukraine",{"$f":"(SUMIF(AF4:AF54,BT40,AN4:AN54)+SUMIF(AH4:AH54,BT40,AO4:AO54))","v":0},{"$f":"(SUMIF(AF4:AF54,BT40,AP4:AP54)+SUMIF(AH4:AH54,BT40,AQ4:AQ54))","v":0},{"$f":"(SUMIF(AF4:AF54,BT40,AR4:AR54)+SUMIF(AH4:AH54,BT40,AS4:AS54))","v":0},{"$f":"SUMIF(AF4:AF54,BT40,AI4:AI54)+SUMIF(AH4:AH54,BT40,AK4:AK54)","v":0},{"$f":"SUMIF(AF4:AF54,BT40,AK4:AK54)+SUMIF(AH4:AH54,BT40,AI4:AI54)","v":0},{"$f":"BX40-BY40","v":0},{"$f":"IFERROR(BU40*3+BV40*1,0)","v":0},"E",{"$f":"RANK(CA40,CA40:CA43)","v":1},{"$f":"SUMPRODUCT((CA40:CA43=CA40)*(BZ40:BZ43>BZ40))","v":0},null,{"$f":"IF(CC40=1,BT40,)","v":"Ukraine"},{"$f":"(SUMIF(AF4:AF54,BT40,AT4:AT54)+SUMIF(AH4:AH54,BT40,AU4:AU54))","v":0},{"$f":"(SUMIF(AF4:AF54,BT40,AV4:AV54)+SUMIF(AH4:AH54,BT40,AW4:AW54))","v":0},{"$f":"(SUMIF(AF4:AF54,BT40,AX4:AX54)+SUMIF(AH4:AH54,BT40,AY4:AY54))","v":0},{"$f":"IFERROR(CG40*3+CH40*1,0)","v":0},{"$f":"CB40","v":"E"},{"$f":"IF(CF40>0,RANK(CJ40,CJ40:CJ43),)","v":1},{"$f":"IF(AND(CF40>0,COUNTIF(CL40:CL43,CL40)>1),SUMIFS($AI$4:$AI$54,$AF$4:$AF$54,$BT40,$L$4:$L$54,1)+SUMIFS($AK$4:$AK$54,$AH$4:$AH$54,$BT40,$L$4:$L$54,1)-SUMIFS($AK$4:$AK$54,$AF$4:$AF$54,$BT40,$L$4:$L$54,1)-SUMIFS($AI$4:$AI$54,$AH$4:$AH$54,$BT40,$L$4:$L$54,1),)","v":0},{"$f":"IF(AND(CF40>0,COUNTIF(CL40:CL43,CL40)>1),CL40+RANK(CM40,CM40:CM43)-1,CL40)","v":1},{"$f":"IF(AND(CF40>0,COUNTIF(CN40:CN43,CN40)>1),SUMIFS($AI$4:$AI$54,$AF$4:$AF$54,$BT40,$L$4:$L$54,1)+SUMIFS($AK$4:$AK$54,$AH$4:$AH$54,$BT40,$L$4:$L$54,1),)","v":0},{"$f":"IF(AND(CF40>0,COUNTIF(CN40:CN43,CN40)>1),CN40+RANK(CO40,CO40:CO43)-1,CN40)","v":1},{"$f":"IF(CP40=0,\"\",CP40)","v":1},{"$f":"IF(OR(CQ40=\"\",COUNTIF(CQ40:CQ43,CQ40)=1),\"\",$BZ40)","v":0},{"$f":"IF(CQ40=\"\",\"\",IF(COUNTIF(CQ40:CQ43,CQ40)=1,CQ40,CQ40+RANK(CR40,CR40:CR43,0)-1))","v":1},{"$f":"IF(OR(CS40=\"\",COUNTIF(CS40:CS43,CS40)=1),\"\",$BX40)","v":0},{"$f":"IF(CQ40=\"\",\"\",IF(COUNTIF(CS40:CS43,CS40)=1,CS40,CS40+RANK(CT40,CT40:CT43,0)-1))","v":1},{"$f":"IF(OR(CU40=\"\",COUNTIF(CU40:CU43,CU40)=1),\"\",$BU40)","v":0},{"$f":"IF(CQ40=\"\",\"\",IF(COUNTIF(CU40:CU43,CU40)=1,CU40,CU40+RANK(CV40,CV40:CV43,0)-1))","v":1},{"$f":"IF(CF40>0,BM38+RANK(CW40,CW40:CW43,1),)","v":1},null,{"$f":"IF(CC40=2,BT40,)","v":0},{"$f":"(SUMIF(AF4:AF54,BT40,AZ4:AZ54)+SUMIF(AH4:AH54,BT40,BA4:BA54))","v":0},{"$f":"(SUMIF(AF4:AF54,BT40,BB4:BB54)+SUMIF(AH4:AH54,BT40,BC4:BC54))","v":0},{"$f":"(SUMIF(AF4:AF54,BT40,BD4:BD54)+SUMIF(AH4:AH54,BT40,BE4:BE54))","v":0},{"$f":"IFERROR(DA40*3+DB40*1,0)","v":0},{"$f":"CB40","v":"E"},{"$f":"IF(CZ40>0,RANK(DD40,DD40:DD43)+CG38,)","v":0},{"$f":"IF(AND(CZ40>0,COUNTIF(DF40:DF43,DF40)>1),SUMIFS($AI$4:$AI$54,$AF$4:$AF$54,$BT40,$L$4:$L$54,2)+SUMIFS($AK$4:$AK$54,$AH$4:$AH$54,$BT40,$L$4:$L$54,2)-SUMIFS($AK$4:$AK$54,$AF$4:$AF$54,$BT40,$L$4:$L$54,2)-SUMIFS($AI$4:$AI$54,$AH$4:$AH$54,$BT40,$L$4:$L$54,2),)","v":0},{"$f":"IF(AND(CZ40>0,COUNTIF(DF40:DF43,DF40)>1),DF40+RANK(DG40,DG40:DG43)-1,DF40)","v":0},{"$f":"IF(AND(CZ40>0,COUNTIF(DH40:DH43,DH40)>1),SUMIFS($AI$4:$AI$54,$AF$4:$AF$54,$BT40,$L$4:$L$54,2)+SUMIFS($AK$4:$AK$54,$AH$4:$AH$54,$BT40,$L$4:$L$54,2),)","v":0},{"$f":"IF(AND(CZ40>0,COUNTIF(DH40:DH43,DH40)>1),DH40+RANK(DI40,DI40:DI43)-1,DH40)","v":0},{"$f":"IF(DJ40=0,\"\",DJ40)","v":""},{"$f":"IF(OR(DK40=\"\",COUNTIF(DK40:DK43,DK40)=1),\"\",$BZ40)","v":""},{"$f":"IF(DK40=\"\",\"\",IF(COUNTIF(DK40:DK43,DK40)=1,DK40,DK40+RANK(DL40,DL40:DL43,0)-1))","v":""},{"$f":"IF(OR(DM40=\"\",COUNTIF(DM40:DM43,DM40)=1),\"\",$BX40)","v":""},{"$f":"IF(DK40=\"\",\"\",IF(COUNTIF(DM40:DM43,DM40)=1,DM40,DM40+RANK(DN40,DN40:DN43,0)-1))","v":""},{"$f":"IF(OR(DO40=\"\",COUNTIF(DO40:DO43,DO40)=1),\"\",$BU40)","v":""},{"$f":"IF(DK40=\"\",\"\",IF(COUNTIF(DO40:DO43,DO40)=1,DO40,DO40+RANK(DP40,DP40:DP43,0)-1))","v":""},{"$f":"IF(CZ40>0,CG38+RANK(DQ40,DQ40:DQ43,1),)","v":0},null,{"$f":"IF(CC40=3,BT40,)","v":0},{"$f":"(SUMIF(AF4:AF54,BT40,BF4:BF54)+SUMIF(AH4:AH54,BT40,BG4:BG54))","v":0},{"$f":"(SUMIF(AF4:AF54,BT40,BH4:BH54)+SUMIF(AH4:AH54,BT40,BI4:BI54))","v":0},{"$f":"(SUMIF(AF4:AF54,BT40,BJ4:BJ54)+SUMIF(AH4:AH54,BT40,BK4:BK54))","v":0},{"$f":"IFERROR(DU40*3+DV40*1,0)","v":0},{"$f":"CB40","v":"E"},{"$f":"IF(DT40>0,RANK(DX40,DX40:DX43)+CG38+DA38,)","v":0},{"$f":"IF(AND(DT40>0,COUNTIF(DZ40:DZ43,DZ40)>1),SUMIFS($AI$4:$AI$54,$AF$4:$AF$54,$BT40,$L$4:$L$54,3)+SUMIFS($AK$4:$AK$54,$AH$4:$AH$54,$BT40,$L$4:$L$54,3)-SUMIFS($AK$4:$AK$54,$AF$4:$AF$54,$BT40,$L$4:$L$54,3)-SUMIFS($AI$4:$AI$54,$AH$4:$AH$54,$BT40,$L$4:$L$54,3),)","v":0},{"$f":"IF(AND(DT40>0,COUNTIF(DZ40:DZ43,DZ40)>1),DZ40+RANK(EA40,EA40:EA43)-1,DZ40)","v":0},{"$f":"IF(AND(DT40>0,COUNTIF(EB40:EB43,EB40)>1),SUMIFS($AI$4:$AI$54,$AF$4:$AF$54,$BT40,$L$4:$L$54,3)+SUMIFS($AK$4:$AK$54,$AH$4:$AH$54,$BT40,$L$4:$L$54,3),)","v":0},{"$f":"IF(AND(DT40>0,COUNTIF(EB40:EB43,EB40)>1),EB40+RANK(EC40,EC40:EC43)-1,EB40)","v":0},{"$f":"IF(ED40=0,\"\",ED40)","v":""},{"$f":"IF(OR(EE40=\"\",COUNTIF(EE40:EE43,EE40)=1),\"\",$BZ40)","v":""},{"$f":"IF(EE40=\"\",\"\",IF(COUNTIF(EE40:EE43,EE40)=1,EE40,EE40+RANK(EF40,EF40:EF43,0)-1))","v":""},{"$f":"IF(OR(EG40=\"\",COUNTIF(EG40:EG43,EG40)=1),\"\",$BX40)","v":""},{"$f":"IF(EE40=\"\",\"\",IF(COUNTIF(EG40:EG43,EG40)=1,EG40,EG40+RANK(EH40,EH40:EH43,0)-1))","v":""},{"$f":"IF(OR(EI40=\"\",COUNTIF(EI40:EI43,EI40)=1),\"\",$BU40)","v":""},{"$f":"IF(EE40=\"\",\"\",IF(COUNTIF(EI40:EI43,EI40)=1,EI40,EI40+RANK(EJ40,EJ40:EJ43,0)-1))","v":""},{"$f":"IF(DT40>0,CG38+DA38+RANK(EK40,EK40:EK43,1),)","v":0},null,{"$f":"IF(CC40=4,BT40,)","v":0},{"$f":"(SUMIF(AF4:AF54,BT40,BL4:BL54)+SUMIF(AH4:AH54,BT40,BM4:BM54))","v":0},{"$f":"(SUMIF(AF4:AF54,BT40,BN4:BN54)+SUMIF(AH4:AH54,BT40,BO4:BO54))","v":0},{"$f":"(SUMIF(AF4:AF54,BT40,BP4:BP54)+SUMIF(AH4:AH54,BT40,BQ4:BQ54))","v":0},{"$f":"IFERROR(EO40*3+EP40*1,0)","v":0},{"$f":"CB40","v":"E"},{"$f":"IF(EN40>0,RANK(ER40,ER40:ER43)+CG38+DA38+DU38,)","v":0},{"$f":"IF(AND(EN40>0,COUNTIF(ET40:ET43,ET40)>1),SUMIFS($AI$4:$AI$54,$AF$4:$AF$54,$BT40,$L$4:$L$54,4)+SUMIFS($AK$4:$AK$54,$AH$4:$AH$54,$BT40,$L$4:$L$54,4)-SUMIFS($AK$4:$AK$54,$AF$4:$AF$54,$BT40,$L$4:$L$54,4)-SUMIFS($AI$4:$AI$54,$AH$4:$AH$54,$BT40,$L$4:$L$54,4),)","v":0},{"$f":"IF(AND(EN40>0,COUNTIF(ET4:ET7,ET40)>1),ET40+RANK(EU40,EU4:EU7)-1,ET40)","v":0},{"$f":"IF(AND(EN40>0,COUNTIF(EV40:EV43,EV40)>1),SUMIFS($AI$4:$AI$54,$AF$4:$AF$54,$BT40,$L$4:$L$54,4)+SUMIFS($AK$4:$AK$54,$AH$4:$AH$54,$BT40,$L$4:$L$54,4),)","v":0},{"$f":"IF(AND(EN40>0,COUNTIF(EV40:EV43,EV40)>1),EV40+RANK(EW40,EW40:EW43)-1,EV40)","v":0},{"$f":"IF(EX40=0,\"\",EX40)","v":""},{"$f":"IF(OR(EY40=\"\",COUNTIF(EY40:EY43,EY40)=1),\"\",$BZ40)","v":""},{"$f":"IF(EY40=\"\",\"\",IF(COUNTIF(EY40:EY43,EY40)=1,EY40,EY40+RANK(EZ40,EZ40:EZ43,0)-1))","v":""},{"$f":"IF(OR(FA40=\"\",COUNTIF(FA40:FA43,FA40)=1),\"\",$BX40)","v":""},{"$f":"IF(EY40=\"\",\"\",IF(COUNTIF(FA40:FA43,FA40)=1,FA40,FA40+RANK(FB40,FB40:FB43,0)-1))","v":""},{"$f":"IF(OR(FC40=\"\",COUNTIF(FC40:FC43,FC40)=1),\"\",$BU40)","v":""},{"$f":"IF(EY40=\"\",\"\",IF(COUNTIF(FC40:FC43,FC40)=1,FC40,FC40+RANK(FD40,FD40:FD43,0)-1))","v":""},{"$f":"IF(EN40>0,CG38+DA38+DU38+RANK(FE40,FE40:FE43,1),)","v":0},null,{"$f":"IFERROR(VLOOKUP(FJ40,CF39:CX43,19,FALSE),IFERROR(VLOOKUP(FJ40,CZ39:DR43,19,FALSE),IFERROR(VLOOKUP(FJ40,DT39:EL43,19,FALSE),VLOOKUP(FJ40,EN39:FF43,19,FALSE))))","v":1},{"$f":"RANK(FH40,FH40:FH43,1)+COUNTIF(FH40:FH40,FH40)-1","v":1},{"$f":"BT40","v":"Ukraine"}]
[null,null,"2024-06-17","Belgium","-","Slovakia",null,"-",null,{"$f":"IF(OR(ISBLANK(G41),ISBLANK(I41)),\"\",IF(G41>I41,1,IF(G41<I41,2,\"X\")))","v":""},{"$f":"IF(OR('Results & Table'!H41=\"\",'Results & Table'!J41=\"\",G41=\"\",I41=\"\"),0,IF(G41='Results & Table'!H41,2,0)+IF(I41='Results & Table'!J41,2,0)+IF(J41='Results & Table'!K41,2,0))","v":0},{"$f":"IF(VLOOKUP(D41,BT39:CC43,10,FALSE)=VLOOKUP(F41,BT39:CC43,10,FALSE),VLOOKUP(D41,BT39:CC43,10,FALSE),\"-\")","v":1},2,{"$f":"VLOOKUP(M41,FI40:FJ43,2,FALSE)","v":"Slovakia"},{"$f":"VLOOKUP(N41,BT40:CA43,2,FALSE)","v":0},{"$f":"VLOOKUP(N41,BT40:CA43,3,FALSE)","v":0},{"$f":"VLOOKUP(N41,BT40:CA43,4,FALSE)","v":0},{"$f":"VLOOKUP(N41,BT40:CA43,5,FALSE)","v":0},{"$f":"VLOOKUP(N41,BT40:CA43,6,FALSE)","v":0},{"$f":"VLOOKUP(N41,BT40:CA43,7,FALSE)","v":0},{"$f":"VLOOKUP(N41,BT40:CA43,8,FALSE)","v":0},null,null,null,null,null,null,null,null,null,"2024-06-17","Belgium","-","Slovakia","","-","","",null,0,0,0,0,0,0,0,0,0,0,0,0,0,0,0,0,0,0,0,0,0,0,0,0,0,0,0,0,0,0,null,null,"Slovakia",{"$f":"(SUMIF(AF4:AF54,BT41,AN4:AN54)+SUMIF(AH4:AH54,BT41,AO4:AO54))","v":0},{"$f":"(SUMIF(AF4:AF54,BT41,AP4:AP54)+SUMIF(AH4:AH54,BT41,AQ4:AQ54))","v":0},{"$f":"(SUMIF(AF4:AF54,BT41,AR4:AR54)+SUMIF(AH4:AH54,BT41,AS4:AS54))","v":0},{"$f":"SUMIF(AF4:AF54,BT41,AI4:AI54)+SUMIF(AH4:AH54,BT41,AK4:AK54)","v":0},{"$f":"SUMIF(AF4:AF54,BT41,AK4:AK54)+SUMIF(AH4:AH54,BT41,AI4:AI54)","v":0},{"$f":"BX41-BY41","v":0},{"$f":"IFERROR(BU41*3+BV41*1,0)","v":0},"E",{"$f":"RANK(CA41,CA40:CA43)","v":1},{"$f":"SUMPRODUCT((CA40:CA43=CA41)*(BZ40:BZ43>BZ41))","v":0},null,{"$f":"IF(CC41=1,BT41,)","v":"Slovakia"},{"$f":"(SUMIF(AF4:AF54,BT41,AT4:AT54)+SUMIF(AH4:AH54,BT41,AU4:AU54))","v":0},{"$f":"(SUMIF(AF4:AF54,BT41,AV4:AV54)+SUMIF(AH4:AH54,BT41,AW4:AW54))","v":0},{"$f":"(SUMIF(AF4:AF54,BT41,AX4:AX54)+SUMIF(AH4:AH54,BT41,AY4:AY54))","v":0},{"$f":"IFERROR(CG41*3+CH41*1,0)","v":0},{"$f":"CB41","v":"E"},{"$f":"IF(CF41>0,RANK(CJ41,CJ40:CJ43),)","v":1},{"$f":"IF(AND(CF41>0,COUNTIF(CL40:CL43,CL41)>1),SUMIFS($AI$4:$AI$54,$AF$4:$AF$54,BT41,$L$4:$L$54,1)+SUMIFS($AK$4:$AK$54,$AH$4:$AH$54,BT41,$L$4:$L$54,1)-SUMIFS($AK$4:$AK$54,$AF$4:$AF$54,BT41,$L$4:$L$54,1)-SUMIFS($AI$4:$AI$54,$AH$4:$AH$54,BT41,$L$4:$L$54,1),)","v":0},{"$f":"IF(AND(CF41>0,COUNTIF(CL40:CL43,CL41)>1),CL41+RANK(CM41,CM40:CM43)-1,CL41)","v":1},{"$f":"IF(AND(CF41>0,COUNTIF(CN40:CN43,CN41)>1),SUMIFS($AI$4:$AI$54,$AF$4:$AF$54,BT41,$L$4:$L$54,1)+SUMIFS($AK$4:$AK$54,$AH$4:$AH$54,BT41,$L$4:$L$54,1),)","v":0},{"$f":"IF(AND(CF41>0,COUNTIF(CN40:CN43,CN41)>1),CN41+RANK(CO41,CO40:CO43)-1,CN41)","v":1},{"$f":"IF(CP41=0,\"\",CP41)","v":1},{"$f":"IF(OR(CQ41=\"\",COUNTIF(CQ40:CQ43,CQ41)=1),\"\",$BZ41)","v":0},{"$f":"IF(CQ41=\"\",\"\",IF(COUNTIF(CQ40:CQ43,CQ41)=1,CQ41,CQ41+RANK(CR41,CR40:CR43,0)-1))","v":1},{"$f":"IF(OR(CS41=\"\",COUNTIF(CS40:CS43,CS41)=1),\"\",$BX41)","v":0},{"$f":"IF(CQ41=\"\",\"\",IF(COUNTIF(CS40:CS43,CS41)=1,CS41,CS41+RANK(CT41,CT40:CT43,0)-1))","v":1},{"$f":"IF(OR(CU41=\"\",COUNTIF(CU40:CU43,CU41)=1),\"\",$BU41)","v":0},{"$f":"IF(CQ41=\"\",\"\",IF(COUNTIF(CU40:CU43,CU41)=1,CU41,CU41+RANK(CV41,CV40:CV43,0)-1))","v":1},{"$f":"IF(CF41>0,BM38+RANK(CW41,CW40:CW43,1),)","v":1},null,{"$f":"IF(CC41=2,BT41,)","v":0},{"$f":"(SUMIF(AF4:AF54,BT41,AZ4:AZ54)+SUMIF(AH4:AH54,BT41,BA4:BA54))","v":0},{"$f":"(SUMIF(AF4:AF54,BT41,BB4:BB54)+SUMIF(AH4:AH54,BT41,BC4:BC54))","v":0},{"$f":"(SUMIF(AF4:AF54,BT41,BD4:BD54)+SUMIF(AH4:AH54,BT41,BE4:BE54))","v":0},{"$f":"IFERROR(DA41*3+DB41*1,0)","v":0},{"$f":"CB41","v":"E"},{"$f":"IF(CZ41>0,RANK(DD41,DD40:DD43)+CG38,)","v":0},{"$f":"IF(AND(CZ41>0,COUNTIF(DF40:DF43,DF41)>1),SUMIFS($AI$4:$AI$54,$AF$4:$AF$54,BT41,$L$4:$L$54,2)+SUMIFS($AK$4:$AK$54,$AH$4:$AH$54,BT41,$L$4:$L$54,2)-SUMIFS($AK$4:$AK$54,$AF$4:$AF$54,BT41,$L$4:$L$54,2)-SUMIFS($AI$4:$AI$54,$AH$4:$AH$54,BT41,$L$4:$L$54,2),)","v":0},{"$f":"IF(AND(CZ41>0,COUNTIF(DF40:DF43,DF41)>1),DF41+RANK(DG41,DG40:DG43)-1,DF41)","v":0},{"$f":"IF(AND(CZ41>0,COUNTIF(DH40:DH43,DH41)>1),SUMIFS($AI$4:$AI$54,$AF$4:$AF$54,BT41,$L$4:$L$54,2)+SUMIFS($AK$4:$AK$54,$AH$4:$AH$54,BT41,$L$4:$L$54,2),)","v":0},{"$f":"IF(AND(CZ41>0,COUNTIF(DH40:DH43,DH41)>1),DH41+RANK(DI41,DI40:DI43)-1,DH41)","v":0},{"$f":"IF(DJ41=0,\"\",DJ41)","v":""},{"$f":"IF(OR(DK41=\"\",COUNTIF(DK40:DK43,DK41)=1),\"\",$BZ41)","v":""},{"$f":"IF(DK41=\"\",\"\",IF(COUNTIF(DK40:DK43,DK41)=1,DK41,DK41+RANK(DL41,DL40:DL43,0)-1))","v":""},{"$f":"IF(OR(DM41=\"\",COUNTIF(DM40:DM43,DM41)=1),\"\",$BX41)","v":""},{"$f":"IF(DK41=\"\",\"\",IF(COUNTIF(DM40:DM43,DM41)=1,DM41,DM41+RANK(DN41,DN40:DN43,0)-1))","v":""},{"$f":"IF(OR(DO41=\"\",COUNTIF(DO40:DO43,DO41)=1),\"\",$BU41)","v":""},{"$f":"IF(DK41=\"\",\"\",IF(COUNTIF(DO40:DO43,DO41)=1,DO41,DO41+RANK(DP41,DP40:DP43,0)-1))","v":""},{"$f":"IF(CZ41>0,CG38+RANK(DQ41,DQ40:DQ43,1),)","v":0},null,{"$f":"IF(CC41=3,BT41,)","v":0},{"$f":"(SUMIF(AF4:AF54,BT41,BF4:BF54)+SUMIF(AH4:AH54,BT41,BG4:BG54))","v":0},{"$f":"(SUMIF(AF4:AF54,BT41,BH4:BH54)+SUMIF(AH4:AH54,BT41,BI4:BI54))","v":0},{"$f":"(SUMIF(AF4:AF54,BT41,BJ4:BJ54)+SUMIF(AH4:AH54,BT41,BK4:BK54))","v":0},{"$f":"IFERROR(DU41*3+DV41*1,0)","v":0},{"$f":"CB41","v":"E"},{"$f":"IF(DT41>0,RANK(DX41,DX40:DX43)+CG38+DA38,)","v":0},{"$f":"IF(AND(DT41>0,COUNTIF(DZ40:DZ43,DZ41)>1),SUMIFS($AI$4:$AI$54,$AF$4:$AF$54,BT41,$L$4:$L$54,3)+SUMIFS($AK$4:$AK$54,$AH$4:$AH$54,BT41,$L$4:$L$54,3)-SUMIFS($AK$4:$AK$54,$AF$4:$AF$54,BT41,$L$4:$L$54,3)-SUMIFS($AI$4:$AI$54,$AH$4:$AH$54,BT41,$L$4:$L$54,3),)","v":0},{"$f":"IF(AND(DT41>0,COUNTIF(DZ40:DZ43,DZ41)>1),DZ41+RANK(EA41,EA40:EA43)-1,DZ41)","v":0},{"$f":"IF(AND(DT41>0,COUNTIF(EB40:EB43,EB41)>1),SUMIFS($AI$4:$AI$54,$AF$4:$AF$54,BT41,$L$4:$L$54,3)+SUMIFS($AK$4:$AK$54,$AH$4:$AH$54,BT41,$L$4:$L$54,3),)","v":0},{"$f":"IF(AND(DT41>0,COUNTIF(EB40:EB43,EB41)>1),EB41+RANK(EC41,EC40:EC43)-1,EB41)","v":0},{"$f":"IF(ED41=0,\"\",ED41)","v":""},{"$f":"IF(OR(EE41=\"\",COUNTIF(EE40:EE43,EE41)=1),\"\",$BZ41)","v":""},{"$f":"IF(EE41=\"\",\"\",IF(COUNTIF(EE40:EE43,EE41)=1,EE41,EE41+RANK(EF41,EF40:EF43,0)-1))","v":""},{"$f":"IF(OR(EG41=\"\",COUNTIF(EG40:EG43,EG41)=1),\"\",$BX41)","v":""},{"$f":"IF(EE41=\"\",\"\",IF(COUNTIF(EG40:EG43,EG41)=1,EG41,EG41+RANK(EH41,EH40:EH43,0)-1))","v":""},{"$f":"IF(OR(EI41=\"\",COUNTIF(EI40:EI43,EI41)=1),\"\",$BU41)","v":""},{"$f":"IF(EE41=\"\",\"\",IF(COUNTIF(EI40:EI43,EI41)=1,EI41,EI41+RANK(EJ41,EJ40:EJ43,0)-1))","v":""},{"$f":"IF(DT41>0,CG38+DA38+RANK(EK41,EK40:EK43,1),)","v":0},null,{"$f":"IF(CC41=4,BT41,)","v":0},{"$f":"(SUMIF(AF4:AF54,BT41,BL4:BL54)+SUMIF(AH4:AH54,BT41,BM4:BM54))","v":0},{"$f":"(SUMIF(AF4:AF54,BT41,BN4:BN54)+SUMIF(AH4:AH54,BT41,BO4:BO54))","v":0},{"$f":"(SUMIF(AF4:AF54,BT41,BP4:BP54)+SUMIF(AH4:AH54,BT41,BQ4:BQ54))","v":0},{"$f":"IFERROR(EO41*3+EP41*1,0)","v":0},{"$f":"CB41","v":"E"},{"$f":"IF(EN41>0,RANK(ER41,ER40:ER43)+CG38+DA38+DU38,)","v":0},{"$f":"IF(AND(EN41>0,COUNTIF(ET40:ET43,ET41)>1),SUMIFS($AI$4:$AI$54,$AF$4:$AF$54,BT41,$L$4:$L$54,4)+SUMIFS($AK$4:$AK$54,$AH$4:$AH$54,BT41,$L$4:$L$54,4)-SUMIFS($AK$4:$AK$54,$AF$4:$AF$54,BT41,$L$4:$L$54,4)-SUMIFS($AI$4:$AI$54,$AH$4:$AH$54,BT41,$L$4:$L$54,4),)","v":0},{"$f":"IF(AND(EN41>0,COUNTIF(ET4:ET7,ET41)>1),ET41+RANK(EU41,EU4:EU7)-1,ET41)","v":0},{"$f":"IF(AND(EN41>0,COUNTIF(EV40:EV43,EV41)>1),SUMIFS($AI$4:$AI$54,$AF$4:$AF$54,BT41,$L$4:$L$54,4)+SUMIFS($AK$4:$AK$54,$AH$4:$AH$54,BT41,$L$4:$L$54,4),)","v":0},{"$f":"IF(AND(EN41>0,COUNTIF(EV40:EV43,EV41)>1),EV41+RANK(EW41,EW40:EW43)-1,EV41)","v":0},{"$f":"IF(EX41=0,\"\",EX41)","v":""},{"$f":"IF(OR(EY41=\"\",COUNTIF(EY40:EY43,EY41)=1),\"\",$BZ41)","v":""},{"$f":"IF(EY41=\"\",\"\",IF(COUNTIF(EY40:EY43,EY41)=1,EY41,EY41+RANK(EZ41,EZ40:EZ43,0)-1))","v":""},{"$f":"IF(OR(FA41=\"\",COUNTIF(FA40:FA43,FA41)=1),\"\",$BX41)","v":""},{"$f":"IF(EY41=\"\",\"\",IF(COUNTIF(FA40:FA43,FA41)=1,FA41,FA41+RANK(FB41,FB40:FB43,0)-1))","v":""},{"$f":"IF(OR(FC41=\"\",COUNTIF(FC40:FC43,FC41)=1),\"\",$BU41)","v":""},{"$f":"IF(EY41=\"\",\"\",IF(COUNTIF(FC40:FC43,FC41)=1,FC41,FC41+RANK(FD41,FD40:FD43,0)-1))","v":""},{"$f":"IF(EN41>0,CG38+DA38+DU38+RANK(FE41,FE40:FE43,1),)","v":0},null,{"$f":"IFERROR(VLOOKUP(FJ41,CF39:CX43,19,FALSE),IFERROR(VLOOKUP(FJ41,CZ39:DR43,19,FALSE),IFERROR(VLOOKUP(FJ41,DT39:EL43,19,FALSE),VLOOKUP(FJ41,EN39:FF43,19,FALSE))))","v":1},{"$f":"RANK(FH41,FH40:FH43,1)+COUNTIF(FH40:FH41,FH41)-1","v":2},{"$f":"BT41","v":"Slovakia"}]
[null,null,"2024-06-21","Slovakia","-","Ukraine",null,"-",null,"",{"$f":"IF(OR('Results & Table'!H42=\"\",'Results & Table'!J42=\"\",G42=\"\",I42=\"\"),0,IF(G42='Results & Table'!H42,2,0)+IF(I42='Results & Table'!J42,2,0)+IF(J42='Results & Table'!K42,2,0))","v":0},{"$f":"IF(VLOOKUP(D42,BT39:CC43,10,FALSE)=VLOOKUP(F42,BT39:CC43,10,FALSE),VLOOKUP(D42,BT39:CC43,10,FALSE),\"-\")","v":1},3,{"$f":"VLOOKUP(M42,FI40:FJ43,2,FALSE)","v":"Belgium"},{"$f":"VLOOKUP(N42,BT40:CA43,2,FALSE)","v":0},{"$f":"VLOOKUP(N42,BT40:CA43,3,FALSE)","v":0},{"$f":"VLOOKUP(N42,BT40:CA43,4,FALSE)","v":0},{"$f":"VLOOKUP(N42,BT40:CA43,5,FALSE)","v":0},{"$f":"VLOOKUP(N42,BT40:CA43,6,FALSE)","v":0},{"$f":"VLOOKUP(N42,BT40:CA43,7,FALSE)","v":0},{"$f":"VLOOKUP(N42,BT40:CA43,8,FALSE)","v":0},null,null,null,null,null,null,null,null,null,"2024-06-21","Slovakia","-","Ukraine","","-","","",null,0,0,0,0,0,0,0,0,0,0,0,0,0,0,0,0,0,0,0,0,0,0,0,0,0,0,0,0,0,0,null,null,"Belgium",{"$f":"(SUMIF(AF4:AF54,BT42,AN4:AN54)+SUMIF(AH4:AH54,BT42,AO4:AO54))","v":0},{"$f":"(SUMIF(AF4:AF54,BT42,AP4:AP54)+SUMIF(AH4:AH54,BT42,AQ4:AQ54))","v":0},{"$f":"(SUMIF(AF4:AF54,BT42,AR4:AR54)+SUMIF(AH4:AH54,BT42,AS4:AS54))","v":0},{"$f":"SUMIF(AF4:AF54,BT42,AI4:AI54)+SUMIF(AH4:AH54,BT42,AK4:AK54)","v":0},{"$f":"SUMIF(AF4:AF54,BT42,AK4:AK54)+SUMIF(AH4:AH54,BT42,AI4:AI54)","v":0},{"$f":"BX42-BY42","v":0},{"$f":"IFERROR(BU42*3+BV42*1,0)","v":0},"E",{"$f":"RANK(CA42,CA40:CA43)","v":1},{"$f":"SUMPRODUCT((CA40:CA43=CA42)*(BZ40:BZ43>BZ42))","v":0},null,{"$f":"IF(CC42=1,BT42,)","v":"Belgium"},{"$f":"(SUMIF(AF4:AF54,BT42,AT4:AT54)+SUMIF(AH4:AH54,BT42,AU4:AU54))","v":0},{"$f":"(SUMIF(AF4:AF54,BT42,AV4:AV54)+SUMIF(AH4:AH54,BT42,AW4:AW54))","v":0},{"$f":"(SUMIF(AF4:AF54,BT42,AX4:AX54)+SUMIF(AH4:AH54,BT42,AY4:AY54))","v":0},0,{"$f":"CB42","v":"E"},{"$f":"IF(CF42>0,RANK(CJ42,CJ40:CJ43),)","v":1},{"$f":"IF(AND(CF42>0,COUNTIF(CL40:CL43,CL42)>1),SUMIFS($AI$4:$AI$54,$AF$4:$AF$54,BT42,$L$4:$L$54,1)+SUMIFS($AK$4:$AK$54,$AH$4:$AH$54,BT42,$L$4:$L$54,1)-SUMIFS($AK$4:$AK$54,$AF$4:$AF$54,BT42,$L$4:$L$54,1)-SUMIFS($AI$4:$AI$54,$AH$4:$AH$54,BT42,$L$4:$L$54,1),)","v":0},{"$f":"IF(AND(CF42>0,COUNTIF(CL40:CL43,CL42)>1),CL42+RANK(CM42,CM40:CM43)-1,CL42)","v":1},{"$f":"IF(AND(CF42>0,COUNTIF(CN40:CN43,CN42)>1),SUMIFS($AI$4:$AI$54,$AF$4:$AF$54,BT42,$L$4:$L$54,1)+SUMIFS($AK$4:$AK$54,$AH$4:$AH$54,BT42,$L$4:$L$54,1),)","v":0},{"$f":"IF(AND(CF42>0,COUNTIF(CN40:CN43,CN42)>1),CN42+RANK(CO42,CO40:CO43)-1,CN42)","v":1},1,{"$f":"IF(OR(CQ42=\"\",COUNTIF(CQ40:CQ43,CQ42)=1),\"\",$BZ42)","v":0},{"$f":"IF(CQ42=\"\",\"\",IF(COUNTIF(CQ40:CQ43,CQ42)=1,CQ42,CQ42+RANK(CR42,CR40:CR43,0)-1))","v":1},{"$f":"IF(OR(CS42=\"\",COUNTIF(CS40:CS43,CS42)=1),\"\",$BX42)","v":0},{"$f":"IF(CQ42=\"\",\"\",IF(COUNTIF(CS40:CS43,CS42)=1,CS42,CS42+RANK(CT42,CT40:CT43,0)-1))","v":1},{"$f":"IF(OR(CU42=\"\",COUNTIF(CU40:CU43,CU42)=1),\"\",$BU42)","v":0},{"$f":"IF(CQ42=\"\",\"\",IF(COUNTIF(CU40:CU43,CU42)=1,CU42,CU42+RANK(CV42,CV40:CV43,0)-1))","v":1},{"$f":"IF(CF42>0,BM38+RANK(CW42,CW40:CW43,1),)","v":1},null,{"$f":"IF(CC42=2,BT42,)","v":0},{"$f":"(SUMIF(AF4:AF54,BT42,AZ4:AZ54)+SUMIF(AH4:AH54,BT42,BA4:BA54))","v":0},{"$f":"(SUMIF(AF4:AF54,BT42,BB4:BB54)+SUMIF(AH4:AH54,BT42,BC4:BC54))","v":0},{"$f":"(SUMIF(AF4:AF54,BT42,BD4:BD54)+SUMIF(AH4:AH54,BT42,BE4:BE54))","v":0},{"$f":"IFERROR(DA42*3+DB42*1,0)","v":0},{"$f":"CB42","v":"E"},{"$f":"IF(CZ42>0,RANK(DD42,DD40:DD43)+CG38,)","v":0},{"$f":"IF(AND(CZ42>0,COUNTIF(DF40:DF43,DF42)>1),SUMIFS($AI$4:$AI$54,$AF$4:$AF$54,BT42,$L$4:$L$54,2)+SUMIFS($AK$4:$AK$54,$AH$4:$AH$54,BT42,$L$4:$L$54,2)-SUMIFS($AK$4:$AK$54,$AF$4:$AF$54,BT42,$L$4:$L$54,2)-SUMIFS($AI$4:$AI$54,$AH$4:$AH$54,BT42,$L$4:$L$54,2),)","v":0},{"$f":"IF(AND(CZ42>0,COUNTIF(DF40:DF43,DF42)>1),DF42+RANK(DG42,DG40:DG43)-1,DF42)","v":0},{"$f":"IF(AND(CZ42>0,COUNTIF(DH40:DH43,DH42)>1),SUMIFS($AI$4:$AI$54,$AF$4:$AF$54,BT42,$L$4:$L$54,2)+SUMIFS($AK$4:$AK$54,$AH$4:$AH$54,BT42,$L$4:$L$54,2),)","v":0},{"$f":"IF(AND(CZ42>0,COUNTIF(DH40:DH43,DH42)>1),DH42+RANK(DI42,DI40:DI43)-1,DH42)","v":0},"",{"$f":"IF(OR(DK42=\"\",COUNTIF(DK40:DK43,DK42)=1),\"\",$BZ42)","v":""},{"$f":"IF(DK42=\"\",\"\",IF(COUNTIF(DK40:DK43,DK42)=1,DK42,DK42+RANK(DL42,DL40:DL43,0)-1))","v":""},{"$f":"IF(OR(DM42=\"\",COUNTIF(DM40:DM43,DM42)=1),\"\",$BX42)","v":""},{"$f":"IF(DK42=\"\",\"\",IF(COUNTIF(DM40:DM43,DM42)=1,DM42,DM42+RANK(DN42,DN40:DN43,0)-1))","v":""},{"$f":"IF(OR(DO42=\"\",COUNTIF(DO40:DO43,DO42)=1),\"\",$BU42)","v":""},{"$f":"IF(DK42=\"\",\"\",IF(COUNTIF(DO40:DO43,DO42)=1,DO42,DO42+RANK(DP42,DP40:DP43,0)-1))","v":""},{"$f":"IF(CZ42>0,CG38+RANK(DQ42,DQ40:DQ43,1),)","v":0},null,{"$f":"IF(CC42=3,BT42,)","v":0},{"$f":"(SUMIF(AF4:AF54,BT42,BF4:BF54)+SUMIF(AH4:AH54,BT42,BG4:BG54))","v":0},{"$f":"(SUMIF(AF4:AF54,BT42,BH4:BH54)+SUMIF(AH4:AH54,BT42,BI4:BI54))","v":0},{"$f":"(SUMIF(AF4:AF54,BT42,BJ4:BJ54)+SUMIF(AH4:AH54,BT42,BK4:BK54))","v":0},0,{"$f":"CB42","v":"E"},{"$f":"IF(DT42>0,RANK(DX42,DX40:DX43)+CG38+DA38,)","v":0},{"$f":"IF(AND(DT42>0,COUNTIF(DZ40:DZ43,DZ42)>1),SUMIFS($AI$4:$AI$54,$AF$4:$AF$54,BT42,$L$4:$L$54,3)+SUMIFS($AK$4:$AK$54,$AH$4:$AH$54,BT42,$L$4:$L$54,3)-SUMIFS($AK$4:$AK$54,$AF$4:$AF$54,BT42,$L$4:$L$54,3)-SUMIFS($AI$4:$AI$54,$AH$4:$AH$54,BT42,$L$4:$L$54,3),)","v":0},{"$f":"IF(AND(DT42>0,COUNTIF(DZ40:DZ43,DZ42)>1),DZ42+RANK(EA42,EA40:EA43)-1,DZ42)","v":0},{"$f":"IF(AND(DT42>0,COUNTIF(EB40:EB43,EB42)>1),SUMIFS($AI$4:$AI$54,$AF$4:$AF$54,BT42,$L$4:$L$54,3)+SUMIFS($AK$4:$AK$54,$AH$4:$AH$54,BT42,$L$4:$L$54,3),)","v":0},{"$f":"IF(AND(DT42>0,COUNTIF(EB40:EB43,EB42)>1),EB42+RANK(EC42,EC40:EC43)-1,EB42)","v":0},"",{"$f":"IF(OR(EE42=\"\",COUNTIF(EE40:EE43,EE42)=1),\"\",$BZ42)","v":""},{"$f":"IF(EE42=\"\",\"\",IF(COUNTIF(EE40:EE43,EE42)=1,EE42,EE42+RANK(EF42,EF40:EF43,0)-1))","v":""},{"$f":"IF(OR(EG42=\"\",COUNTIF(EG40:EG43,EG42)=1),\"\",$BX42)","v":""},{"$f":"IF(EE42=\"\",\"\",IF(COUNTIF(EG40:EG43,EG42)=1,EG42,EG42+RANK(EH42,EH40:EH43,0)-1))","v":""},{"$f":"IF(OR(EI42=\"\",COUNTIF(EI40:EI43,EI42)=1),\"\",$BU42)","v":""},{"$f":"IF(EE42=\"\",\"\",IF(COUNTIF(EI40:EI43,EI42)=1,EI42,EI42+RANK(EJ42,EJ40:EJ43,0)-1))","v":""},{"$f":"IF(DT42>0,CG38+DA38+RANK(EK42,EK40:EK43,1),)","v":0},null,{"$f":"IF(CC42=4,BT42,)","v":0},{"$f":"(SUMIF(AF4:AF54,BT42,BL4:BL54)+SUMIF(AH4:AH54,BT42,BM4:BM54))","v":0},{"$f":"(SUMIF(AF4:AF54,BT42,BN4:BN54)+SUMIF(AH4:AH54,BT42,BO4:BO54))","v":0},{"$f":"(SUMIF(AF4:AF54,BT42,BP4:BP54)+SUMIF(AH4:AH54,BT42,BQ4:BQ54))","v":0},0,{"$f":"CB42","v":"E"},{"$f":"IF(EN42>0,RANK(ER42,ER40:ER43)+CG38+DA38+DU38,)","v":0},{"$f":"IF(AND(EN42>0,COUNTIF(ET40:ET43,ET42)>1),SUMIFS($AI$4:$AI$54,$AF$4:$AF$54,BT42,$L$4:$L$54,4)+SUMIFS($AK$4:$AK$54,$AH$4:$AH$54,BT42,$L$4:$L$54,4)-SUMIFS($AK$4:$AK$54,$AF$4:$AF$54,BT42,$L$4:$L$54,4)-SUMIFS($AI$4:$AI$54,$AH$4:$AH$54,BT42,$L$4:$L$54,4),)","v":0},{"$f":"IF(AND(EN42>0,COUNTIF(ET4:ET7,ET42)>1),ET42+RANK(EU42,EU4:EU7)-1,ET42)","v":0},{"$f":"IF(AND(EN42>0,COUNTIF(EV40:EV43,EV42)>1),SUMIFS($AI$4:$AI$54,$AF$4:$AF$54,BT42,$L$4:$L$54,4)+SUMIFS($AK$4:$AK$54,$AH$4:$AH$54,BT42,$L$4:$L$54,4),)","v":0},{"$f":"IF(AND(EN42>0,COUNTIF(EV40:EV43,EV42)>1),EV42+RANK(EW42,EW40:EW43)-1,EV42)","v":0},"",{"$f":"IF(OR(EY42=\"\",COUNTIF(EY40:EY43,EY42)=1),\"\",$BZ42)","v":""},{"$f":"IF(EY42=\"\",\"\",IF(COUNTIF(EY40:EY43,EY42)=1,EY42,EY42+RANK(EZ42,EZ40:EZ43,0)-1))","v":""},{"$f":"IF(OR(FA42=\"\",COUNTIF(FA40:FA43,FA42)=1),\"\",$BX42)","v":""},{"$f":"IF(EY42=\"\",\"\",IF(COUNTIF(FA40:FA43,FA42)=1,FA42,FA42+RANK(FB42,FB40:FB43,0)-1))","v":""},{"$f":"IF(OR(FC42=\"\",COUNTIF(FC40:FC43,FC42)=1),\"\",$BU42)","v":""},{"$f":"IF(EY42=\"\",\"\",IF(COUNTIF(FC40:FC43,FC42)=1,FC42,FC42+RANK(FD42,FD40:FD43,0)-1))","v":""},{"$f":"IF(EN42>0,CG38+DA38+DU38+RANK(FE42,FE40:FE43,1),)","v":0},null,{"$f":"IFERROR(VLOOKUP(FJ42,CF39:CX43,19,FALSE),IFERROR(VLOOKUP(FJ42,CZ39:DR43,19,FALSE),IFERROR(VLOOKUP(FJ42,DT39:EL43,19,FALSE),VLOOKUP(FJ42,EN39:FF43,19,FALSE))))","v":1},{"$f":"RANK(FH42,FH40:FH43,1)+COUNTIF(FH40:FH42,FH42)-1","v":3},{"$f":"BT42","v":"Belgium"}]
[null,null,"2024-06-22","Belgium",null,"Romania",null,"-",null,"",{"$f":"IF(OR('Results & Table'!H43=\"\",'Results & Table'!J43=\"\",G43=\"\",I43=\"\"),0,IF(G43='Results & Table'!H43,2,0)+IF(I43='Results & Table'!J43,2,0)+IF(J43='Results & Table'!K43,2,0))","v":0},{"$f":"IF(VLOOKUP(D43,BT39:CC43,10,FALSE)=VLOOKUP(F43,BT39:CC43,10,FALSE),VLOOKUP(D43,BT39:CC43,10,FALSE),\"-\")","v":1},4,{"$f":"VLOOKUP(M43,FI40:FJ43,2,FALSE)","v":"Romania"},{"$f":"VLOOKUP(N43,BT40:CA43,2,FALSE)","v":0},{"$f":"VLOOKUP(N43,BT40:CA43,3,FALSE)","v":0},{"$f":"VLOOKUP(N43,BT40:CA43,4,FALSE)","v":0},{"$f":"VLOOKUP(N43,BT40:CA43,5,FALSE)","v":0},{"$f":"VLOOKUP(N43,BT40:CA43,6,FALSE)","v":0},{"$f":"VLOOKUP(N43,BT40:CA43,7,FALSE)","v":0},{"$f":"VLOOKUP(N43,BT40:CA43,8,FALSE)","v":0},null,null,null,null,null,null,null,null,null,"2024-06-22","Belgium",0,"Romania","","-","","",null,0,0,0,0,0,0,0,0,0,0,0,0,0,0,0,0,0,0,0,0,0,0,0,0,0,0,0,0,0,0,null,null,"Romania",{"$f":"(SUMIF(AF4:AF54,BT43,AN4:AN54)+SUMIF(AH4:AH54,BT43,AO4:AO54))","v":0},{"$f":"(SUMIF(AF4:AF54,BT43,AP4:AP54)+SUMIF(AH4:AH54,BT43,AQ4:AQ54))","v":0},{"$f":"(SUMIF(AF4:AF54,BT43,AR4:AR54)+SUMIF(AH4:AH54,BT43,AS4:AS54))","v":0},{"$f":"SUMIF(AF4:AF54,BT43,AI4:AI54)+SUMIF(AH4:AH54,BT43,AK4:AK54)","v":0},{"$f":"SUMIF(AF4:AF54,BT43,AK4:AK54)+SUMIF(AH4:AH54,BT43,AI4:AI54)","v":0},{"$f":"BX43-BY43","v":0},{"$f":"IFERROR(BU43*3+BV43*1,0)","v":0},"E",{"$f":"RANK(CA43,CA40:CA43)","v":1},{"$f":"SUMPRODUCT((CA40:CA43=CA43)*(BZ40:BZ43>BZ43))","v":0},null,{"$f":"IF(CC43=1,BT43,)","v":"Romania"},{"$f":"(SUMIF(AF4:AF54,BT43,AT4:AT54)+SUMIF(AH4:AH54,BT43,AU4:AU54))","v":0},{"$f":"(SUMIF(AF4:AF54,BT43,AV4:AV54)+SUMIF(AH4:AH54,BT43,AW4:AW54))","v":0},{"$f":"(SUMIF(AF4:AF54,BT43,AX4:AX54)+SUMIF(AH4:AH54,BT43,AY4:AY54))","v":0},0,{"$f":"CB43","v":"E"},{"$f":"IF(CF43>0,RANK(CJ43,CJ40:CJ43),)","v":1},{"$f":"IF(AND(CF43>0,COUNTIF(CL40:CL43,CL43)>1),SUMIFS($AI$4:$AI$54,$AF$4:$AF$54,BT43,$L$4:$L$54,1)+SUMIFS($AK$4:$AK$54,$AH$4:$AH$54,BT43,$L$4:$L$54,1)-SUMIFS($AK$4:$AK$54,$AF$4:$AF$54,BT43,$L$4:$L$54,1)-SUMIFS($AI$4:$AI$54,$AH$4:$AH$54,BT43,$L$4:$L$54,1),)","v":0},{"$f":"IF(AND(CF43>0,COUNTIF(CL40:CL43,CL43)>1),CL43+RANK(CM43,CM40:CM43)-1,CL43)","v":1},{"$f":"IF(AND(CF43>0,COUNTIF(CN40:CN43,CN43)>1),SUMIFS($AI$4:$AI$54,$AF$4:$AF$54,BT43,$L$4:$L$54,1)+SUMIFS($AK$4:$AK$54,$AH$4:$AH$54,BT43,$L$4:$L$54,1),)","v":0},{"$f":"IF(AND(CF43>0,COUNTIF(CN40:CN43,CN43)>1),CN43+RANK(CO43,CO40:CO43)-1,CN43)","v":1},1,{"$f":"IF(OR(CQ43=\"\",COUNTIF(CQ40:CQ43,CQ43)=1),\"\",$BZ43)","v":0},{"$f":"IF(CQ43=\"\",\"\",IF(COUNTIF(CQ40:CQ43,CQ43)=1,CQ43,CQ43+RANK(CR43,CR40:CR43,0)-1))","v":1},{"$f":"IF(OR(CS43=\"\",COUNTIF(CS40:CS43,CS43)=1),\"\",$BX43)","v":0},{"$f":"IF(CQ43=\"\",\"\",IF(COUNTIF(CS40:CS43,CS43)=1,CS43,CS43+RANK(CT43,CT40:CT43,0)-1))","v":1},{"$f":"IF(OR(CU43=\"\",COUNTIF(CU40:CU43,CU43)=1),\"\",$BU43)","v":0},{"$f":"IF(CQ43=\"\",\"\",IF(COUNTIF(CU40:CU43,CU43)=1,CU43,CU43+RANK(CV43,CV40:CV43,0)-1))","v":1},{"$f":"IF(CF43>0,BM38+RANK(CW43,CW40:CW43,1),)","v":1},null,{"$f":"IF(CC43=2,BT43,)","v":0},{"$f":"(SUMIF(AF4:AF54,BT43,AZ4:AZ54)+SUMIF(AH4:AH54,BT43,BA4:BA54))","v":0},{"$f":"(SUMIF(AF4:AF54,BT43,BB4:BB54)+SUMIF(AH4:AH54,BT43,BC4:BC54))","v":0},{"$f":"(SUMIF(AF4:AF54,BT43,BD4:BD54)+SUMIF(AH4:AH54,BT43,BE4:BE54))","v":0},0,{"$f":"CB43","v":"E"},{"$f":"IF(CZ43>0,RANK(DD43,DD40:DD43)+CG38,)","v":0},{"$f":"IF(AND(CZ43>0,COUNTIF(DF40:DF43,DF43)>1),SUMIFS($AI$4:$AI$54,$AF$4:$AF$54,BT43,$L$4:$L$54,2)+SUMIFS($AK$4:$AK$54,$AH$4:$AH$54,BT43,$L$4:$L$54,2)-SUMIFS($AK$4:$AK$54,$AF$4:$AF$54,BT43,$L$4:$L$54,2)-SUMIFS($AI$4:$AI$54,$AH$4:$AH$54,BT43,$L$4:$L$54,2),)","v":0},{"$f":"IF(AND(CZ43>0,COUNTIF(DF40:DF43,DF43)>1),DF43+RANK(DG43,DG40:DG43)-1,DF43)","v":0},{"$f":"IF(AND(CZ43>0,COUNTIF(DH40:DH43,DH43)>1),SUMIFS($AI$4:$AI$54,$AF$4:$AF$54,BT43,$L$4:$L$54,2)+SUMIFS($AK$4:$AK$54,$AH$4:$AH$54,BT43,$L$4:$L$54,2),)","v":0},{"$f":"IF(AND(CZ43>0,COUNTIF(DH40:DH43,DH43)>1),DH43+RANK(DI43,DI40:DI43)-1,DH43)","v":0},"",{"$f":"IF(OR(DK43=\"\",COUNTIF(DK40:DK43,DK43)=1),\"\",$BZ43)","v":""},{"$f":"IF(DK43=\"\",\"\",IF(COUNTIF(DK40:DK43,DK43)=1,DK43,DK43+RANK(DL43,DL40:DL43,0)-1))","v":""},{"$f":"IF(OR(DM43=\"\",COUNTIF(DM40:DM43,DM43)=1),\"\",$BX43)","v":""},{"$f":"IF(DK43=\"\",\"\",IF(COUNTIF(DM40:DM43,DM43)=1,DM43,DM43+RANK(DN43,DN40:DN43,0)-1))","v":""},{"$f":"IF(OR(DO43=\"\",COUNTIF(DO40:DO43,DO43)=1),\"\",$BU43)","v":""},{"$f":"IF(DK43=\"\",\"\",IF(COUNTIF(DO40:DO43,DO43)=1,DO43,DO43+RANK(DP43,DP40:DP43,0)-1))","v":""},{"$f":"IF(CZ43>0,CG38+RANK(DQ43,DQ40:DQ43,1),)","v":0},null,{"$f":"IF(CC43=3,BT43,)","v":0},{"$f":"(SUMIF(AF4:AF54,BT43,BF4:BF54)+SUMIF(AH4:AH54,BT43,BG4:BG54))","v":0},{"$f":"(SUMIF(AF4:AF54,BT43,BH4:BH54)+SUMIF(AH4:AH54,BT43,BI4:BI54))","v":0},{"$f":"(SUMIF(AF4:AF54,BT43,BJ4:BJ54)+SUMIF(AH4:AH54,BT43,BK4:BK54))","v":0},0,{"$f":"CB43","v":"E"},{"$f":"IF(DT43>0,RANK(DX43,DX40:DX43)+CG38+DA38,)","v":0},{"$f":"IF(AND(DT43>0,COUNTIF(DZ40:DZ43,DZ43)>1),SUMIFS($AI$4:$AI$54,$AF$4:$AF$54,BT43,$L$4:$L$54,3)+SUMIFS($AK$4:$AK$54,$AH$4:$AH$54,BT43,$L$4:$L$54,3)-SUMIFS($AK$4:$AK$54,$AF$4:$AF$54,BT43,$L$4:$L$54,3)-SUMIFS($AI$4:$AI$54,$AH$4:$AH$54,BT43,$L$4:$L$54,3),)","v":0},{"$f":"IF(AND(DT43>0,COUNTIF(DZ40:DZ43,DZ43)>1),DZ43+RANK(EA43,EA40:EA43)-1,DZ43)","v":0},{"$f":"IF(AND(DT43>0,COUNTIF(EB40:EB43,EB43)>1),SUMIFS($AI$4:$AI$54,$AF$4:$AF$54,BT43,$L$4:$L$54,3)+SUMIFS($AK$4:$AK$54,$AH$4:$AH$54,BT43,$L$4:$L$54,3),)","v":0},{"$f":"IF(AND(DT43>0,COUNTIF(EB40:EB43,EB43)>1),EB43+RANK(EC43,EC40:EC43)-1,EB43)","v":0},"",{"$f":"IF(OR(EE43=\"\",COUNTIF(EE40:EE43,EE43)=1),\"\",$BZ43)","v":""},{"$f":"IF(EE43=\"\",\"\",IF(COUNTIF(EE40:EE43,EE43)=1,EE43,EE43+RANK(EF43,EF40:EF43,0)-1))","v":""},{"$f":"IF(OR(EG43=\"\",COUNTIF(EG40:EG43,EG43)=1),\"\",$BX43)","v":""},{"$f":"IF(EE43=\"\",\"\",IF(COUNTIF(EG40:EG43,EG43)=1,EG43,EG43+RANK(EH43,EH40:EH43,0)-1))","v":""},{"$f":"IF(OR(EI43=\"\",COUNTIF(EI40:EI43,EI43)=1),\"\",$BU43)","v":""},{"$f":"IF(EE43=\"\",\"\",IF(COUNTIF(EI40:EI43,EI43)=1,EI43,EI43+RANK(EJ43,EJ40:EJ43,0)-1))","v":""},{"$f":"IF(DT43>0,CG38+DA38+RANK(EK43,EK40:EK43,1),)","v":0},null,{"$f":"IF(CC43=4,BT43,)","v":0},{"$f":"(SUMIF(AF4:AF54,BT43,BL4:BL54)+SUMIF(AH4:AH54,BT43,BM4:BM54))","v":0},{"$f":"(SUMIF(AF4:AF54,BT43,BN4:BN54)+SUMIF(AH4:AH54,BT43,BO4:BO54))","v":0},{"$f":"(SUMIF(AF4:AF54,BT43,BP4:BP54)+SUMIF(AH4:AH54,BT43,BQ4:BQ54))","v":0},0,{"$f":"CB43","v":"E"},{"$f":"IF(EN43>0,RANK(ER43,ER40:ER43)+CG38+DA38+DU38,)","v":0},{"$f":"IF(AND(EN43>0,COUNTIF(ET40:ET43,ET43)>1),SUMIFS($AI$4:$AI$54,$AF$4:$AF$54,BT43,$L$4:$L$54,4)+SUMIFS($AK$4:$AK$54,$AH$4:$AH$54,BT43,$L$4:$L$54,4)-SUMIFS($AK$4:$AK$54,$AF$4:$AF$54,BT43,$L$4:$L$54,4)-SUMIFS($AI$4:$AI$54,$AH$4:$AH$54,BT43,$L$4:$L$54,4),)","v":0},{"$f":"IF(AND(EN43>0,COUNTIF(ET4:ET7,ET43)>1),ET43+RANK(EU43,EU4:EU7)-1,ET43)","v":0},{"$f":"IF(AND(EN43>0,COUNTIF(EV40:EV43,EV43)>1),SUMIFS($AI$4:$AI$54,$AF$4:$AF$54,BT43,$L$4:$L$54,4)+SUMIFS($AK$4:$AK$54,$AH$4:$AH$54,BT43,$L$4:$L$54,4),)","v":0},{"$f":"IF(AND(EN43>0,COUNTIF(EV40:EV43,EV43)>1),EV43+RANK(EW43,EW40:EW43)-1,EV43)","v":0},"",{"$f":"IF(OR(EY43=\"\",COUNTIF(EY40:EY43,EY43)=1),\"\",$BZ43)","v":""},{"$f":"IF(EY43=\"\",\"\",IF(COUNTIF(EY40:EY43,EY43)=1,EY43,EY43+RANK(EZ43,EZ40:EZ43,0)-1))","v":""},{"$f":"IF(OR(FA43=\"\",COUNTIF(FA40:FA43,FA43)=1),\"\",$BX43)","v":""},{"$f":"IF(EY43=\"\",\"\",IF(COUNTIF(FA40:FA43,FA43)=1,FA43,FA43+RANK(FB43,FB40:FB43,0)-1))","v":""},{"$f":"IF(OR(FC43=\"\",COUNTIF(FC40:FC43,FC43)=1),\"\",$BU43)","v":""},{"$f":"IF(EY43=\"\",\"\",IF(COUNTIF(FC40:FC43,FC43)=1,FC43,FC43+RANK(FD43,FD40:FD43,0)-1))","v":""},{"$f":"IF(EN43>0,CG38+DA38+DU38+RANK(FE43,FE40:FE43,1),)","v":0},null,{"$f":"IFERROR(VLOOKUP(FJ43,CF39:CX43,19,FALSE),IFERROR(VLOOKUP(FJ43,CZ39:DR43,19,FALSE),IFERROR(VLOOKUP(FJ43,DT39:EL43,19,FALSE),VLOOKUP(FJ43,EN39:FF43,19,FALSE))))","v":1},{"$f":"RANK(FH43,FH40:FH43,1)+COUNTIF(FH40:FH43,FH43)-1","v":4},{"$f":"BT43","v":"Romania"}]
[null,null,"2024-06-26","Slovakia","-","Romania",null,"-",null,"",{"$f":"IF(OR('Results & Table'!H44=\"\",'Results & Table'!J44=\"\",G44=\"\",I44=\"\"),0,IF(G44='Results & Table'!H44,2,0)+IF(I44='Results & Table'!J44,2,0)+IF(J44='Results & Table'!K44,2,0))","v":0},{"$f":"IF(VLOOKUP(D44,BT39:CC43,10,FALSE)=VLOOKUP(F44,BT39:CC43,10,FALSE),VLOOKUP(D44,BT39:CC43,10,FALSE),\"-\")","v":1},null,{"$f":"IF(COUNTBLANK(G40:G45)+COUNTBLANK(I40:I45)=0,\"Resultat OK\",\"Fyll i resultat\")","v":"Fyll i resultat"},null,null,null,null,null,null,null,null,null,null,null,null,null,null,null,null,"2024-06-26","Slovakia","-","Romania","","-","","",null,0,0,0,0,0,0,0,0,0,0,0,0,0,0,0,0,0,0,0,0,0,0,0,0,0,0,0,0,0,0]
[null,null,"2024-06-26","Ukraine","-","Belgium",null,"-",null,"",{"$f":"IF(OR('Results & Table'!H45=\"\",'Results & Table'!J45=\"\",G45=\"\",I45=\"\"),0,IF(G45='Results & Table'!H45,2,0)+IF(I45='Results & Table'!J45,2,0)+IF(J45='Results & Table'!K45,2,0))","v":0},{"$f":"IF(VLOOKUP(D45,BT39:CC43,10,FALSE)=VLOOKUP(F45,BT39:CC43,10,FALSE),VLOOKUP(D45,BT39:CC43,10,FALSE),\"-\")","v":1},null,null,null,null,null,null,null,null,null,null,null,null,null,null,null,null,null,null,"2024-06-26","Ukraine","-","Belgium","","-","","",null,0,0,0,0,0,0,0,0,0,0,0,0,0,0,0,0,0,0,0,0,0,0,0,0,0,0,0,0,0,0]
[]
[null,null,"Group F",null,null,null,null,null,null,null,null,null,null,null,null,null,null,null,null,null,null,null,null,null,null,null,null,null,null,null,"Grupp F",null,null,null,null,null,null,null,null,null,null,null,null,null,null,null,null,null,null,null,null,null,null,null,null,null,null,null,null,null,null,null,null,null,null,null,null,null,null,null,null,"Rank 0",null,null,null,null,null,null,null,null,null,null,null,"Rank 1",{"$f":"COUNTIF(CC49:CC52,1)","v":4},null,null,null,null,null,null,null,null,null,null,null,null,null,null,null,null,null,null,"Rank 2",{"$f":"COUNTIF(CC49:CC52,2)","v":0},null,null,null,null,null,null,null,null,null,null,null,null,null,null,null,null,null,null,"Rank 3",{"$f":"COUNTIF(CC49:CC52,3)","v":0},null,null,null,null,null,null,null,null,null,null,null,null,null,null,null,null,null,null,"Rank 4",{"$f":"COUNTIF(CC49:CC52,4)","v":0}]
[null,null,"Date","Match",null,null,"Result",null,null,"1X2","Points",null,null,"Team","W","D","L","GF","GA","+/-","P",null,null,null,null,null,null,null,null,null,"Datum","Match",null,null,"Resultat",null,null,"Tecken","Poäng","V1","V2","O1","O2","F1","F2","V1","V2","O1","O2","F1","F2","V1","V2","O1","O2","F1","F2","V1","V2","O1","O2","F1","F2","V1","V2","O1","O2","F1","F2",null,null,"Lag","V","O","F","GM","IM","+/-","P","Grupp","Rank P","Rank +/-",null,"Lag","V","O","F","P","Grupp","Rank P","+/-","+/- rank","GM","GM rank","Rank internal","+/- all","+/- rank all","GM all","GM rank all","V all","V rank all","Rank all",null,"Lag","V","O","F","P","Grupp","Rank P","+/-","+/- rank","GM","GM rank","Rank internal","+/- all","+/- rank all","GM all","GM rank all","V all","V rank all","Rank all",null,"Lag","V","O","F","P","Grupp","Rank P","+/-","+/- rank","GM","GM rank","Rank internal","+/- all","+/- rank all","GM all","GM rank all","V all","V rank all","Rank all",null,"Lag","V","O","F","P","Grupp","Rank P","+/-","+/- rank","GM","GM rank","Rank internal","+/- all","+/- rank all","GM all","GM rank all","V all","V rank all","Rank all",null,"Rank","Rank Ties"]
[null,null,"2024-06-18","Türkiye","-","Georgia",null,"-",null,{"$f":"IF(OR(ISBLANK(G49),ISBLANK(I49)),\"\",IF(G49>I49,1,IF(G49<I49,2,\"X\")))","v":""},{"$f":"IF(OR('Results & Table'!H49=\"\",'Results & Table'!J49=\"\",G49=\"\",I49=\"\"),0,IF(G49='Results & Table'!H49,2,0)+IF(I49='Results & Table'!J49,2,0)+IF(J49='Results & Table'!K49,2,0))","v":0},{"$f":"IF(VLOOKUP(D49,BT48:CC52,10,FALSE)=VLOOKUP(F49,BT48:CC52,10,FALSE),VLOOKUP(D49,BT48:CC52,10,FALSE),\"-\")","v":1},1,{"$f":"VLOOKUP(M49,FI49:FJ52,2,FALSE)","v":"Portugal"},{"$f":"VLOOKUP(N49,BT49:CA52,2,FALSE)","v":0},{"$f":"VLOOKUP(N49,BT49:CA52,3,FALSE)","v":0},{"$f":"VLOOKUP(N49,BT49:CA52,4,FALSE)","v":0},{"$f":"VLOOKUP(N49,BT49:CA52,5,FALSE)","v":0},{"$f":"VLOOKUP(N49,BT49:CA52,6,FALSE)","v":0},{"$f":"VLOOKUP(N49,BT49:CA52,7,FALSE)","v":0},{"$f":"VLOOKUP(N49,BT49:CA52,8,FALSE)","v":0},null,null,null,null,null,null,null,null,null,{"$f":"C49","v":"2024-06-18"},"Türkiye","-","Georgia",{"$f":"IF(G49=\"\",\"\",G49)","v":""},"-",{"$f":"IF(I49=\"\",\"\",I49)","v":""},{"$f":"J49","v":""},null,{"$f":"IF(AI49>AK49,1,0)","v":0},{"$f":"IF(AK49>AI49,1,0)","v":0},{"$f":"IF(AND(AI49=AK49,AI49<>\"\"),1,0)","v":0},{"$f":"IF(AND(AI49=AK49,AI49<>\"\"),1,0)","v":0},{"$f":"IF(AI49<AK49,1,0)","v":0},{"$f":"IF(AK49<AI49,1,)","v":0},{"$f":"IF(ISERROR(VLOOKUP(AF49,CF:CF,1,FALSE)),0,1)*IF(ISERROR(VLOOKUP(AH49,CF:CF,1,FALSE)),0,1)*AN49","v":0},{"$f":"IF(ISERROR(VLOOKUP(AF49,CF:CF,1,FALSE)),0,1)*IF(ISERROR(VLOOKUP(AH49,CF:CF,1,FALSE)),0,1)*AO49","v":0},{"$f":"IF(ISERROR(VLOOKUP(AF49,CF:CF,1,FALSE)),0,1)*IF(ISERROR(VLOOKUP(AH49,CF:CF,1,FALSE)),0,1)*AP49","v":0},{"$f":"IF(ISERROR(VLOOKUP(AF49,CF:CF,1,FALSE)),0,1)*IF(ISERROR(VLOOKUP(AH49,CF:CF,1,FALSE)),0,1)*AQ49","v":0},{"$f":"IF(ISERROR(VLOOKUP(AF49,CF:CF,1,FALSE)),0,1)*IF(ISERROR(VLOOKUP(AH49,CF:CF,1,FALSE)),0,1)*AR49","v":0},{"$f":"IF(ISERROR(VLOOKUP(AF49,CF:CF,1,FALSE)),0,1)*IF(ISERROR(VLOOKUP(AH49,CF:CF,1,FALSE)),0,1)*AS49","v":0},{"$f":"IF(ISERROR(VLOOKUP(AF49,CZ:CZ,1,FALSE)),0,1)*IF(ISERROR(VLOOKUP(AH49,CZ:CZ,1,FALSE)),0,1)*AN49","v":0},{"$f":"IF(ISERROR(VLOOKUP(AF49,CZ:CZ,1,FALSE)),0,1)*IF(ISERROR(VLOOKUP(AH49,CZ:CZ,1,FALSE)),0,1)*AO49","v":0},{"$f":"IF(ISERROR(VLOOKUP(AF49,CZ:CZ,1,FALSE)),0,1)*IF(ISERROR(VLOOKUP(AH49,CZ:CZ,1,FALSE)),0,1)*AP49","v":0},{"$f":"IF(ISERROR(VLOOKUP(AF49,CZ:CZ,1,FALSE)),0,1)*IF(ISERROR(VLOOKUP(AH49,CZ:CZ,1,FALSE)),0,1)*AQ49","v":0},{"$f":"IF(ISERROR(VLOOKUP(AF49,CZ:CZ,1,FALSE)),0,1)*IF(ISERROR(VLOOKUP(AH49,CZ:CZ,1,FALSE)),0,1)*AR49","v":0},{"$f":"IF(ISERROR(VLOOKUP(AF49,CZ:CZ,1,FALSE)),0,1)*IF(ISERROR(VLOOKUP(AH49,CZ:CZ,1,FALSE)),0,1)*AS49","v":0},{"$f":"IF(ISERROR(VLOOKUP(AF49,DT:DT,1,FALSE)),0,1)*IF(ISERROR(VLOOKUP(AH49,DT:DT,1,FALSE)),0,1)*AN49","v":0},{"$f":"IF(ISERROR(VLOOKUP(AF49,DT:DT,1,FALSE)),0,1)*IF(ISERROR(VLOOKUP(AH49,DT:DT,1,FALSE)),0,1)*AO49","v":0},{"$f":"IF(ISERROR(VLOOKUP(AF49,DT:DT,1,FALSE)),0,1)*IF(ISERROR(VLOOKUP(AH49,DT:DT,1,FALSE)),0,1)*AP49","v":0},{"$f":"IF(ISERROR(VLOOKUP(AF49,DT:DT,1,FALSE)),0,1)*IF(ISERROR(VLOOKUP(AH49,DT:DT,1,FALSE)),0,1)*AQ49","v":0},{"$f":"IF(ISERROR(VLOOKUP(AF49,DT:DT,1,FALSE)),0,1)*IF(ISERROR(VLOOKUP(AH49,DT:DT,1,FALSE)),0,1)*AR49","v":0},{"$f":"IF(ISERROR(VLOOKUP(AF49,DT:DT,1,FALSE)),0,1)*IF(ISERROR(VLOOKUP(AH49,DT:DT,1,FALSE)),0,1)*AS49","v":0},{"$f":"IF(ISERROR(VLOOKUP(AF49,EN:EN,1,FALSE)),0,1)*IF(ISERROR(VLOOKUP(AH49,EN:EN,1,FALSE)),0,1)*AN49","v":0},{"$f":"IF(ISERROR(VLOOKUP(AF49,EN:EN,1,FALSE)),0,1)*IF(ISERROR(VLOOKUP(AH49,EN:EN,1,FALSE)),0,1)*AO49","v":0},{"$f":"IF(ISERROR(VLOOKUP(AF49,EN:EN,1,FALSE)),0,1)*IF(ISERROR(VLOOKUP(AH49,EN:EN,1,FALSE)),0,1)*AP49","v":0},{"$f":"IF(ISERROR(VLOOKUP(AF49,EN:EN,1,FALSE)),0,1)*IF(ISERROR(VLOOKUP(AH49,EN:EN,1,FALSE)),0,1)*AQ49","v":0},{"$f":"IF(ISERROR(VLOOKUP(AF49,EN:EN,1,FALSE)),0,1)*IF(ISERROR(VLOOKUP(AH49,EN:EN,1,FALSE)),0,1)*AR49","v":0},{"$f":"IF(ISERROR(VLOOKUP(AF49,EN:EN,1,FALSE)),0,1)*IF(ISERROR(VLOOKUP(AH49,EN:EN,1,FALSE)),0,1)*AS49","v":0},null,null,"Portugal",{"$f":"(SUMIF(AF4:AF54,BT49,AN4:AN54)+SUMIF(AH4:AH54,BT49,AO4:AO54))","v":0},{"$f":"(SUMIF(AF4:AF54,BT49,AP4:AP54)+SUMIF(AH4:AH54,BT49,AQ4:AQ54))","v":0},{"$f":"(SUMIF(AF4:AF54,BT49,AR4:AR54)+SUMIF(AH4:AH54,BT49,AS4:AS54))","v":0},{"$f":"SUMIF(AF4:AF54,BT49,AI4:AI54)+SUMIF(AH4:AH54,BT49,AK4:AK54)","v":0},{"$f":"SUMIF(AF4:AF54,BT49,AK4:AK54)+SUMIF(AH4:AH54,BT49,AI4:AI54)","v":0},{"$f":"BX49-BY49","v":0},{"$f":"IFERROR(BU49*3+BV49*1,0)","v":0},"F",{"$f":"RANK(CA49,CA49:CA52)","v":1},{"$f":"SUMPRODUCT((CA49:CA52=CA49)*(BZ49:BZ52>BZ49))","v":0},null,{"$f":"IF(CC49=1,BT49,)","v":"Portugal"},{"$f":"(SUMIF(AF4:AF54,BT49,AT4:AT54)+SUMIF(AH4:AH54,BT49,AU4:AU54))","v":0},{"$f":"(SUMIF(AF4:AF54,BT49,AV4:AV54)+SUMIF(AH4:AH54,BT49,AW4:AW54))","v":0},{"$f":"(SUMIF(AF4:AF54,BT49,AX4:AX54)+SUMIF(AH4:AH54,BT49,AY4:AY54))","v":0},{"$f":"IFERROR(CG49*3+CH49*1,0)","v":0},{"$f":"CB49","v":"F"},{"$f":"IF(CF49>0,RANK(CJ49,CJ49:CJ52),)","v":1},{"$f":"IF(AND(CF49>0,COUNTIF(CL49:CL52,CL49)>1),SUMIFS($AI$4:$AI$54,$AF$4:$AF$54,$BT49,$L$4:$L$54,1)+SUMIFS($AK$4:$AK$54,$AH$4:$AH$54,$BT49,$L$4:$L$54,1)-SUMIFS($AK$4:$AK$54,$AF$4:$AF$54,$BT49,$L$4:$L$54,1)-SUMIFS($AI$4:$AI$54,$AH$4:$AH$54,$BT49,$L$4:$L$54,1),)","v":0},{"$f":"IF(AND(CF49>0,COUNTIF(CL49:CL52,CL49)>1),CL49+RANK(CM49,CM49:CM52)-1,CL49)","v":1},{"$f":"IF(AND(CF49>0,COUNTIF(CN49:CN52,CN49)>1),SUMIFS($AI$4:$AI$54,$AF$4:$AF$54,$BT49,$L$4:$L$54,1)+SUMIFS($AK$4:$AK$54,$AH$4:$AH$54,$BT49,$L$4:$L$54,1),)","v":0},{"$f":"IF(AND(CF49>0,COUNTIF(CN49:CN52,CN49)>1),CN49+RANK(CO49,CO49:CO52)-1,CN49)","v":1},{"$f":"IF(CP49=0,\"\",CP49)","v":1},{"$f":"IF(OR(CQ49=\"\",COUNTIF(CQ49:CQ52,CQ49)=1),\"\",$BZ49)","v":0},{"$f":"IF(CQ49=\"\",\"\",IF(COUNTIF(CQ49:CQ52,CQ49)=1,CQ49,CQ49+RANK(CR49,CR49:CR52,0)-1))","v":1},{"$f":"IF(OR(CS49=\"\",COUNTIF(CS49:CS52,CS49)=1),\"\",$BX49)","v":0},{"$f":"IF(CQ49=\"\",\"\",IF(COUNTIF(CS49:CS52,CS49)=1,CS49,CS49+RANK(CT49,CT49:CT52,0)-1))","v":1},{"$f":"IF(OR(CU49=\"\",COUNTIF(CU49:CU52,CU49)=1),\"\",$BU49)","v":0},{"$f":"IF(CQ49=\"\",\"\",IF(COUNTIF(CU49:CU52,CU49)=1,CU49,CU49+RANK(CV49,CV49:CV52,0)-1))","v":1},{"$f":"IF(CF49>0,BM47+RANK(CW49,CW49:CW52,1),)","v":1},null,{"$f":"IF(CC49=2,BT49,)","v":0},{"$f":"(SUMIF(AF4:AF54,BT49,AZ4:AZ54)+SUMIF(AH4:AH54,BT49,BA4:BA54))","v":0},{"$f":"(SUMIF(AF4:AF54,BT49,BB4:BB54)+SUMIF(AH4:AH54,BT49,BC4:BC54))","v":0},{"$f":"(SUMIF(AF4:AF54,BT49,BD4:BD54)+SUMIF(AH4:AH54,BT49,BE4:BE54))","v":0},{"$f":"IFERROR(DA49*3+DB49*1,0)","v":0},{"$f":"CB49","v":"F"},{"$f":"IF(CZ49>0,RANK(DD49,DD49:DD52)+CG47,)","v":0},{"$f":"IF(AND(CZ49>0,COUNTIF(DF49:DF52,DF49)>1),SUMIFS($AI$4:$AI$54,$AF$4:$AF$54,$BT49,$L$4:$L$54,2)+SUMIFS($AK$4:$AK$54,$AH$4:$AH$54,$BT49,$L$4:$L$54,2)-SUMIFS($AK$4:$AK$54,$AF$4:$AF$54,$BT49,$L$4:$L$54,2)-SUMIFS($AI$4:$AI$54,$AH$4:$AH$54,$BT49,$L$4:$L$54,2),)","v":0},{"$f":"IF(AND(CZ49>0,COUNTIF(DF49:DF52,DF49)>1),DF49+RANK(DG49,DG49:DG52)-1,DF49)","v":0},{"$f":"IF(AND(CZ49>0,COUNTIF(DH49:DH52,DH49)>1),SUMIFS($AI$4:$AI$54,$AF$4:$AF$54,$BT49,$L$4:$L$54,2)+SUMIFS($AK$4:$AK$54,$AH$4:$AH$54,$BT49,$L$4:$L$54,2),)","v":0},{"$f":"IF(AND(CZ49>0,COUNTIF(DH49:DH52,DH49)>1),DH49+RANK(DI49,DI49:DI52)-1,DH49)","v":0},{"$f":"IF(DJ49=0,\"\",DJ49)","v":""},{"$f":"IF(OR(DK49=\"\",COUNTIF(DK49:DK52,DK49)=1),\"\",$BZ49)","v":""},{"$f":"IF(DK49=\"\",\"\",IF(COUNTIF(DK49:DK52,DK49)=1,DK49,DK49+RANK(DL49,DL49:DL52,0)-1))","v":""},{"$f":"IF(OR(DM49=\"\",COUNTIF(DM49:DM52,DM49)=1),\"\",$BX49)","v":""},{"$f":"IF(DK49=\"\",\"\",IF(COUNTIF(DM49:DM52,DM49)=1,DM49,DM49+RANK(DN49,DN49:DN52,0)-1))","v":""},{"$f":"IF(OR(DO49=\"\",COUNTIF(DO49:DO52,DO49)=1),\"\",$BU49)","v":""},{"$f":"IF(DK49=\"\",\"\",IF(COUNTIF(DO49:DO52,DO49)=1,DO49,DO49+RANK(DP49,DP49:DP52,0)-1))","v":""},{"$f":"IF(CZ49>0,CG47+RANK(DQ49,DQ49:DQ52,1),)","v":0},null,{"$f":"IF(CC49=3,BT49,)","v":0},{"$f":"(SUMIF(AF4:AF54,BT49,BF4:BF54)+SUMIF(AH4:AH54,BT49,BG4:BG54))","v":0},{"$f":"(SUMIF(AF4:AF54,BT49,BH4:BH54)+SUMIF(AH4:AH54,BT49,BI4:BI54))","v":0},{"$f":"(SUMIF(AF4:AF54,BT49,BJ4:BJ54)+SUMIF(AH4:AH54,BT49,BK4:BK54))","v":0},{"$f":"IFERROR(DU49*3+DV49*1,0)","v":0},{"$f":"CB49","v":"F"},{"$f":"IF(DT49>0,RANK(DX49,DX49:DX52)+CG47+DA47,)","v":0},{"$f":"IF(AND(DT49>0,COUNTIF(DZ49:DZ52,DZ49)>1),SUMIFS($AI$4:$AI$54,$AF$4:$AF$54,$BT49,$L$4:$L$54,3)+SUMIFS($AK$4:$AK$54,$AH$4:$AH$54,$BT49,$L$4:$L$54,3)-SUMIFS($AK$4:$AK$54,$AF$4:$AF$54,$BT49,$L$4:$L$54,3)-SUMIFS($AI$4:$AI$54,$AH$4:$AH$54,$BT49,$L$4:$L$54,3),)","v":0},{"$f":"IF(AND(DT49>0,COUNTIF(DZ49:DZ52,DZ49)>1),DZ49+RANK(EA49,EA49:EA52)-1,DZ49)","v":0},{"$f":"IF(AND(DT49>0,COUNTIF(EB49:EB52,EB49)>1),SUMIFS($AI$4:$AI$54,$AF$4:$AF$54,$BT49,$L$4:$L$54,3)+SUMIFS($AK$4:$AK$54,$AH$4:$AH$54,$BT49,$L$4:$L$54,3),)","v":0},{"$f":"IF(AND(DT49>0,COUNTIF(EB49:EB52,EB49)>1),EB49+RANK(EC49,EC49:EC52)-1,EB49)","v":0},{"$f":"IF(ED49=0,\"\",ED49)","v":""},{"$f":"IF(OR(EE49=\"\",COUNTIF(EE49:EE52,EE49)=1),\"\",$BZ49)","v":""},{"$f":"IF(EE49=\"\",\"\",IF(COUNTIF(EE49:EE52,EE49)=1,EE49,EE49+RANK(EF49,EF49:EF52,0)-1))","v":""},{"$f":"IF(OR(EG49=\"\",COUNTIF(EG49:EG52,EG49)=1),\"\",$BX49)","v":""},{"$f":"IF(EE49=\"\",\"\",IF(COUNTIF(EG49:EG52,EG49)=1,EG49,EG49+RANK(EH49,EH49:EH52,0)-1))","v":""},{"$f":"IF(OR(EI49=\"\",COUNTIF(EI49:EI52,EI49)=1),\"\",$BU49)","v":""},{"$f":"IF(EE49=\"\",\"\",IF(COUNTIF(EI49:EI52,EI49)=1,EI49,EI49+RANK(EJ49,EJ49:EJ52,0)-1))","v":""},{"$f":"IF(DT49>0,CG47+DA47+RANK(EK49,EK49:EK52,1),)","v":0},null,{"$f":"IF(CC49=4,BT49,)","v":0},{"$f":"(SUMIF(AF4:AF54,BT49,BL4:BL54)+SUMIF(AH4:AH54,BT49,BM4:BM54))","v":0},{"$f":"(SUMIF(AF4:AF54,BT49,BN4:BN54)+SUMIF(AH4:AH54,BT49,BO4:BO54))","v":0},{"$f":"(SUMIF(AF4:AF54,BT49,BP4:BP54)+SUMIF(AH4:AH54,BT49,BQ4:BQ54))","v":0},{"$f":"IFERROR(EO49*3+EP49*1,0)","v":0},{"$f":"CB49","v":"F"},{"$f":"IF(EN49>0,RANK(ER49,ER49:ER52)+CG47+DA47+DU47,)","v":0},{"$f":"IF(AND(EN49>0,COUNTIF(ET49:ET52,ET49)>1),SUMIFS($AI$4:$AI$54,$AF$4:$AF$54,$BT49,$L$4:$L$54,4)+SUMIFS($AK$4:$AK$54,$AH$4:$AH$54,$BT49,$L$4:$L$54,4)-SUMIFS($AK$4:$AK$54,$AF$4:$AF$54,$BT49,$L$4:$L$54,4)-SUMIFS($AI$4:$AI$54,$AH$4:$AH$54,$BT49,$L$4:$L$54,4),)","v":0},{"$f":"IF(AND(EN49>0,COUNTIF(ET4:ET7,ET49)>1),ET49+RANK(EU49,EU4:EU7)-1,ET49)","v":0},{"$f":"IF(AND(EN49>0,COUNTIF(EV49:EV52,EV49)>1),SUMIFS($AI$4:$AI$54,$AF$4:$AF$54,$BT49,$L$4:$L$54,4)+SUMIFS($AK$4:$AK$54,$AH$4:$AH$54,$BT49,$L$4:$L$54,4),)","v":0},{"$f":"IF(AND(EN49>0,COUNTIF(EV49:EV52,EV49)>1),EV49+RANK(EW49,EW49:EW52)-1,EV49)","v":0},{"$f":"IF(EX49=0,\"\",EX49)","v":""},{"$f":"IF(OR(EY49=\"\",COUNTIF(EY49:EY52,EY49)=1),\"\",$BZ49)","v":""},{"$f":"IF(EY49=\"\",\"\",IF(COUNTIF(EY49:EY52,EY49)=1,EY49,EY49+RANK(EZ49,EZ49:EZ52,0)-1))","v":""},{"$f":"IF(OR(FA49=\"\",COUNTIF(FA49:FA52,FA49)=1),\"\",$BX49)","v":""},{"$f":"IF(EY49=\"\",\"\",IF(COUNTIF(FA49:FA52,FA49)=1,FA49,FA49+RANK(FB49,FB49:FB52,0)-1))","v":""},{"$f":"IF(OR(FC49=\"\",COUNTIF(FC49:FC52,FC49)=1),\"\",$BU49)","v":""},{"$f":"IF(EY49=\"\",\"\",IF(COUNTIF(FC49:FC52,FC49)=1,FC49,FC49+RANK(FD49,FD49:FD52,0)-1))","v":""},{"$f":"IF(EN49>0,CG47+DA47+DU47+RANK(FE49,FE49:FE52,1),)","v":0},null,{"$f":"IFERROR(VLOOKUP(FJ49,CF48:CX52,19,FALSE),IFERROR(VLOOKUP(FJ49,CZ48:DR52,19,FALSE),IFERROR(VLOOKUP(FJ49,DT48:EL52,19,FALSE),VLOOKUP(FJ49,EN48:FF52,19,FALSE))))","v":1},{"$f":"RANK(FH49,FH49:FH52,1)+COUNTIF(FH49:FH49,FH49)-1","v":1},{"$f":"BT49","v":"Portugal"}]
[null,null,"2024-06-18","Portugal","-","Czechia",null,"-",null,{"$f":"IF(OR(ISBLANK(G50),ISBLANK(I50)),\"\",IF(G50>I50,1,IF(G50<I50,2,\"X\")))","v":""},{"$f":"IF(OR('Results & Table'!H50=\"\",'Results & Table'!J50=\"\",G50=\"\",I50=\"\"),0,IF(G50='Results & Table'!H50,2,0)+IF(I50='Results & Table'!J50,2,0)+IF(J50='Results & Table'!K50,2,0))","v":0},{"$f":"IF(VLOOKUP(D50,BT48:CC52,10,FALSE)=VLOOKUP(F50,BT48:CC52,10,FALSE),VLOOKUP(D50,BT48:CC52,10,FALSE),\"-\")","v":1},2,{"$f":"VLOOKUP(M50,FI49:FJ52,2,FALSE)","v":"Czechia"},{"$f":"VLOOKUP(N50,BT49:CA52,2,FALSE)","v":0},{"$f":"VLOOKUP(N50,BT49:CA52,3,FALSE)","v":0},{"$f":"VLOOKUP(N50,BT49:CA52,4,FALSE)","v":0},{"$f":"VLOOKUP(N50,BT49:CA52,5,FALSE)","v":0},{"$f":"VLOOKUP(N50,BT49:CA52,6,FALSE)","v":0},{"$f":"VLOOKUP(N50,BT49:CA52,7,FALSE)","v":0},{"$f":"VLOOKUP(N50,BT49:CA52,8,FALSE)","v":0},null,null,null,null,null,null,null,null,null,"2024-06-18","Portugal","-","Czechia","","-","","",null,0,0,0,0,0,0,0,0,0,0,0,0,0,0,0,0,0,0,0,0,0,0,0,0,0,0,0,0,0,0,null,null,"Czechia",{"$f":"(SUMIF(AF4:AF54,BT50,AN4:AN54)+SUMIF(AH4:AH54,BT50,AO4:AO54))","v":0},{"$f":"(SUMIF(AF4:AF54,BT50,AP4:AP54)+SUMIF(AH4:AH54,BT50,AQ4:AQ54))","v":0},{"$f":"(SUMIF(AF4:AF54,BT50,AR4:AR54)+SUMIF(AH4:AH54,BT50,AS4:AS54))","v":0},{"$f":"SUMIF(AF4:AF54,BT50,AI4:AI54)+SUMIF(AH4:AH54,BT50,AK4:AK54)","v":0},{"$f":"SUMIF(AF4:AF54,BT50,AK4:AK54)+SUMIF(AH4:AH54,BT50,AI4:AI54)","v":0},{"$f":"BX50-BY50","v":0},{"$f":"IFERROR(BU50*3+BV50*1,0)","v":0},"F",{"$f":"RANK(CA50,CA49:CA52)","v":1},{"$f":"SUMPRODUCT((CA49:CA52=CA50)*(BZ49:BZ52>BZ50))","v":0},null,{"$f":"IF(CC50=1,BT50,)","v":"Czechia"},{"$f":"(SUMIF(AF4:AF54,BT50,AT4:AT54)+SUMIF(AH4:AH54,BT50,AU4:AU54))","v":0},{"$f":"(SUMIF(AF4:AF54,BT50,AV4:AV54)+SUMIF(AH4:AH54,BT50,AW4:AW54))","v":0},{"$f":"(SUMIF(AF4:AF54,BT50,AX4:AX54)+SUMIF(AH4:AH54,BT50,AY4:AY54))","v":0},{"$f":"IFERROR(CG50*3+CH50*1,0)","v":0},{"$f":"CB50","v":"F"},{"$f":"IF(CF50>0,RANK(CJ50,CJ49:CJ52),)","v":1},{"$f":"IF(AND(CF50>0,COUNTIF(CL49:CL52,CL50)>1),SUMIFS($AI$4:$AI$54,$AF$4:$AF$54,BT50,$L$4:$L$54,1)+SUMIFS($AK$4:$AK$54,$AH$4:$AH$54,BT50,$L$4:$L$54,1)-SUMIFS($AK$4:$AK$54,$AF$4:$AF$54,BT50,$L$4:$L$54,1)-SUMIFS($AI$4:$AI$54,$AH$4:$AH$54,BT50,$L$4:$L$54,1),)","v":0},{"$f":"IF(AND(CF50>0,COUNTIF(CL49:CL52,CL50)>1),CL50+RANK(CM50,CM49:CM52)-1,CL50)","v":1},{"$f":"IF(AND(CF50>0,COUNTIF(CN49:CN52,CN50)>1),SUMIFS($AI$4:$AI$54,$AF$4:$AF$54,BT50,$L$4:$L$54,1)+SUMIFS($AK$4:$AK$54,$AH$4:$AH$54,BT50,$L$4:$L$54,1),)","v":0},{"$f":"IF(AND(CF50>0,COUNTIF(CN49:CN52,CN50)>1),CN50+RANK(CO50,CO49:CO52)-1,CN50)","v":1},{"$f":"IF(CP50=0,\"\",CP50)","v":1},{"$f":"IF(OR(CQ50=\"\",COUNTIF(CQ49:CQ52,CQ50)=1),\"\",$BZ50)","v":0},{"$f":"IF(CQ50=\"\",\"\",IF(COUNTIF(CQ49:CQ52,CQ50)=1,CQ50,CQ50+RANK(CR50,CR49:CR52,0)-1))","v":1},{"$f":"IF(OR(CS50=\"\",COUNTIF(CS49:CS52,CS50)=1),\"\",$BX50)","v":0},{"$f":"IF(CQ50=\"\",\"\",IF(COUNTIF(CS49:CS52,CS50)=1,CS50,CS50+RANK(CT50,CT49:CT52,0)-1))","v":1},{"$f":"IF(OR(CU50=\"\",COUNTIF(CU49:CU52,CU50)=1),\"\",$BU50)","v":0},{"$f":"IF(CQ50=\"\",\"\",IF(COUNTIF(CU49:CU52,CU50)=1,CU50,CU50+RANK(CV50,CV49:CV52,0)-1))","v":1},{"$f":"IF(CF50>0,BM47+RANK(CW50,CW49:CW52,1),)","v":1},null,{"$f":"IF(CC50=2,BT50,)","v":0},{"$f":"(SUMIF(AF4:AF54,BT50,AZ4:AZ54)+SUMIF(AH4:AH54,BT50,BA4:BA54))","v":0},{"$f":"(SUMIF(AF4:AF54,BT50,BB4:BB54)+SUMIF(AH4:AH54,BT50,BC4:BC54))","v":0},{"$f":"(SUMIF(AF4:AF54,BT50,BD4:BD54)+SUMIF(AH4:AH54,BT50,BE4:BE54))","v":0},{"$f":"IFERROR(DA50*3+DB50*1,0)","v":0},{"$f":"CB50","v":"F"},{"$f":"IF(CZ50>0,RANK(DD50,DD49:DD52)+CG47,)","v":0},{"$f":"IF(AND(CZ50>0,COUNTIF(DF49:DF52,DF50)>1),SUMIFS($AI$4:$AI$54,$AF$4:$AF$54,BT50,$L$4:$L$54,2)+SUMIFS($AK$4:$AK$54,$AH$4:$AH$54,BT50,$L$4:$L$54,2)-SUMIFS($AK$4:$AK$54,$AF$4:$AF$54,BT50,$L$4:$L$54,2)-SUMIFS($AI$4:$AI$54,$AH$4:$AH$54,BT50,$L$4:$L$54,2),)","v":0},{"$f":"IF(AND(CZ50>0,COUNTIF(DF49:DF52,DF50)>1),DF50+RANK(DG50,DG49:DG52)-1,DF50)","v":0},{"$f":"IF(AND(CZ50>0,COUNTIF(DH49:DH52,DH50)>1),SUMIFS($AI$4:$AI$54,$AF$4:$AF$54,BT50,$L$4:$L$54,2)+SUMIFS($AK$4:$AK$54,$AH$4:$AH$54,BT50,$L$4:$L$54,2),)","v":0},{"$f":"IF(AND(CZ50>0,COUNTIF(DH49:DH52,DH50)>1),DH50+RANK(DI50,DI49:DI52)-1,DH50)","v":0},{"$f":"IF(DJ50=0,\"\",DJ50)","v":""},{"$f":"IF(OR(DK50=\"\",COUNTIF(DK49:DK52,DK50)=1),\"\",$BZ50)","v":""},{"$f":"IF(DK50=\"\",\"\",IF(COUNTIF(DK49:DK52,DK50)=1,DK50,DK50+RANK(DL50,DL49:DL52,0)-1))","v":""},{"$f":"IF(OR(DM50=\"\",COUNTIF(DM49:DM52,DM50)=1),\"\",$BX50)","v":""},{"$f":"IF(DK50=\"\",\"\",IF(COUNTIF(DM49:DM52,DM50)=1,DM50,DM50+RANK(DN50,DN49:DN52,0)-1))","v":""},{"$f":"IF(OR(DO50=\"\",COUNTIF(DO49:DO52,DO50)=1),\"\",$BU50)","v":""},{"$f":"IF(DK50=\"\",\"\",IF(COUNTIF(DO49:DO52,DO50)=1,DO50,DO50+RANK(DP50,DP49:DP52,0)-1))","v":""},{"$f":"IF(CZ50>0,CG47+RANK(DQ50,DQ49:DQ52,1),)","v":0},null,{"$f":"IF(CC50=3,BT50,)","v":0},{"$f":"(SUMIF(AF4:AF54,BT50,BF4:BF54)+SUMIF(AH4:AH54,BT50,BG4:BG54))","v":0},{"$f":"(SUMIF(AF4:AF54,BT50,BH4:BH54)+SUMIF(AH4:AH54,BT50,BI4:BI54))","v":0},{"$f":"(SUMIF(AF4:AF54,BT50,BJ4:BJ54)+SUMIF(AH4:AH54,BT50,BK4:BK54))","v":0},{"$f":"IFERROR(DU50*3+DV50*1,0)","v":0},{"$f":"CB50","v":"F"},{"$f":"IF(DT50>0,RANK(DX50,DX49:DX52)+CG47+DA47,)","v":0},{"$f":"IF(AND(DT50>0,COUNTIF(DZ49:DZ52,DZ50)>1),SUMIFS($AI$4:$AI$54,$AF$4:$AF$54,BT50,$L$4:$L$54,3)+SUMIFS($AK$4:$AK$54,$AH$4:$AH$54,BT50,$L$4:$L$54,3)-SUMIFS($AK$4:$AK$54,$AF$4:$AF$54,BT50,$L$4:$L$54,3)-SUMIFS($AI$4:$AI$54,$AH$4:$AH$54,BT50,$L$4:$L$54,3),)","v":0},{"$f":"IF(AND(DT50>0,COUNTIF(DZ49:DZ52,DZ50)>1),DZ50+RANK(EA50,EA49:EA52)-1,DZ50)","v":0},{"$f":"IF(AND(DT50>0,COUNTIF(EB49:EB52,EB50)>1),SUMIFS($AI$4:$AI$54,$AF$4:$AF$54,BT50,$L$4:$L$54,3)+SUMIFS($AK$4:$AK$54,$AH$4:$AH$54,BT50,$L$4:$L$54,3),)","v":0},{"$f":"IF(AND(DT50>0,COUNTIF(EB49:EB52,EB50)>1),EB50+RANK(EC50,EC49:EC52)-1,EB50)","v":0},{"$f":"IF(ED50=0,\"\",ED50)","v":""},{"$f":"IF(OR(EE50=\"\",COUNTIF(EE49:EE52,EE50)=1),\"\",$BZ50)","v":""},{"$f":"IF(EE50=\"\",\"\",IF(COUNTIF(EE49:EE52,EE50)=1,EE50,EE50+RANK(EF50,EF49:EF52,0)-1))","v":""},{"$f":"IF(OR(EG50=\"\",COUNTIF(EG49:EG52,EG50)=1),\"\",$BX50)","v":""},{"$f":"IF(EE50=\"\",\"\",IF(COUNTIF(EG49:EG52,EG50)=1,EG50,EG50+RANK(EH50,EH49:EH52,0)-1))","v":""},{"$f":"IF(OR(EI50=\"\",COUNTIF(EI49:EI52,EI50)=1),\"\",$BU50)","v":""},{"$f":"IF(EE50=\"\",\"\",IF(COUNTIF(EI49:EI52,EI50)=1,EI50,EI50+RANK(EJ50,EJ49:EJ52,0)-1))","v":""},{"$f":"IF(DT50>0,CG47+DA47+RANK(EK50,EK49:EK52,1),)","v":0},null,{"$f":"IF(CC50=4,BT50,)","v":0},{"$f":"(SUMIF(AF4:AF54,BT50,BL4:BL54)+SUMIF(AH4:AH54,BT50,BM4:BM54))","v":0},{"$f":"(SUMIF(AF4:AF54,BT50,BN4:BN54)+SUMIF(AH4:AH54,BT50,BO4:BO54))","v":0},{"$f":"(SUMIF(AF4:AF54,BT50,BP4:BP54)+SUMIF(AH4:AH54,BT50,BQ4:BQ54))","v":0},{"$f":"IFERROR(EO50*3+EP50*1,0)","v":0},{"$f":"CB50","v":"F"},{"$f":"IF(EN50>0,RANK(ER50,ER49:ER52)+CG47+DA47+DU47,)","v":0},{"$f":"IF(AND(EN50>0,COUNTIF(ET49:ET52,ET50)>1),SUMIFS($AI$4:$AI$54,$AF$4:$AF$54,BT50,$L$4:$L$54,4)+SUMIFS($AK$4:$AK$54,$AH$4:$AH$54,BT50,$L$4:$L$54,4)-SUMIFS($AK$4:$AK$54,$AF$4:$AF$54,BT50,$L$4:$L$54,4)-SUMIFS($AI$4:$AI$54,$AH$4:$AH$54,BT50,$L$4:$L$54,4),)","v":0},{"$f":"IF(AND(EN50>0,COUNTIF(ET4:ET7,ET50)>1),ET50+RANK(EU50,EU4:EU7)-1,ET50)","v":0},{"$f":"IF(AND(EN50>0,COUNTIF(EV49:EV52,EV50)>1),SUMIFS($AI$4:$AI$54,$AF$4:$AF$54,BT50,$L$4:$L$54,4)+SUMIFS($AK$4:$AK$54,$AH$4:$AH$54,BT50,$L$4:$L$54,4),)","v":0},{"$f":"IF(AND(EN50>0,COUNTIF(EV49:EV52,EV50)>1),EV50+RANK(EW50,EW49:EW52)-1,EV50)","v":0},{"$f":"IF(EX50=0,\"\",EX50)","v":""},{"$f":"IF(OR(EY50=\"\",COUNTIF(EY49:EY52,EY50)=1),\"\",$BZ50)","v":""},{"$f":"IF(EY50=\"\",\"\",IF(COUNTIF(EY49:EY52,EY50)=1,EY50,EY50+RANK(EZ50,EZ49:EZ52,0)-1))","v":""},{"$f":"IF(OR(FA50=\"\",COUNTIF(FA49:FA52,FA50)=1),\"\",$BX50)","v":""},{"$f":"IF(EY50=\"\",\"\",IF(COUNTIF(FA49:FA52,FA50)=1,FA50,FA50+RANK(FB50,FB49:FB52,0)-1))","v":""},{"$f":"IF(OR(FC50=\"\",COUNTIF(FC49:FC52,FC50)=1),\"\",$BU50)","v":""},{"$f":"IF(EY50=\"\",\"\",IF(COUNTIF(FC49:FC52,FC50)=1,FC50,FC50+RANK(FD50,FD49:FD52,0)-1))","v":""},{"$f":"IF(EN50>0,CG47+DA47+DU47+RANK(FE50,FE49:FE52,1),)","v":0},null,{"$f":"IFERROR(VLOOKUP(FJ50,CF48:CX52,19,FALSE),IFERROR(VLOOKUP(FJ50,CZ48:DR52,19,FALSE),IFERROR(VLOOKUP(FJ50,DT48:EL52,19,FALSE),VLOOKUP(FJ50,EN48:FF52,19,FALSE))))","v":1},{"$f":"RANK(FH50,FH49:FH52,1)+COUNTIF(FH49:FH50,FH50)-1","v":2},{"$f":"BT50","v":"Czechia"}]
[null,null,"2024-06-22","Georgia","-","Czechia",null,"-",null,"",{"$f":"IF(OR('Results & Table'!H51=\"\",'Results & Table'!J51=\"\",G51=\"\",I51=\"\"),0,IF(G51='Results & Table'!H51,2,0)+IF(I51='Results & Table'!J51,2,0)+IF(J51='Results & Table'!K51,2,0))","v":0},{"$f":"IF(VLOOKUP(D51,BT48:CC52,10,FALSE)=VLOOKUP(F51,BT48:CC52,10,FALSE),VLOOKUP(D51,BT48:CC52,10,FALSE),\"-\")","v":1},3,{"$f":"VLOOKUP(M51,FI49:FJ52,2,FALSE)","v":"Georgia"},{"$f":"VLOOKUP(N51,BT49:CA52,2,FALSE)","v":0},{"$f":"VLOOKUP(N51,BT49:CA52,3,FALSE)","v":0},{"$f":"VLOOKUP(N51,BT49:CA52,4,FALSE)","v":0},{"$f":"VLOOKUP(N51,BT49:CA52,5,FALSE)","v":0},{"$f":"VLOOKUP(N51,BT49:CA52,6,FALSE)","v":0},{"$f":"VLOOKUP(N51,BT49:CA52,7,FALSE)","v":0},{"$f":"VLOOKUP(N51,BT49:CA52,8,FALSE)","v":0},null,null,null,null,null,null,null,null,null,"2024-06-22","Georgia","-","Czechia","","-","","",null,0,0,0,0,0,0,0,0,0,0,0,0,0,0,0,0,0,0,0,0,0,0,0,0,0,0,0,0,0,0,null,null,"Georgia",{"$f":"(SUMIF(AF4:AF54,BT51,AN4:AN54)+SUMIF(AH4:AH54,BT51,AO4:AO54))","v":0},{"$f":"(SUMIF(AF4:AF54,BT51,AP4:AP54)+SUMIF(AH4:AH54,BT51,AQ4:AQ54))","v":0},{"$f":"(SUMIF(AF4:AF54,BT51,AR4:AR54)+SUMIF(AH4:AH54,BT51,AS4:AS54))","v":0},{"$f":"SUMIF(AF4:AF54,BT51,AI4:AI54)+SUMIF(AH4:AH54,BT51,AK4:AK54)","v":0},{"$f":"SUMIF(AF4:AF54,BT51,AK4:AK54)+SUMIF(AH4:AH54,BT51,AI4:AI54)","v":0},{"$f":"BX51-BY51","v":0},{"$f":"IFERROR(BU51*3+BV51*1,0)","v":0},"F",{"$f":"RANK(CA51,CA49:CA52)","v":1},{"$f":"SUMPRODUCT((CA49:CA52=CA51)*(BZ49:BZ52>BZ51))","v":0},null,{"$f":"IF(CC51=1,BT51,)","v":"Georgia"},{"$f":"(SUMIF(AF4:AF54,BT51,AT4:AT54)+SUMIF(AH4:AH54,BT51,AU4:AU54))","v":0},{"$f":"(SUMIF(AF4:AF54,BT51,AV4:AV54)+SUMIF(AH4:AH54,BT51,AW4:AW54))","v":0},{"$f":"(SUMIF(AF4:AF54,BT51,AX4:AX54)+SUMIF(AH4:AH54,BT51,AY4:AY54))","v":0},0,{"$f":"CB51","v":"F"},{"$f":"IF(CF51>0,RANK(CJ51,CJ49:CJ52),)","v":1},{"$f":"IF(AND(CF51>0,COUNTIF(CL49:CL52,CL51)>1),SUMIFS($AI$4:$AI$54,$AF$4:$AF$54,BT51,$L$4:$L$54,1)+SUMIFS($AK$4:$AK$54,$AH$4:$AH$54,BT51,$L$4:$L$54,1)-SUMIFS($AK$4:$AK$54,$AF$4:$AF$54,BT51,$L$4:$L$54,1)-SUMIFS($AI$4:$AI$54,$AH$4:$AH$54,BT51,$L$4:$L$54,1),)","v":0},{"$f":"IF(AND(CF51>0,COUNTIF(CL49:CL52,CL51)>1),CL51+RANK(CM51,CM49:CM52)-1,CL51)","v":1},{"$f":"IF(AND(CF51>0,COUNTIF(CN49:CN52,CN51)>1),SUMIFS($AI$4:$AI$54,$AF$4:$AF$54,BT51,$L$4:$L$54,1)+SUMIFS($AK$4:$AK$54,$AH$4:$AH$54,BT51,$L$4:$L$54,1),)","v":0},{"$f":"IF(AND(CF51>0,COUNTIF(CN49:CN52,CN51)>1),CN51+RANK(CO51,CO49:CO52)-1,CN51)","v":1},1,{"$f":"IF(OR(CQ51=\"\",COUNTIF(CQ49:CQ52,CQ51)=1),\"\",$BZ51)","v":0},{"$f":"IF(CQ51=\"\",\"\",IF(COUNTIF(CQ49:CQ52,CQ51)=1,CQ51,CQ51+RANK(CR51,CR49:CR52,0)-1))","v":1},{"$f":"IF(OR(CS51=\"\",COUNTIF(CS49:CS52,CS51)=1),\"\",$BX51)","v":0},{"$f":"IF(CQ51=\"\",\"\",IF(COUNTIF(CS49:CS52,CS51)=1,CS51,CS51+RANK(CT51,CT49:CT52,0)-1))","v":1},{"$f":"IF(OR(CU51=\"\",COUNTIF(CU49:CU52,CU51)=1),\"\",$BU51)","v":0},{"$f":"IF(CQ51=\"\",\"\",IF(COUNTIF(CU49:CU52,CU51)=1,CU51,CU51+RANK(CV51,CV49:CV52,0)-1))","v":1},{"$f":"IF(CF51>0,BM47+RANK(CW51,CW49:CW52,1),)","v":1},null,{"$f":"IF(CC51=2,BT51,)","v":0},{"$f":"(SUMIF(AF4:AF54,BT51,AZ4:AZ54)+SUMIF(AH4:AH54,BT51,BA4:BA54))","v":0},{"$f":"(SUMIF(AF4:AF54,BT51,BB4:BB54)+SUMIF(AH4:AH54,BT51,BC4:BC54))","v":0},{"$f":"(SUMIF(AF4:AF54,BT51,BD4:BD54)+SUMIF(AH4:AH54,BT51,BE4:BE54))","v":0},0,{"$f":"CB51","v":"F"},{"$f":"IF(CZ51>0,RANK(DD51,DD49:DD52)+CG47,)","v":0},{"$f":"IF(AND(CZ51>0,COUNTIF(DF49:DF52,DF51)>1),SUMIFS($AI$4:$AI$54,$AF$4:$AF$54,BT51,$L$4:$L$54,2)+SUMIFS($AK$4:$AK$54,$AH$4:$AH$54,BT51,$L$4:$L$54,2)-SUMIFS($AK$4:$AK$54,$AF$4:$AF$54,BT51,$L$4:$L$54,2)-SUMIFS($AI$4:$AI$54,$AH$4:$AH$54,BT51,$L$4:$L$54,2),)","v":0},{"$f":"IF(AND(CZ51>0,COUNTIF(DF49:DF52,DF51)>1),DF51+RANK(DG51,DG49:DG52)-1,DF51)","v":0},{"$f":"IF(AND(CZ51>0,COUNTIF(DH49:DH52,DH51)>1),SUMIFS($AI$4:$AI$54,$AF$4:$AF$54,BT51,$L$4:$L$54,2)+SUMIFS($AK$4:$AK$54,$AH$4:$AH$54,BT51,$L$4:$L$54,2),)","v":0},{"$f":"IF(AND(CZ51>0,COUNTIF(DH49:DH52,DH51)>1),DH51+RANK(DI51,DI49:DI52)-1,DH51)","v":0},"",{"$f":"IF(OR(DK51=\"\",COUNTIF(DK49:DK52,DK51)=1),\"\",$BZ51)","v":""},{"$f":"IF(DK51=\"\",\"\",IF(COUNTIF(DK49:DK52,DK51)=1,DK51,DK51+RANK(DL51,DL49:DL52,0)-1))","v":""},{"$f":"IF(OR(DM51=\"\",COUNTIF(DM49:DM52,DM51)=1),\"\",$BX51)","v":""},{"$f":"IF(DK51=\"\",\"\",IF(COUNTIF(DM49:DM52,DM51)=1,DM51,DM51+RANK(DN51,DN49:DN52,0)-1))","v":""},{"$f":"IF(OR(DO51=\"\",COUNTIF(DO49:DO52,DO51)=1),\"\",$BU51)","v":""},{"$f":"IF(DK51=\"\",\"\",IF(COUNTIF(DO49:DO52,DO51)=1,DO51,DO51+RANK(DP51,DP49:DP52,0)-1))","v":""},{"$f":"IF(CZ51>0,CG47+RANK(DQ51,DQ49:DQ52,1),)","v":0},null,{"$f":"IF(CC51=3,BT51,)","v":0},{"$f":"(SUMIF(AF4:AF54,BT51,BF4:BF54)+SUMIF(AH4:AH54,BT51,BG4:BG54))","v":0},{"$f":"(SUMIF(AF4:AF54,BT51,BH4:BH54)+SUMIF(AH4:AH54,BT51,BI4:BI54))","v":0},{"$f":"(SUMIF(AF4:AF54,BT51,BJ4:BJ54)+SUMIF(AH4:AH54,BT51,BK4:BK54))","v":0},0,{"$f":"CB51","v":"F"},{"$f":"IF(DT51>0,RANK(DX51,DX49:DX52)+CG47+DA47,)","v":0},{"$f":"IF(AND(DT51>0,COUNTIF(DZ49:DZ52,DZ51)>1),SUMIFS($AI$4:$AI$54,$AF$4:$AF$54,BT51,$L$4:$L$54,3)+SUMIFS($AK$4:$AK$54,$AH$4:$AH$54,BT51,$L$4:$L$54,3)-SUMIFS($AK$4:$AK$54,$AF$4:$AF$54,BT51,$L$4:$L$54,3)-SUMIFS($AI$4:$AI$54,$AH$4:$AH$54,BT51,$L$4:$L$54,3),)","v":0},{"$f":"IF(AND(DT51>0,COUNTIF(DZ49:DZ52,DZ51)>1),DZ51+RANK(EA51,EA49:EA52)-1,DZ51)","v":0},{"$f":"IF(AND(DT51>0,COUNTIF(EB49:EB52,EB51)>1),SUMIFS($AI$4:$AI$54,$AF$4:$AF$54,BT51,$L$4:$L$54,3)+SUMIFS($AK$4:$AK$54,$AH$4:$AH$54,BT51,$L$4:$L$54,3),)","v":0},{"$f":"IF(AND(DT51>0,COUNTIF(EB49:EB52,EB51)>1),EB51+RANK(EC51,EC49:EC52)-1,EB51)","v":0},"",{"$f":"IF(OR(EE51=\"\",COUNTIF(EE49:EE52,EE51)=1),\"\",$BZ51)","v":""},{"$f":"IF(EE51=\"\",\"\",IF(COUNTIF(EE49:EE52,EE51)=1,EE51,EE51+RANK(EF51,EF49:EF52,0)-1))","v":""},{"$f":"IF(OR(EG51=\"\",COUNTIF(EG49:EG52,EG51)=1),\"\",$BX51)","v":""},{"$f":"IF(EE51=\"\",\"\",IF(COUNTIF(EG49:EG52,EG51)=1,EG51,EG51+RANK(EH51,EH49:EH52,0)-1))","v":""},{"$f":"IF(OR(EI51=\"\",COUNTIF(EI49:EI52,EI51)=1),\"\",$BU51)","v":""},{"$f":"IF(EE51=\"\",\"\",IF(COUNTIF(EI49:EI52,EI51)=1,EI51,EI51+RANK(EJ51,EJ49:EJ52,0)-1))","v":""},{"$f":"IF(DT51>0,CG47+DA47+RANK(EK51,EK49:EK52,1),)","v":0},null,{"$f":"IF(CC51=4,BT51,)","v":0},{"$f":"(SUMIF(AF4:AF54,BT51,BL4:BL54)+SUMIF(AH4:AH54,BT51,BM4:BM54))","v":0},{"$f":"(SUMIF(AF4:AF54,BT51,BN4:BN54)+SUMIF(AH4:AH54,BT51,BO4:BO54))","v":0},{"$f":"(SUMIF(AF4:AF54,BT51,BP4:BP54)+SUMIF(AH4:AH54,BT51,BQ4:BQ54))","v":0},0,{"$f":"CB51","v":"F"},{"$f":"IF(EN51>0,RANK(ER51,ER49:ER52)+CG47+DA47+DU47,)","v":0},{"$f":"IF(AND(EN51>0,COUNTIF(ET49:ET52,ET51)>1),SUMIFS($AI$4:$AI$54,$AF$4:$AF$54,BT51,$L$4:$L$54,4)+SUMIFS($AK$4:$AK$54,$AH$4:$AH$54,BT51,$L$4:$L$54,4)-SUMIFS($AK$4:$AK$54,$AF$4:$AF$54,BT51,$L$4:$L$54,4)-SUMIFS($AI$4:$AI$54,$AH$4:$AH$54,BT51,$L$4:$L$54,4),)","v":0},{"$f":"IF(AND(EN51>0,COUNTIF(ET4:ET7,ET51)>1),ET51+RANK(EU51,EU4:EU7)-1,ET51)","v":0},{"$f":"IF(AND(EN51>0,COUNTIF(EV49:EV52,EV51)>1),SUMIFS($AI$4:$AI$54,$AF$4:$AF$54,BT51,$L$4:$L$54,4)+SUMIFS($AK$4:$AK$54,$AH$4:$AH$54,BT51,$L$4:$L$54,4),)","v":0},{"$f":"IF(AND(EN51>0,COUNTIF(EV49:EV52,EV51)>1),EV51+RANK(EW51,EW49:EW52)-1,EV51)","v":0},"",{"$f":"IF(OR(EY51=\"\",COUNTIF(EY49:EY52,EY51)=1),\"\",$BZ51)","v":""},{"$f":"IF(EY51=\"\",\"\",IF(COUNTIF(EY49:EY52,EY51)=1,EY51,EY51+RANK(EZ51,EZ49:EZ52,0)-1))","v":""},{"$f":"IF(OR(FA51=\"\",COUNTIF(FA49:FA52,FA51)=1),\"\",$BX51)","v":""},{"$f":"IF(EY51=\"\",\"\",IF(COUNTIF(FA49:FA52,FA51)=1,FA51,FA51+RANK(FB51,FB49:FB52,0)-1))","v":""},{"$f":"IF(OR(FC51=\"\",COUNTIF(FC49:FC52,FC51)=1),\"\",$BU51)","v":""},{"$f":"IF(EY51=\"\",\"\",IF(COUNTIF(FC49:FC52,FC51)=1,FC51,FC51+RANK(FD51,FD49:FD52,0)-1))","v":""},{"$f":"IF(EN51>0,CG47+DA47+DU47+RANK(FE51,FE49:FE52,1),)","v":0},null,{"$f":"IFERROR(VLOOKUP(FJ51,CF48:CX52,19,FALSE),IFERROR(VLOOKUP(FJ51,CZ48:DR52,19,FALSE),IFERROR(VLOOKUP(FJ51,DT48:EL52,19,FALSE),VLOOKUP(FJ51,EN48:FF52,19,FALSE))))","v":1},{"$f":"RANK(FH51,FH49:FH52,1)+COUNTIF(FH49:FH51,FH51)-1","v":3},{"$f":"BT51","v":"Georgia"}]
[null,null,"2024-06-22","Türkiye","-","Portugal",null,"-",null,"",{"$f":"IF(OR('Results & Table'!H52=\"\",'Results & Table'!J52=\"\",G52=\"\",I52=\"\"),0,IF(G52='Results & Table'!H52,2,0)+IF(I52='Results & Table'!J52,2,0)+IF(J52='Results & Table'!K52,2,0))","v":0},{"$f":"IF(VLOOKUP(D52,BT48:CC52,10,FALSE)=VLOOKUP(F52,BT48:CC52,10,FALSE),VLOOKUP(D52,BT48:CC52,10,FALSE),\"-\")","v":1},4,{"$f":"VLOOKUP(M52,FI49:FJ52,2,FALSE)","v":"Türkiye"},{"$f":"VLOOKUP(N52,BT49:CA52,2,FALSE)","v":0},{"$f":"VLOOKUP(N52,BT49:CA52,3,FALSE)","v":0},{"$f":"VLOOKUP(N52,BT49:CA52,4,FALSE)","v":0},{"$f":"VLOOKUP(N52,BT49:CA52,5,FALSE)","v":0},{"$f":"VLOOKUP(N52,BT49:CA52,6,FALSE)","v":0},{"$f":"VLOOKUP(N52,BT49:CA52,7,FALSE)","v":0},{"$f":"VLOOKUP(N52,BT49:CA52,8,FALSE)","v":0},null,null,null,null,null,null,null,null,null,"2024-06-22","Türkiye","-","Portugal","","-","","",null,0,0,0,0,0,0,0,0,0,0,0,0,0,0,0,0,0,0,0,0,0,0,0,0,0,0,0,0,0,0,null,null,"Türkiye",{"$f":"(SUMIF(AF4:AF54,BT52,AN4:AN54)+SUMIF(AH4:AH54,BT52,AO4:AO54))","v":0},{"$f":"(SUMIF(AF4:AF54,BT52,AP4:AP54)+SUMIF(AH4:AH54,BT52,AQ4:AQ54))","v":0},{"$f":"(SUMIF(AF4:AF54,BT52,AR4:AR54)+SUMIF(AH4:AH54,BT52,AS4:AS54))","v":0},{"$f":"SUMIF(AF4:AF54,BT52,AI4:AI54)+SUMIF(AH4:AH54,BT52,AK4:AK54)","v":0},{"$f":"SUMIF(AF4:AF54,BT52,AK4:AK54)+SUMIF(AH4:AH54,BT52,AI4:AI54)","v":0},{"$f":"BX52-BY52","v":0},{"$f":"IFERROR(BU52*3+BV52*1,0)","v":0},"F",{"$f":"RANK(CA52,CA49:CA52)","v":1},{"$f":"SUMPRODUCT((CA49:CA52=CA52)*(BZ49:BZ52>BZ52))","v":0},null,{"$f":"IF(CC52=1,BT52,)","v":"Türkiye"},{"$f":"(SUMIF(AF4:AF54,BT52,AT4:AT54)+SUMIF(AH4:AH54,BT52,AU4:AU54))","v":0},{"$f":"(SUMIF(AF4:AF54,BT52,AV4:AV54)+SUMIF(AH4:AH54,BT52,AW4:AW54))","v":0},{"$f":"(SUMIF(AF4:AF54,BT52,AX4:AX54)+SUMIF(AH4:AH54,BT52,AY4:AY54))","v":0},0,{"$f":"CB52","v":"F"},{"$f":"IF(CF52>0,RANK(CJ52,CJ49:CJ52),)","v":1},{"$f":"IF(AND(CF52>0,COUNTIF(CL49:CL52,CL52)>1),SUMIFS($AI$4:$AI$54,$AF$4:$AF$54,BT52,$L$4:$L$54,1)+SUMIFS($AK$4:$AK$54,$AH$4:$AH$54,BT52,$L$4:$L$54,1)-SUMIFS($AK$4:$AK$54,$AF$4:$AF$54,BT52,$L$4:$L$54,1)-SUMIFS($AI$4:$AI$54,$AH$4:$AH$54,BT52,$L$4:$L$54,1),)","v":0},{"$f":"IF(AND(CF52>0,COUNTIF(CL49:CL52,CL52)>1),CL52+RANK(CM52,CM49:CM52)-1,CL52)","v":1},{"$f":"IF(AND(CF52>0,COUNTIF(CN49:CN52,CN52)>1),SUMIFS($AI$4:$AI$54,$AF$4:$AF$54,BT52,$L$4:$L$54,1)+SUMIFS($AK$4:$AK$54,$AH$4:$AH$54,BT52,$L$4:$L$54,1),)","v":0},{"$f":"IF(AND(CF52>0,COUNTIF(CN49:CN52,CN52)>1),CN52+RANK(CO52,CO49:CO52)-1,CN52)","v":1},1,{"$f":"IF(OR(CQ52=\"\",COUNTIF(CQ49:CQ52,CQ52)=1),\"\",$BZ52)","v":0},{"$f":"IF(CQ52=\"\",\"\",IF(COUNTIF(CQ49:CQ52,CQ52)=1,CQ52,CQ52+RANK(CR52,CR49:CR52,0)-1))","v":1},{"$f":"IF(OR(CS52=\"\",COUNTIF(CS49:CS52,CS52)=1),\"\",$BX52)","v":0},{"$f":"IF(CQ52=\"\",\"\",IF(COUNTIF(CS49:CS52,CS52)=1,CS52,CS52+RANK(CT52,CT49:CT52,0)-1))","v":1},{"$f":"IF(OR(CU52=\"\",COUNTIF(CU49:CU52,CU52)=1),\"\",$BU52)","v":0},{"$f":"IF(CQ52=\"\",\"\",IF(COUNTIF(CU49:CU52,CU52)=1,CU52,CU52+RANK(CV52,CV49:CV52,0)-1))","v":1},{"$f":"IF(CF52>0,BM47+RANK(CW52,CW49:CW52,1),)","v":1},null,{"$f":"IF(CC52=2,BT52,)","v":0},{"$f":"(SUMIF(AF4:AF54,BT52,AZ4:AZ54)+SUMIF(AH4:AH54,BT52,BA4:BA54))","v":0},{"$f":"(SUMIF(AF4:AF54,BT52,BB4:BB54)+SUMIF(AH4:AH54,BT52,BC4:BC54))","v":0},{"$f":"(SUMIF(AF4:AF54,BT52,BD4:BD54)+SUMIF(AH4:AH54,BT52,BE4:BE54))","v":0},0,{"$f":"CB52","v":"F"},{"$f":"IF(CZ52>0,RANK(DD52,DD49:DD52)+CG47,)","v":0},{"$f":"IF(AND(CZ52>0,COUNTIF(DF49:DF52,DF52)>1),SUMIFS($AI$4:$AI$54,$AF$4:$AF$54,BT52,$L$4:$L$54,2)+SUMIFS($AK$4:$AK$54,$AH$4:$AH$54,BT52,$L$4:$L$54,2)-SUMIFS($AK$4:$AK$54,$AF$4:$AF$54,BT52,$L$4:$L$54,2)-SUMIFS($AI$4:$AI$54,$AH$4:$AH$54,BT52,$L$4:$L$54,2),)","v":0},{"$f":"IF(AND(CZ52>0,COUNTIF(DF49:DF52,DF52)>1),DF52+RANK(DG52,DG49:DG52)-1,DF52)","v":0},{"$f":"IF(AND(CZ52>0,COUNTIF(DH49:DH52,DH52)>1),SUMIFS($AI$4:$AI$54,$AF$4:$AF$54,BT52,$L$4:$L$54,2)+SUMIFS($AK$4:$AK$54,$AH$4:$AH$54,BT52,$L$4:$L$54,2),)","v":0},{"$f":"IF(AND(CZ52>0,COUNTIF(DH49:DH52,DH52)>1),DH52+RANK(DI52,DI49:DI52)-1,DH52)","v":0},"",{"$f":"IF(OR(DK52=\"\",COUNTIF(DK49:DK52,DK52)=1),\"\",$BZ52)","v":""},{"$f":"IF(DK52=\"\",\"\",IF(COUNTIF(DK49:DK52,DK52)=1,DK52,DK52+RANK(DL52,DL49:DL52,0)-1))","v":""},{"$f":"IF(OR(DM52=\"\",COUNTIF(DM49:DM52,DM52)=1),\"\",$BX52)","v":""},{"$f":"IF(DK52=\"\",\"\",IF(COUNTIF(DM49:DM52,DM52)=1,DM52,DM52+RANK(DN52,DN49:DN52,0)-1))","v":""},{"$f":"IF(OR(DO52=\"\",COUNTIF(DO49:DO52,DO52)=1),\"\",$BU52)","v":""},{"$f":"IF(DK52=\"\",\"\",IF(COUNTIF(DO49:DO52,DO52)=1,DO52,DO52+RANK(DP52,DP49:DP52,0)-1))","v":""},{"$f":"IF(CZ52>0,CG47+RANK(DQ52,DQ49:DQ52,1),)","v":0},null,{"$f":"IF(CC52=3,BT52,)","v":0},{"$f":"(SUMIF(AF4:AF54,BT52,BF4:BF54)+SUMIF(AH4:AH54,BT52,BG4:BG54))","v":0},{"$f":"(SUMIF(AF4:AF54,BT52,BH4:BH54)+SUMIF(AH4:AH54,BT52,BI4:BI54))","v":0},{"$f":"(SUMIF(AF4:AF54,BT52,BJ4:BJ54)+SUMIF(AH4:AH54,BT52,BK4:BK54))","v":0},0,{"$f":"CB52","v":"F"},{"$f":"IF(DT52>0,RANK(DX52,DX49:DX52)+CG47+DA47,)","v":0},{"$f":"IF(AND(DT52>0,COUNTIF(DZ49:DZ52,DZ52)>1),SUMIFS($AI$4:$AI$54,$AF$4:$AF$54,BT52,$L$4:$L$54,3)+SUMIFS($AK$4:$AK$54,$AH$4:$AH$54,BT52,$L$4:$L$54,3)-SUMIFS($AK$4:$AK$54,$AF$4:$AF$54,BT52,$L$4:$L$54,3)-SUMIFS($AI$4:$AI$54,$AH$4:$AH$54,BT52,$L$4:$L$54,3),)","v":0},{"$f":"IF(AND(DT52>0,COUNTIF(DZ49:DZ52,DZ52)>1),DZ52+RANK(EA52,EA49:EA52)-1,DZ52)","v":0},{"$f":"IF(AND(DT52>0,COUNTIF(EB49:EB52,EB52)>1),SUMIFS($AI$4:$AI$54,$AF$4:$AF$54,BT52,$L$4:$L$54,3)+SUMIFS($AK$4:$AK$54,$AH$4:$AH$54,BT52,$L$4:$L$54,3),)","v":0},{"$f":"IF(AND(DT52>0,COUNTIF(EB49:EB52,EB52)>1),EB52+RANK(EC52,EC49:EC52)-1,EB52)","v":0},"",{"$f":"IF(OR(EE52=\"\",COUNTIF(EE49:EE52,EE52)=1),\"\",$BZ52)","v":""},{"$f":"IF(EE52=\"\",\"\",IF(COUNTIF(EE49:EE52,EE52)=1,EE52,EE52+RANK(EF52,EF49:EF52,0)-1))","v":""},{"$f":"IF(OR(EG52=\"\",COUNTIF(EG49:EG52,EG52)=1),\"\",$BX52)","v":""},{"$f":"IF(EE52=\"\",\"\",IF(COUNTIF(EG49:EG52,EG52)=1,EG52,EG52+RANK(EH52,EH49:EH52,0)-1))","v":""},{"$f":"IF(OR(EI52=\"\",COUNTIF(EI49:EI52,EI52)=1),\"\",$BU52)","v":""},{"$f":"IF(EE52=\"\",\"\",IF(COUNTIF(EI49:EI52,EI52)=1,EI52,EI52+RANK(EJ52,EJ49:EJ52,0)-1))","v":""},{"$f":"IF(DT52>0,CG47+DA47+RANK(EK52,EK49:EK52,1),)","v":0},null,{"$f":"IF(CC52=4,BT52,)","v":0},{"$f":"(SUMIF(AF4:AF54,BT52,BL4:BL54)+SUMIF(AH4:AH54,BT52,BM4:BM54))","v":0},{"$f":"(SUMIF(AF4:AF54,BT52,BN4:BN54)+SUMIF(AH4:AH54,BT52,BO4:BO54))","v":0},{"$f":"(SUMIF(AF4:AF54,BT52,BP4:BP54)+SUMIF(AH4:AH54,BT52,BQ4:BQ54))","v":0},0,{"$f":"CB52","v":"F"},{"$f":"IF(EN52>0,RANK(ER52,ER49:ER52)+CG47+DA47+DU47,)","v":0},{"$f":"IF(AND(EN52>0,COUNTIF(ET49:ET52,ET52)>1),SUMIFS($AI$4:$AI$54,$AF$4:$AF$54,BT52,$L$4:$L$54,4)+SUMIFS($AK$4:$AK$54,$AH$4:$AH$54,BT52,$L$4:$L$54,4)-SUMIFS($AK$4:$AK$54,$AF$4:$AF$54,BT52,$L$4:$L$54,4)-SUMIFS($AI$4:$AI$54,$AH$4:$AH$54,BT52,$L$4:$L$54,4),)","v":0},{"$f":"IF(AND(EN52>0,COUNTIF(ET4:ET7,ET52)>1),ET52+RANK(EU52,EU4:EU7)-1,ET52)","v":0},{"$f":"IF(AND(EN52>0,COUNTIF(EV49:EV52,EV52)>1),SUMIFS($AI$4:$AI$54,$AF$4:$AF$54,BT52,$L$4:$L$54,4)+SUMIFS($AK$4:$AK$54,$AH$4:$AH$54,BT52,$L$4:$L$54,4),)","v":0},{"$f":"IF(AND(EN52>0,COUNTIF(EV49:EV52,EV52)>1),EV52+RANK(EW52,EW49:EW52)-1,EV52)","v":0},"",{"$f":"IF(OR(EY52=\"\",COUNTIF(EY49:EY52,EY52)=1),\"\",$BZ52)","v":""},{"$f":"IF(EY52=\"\",\"\",IF(COUNTIF(EY49:EY52,EY52)=1,EY52,EY52+RANK(EZ52,EZ49:EZ52,0)-1))","v":""},{"$f":"IF(OR(FA52=\"\",COUNTIF(FA49:FA52,FA52)=1),\"\",$BX52)","v":""},{"$f":"IF(EY52=\"\",\"\",IF(COUNTIF(FA49:FA52,FA52)=1,FA52,FA52+RANK(FB52,FB49:FB52,0)-1))","v":""},{"$f":"IF(OR(FC52=\"\",COUNTIF(FC49:FC52,FC52)=1),\"\",$BU52)","v":""},{"$f":"IF(EY52=\"\",\"\",IF(COUNTIF(FC50:FC53,FC52)=1,FC52,FC52+RANK(FD52,FD50:FD53,0)-1))","v":""},{"$f":"IF(EN52>0,CG47+DA47+DU47+RANK(FE52,FE49:FE52,1),)","v":0},null,{"$f":"IFERROR(VLOOKUP(FJ52,CF48:CX52,19,FALSE),IFERROR(VLOOKUP(FJ52,CZ48:DR52,19,FALSE),IFERROR(VLOOKUP(FJ52,DT48:EL52,19,FALSE),VLOOKUP(FJ52,EN48:FF52,19,FALSE))))","v":1},{"$f":"RANK(FH52,FH49:FH52,1)+COUNTIF(FH49:FH52,FH52)-1","v":4},{"$f":"BT52","v":"Türkiye"}]
[null,null,"2024-06-26","Georgia","-","Portugal",null,"-",null,"",{"$f":"IF(OR('Results & Table'!H53=\"\",'Results & Table'!J53=\"\",G53=\"\",I53=\"\"),0,IF(G53='Results & Table'!H53,2,0)+IF(I53='Results & Table'!J53,2,0)+IF(J53='Results & Table'!K53,2,0))","v":0},{"$f":"IF(VLOOKUP(D53,BT48:CC52,10,FALSE)=VLOOKUP(F53,BT48:CC52,10,FALSE),VLOOKUP(D53,BT48:CC52,10,FALSE),\"-\")","v":1},null,{"$f":"IF(COUNTBLANK(G49:G54)+COUNTBLANK(I49:I54)=0,\"Resultat OK\",\"Fyll i resultat\")","v":"Fyll i resultat"},{"$f":"IF(COUNTBLANK(G49:G54)+COUNTBLANK(I49:I54)=0,\"Resultat OK\",\"Fyll i resultat\")","v":"Fyll i resultat"},null,null,null,null,null,null,null,null,null,null,null,null,null,null,null,"2024-06-26","Georgia","-","Portugal","","-","","",null,0,0,0,0,0,0,0,0,0,0,0,0,0,0,0,0,0,0,0,0,0,0,0,0,0,0,0,0,0,0]
[null,null,"2024-06-26","Czechia","-","Türkiye",null,"-",null,"",{"$f":"IF(OR('Results & Table'!H54=\"\",'Results & Table'!J54=\"\",G54=\"\",I54=\"\"),0,IF(G54='Results & Table'!H54,2,0)+IF(I54='Results & Table'!J54,2,0)+IF(J54='Results & Table'!K54,2,0))","v":0},{"$f":"IF(VLOOKUP(D54,BT48:CC52,10,FALSE)=VLOOKUP(F54,BT48:CC52,10,FALSE),VLOOKUP(D54,BT48:CC52,10,FALSE),\"-\")","v":1},null,null,null,null,null,null,null,null,null,null,null,null,null,null,null,null,null,null,"2024-06-26","Czechia","-","Türkiye","","-","","",null,0,0,0,0,0,0,0,0,0,0,0,0,0,0,0,0,0,0,0,0,0,0,0,0,0,0,0,0,0,0]
[]
[null,null,"Round of 16",null,null,null,null,null,null,null,null,null,null,null,null,null,null,null,null,null,null,null,null,null,null,null,null,null,null,null,"Åttondelsfinaler"]
["#","#","Date","Match",null,null,"Result",null,null,"1X2","Points",null,null,"Winner round of 16",null,null,"Bonus",null,null,null,null,null,null,null,null,null,null,null,null,null,"Datum","Match",null,null,"Resultat",null,null,"Tecken","Poäng",null,null,null,null,null,null,"Åttondelsfinaler",null,null,null,null,"List"]
[38,8,"2024-06-29",{"$f":"IF($N$8=\"Resultat OK\",$N$5,\"Runner up group A\")","v":"Runner up group A"},"-",{"$f":"IF($N$17=\"Resultat OK\",$N$14,\"Runner up group B\")","v":"Runner up group B"},null,"-",null,{"$f":"IF(OR(ISBLANK(G58),ISBLANK(I58)),\"\",IF(G58>I58,1,IF(G58<I58,2,\"X\")))","v":""},{"$f":"IF(OR('Results & Table'!H58=\"\",'Results & Table'!J58=\"\",G58=\"\",I58=\"\"),0,IF(G58='Results & Table'!H58,2,0)+IF(I58='Results & Table'!J58,2,0)+IF(J58='Results & Table'!K58,2,0))","v":0},null,null,null,{"$f":"IF(OR(ISBLANK(D58),ISBLANK(F58),J58=\"\",N58=\"\"),\"\",IF(OR(AND(J58=1,N58=D58),AND(J58=2,F58=N58),AND(J58=\"X\",OR(N58=D58,N58=F58))),\"\",\"Ej OK\"))","v":""},null,{"$f":"AW75","v":0},null,null,null,null,{"$f":"IF(OR(ISBLANK(D76),ISBLANK(F76),J76=\"\",M76=\"\"),\"\",IF(OR(AND(J76=1,M76=D76),AND(J76=2,M76=F76),AND(J76=\"X\",OR(M76=D76,M76=F76))),\"\",\"Ej OK\"))","v":""},null,null,null,null,null,null,null,null,{"$f":"C58","v":"2024-06-29"},"Runner up group A","-","Runner up group B",{"$f":"IF(G58=\"\",\"\",G58)","v":""},"-",{"$f":"IF(I58=\"\",\"\",I58)","v":""},{"$f":"J58","v":""},null,null,null,null,null,null,null,"Mitt tips","Resultat & tabell","Utfall","Poäng",null,{"$f":"D58","v":"Runner up group A"},{"$f":"F58","v":"Runner up group B"}]
[37,2,"2024-06-29",{"$f":"IF($N$8=\"Resultat OK\",$N$4,\"Winner group A\")","v":"Winner group A"},"-",{"$f":"IF($N$26=\"Resultat OK\",$N$23,\"Runner up group C\")","v":"Runner up group C"},null,"-",null,{"$f":"IF(OR(ISBLANK(G59),ISBLANK(I59)),\"\",IF(G59>I59,1,IF(G59<I59,2,\"X\")))","v":""},{"$f":"IF(OR('Results & Table'!H59=\"\",'Results & Table'!J59=\"\",G59=\"\",I59=\"\"),0,IF(G59='Results & Table'!H59,2,0)+IF(I59='Results & Table'!J59,2,0)+IF(J59='Results & Table'!K59,2,0))","v":0},null,null,null,"",null,null,null,null,null,null,null,null,null,null,null,null,null,null,null,"2024-06-29","Winner group A","-","Runner up group C","","-","","",null,null,null,null,null,null,null,{"$f":"D58","v":"Runner up group A"},{"$f":"IF(OR('Results & Table'!H61=\"\",'Results & Table'!J61=\"\"),\"\",'Results & Table'!E61)","v":""},{"$f":"IF(ISERROR(VLOOKUP(AT59,AU59:AU74,1,FALSE)),0,1)","v":0},{"$f":"2*AV59","v":0},null,"Winner group A","Runner up group C"]
[40,7,"2024-06-30",{"$f":"IF($N$26=\"Resultat OK\",$N$22,\"Winner group C\")","v":"Winner group C"},"-",{"$f":"IF(FM12=\"Resultat OK\",HLOOKUP(\"C\",GF2:GF17,FZ2),\"Third D/E/F\")","v":"Third D/E/F"},null,"-",null,"",{"$f":"IF(OR('Results & Table'!H60=\"\",'Results & Table'!J60=\"\",G60=\"\",I60=\"\"),0,IF(G60='Results & Table'!H60,2,0)+IF(I60='Results & Table'!J60,2,0)+IF(J60='Results & Table'!K60,2,0))","v":0},null,null,null,"",null,null,null,null,null,null,null,null,null,null,null,null,null,null,null,"2024-06-30","Winner group C","-","Third D/E/F","","-","","",null,null,null,null,null,null,null,"Winner group A",{"$f":"IF(OR('Results & Table'!H59=\"\",'Results & Table'!J59=\"\"),\"\",'Results & Table'!E59)","v":""},{"$f":"IF(ISERROR(VLOOKUP(AT60,AU59:AU74,1,FALSE)),0,1)","v":0},{"$f":"2*AV60","v":0},null,"Winner group C","Third D/E/F"]
[39,1,"2024-06-30",{"$f":"IF($N$17=\"Resultat OK\",$N$13,\"Winner group B\")","v":"Winner group B"},"-",{"$f":"IF(FM12=\"Resultat OK\",HLOOKUP(\"B\",GE2:GE17,FZ2),\"Third A/D/E/F\")","v":"Third A/D/E/F"},null,"-",null,"",{"$f":"IF(OR('Results & Table'!H61=\"\",'Results & Table'!J61=\"\",G61=\"\",I61=\"\"),0,IF(G61='Results & Table'!H61,2,0)+IF(I61='Results & Table'!J61,2,0)+IF(J61='Results & Table'!K61,2,0))","v":0},null,null,null,"",null,null,null,null,null,null,null,null,null,null,null,null,null,null,null,"2024-06-30","Winner group B","-","Third A/D/E/F","","-","","",null,null,null,null,null,null,null,"Winner group C",{"$f":"IF(OR('Results & Table'!H63=\"\",'Results & Table'!J63=\"\"),\"\",'Results & Table'!E63)","v":""},{"$f":"IF(ISERROR(VLOOKUP(AT61,AU59:AU74,1,FALSE)),0,1)","v":0},0,null,"Winner group B","Third A/D/E/F"]
[42,4,"2024-07-01",{"$f":"IF($N$35=\"Resultat OK\",$N$32,\"Runner up group D\")","v":"Runner up group D"},"-",{"$f":"IF($N$44=\"Resultat OK\",$N$41,\"Runner up group E\")","v":"Runner up group E"},null,"-",null,"",{"$f":"IF(OR('Results & Table'!H62=\"\",'Results & Table'!J62=\"\",G62=\"\",I62=\"\"),0,IF(G62='Results & Table'!H62,2,0)+IF(I62='Results & Table'!J62,2,0)+IF(J62='Results & Table'!K62,2,0))","v":0},null,null,null,"",null,null,null,null,null,null,null,null,null,null,null,null,null,null,null,"2024-07-01","Runner up group D","-","Runner up group E","","-","","",null,null,null,null,null,null,null,"Winner group B",{"$f":"IF(OR('Results & Table'!H62=\"\",'Results & Table'!J62=\"\"),\"\",'Results & Table'!E62)","v":""},{"$f":"IF(ISERROR(VLOOKUP(AT62,AU59:AU74,1,FALSE)),0,1)","v":0},0,null,"Runner up group D","Runner up group E"]
[41,3,"2024-07-01",{"$f":"IF($N$53=\"Resultat OK\",$N$49,\"Winner group F\")","v":"Winner group F"},"-",{"$f":"IF(FM12=\"Resultat OK\",HLOOKUP(\"F\",GH2:GH17,FZ2),\"Third A/B/C\")","v":"Third A/B/C"},null,"-",null,"",{"$f":"IF(OR('Results & Table'!H63=\"\",'Results & Table'!J63=\"\",G63=\"\",I63=\"\"),0,IF(G63='Results & Table'!H63,2,0)+IF(I63='Results & Table'!J63,2,0)+IF(J63='Results & Table'!K63,2,0))","v":0},null,null,null,{"$f":"IF(OR(ISBLANK(D63),ISBLANK(F63),J63=\"\",N63=\"\"),\"\",IF(OR(AND(J63=1,N63=D63),AND(J63=2,F63=N63),AND(J63=\"X\",OR(N63=D63,N63=F63))),\"\",\"Ej OK\"))","v":""},null,null,null,null,null,null,null,null,null,null,null,null,null,null,null,"2024-07-01","Winner group F","-","Third A/B/C","","-","","",null,null,null,null,null,null,null,"Runner up group D",{"$f":"IF(OR('Results & Table'!H64=\"\",'Results & Table'!J64=\"\"),\"\",'Results & Table'!E64)","v":""},{"$f":"IF(ISERROR(VLOOKUP(AT63,AU59:AU74,1,FALSE)),0,1)","v":0},0,null,"Winner group F","Third A/B/C"]
[43,5,"2024-07-02",{"$f":"IF($N$44=\"Resultat OK\",$N$40,\"Winner group E\")","v":"Winner group E"},"-",{"$f":"IF(FM12=\"Resultat OK\",HLOOKUP(\"E\",GG2:GG17,FZ2),\"Third A/B/C/D\")","v":"Third A/B/C/D"},null,"-",null,{"$f":"IF(OR(ISBLANK(G64),ISBLANK(I64)),\"\",IF(G64>I64,1,IF(G64<I64,2,\"X\")))","v":""},{"$f":"IF(OR('Results & Table'!H64=\"\",'Results & Table'!J64=\"\",G64=\"\",I64=\"\"),0,IF(G64='Results & Table'!H64,2,0)+IF(I64='Results & Table'!J64,2,0)+IF(J64='Results & Table'!K64,2,0))","v":0},null,null,null,{"$f":"IF(OR(ISBLANK(D64),ISBLANK(F64),J64=\"\",N64=\"\"),\"\",IF(OR(AND(J64=1,N64=D64),AND(J64=2,F64=N64),AND(J64=\"X\",OR(N64=D64,N64=F64))),\"\",\"Ej OK\"))","v":""},null,null,null,null,null,null,null,null,null,null,null,null,null,null,null,"2024-07-02","Winner group E","-","Third A/B/C/D","","-","","",null,null,null,null,null,null,null,"Winner group F",{"$f":"IF(OR('Results & Table'!H65=\"\",'Results & Table'!J65=\"\"),\"\",'Results & Table'!E65)","v":""},{"$f":"IF(ISERROR(VLOOKUP(AT64,AU59:AU74,1,FALSE)),0,1)","v":0},0,null,"Winner group E","Third A/B/C/D"]
[44,6,"2024-07-02",{"$f":"IF($N$35=\"Resultat OK\",$N$31,\"Winner group D\")","v":"Winner group D"},"-",{"$f":"IF($N$53=\"Resultat OK\",$N$50,\"Runner up group F\")","v":"Runner up group F"},null,"-",null,"",{"$f":"IF(OR('Results & Table'!H65=\"\",'Results & Table'!J65=\"\",G65=\"\",I65=\"\"),0,IF(G65='Results & Table'!H65,2,0)+IF(I65='Results & Table'!J65,2,0)+IF(J65='Results & Table'!K65,2,0))","v":0},null,null,null,"",null,null,null,null,null,null,null,null,null,null,null,null,null,null,null,"2024-07-02","Winner group D","-","Runner up group F","","-","","",null,null,null,null,null,null,null,"Winner group E",{"$f":"IF(OR('Results & Table'!H60=\"\",'Results & Table'!J60=\"\"),\"\",'Results & Table'!E60)","v":""},{"$f":"IF(ISERROR(VLOOKUP(AT65,AU59:AU74,1,FALSE)),0,1)","v":0},0,null,"Winner group D","Runner up group F"]
[null,null,null,null,null,null,null,null,null,null,null,null,null,null,null,null,null,null,null,null,null,null,null,null,null,null,null,null,null,null,null,null,null,null,null,null,null,null,null,null,null,null,null,null,null,"Winner group D",{"$f":"IF(OR('Results & Table'!H58=\"\",'Results & Table'!J58=\"\"),\"\",'Results & Table'!E58)","v":""},{"$f":"IF(ISERROR(VLOOKUP(AT66,AU59:AU74,1,FALSE)),0,1)","v":0},0]
[null,null,"Quarter-finals",null,null,null,null,null,null,null,null,null,null,null,null,null,null,null,null,null,null,null,null,null,null,null,null,null,null,null,"Kvartsfinaler",null,null,null,null,null,null,null,null,null,null,null,null,null,null,{"$f":"F58","v":"Runner up group B"},{"$f":"IF(OR('Results & Table'!H61=\"\",'Results & Table'!J61=\"\"),\"\",'Results & Table'!G61)","v":""},{"$f":"IF(ISERROR(VLOOKUP(AT67,AU59:AU74,1,FALSE)),0,1)","v":0},0]
["#","#","Date","Match",null,null,"Result",null,null,"1X2","Points",null,null,"Winner quarter-finals",null,null,"Bonus",null,null,null,null,null,null,null,null,null,null,null,null,null,"Datum","Match",null,null,"Resultat",null,null,"Tecken","Poäng",null,null,null,null,null,null,"Runner up group C",{"$f":"IF(OR('Results & Table'!H59=\"\",'Results & Table'!J59=\"\"),\"\",'Results & Table'!G59)","v":""},{"$f":"IF(ISERROR(VLOOKUP(AT68,AU59:AU74,1,FALSE)),0,1)","v":0},0]
[45,1,"2021-07-05",{"$f":"IF(OR(N61=\"\",N61=\"Fyll i vinnare oavgjort\"),\"Winner match 39\",N61)","v":"Winner match 39"},"-",{"$f":"IF(OR(N59=\"\",N59=\"Fyll i vinnare oavgjort\"),\"Winner match 37\",N59)","v":"Winner match 37"},null,"-",null,{"$f":"IF(OR(ISBLANK(G69),ISBLANK(I69)),\"\",IF(G69>I69,1,IF(G69<I69,2,\"X\")))","v":""},{"$f":"IF(OR('Results & Table'!H69=\"\",'Results & Table'!J69=\"\",G69=\"\",I69=\"\"),0,IF(G69='Results & Table'!H69,2,0)+IF(I69='Results & Table'!J69,2,0)+IF(J69='Results & Table'!K69,2,0))","v":0},null,null,null,{"$f":"IF(OR(ISBLANK(D69),ISBLANK(F69),J69=\"\",N69=\"\"),\"\",IF(OR(AND(J69=1,N69=D69),AND(J69=2,F69=N69),AND(J69=\"X\",OR(N69=D69,N69=F69))),\"\",\"Ej OK\"))","v":""},null,{"$f":"AW86","v":0},null,null,null,null,null,null,null,null,null,null,null,null,null,{"$f":"C69","v":"2021-07-05"},"Winner match 39","-","Winner match 37",{"$f":"IF(G69=\"\",\"\",G69)","v":""},"-",{"$f":"IF(I69=\"\",\"\",I69)","v":""},{"$f":"J69","v":""},null,null,null,null,null,null,null,"Third D/E/F",{"$f":"IF(OR('Results & Table'!H63=\"\",'Results & Table'!J63=\"\"),\"\",'Results & Table'!G63)","v":""},{"$f":"IF(ISERROR(VLOOKUP(AT69,AU59:AU74,1,FALSE)),0,1)","v":0},0,null,{"$f":"D69","v":"Winner match 39"},{"$f":"F69","v":"Winner match 37"}]
[46,2,"2021-07-05",{"$f":"IF(OR(N63=\"\",N63=\"Fyll i vinnare oavgjort\"),\"Winner match 41\",N63)","v":"Winner match 41"},"-",{"$f":"IF(OR(N62=\"\",N62=\"Fyll i vinnare oavgjort\"),\"Winner match 42\",N62)","v":"Winner match 42"},null,"-",null,"",{"$f":"IF(OR('Results & Table'!H70=\"\",'Results & Table'!J70=\"\",G70=\"\",I70=\"\"),0,IF(G70='Results & Table'!H70,2,0)+IF(I70='Results & Table'!J70,2,0)+IF(J70='Results & Table'!K70,2,0))","v":0},null,null,null,{"$f":"IF(OR(ISBLANK(D70),ISBLANK(F70),J70=\"\",N70=\"\"),\"\",IF(OR(AND(J70=1,N70=D70),AND(J70=2,F70=N70),AND(J70=\"X\",OR(N70=D70,N70=F70))),\"\",\"Ej OK\"))","v":""},null,null,null,null,null,null,null,null,null,null,null,null,null,null,null,"2021-07-05","Winner match 41","-","Winner match 42",{"$f":"IF(G70=\"\",\"\",G70)","v":""},"-",{"$f":"IF(I70=\"\",\"\",I70)","v":""},{"$f":"J70","v":""},null,null,null,null,null,null,null,"Third A/D/E/F",{"$f":"IF(OR('Results & Table'!H62=\"\",'Results & Table'!J62=\"\"),\"\",'Results & Table'!G62)","v":""},{"$f":"IF(ISERROR(VLOOKUP(AT70,AU59:AU74,1,FALSE)),0,1)","v":0},0,null,{"$f":"D70","v":"Winner match 41"},{"$f":"F70","v":"Winner match 42"}]
[48,4,"2021-07-06",{"$f":"IF(OR(N60=\"\",N60=\"Fyll i vinnare oavgjort\"),\"Winner match 40\",N60)","v":"Winner match 40"},"-",{"$f":"IF(OR(N58=\"\",N58=\"Fyll i vinnare oavgjort\"),\"Winner match 38\",N58)","v":"Winner match 38"},null,"-",null,"",{"$f":"IF(OR('Results & Table'!H71=\"\",'Results & Table'!J71=\"\",G71=\"\",I71=\"\"),0,IF(G71='Results & Table'!H71,2,0)+IF(I71='Results & Table'!J71,2,0)+IF(J71='Results & Table'!K71,2,0))","v":0},null,null,null,{"$f":"IF(OR(ISBLANK(D71),ISBLANK(F71),J71=\"\",N71=\"\"),\"\",IF(OR(AND(J71=1,N71=D71),AND(J71=2,F71=N71),AND(J71=\"X\",OR(N71=D71,N71=F71))),\"\",\"Ej OK\"))","v":""},null,null,null,null,null,null,null,null,null,null,null,null,null,null,null,"2021-07-06","Winner match 40","-","Winner match 38",{"$f":"IF(G71=\"\",\"\",G71)","v":""},"-",{"$f":"IF(I71=\"\",\"\",I71)","v":""},{"$f":"J71","v":""},null,null,null,null,null,null,null,"Runner up group E",{"$f":"IF(OR('Results & Table'!H64=\"\",'Results & Table'!J64=\"\"),\"\",'Results & Table'!G64)","v":""},{"$f":"IF(ISERROR(VLOOKUP(AT71,AU59:AU74,1,FALSE)),0,1)","v":0},0,null,{"$f":"D71","v":"Winner match 40"},{"$f":"F71","v":"Winner match 38"}]
[47,3,"2021-07-06",{"$f":"IF(OR(N64=\"\",N64=\"Fyll i vinnare oavgjort\"),\"Winner match 43\",N64)","v":"Winner match 43"},"-",{"$f":"IF(OR(N65=\"\",N65=\"Fyll i vinnare oavgjort\"),\"Winner match 44\",N65)","v":"Winner match 44"},null,"-",null,"",{"$f":"IF(OR('Results & Table'!H72=\"\",'Results & Table'!J72=\"\",G72=\"\",I72=\"\"),0,IF(G72='Results & Table'!H72,2,0)+IF(I72='Results & Table'!J72,2,0)+IF(J72='Results & Table'!K72,2,0))","v":0},null,null,null,{"$f":"IF(OR(ISBLANK(D72),ISBLANK(F72),J72=\"\",N72=\"\"),\"\",IF(OR(AND(J72=1,N72=D72),AND(J72=2,F72=N72),AND(J72=\"X\",OR(N72=D72,N72=F72))),\"\",\"Ej OK\"))","v":""},null,null,null,null,null,null,null,null,null,null,null,null,null,null,null,"2021-07-06","Winner match 43","-","Winner match 44",{"$f":"IF(G72=\"\",\"\",G72)","v":""},"-",{"$f":"IF(I72=\"\",\"\",I72)","v":""},{"$f":"J72","v":""},null,null,null,null,null,null,null,"Third A/B/C",{"$f":"IF(OR('Results & Table'!H65=\"\",'Results & Table'!J65=\"\"),\"\",'Results & Table'!G65)","v":""},{"$f":"IF(ISERROR(VLOOKUP(AT72,AU59:AU74,1,FALSE)),0,1)","v":0},0,null,{"$f":"D72","v":"Winner match 43"},{"$f":"F72","v":"Winner match 44"}]
[null,null,null,null,null,null,null,null,null,null,null,null,null,null,null,null,null,null,null,null,null,null,null,null,null,null,null,null,null,null,null,null,null,null,null,null,null,null,null,null,null,null,null,null,null,"Third A/B/C/D",{"$f":"IF(OR('Results & Table'!H60=\"\",'Results & Table'!J60=\"\"),\"\",'Results & Table'!G60)","v":""},{"$f":"IF(ISERROR(VLOOKUP(AT73,AU59:AU74,1,FALSE)),0,1)","v":0},0]
[null,null,"Semi-finals",null,null,null,null,null,null,null,null,null,null,null,null,null,null,null,null,null,null,null,null,null,null,null,null,null,null,null,"Semifinaler",null,null,null,null,null,null,null,null,null,null,null,null,null,null,"Runner up group F",{"$f":"IF(OR('Results & Table'!H58=\"\",'Results & Table'!J58=\"\"),\"\",'Results & Table'!G58)","v":""},{"$f":"IF(ISERROR(VLOOKUP(AT74,AU59:AU74,1,FALSE)),0,1)","v":0},0]
["#","#","Date","Match",null,null,"Result",null,null,"1X2","Points",null,null,"Winner semi-finals",null,null,"Bonus",null,null,null,null,null,null,null,null,null,null,null,null,null,"Datum","Match",null,null,"Resultat",null,null,"Tecken","Poäng",null,null,null,null,null,null,null,null,"SUMMA",{"$f":"SUM(AW59:AW74)","v":0}]
[49,1,"2021-07-09",{"$f":"IF(OR(N69=\"\",N69=\"Fyll i vinnare oavgjort\"),\"Winner match 45\",N69)","v":"Winner match 45"},"-",{"$f":"IF(OR(N70=\"\",N70=\"Fyll i vinnare oavgjort\"),\"Winner match 46\",N70)","v":"Winner match 46"},null,"-",null,{"$f":"IF(OR(ISBLANK(G76),ISBLANK(I76)),\"\",IF(G76>I76,1,IF(G76<I76,2,\"X\")))","v":""},{"$f":"IF(OR('Results & Table'!H76=\"\",'Results & Table'!J76=\"\",G76=\"\",I76=\"\"),0,IF(G76='Results & Table'!H76,2,0)+IF(I76='Results & Table'!J76,2,0)+IF(J76='Results & Table'!K76,2,0))","v":0},null,null,null,{"$f":"IF(OR(ISBLANK(D76),ISBLANK(F76),J76=\"\",N76=\"\"),\"\",IF(OR(AND(J76=1,N76=D76),AND(J76=2,F76=N76),AND(J76=\"X\",OR(N76=D76,N76=F76))),\"\",\"Ej OK\"))","v":""},null,{"$f":"AW93","v":0},null,null,null,null,null,null,null,null,null,null,null,null,null,{"$f":"C76","v":"2021-07-09"},"Winner match 45","-","Winner match 46",{"$f":"IF(G76=\"\",\"\",G76)","v":""},"-",{"$f":"IF(I76=\"\",\"\",I76)","v":""},{"$f":"J76","v":""},null,null,null,null,null,null,null,"Kvartsfinaler",null,null,null,null,{"$f":"D76","v":"Winner match 45"},{"$f":"F76","v":"Winner match 46"}]
[50,2,"2021-07-10",{"$f":"IF(OR(N72=\"\",N72=\"Fyll i vinnare oavgjort\"),\"Winner match 47\",N72)","v":"Winner match 47"},"-",{"$f":"IF(OR(N71=\"\",N71=\"Fyll i vinnare oavgjort\"),\"Winner match 48\",N71)","v":"Winner match 48"},null,"-",null,"",{"$f":"IF(OR('Results & Table'!H77=\"\",'Results & Table'!J77=\"\",G77=\"\",I77=\"\"),0,IF(G77='Results & Table'!H77,2,0)+IF(I77='Results & Table'!J77,2,0)+IF(J77='Results & Table'!K77,2,0))","v":0},null,null,null,{"$f":"IF(OR(ISBLANK(D77),ISBLANK(F77),J77=\"\",N77=\"\"),\"\",IF(OR(AND(J77=1,N77=D77),AND(J77=2,F77=N77),AND(J77=\"X\",OR(N77=D77,N77=F77))),\"\",\"Ej OK\"))","v":""},null,null,null,null,null,null,null,null,null,null,null,null,null,null,null,"2021-07-10","Winner match 47","-","Winner match 48",{"$f":"IF(G77=\"\",\"\",G77)","v":""},"-",{"$f":"IF(I77=\"\",\"\",I77)","v":""},{"$f":"J77","v":""},null,null,null,null,null,null,null,"Mitt tips","Resultat & tabell","Utfall","Poäng",null,{"$f":"D77","v":"Winner match 47"},{"$f":"F77","v":"Winner match 48"}]
[null,null,null,null,null,null,null,null,null,null,null,null,null,null,null,null,null,null,null,null,null,null,null,null,null,null,null,null,null,null,null,null,null,null,null,null,null,null,null,null,null,null,null,null,null,{"$f":"D69","v":"Winner match 39"},{"$f":"IF(OR('Results & Table'!H69=\"\",'Results & Table'!J69=\"\"),\"\",'Results & Table'!E69)","v":""},{"$f":"IF(ISERROR(VLOOKUP(AT78,AU78:AU85,1,FALSE)),0,1)","v":0},{"$f":"4*AV78","v":0}]
[null,null,"Final",null,null,null,null,null,null,null,null,null,null,null,null,null,null,null,null,null,null,null,null,null,null,null,null,null,null,null,"Final",null,null,null,null,null,null,null,null,null,null,null,null,null,null,{"$f":"D70","v":"Winner match 41"},{"$f":"IF(OR('Results & Table'!H70=\"\",'Results & Table'!J70=\"\"),\"\",'Results & Table'!E70)","v":""},{"$f":"IF(ISERROR(VLOOKUP(AT79,AU78:AU85,1,FALSE)),0,1)","v":0},{"$f":"4*AV79","v":0}]
["#","#","Date","Match",null,null,"Result",null,null,"1X2","Points",null,null,null,null,null,"Bonus",null,null,null,null,null,null,null,null,null,null,null,null,null,"Datum","Match",null,null,"Resultat",null,null,"Tecken","Poäng",null,null,null,null,null,null,{"$f":"D71","v":"Winner match 40"},{"$f":"IF(OR('Results & Table'!H72=\"\",'Results & Table'!J72=\"\"),\"\",'Results & Table'!E72)","v":""},{"$f":"IF(ISERROR(VLOOKUP(AT80,AU78:AU85,1,FALSE)),0,1)","v":0},0]
[51,null,"2021-07-14",{"$f":"IF(OR(N76=\"\",N76=\"Fyll i vinnare oavgjort\"),\"Winner match 49\",N76)","v":"Winner match 49"},"-",{"$f":"IF(OR(N77=\"\",N77=\"Fyll i vinnare oavgjort\"),\"Winner match 50\",N77)","v":"Winner match 50"},null,"-",null,{"$f":"IF(OR(ISBLANK(G81),ISBLANK(I81)),\"\",IF(G81>I81,1,IF(G81<I81,2,\"X\")))","v":""},{"$f":"IF(OR('Results & Table'!H81=\"\",'Results & Table'!J81=\"\",G81=\"\",I81=\"\"),0,IF(G81='Results & Table'!H81,2,0)+IF(I81='Results & Table'!J81,2,0)+IF(J81='Results & Table'!K81,2,0))","v":0},null,null,null,null,null,{"$f":"AW98","v":0},null,null,null,null,null,null,null,null,null,null,null,null,null,{"$f":"C81","v":"2021-07-14"},{"$f":"D81","v":"Winner match 49"},{"$f":"E81","v":"-"},{"$f":"F81","v":"Winner match 50"},{"$f":"IF(G81=\"\",\"\",G81)","v":""},"-",{"$f":"IF(I81=\"\",\"\",I81)","v":""},{"$f":"J81","v":""},null,null,null,null,null,null,null,{"$f":"D72","v":"Winner match 43"},{"$f":"IF(OR('Results & Table'!H71=\"\",'Results & Table'!J71=\"\"),\"\",'Results & Table'!E71)","v":""},{"$f":"IF(ISERROR(VLOOKUP(AT81,AU78:AU85,1,FALSE)),0,1)","v":0},0,null,{"$f":"D81","v":"Winner match 49"},{"$f":"F81","v":"Winner match 50"}]
[null,null,null,null,null,null,null,null,null,null,null,null,null,null,null,null,null,null,null,null,null,null,null,null,null,null,null,null,null,null,null,null,null,null,null,null,null,null,null,null,null,null,null,null,null,{"$f":"F69","v":"Winner match 37"},{"$f":"IF(OR('Results & Table'!H69=\"\",'Results & Table'!J69=\"\"),\"\",'Results & Table'!G69)","v":""},{"$f":"IF(ISERROR(VLOOKUP(AT82,AU78:AU85,1,FALSE)),0,1)","v":0},0]
[null,null,null,null,null,null,null,null,null,null,null,null,null,null,null,null,null,null,null,null,null,null,null,null,null,null,null,null,null,null,null,null,null,null,null,null,null,null,null,null,null,null,null,null,null,{"$f":"F70","v":"Winner match 42"},{"$f":"IF(OR('Results & Table'!H70=\"\",'Results & Table'!J70=\"\"),\"\",'Results & Table'!G70)","v":""},{"$f":"IF(ISERROR(VLOOKUP(AT83,AU78:AU85,1,FALSE)),0,1)","v":0},0]
[null,null,null,null,null,null,null,null,null,null,null,null,null,null,null,null,null,null,null,null,null,null,null,null,null,null,null,null,null,null,null,null,null,null,null,null,null,null,null,null,null,null,null,null,null,{"$f":"F71","v":"Winner match 38"},{"$f":"IF(OR('Results & Table'!H72=\"\",'Results & Table'!J72=\"\"),\"\",'Results & Table'!G72)","v":""},{"$f":"IF(ISERROR(VLOOKUP(AT84,AU78:AU85,1,FALSE)),0,1)","v":0},0]
[null,null,null,null,null,null,null,null,null,null,null,null,null,null,null,null,null,null,null,null,null,null,null,null,null,null,null,null,null,null,null,null,null,null,null,null,null,null,null,null,null,null,null,null,null,{"$f":"F72","v":"Winner match 44"},{"$f":"IF(OR('Results & Table'!H71=\"\",'Results & Table'!J71=\"\"),\"\",'Results & Table'!G71)","v":""},{"$f":"IF(ISERROR(VLOOKUP(AT85,AU78:AU85,1,FALSE)),0,1)","v":0},0]
[null,null,null,null,null,null,null,null,null,null,null,null,null,null,null,null,null,null,null,null,null,null,null,null,null,null,null,null,null,null,null,null,null,null,null,null,null,null,null,null,null,null,null,null,null,null,null,"SUMMA",{"$f":"SUM(AW78:AW85)","v":0}]
[null,null,null,null,null,null,null,null,null,null,null,null,null,null,null,null,null,null,null,null,null,null,null,null,null,null,null,null,null,null,null,null,null,null,null,null,null,null,null,null,null,null,null,null,null,"Semifinaler"]
[null,null,null,null,null,null,null,null,null,null,null,null,null,null,null,null,null,null,null,null,null,null,null,null,null,null,null,null,null,null,null,null,null,null,null,null,null,null,null,null,null,null,null,null,null,"Mitt tips","Resultat & tabell","Utfall","Poäng"]
[null,null,null,null,null,null,null,null,null,null,null,null,null,null,null,null,null,null,null,null,null,null,null,null,null,null,null,null,null,null,null,null,null,null,null,null,null,null,null,null,null,null,null,null,null,{"$f":"D76","v":"Winner match 45"},{"$f":"IF(OR('Results & Table'!H76=\"\",'Results & Table'!J76=\"\"),\"\",'Results & Table'!E76)","v":""},{"$f":"IF(ISERROR(VLOOKUP(AT89,AU89:AU92,1,FALSE)),0,1)","v":0},{"$f":"6*AV89","v":0}]
[null,null,null,null,null,null,null,null,null,null,null,null,null,null,null,null,null,null,null,null,null,null,null,null,null,null,null,null,null,null,null,null,null,null,null,null,null,null,null,null,null,null,null,null,null,{"$f":"D77","v":"Winner match 47"},{"$f":"IF(OR('Results & Table'!H77=\"\",'Results & Table'!J77=\"\"),\"\",'Results & Table'!E77)","v":""},{"$f":"IF(ISERROR(VLOOKUP(AT90,AU89:AU92,1,FALSE)),0,1)","v":0},{"$f":"6*AV90","v":0}]
[null,null,null,null,null,null,null,null,null,null,null,null,null,null,null,null,null,null,null,null,null,null,null,null,null,null,null,null,null,null,null,null,null,null,null,null,null,null,null,null,null,null,null,null,null,{"$f":"F76","v":"Winner match 46"},{"$f":"IF(OR('Results & Table'!H76=\"\",'Results & Table'!J76=\"\"),\"\",'Results & Table'!G76)","v":""},{"$f":"IF(ISERROR(VLOOKUP(AT91,AU89:AU92,1,FALSE)),0,1)","v":0},0]
[null,null,null,null,null,null,null,null,null,null,null,null,null,null,null,null,null,null,null,null,null,null,null,null,null,null,null,null,null,null,null,null,null,null,null,null,null,null,null,null,null,null,null,null,null,{"$f":"F77","v":"Winner match 48"},{"$f":"IF(OR('Results & Table'!H77=\"\",'Results & Table'!J77=\"\"),\"\",'Results & Table'!G77)","v":""},{"$f":"IF(ISERROR(VLOOKUP(AT92,AU89:AU92,1,FALSE)),0,1)","v":0},0]
[null,null,null,null,null,null,null,null,null,null,null,null,null,null,null,null,null,null,null,null,null,null,null,null,null,null,null,null,null,null,null,null,null,null,null,null,null,null,null,null,null,null,null,null,null,null,null,"SUMMA",{"$f":"SUM(AW89:AW92)","v":0}]
[null,null,null,null,null,null,null,null,null,null,null,null,null,null,null,null,null,null,null,null,null,null,null,null,null,null,null,null,null,null,null,null,null,null,null,null,null,null,null,null,null,null,null,null,null,"Final"]
[null,null,null,null,null,null,null,null,null,null,null,null,null,null,null,null,null,null,null,null,null,null,null,null,null,null,null,null,null,null,null,null,null,null,null,null,null,null,null,null,null,null,null,null,null,"Mitt tips","Resultat & tabell","Utfall","Poäng"]
[null,null,null,null,null,null,null,null,null,null,null,null,null,null,null,null,null,null,null,null,null,null,null,null,null,null,null,null,null,null,null,null,null,null,null,null,null,null,null,null,null,null,null,null,null,{"$f":"D81","v":"Winner match 49"},{"$f":"IF(OR('Results & Table'!H81=\"\",'Results & Table'!J81=\"\"),\"\",'Results & Table'!E81)","v":""},{"$f":"IF(ISERROR(VLOOKUP(AT96,AU96:AU97,1,FALSE)),0,1)","v":0},{"$f":"8*AV96","v":0}]
[null,null,null,null,null,null,null,null,null,null,null,null,null,null,null,null,null,null,null,null,null,null,null,null,null,null,null,null,null,null,null,null,null,null,null,null,null,null,null,null,null,null,null,null,null,{"$f":"F81","v":"Winner match 50"},{"$f":"IF(OR('Results & Table'!H81=\"\",'Results & Table'!J81=\"\"),\"\",'Results & Table'!G81)","v":""},{"$f":"IF(ISERROR(VLOOKUP(AT97,AU96:AU97,1,FALSE)),0,1)","v":0},{"$f":"8*AV97","v":0}]
[null,null,null,null,null,null,null,null,null,null,null,null,null,null,null,null,null,null,null,null,null,null,null,null,null,null,null,null,null,null,null,null,null,null,null,null,null,null,null,null,null,null,null,null,null,null,null,"SUMMA",{"$f":"SUM(AW96:AW97)","v":0}]